{"text_format":"1","workbook":"xlsx","n_sheets":11,"sheets":["Users Guide","2023 Farm Bill Calculator","Background Calculations","MYA Prices","County Trend Yields","FSA21","FSA22","IRRIGATION","1 Farm 2019 Prevent Plant","Multiple ARC-IC Farms","FSA23"],"not_rendered":{"charts":1,"images":5,"macros":1,"external_links":0,"defined_names":5,"comments":2,"pivot_tables":0},"unopened":[],"bounds":{"document_bytes":16777216,"sheet_cells":100000,"rows_first":2000,"rows_last":500,"rows_between":2000,"halvings":0,"cell_chars":16384,"cell_head_chars":4096},"cells_cut":0,"cells_raw":0,"read":"whole","date_system":"1900"}

{"sheet":"Users Guide","index":0,"n_rows":63,"n_cols":3,"rows_kept":63,"cut":false,"hidden":false,"merged":[]}
[]
[]
[]
[]
[]
[]
[]
[]
[]
[null,null,"MSU 2023 Farm Bill Analyzer USERS GUIDE"]
[]
[null,null,"USER’S GUIDE"]
[null,null,"Version 1.10 Jan 15, 2023"]
[null,null," Roger Betz, Senior Farm Management Agent"]
[null,null,"Michigan State University Extension"]
[]
[null,null,"The MSU 2023 FARM BILL ANALYZER provides an analysis of the one important decision that are included in the Agricultural Act of 2018 (the 2018 Farm Bill).  Owners and/or tenants can elect either the Agricultural Risk Coverage (ARC-CO or ARC-IC) or Price Loss Coverage (PLC) programs for each covered commodity on each of their farms.  Neither the PLC or ARC co programs are expected to have payments for the 2023 production year as commodity prices are much above the benchmark prices. However, a big decision is the choice of the \"86% SCO\".  SCO can only be used if the PLC program is chosen.  It cannot be used if enrolled in ARC. The Analyzer addresses the question of various crop insurance choices including RP Revenue Protection, SCO Supplemental Coverage Option and ECO or Enhanced Coverage Options."]
[null,null,"This FARM BILL ANALYZER provides farm management information on the ARC Co versus PLC decisions based on assumptions about farm yields, county yields, and national market prices.  Given the inputted variables listed below, the MSU 2023 FARM BILL ANALYZER will calculate the results for the farm manager’s alternative decisions regarding the election of ARC-CO, or PLC programs and testing various insurance choice producers have. The ARC Individual program is no longer a part of the program as usage is Nealy non-existent in Michigan and across the nation."]
[]
[]
[null,null,"Disclaimer: This MSU 2023 FARM BILL ANALYZER is designed with the most recent information available about the provisions of the 2018 Farm Bill."]
[]
[null,null,"I.     To operate the MSU 2023 FARM BILL ANALYZER, the user will need the following information:"]
[null,null,"A.    The Farm Service Agency (FSA) base acres and PLC program yields by FSA farm number."]
[null,null,"B.    Historical yields by FSA farm number from 2017 - 2021. "]
[null,null,"C.    If the farm has irrigated yields, the irrigated and non-irrigated yields by acres by year need to be separated."]
[null,null,"D.    Assumed county average yields (irrigated and non-irrigated) for the county in which the farm is located for 2023."]
[null,null,"E.    Assumed national market year average prices (MYA) for 2023."]
[null,null,"F.   Estimated cost of revenue based crop insurance products and cost of SCO and ECO insurance options"]
[]
[null,null,"II.    Operation of the tool:"]
[null,null,"A.    The green colored cells are where data and information can be entered. All non-green cells are protected from changes. "]
[null,null,"B.    Where the program says to < SELECT, highlight the green colored cells to the left by clicking on it and a \"scroll button\" will appear to make your selection. Click on the \"scroll button\" to activate the choices."]
[null,null,"   C.    The tool has several grey colored buttons to perform various macros contained with in the spreadsheet."]
[null,null,"   D.    Various formulas may appear in green cells that can be changed.  It is ok and encouraged to use your own values in these cells.  The various macro buttons will restore these formulas and default values. "]
[]
[null,null,"III.   Steps for Data Entry:  "]
[null,null,"Step 1.     Select from pull down menu the Farm's County. Then enter a farm name of your choice and the FSA Farm Number."]
[null,null,"Step 2.     Enter the farm’s PLC program yield for all covered commodities on the farm. FSA form CCC-861"]
[null,null,"Note: In the 2018 Farm Bill, “covered commodities” with base acres in Michigan include barley, oats, and some others. If you have a significant base in these crops, please contact Roger Betz or use one of the other national analyzer programs."]
[null,null,"Step 3 .     Enter your APH crop insurance actual yields for the FSA farm number. This needs to be the weighted yield (dry and irrigated combined)."]
[null,null,"Step 4 .     Enter anticipated farm yields. This is an area to test different yields to see the results if…............"]
[null,null,"Step 5.      Enter anticipated county yields.  This too ia an area to test different county yields to see results.  Test SCO and ECO with county yield variations"]
[null,null,"Step 6.      Enter various crop insurance options. The program only uses Revenue Protection policies from 55 to 85% coverage.  ECO can be 90% or 95% coverage. "]
[null,null,"Step 7.      Enter cost of insurance or the premium.  The calculator makes a SWAG (Scientific Wild Ass Guess) but as noted this is only an estimate and numerous variations exist.  User shold get quotes from qualified crop insurance agent."]
[null,null,"Step 8 .     Select or Enter Projected Market Year National Average Prices. (MYA)  and expected futures prices for both \"planting time\" and \"harvest time\" for each crop."]
[null,null,"Note:  "]
[null,null,"A.    Various projected prices from alternative sources can be chosen by using the “drop-down” menu. "]
[null,null,"B.    The user can also increase or decrease these base price projections by entering the desired percent change."]
[null,null,"C.    The default values can be restored by using the “Restore Default Price Projections” button."]
[null,null,"Step 9. Evaluate the results to see ARC vesus PLC and to see crop insurance indemities based on the assumptions enter into the program."]
[null,null,"        Step 10.  The scenario evaluated can be saved and compared to other saved scenarios.  Use the \"Save 1\"  to \"Save 5\" buttons to save selected scenarios for comparison."]
[]
[null,null,"IV.    Conclusion: "]
[null,null,"Given the many factors that could affect the decisions contained in the 2018 Farm Bill for the 2023 year, users are encouraged to consider:"]
[null,null,"A.         Running a wide range of scenarios for prices and yields for the 2023 year. Use the best information available for the 2023 year as sign up deadline is March 15th of 2023 for the 2023 crop year decision.   Testing various prices, farm and county yields along with various insurance options is highly recommended and the calculator is designed to accommodate this testing of the USDA programs including crop insurace choices as they relate to the PLC and ACR decision for the 2023 year."]
[null,null,"B.     The farm managers risk preference will effect the final decision made; not simply the result from the most likely prices and yields.  What happens when prices and/or yields……………..and how much benefit from crop insurance choices along with the USDA risk management program?"]
[]
[]
[null,null,"MSU 2023 Farm Bill ARC-PLC Decision Making Tool © 2022 Michigan State University Board of Trustees. 4-H and other Cooperative Extension System groups and other nonprofit educational groups may print hard copies of this material for noncommercial, educational use, provided that attribution is given to Michigan State University Extension. All other rights reserved. For information, contact MSU Extension, 108 Agriculture Hall, 446 West Circle Drive, East Lansing, MI 48824."]
[null,null,"MSU is an affirmative-action, equal-opportunity employer, committed to achieving excellence through a diverse workforce and inclusive culture that encourages all people to reach their full potential. Michigan State University Extension programs and materials are open to all without regard to race, color, national origin, gender, gender identity, religion, age, height, weight, disability, political beliefs, sexual orientation, marital status, family status or veteran status. Issued in furtherance of MSU Extension work, acts of May 8 and June 30, 1914, in cooperation with the U.S. Department of Agriculture, Director, MSU Extension, East Lansing, MI 48824. This information is for educational purposes only. Reference to commercial products or trade names does not imply endorsement by MSU Extension or bias against those not mentioned."]
[]
[null,null,"VII. Version Updates"]

{"sheet":"2023 Farm Bill Calculator","index":1,"n_rows":156,"n_cols":31,"rows_kept":156,"cut":false,"hidden":false,"merged":[[66,2,66,8],[74,4,74,5],[75,1,75,3],[60,2,60,3],[61,2,61,3],[62,2,62,3],[63,2,63,3],[67,2,67,9],[68,1,68,3],[72,1,72,3],[73,1,73,3],[75,4,75,5],[74,1,74,3],[73,4,73,5],[69,4,69,5],[70,4,70,5],[71,4,71,5],[74,6,74,7],[75,6,75,7],[73,8,73,9],[74,8,74,9],[75,8,75,9],[71,6,71,7],[69,8,69,9],[70,8,70,9],[71,8,71,9],[73,6,73,7],[59,1,59,3],[50,4,50,5],[61,0,62,0],[61,10,61,11],[19,5,19,8],[0,3,0,8],[25,0,25,2],[40,4,40,5],[40,6,40,7],[40,8,40,9],[35,4,35,9],[39,4,39,9],[78,4,78,5],[98,4,98,5],[108,4,108,5],[14,14,14,17],[21,4,21,5],[21,6,21,7],[21,8,21,9],[18,14,18,17],[60,13,61,13],[33,4,33,8],[51,4,51,9],[77,4,77,5],[77,6,77,7],[77,8,77,9],[69,6,69,7],[70,6,70,7],[108,0,108,2],[98,0,98,2],[88,0,88,2],[128,4,128,5],[128,0,128,2],[118,0,118,2],[118,4,118,5]]}
[null,null,null,"MSUE 2023 FARM BILL ANALYZER"]
[null,null,null,"Roger Betz,  Farm Business Management Agent",null,null,"Version 1.1"]
["Step 1. Select Farm's County"]
[null,"County Farm located:","EATON","< Select County",null,"Farm Name:","Smith"]
[null,null,null,null,null,"Farm Number:",1234]
["Step 2. Enter Farms Base Acres (FSA CCC-861,156) for each farm separately"]
[]
[null,"Commodity","Corn","Soybeans","Wheat","Total Base Acres"]
[null,"Base Acres",400,200,100,{"$f":"SUM(C9:E9)","v":700}]
[null," PLC Yield",150,40,65]
[null,"16-20 Historical Irrigated Percentage",0,0,0,null,null,null,null,null,null,null,null,null,null,null,null,null,null,null,null,null,null,null,"FSA 2018 BASE Acres (FSA CCC-861) ",{"$f":"C9","v":400},"Acres",{"$f":"D9","v":200},"Acres",{"$f":"E9","v":100},"Acres"]
["Step 3. Enter Farms Crop Insurance Trend Adjusted Actual Production History"]
[null,"Farm Trend Adjusted APH ",165,49,74]
[null,null,null,null,null,null,null,null,null,null,null,null,null,null,null,null,null,null,null,null,null,null,null,null,null,null,null,null,null,"Total FSA Base Acres",{"$f":"Z11+AB11+AD11","v":700}]
[null,null,null,null,"CORN",null,"SOYBEANS",null,"WHEAT"]
[null,null,null,"National Loan Rates",2.2000000000000002,null,6.2,null,3.38]
[null,null,null,"Reference Prices",3.7,null,8.4,null,5.5]
[null,null,null,"2023 Benchmark Prices",3.98,null,9.57,null,5.5]
[]
[null,null,null,null,null,"Benchmark Years 2017 - 2021"]
[null,null,null,"Farm #",{"$f":"G5","v":1234},"Projected Farm Yield for Farm Number",null,null,null,null,null,null,null,null,null,null,null,null,null,"WARNING!! Use \"BLANK\" for no yield."]
[null,null,null,null,"CORN",null,"SOYBEANS",null,"WHEAT",null,null,null,null,null,null,null,null,null,"Default FARM Yields = Actual County Yields",null,null,null,null,null,"Irrigation Yields"]
[null,null,null,null,"Yield","Acres","Yield","Acres","Yield","Acres","Total Commodity Acres",null,null,null,null,null,null,null,"corn",null,"soys",null,"wheat",null,"corn",null,"soys",null,"wheat"]
[null,null,null,null,"",null,"",null,"",null,null,null,null,null,null,null,null,2014,{"$f":"('Background Calculations'!$S$63)+('Background Calculations'!$S$66*'2023 Farm Bill Calculator'!$C$11)+('Background Calculations'!$S$68*(1-'2023 Farm Bill Calculator'!$C$11))","v":0},null,{"$f":"('Background Calculations'!$S$64)+('Background Calculations'!$S$67*'2023 Farm Bill Calculator'!$D$11)+('Background Calculations'!$S$69*(1-'2023 Farm Bill Calculator'!$D$11))","v":0},null,{"$f":"('Background Calculations'!$S$65)","v":0},null,{"$f":"IRRIGATION!$K$5","v":""},null,{"$f":"IRRIGATION!$K$18","v":""},null,{"$f":"IRRIGATION!$K$30","v":""}]
[null,null,"Historical Yields are not needed only for reference",2016,{"$f":"('Background Calculations'!$U$63)+('Background Calculations'!$U$66*'2023 Farm Bill Calculator'!$C$11)+('Background Calculations'!$U$68*(1-'2023 Farm Bill Calculator'!$C$11))","v":0},{"$f":"IF(E25>0.00001,1,0)","v":0},{"$f":"('Background Calculations'!$U$64)+('Background Calculations'!$U$67*'2023 Farm Bill Calculator'!$D$11)+('Background Calculations'!$U$69*(1-'2023 Farm Bill Calculator'!$D$11))","v":0},{"$f":"IF(G25>0.00001,1,0)","v":0},{"$f":"('Background Calculations'!$U$65)","v":0},{"$f":"IF(I25>0.00001,1,0)","v":0},{"$f":"F25+H25+J25","v":0},null,null,null,null,null,null,2016,{"$f":"('Background Calculations'!$U$63)+('Background Calculations'!$U$66*'2023 Farm Bill Calculator'!$C$11)+('Background Calculations'!$U$68*(1-'2023 Farm Bill Calculator'!$C$11))","v":0},null,{"$f":"('Background Calculations'!$U$64)+('Background Calculations'!$U$67*'2023 Farm Bill Calculator'!$D$11)+('Background Calculations'!$U$69*(1-'2023 Farm Bill Calculator'!$D$11))","v":0},null,{"$f":"('Background Calculations'!$U$65)","v":0},null,{"$f":"IRRIGATION!$K$6","v":""},null,{"$f":"IRRIGATION!$K$19","v":""},null,{"$f":"IRRIGATION!$K$31","v":""}]
[null,null,null,2017,{"$f":"('Background Calculations'!$V$63)+('Background Calculations'!$V$66*'2023 Farm Bill Calculator'!$C$11)+('Background Calculations'!$V$68*(1-'2023 Farm Bill Calculator'!$C$11))","v":0},0,{"$f":"('Background Calculations'!$V$64)+('Background Calculations'!$V$67*'2023 Farm Bill Calculator'!$D$11)+('Background Calculations'!$V$69*(1-'2023 Farm Bill Calculator'!$D$11))","v":0},0,{"$f":"('Background Calculations'!$V$65)","v":0},0,{"$f":"F26+H26+J26","v":0},null,null,null,null,null,null,2017,{"$f":"('Background Calculations'!$V$63)+('Background Calculations'!$V$66*'2023 Farm Bill Calculator'!$C$11)+('Background Calculations'!$V$68*(1-'2023 Farm Bill Calculator'!$C$11))","v":0},null,{"$f":"('Background Calculations'!$V$64)+('Background Calculations'!$V$67*'2023 Farm Bill Calculator'!$D$11)+('Background Calculations'!$V$69*(1-'2023 Farm Bill Calculator'!$D$11))","v":0},null,{"$f":"('Background Calculations'!$V$65)","v":0},null,{"$f":"IRRIGATION!$K$7","v":""},null,{"$f":"IRRIGATION!$K$20","v":""},null,{"$f":"IRRIGATION!$K$32","v":""}]
[null,null,null,2018,{"$f":"('Background Calculations'!$W$63)+('Background Calculations'!$W$66*'2023 Farm Bill Calculator'!$C$11)+('Background Calculations'!$W$68*(1-'2023 Farm Bill Calculator'!$C$11))","v":163.37},1,{"$f":"('Background Calculations'!$W$64)+('Background Calculations'!$W$67*'2023 Farm Bill Calculator'!$D$11)+('Background Calculations'!$W$69*(1-'2023 Farm Bill Calculator'!$D$11))","v":51.800000000000004},1,{"$f":"('Background Calculations'!$W$65)","v":78.86},1,3,null,null,null,null,"Default Values",null,2018,{"$f":"('Background Calculations'!$W$63)+('Background Calculations'!$W$66*'2023 Farm Bill Calculator'!$C$11)+('Background Calculations'!$W$68*(1-'2023 Farm Bill Calculator'!$C$11))","v":163.37},null,{"$f":"('Background Calculations'!$W$64)+('Background Calculations'!$W$67*'2023 Farm Bill Calculator'!$D$11)+('Background Calculations'!$W$69*(1-'2023 Farm Bill Calculator'!$D$11))","v":51.800000000000004},null,{"$f":"('Background Calculations'!$W$65)","v":78.86},null,{"$f":"IRRIGATION!$K$8","v":""},null,{"$f":"IRRIGATION!$K$21","v":""},null,{"$f":"IRRIGATION!$K$33","v":""}]
[null,null,null,2019,{"$f":"('Background Calculations'!$X$63)+('Background Calculations'!$X$66*'2023 Farm Bill Calculator'!$C$11)+('Background Calculations'!$X$68*(1-'2023 Farm Bill Calculator'!$C$11))","v":142.08000000000001},1,{"$f":"('Background Calculations'!$X$64)+('Background Calculations'!$X$67*'2023 Farm Bill Calculator'!$D$11)+('Background Calculations'!$X$69*(1-'2023 Farm Bill Calculator'!$D$11))","v":37.46},1,{"$f":"('Background Calculations'!$X$65)","v":62.730000000000004},1,3,null,null,null,null,0,null,2019,{"$f":"('Background Calculations'!$X$63)+('Background Calculations'!$X$66*'2023 Farm Bill Calculator'!$C$11)+('Background Calculations'!$X$68*(1-'2023 Farm Bill Calculator'!$C$11))","v":142.08000000000001},null,{"$f":"('Background Calculations'!$X$64)+('Background Calculations'!$X$67*'2023 Farm Bill Calculator'!$D$11)+('Background Calculations'!$X$69*(1-'2023 Farm Bill Calculator'!$D$11))","v":37.46},null,{"$f":"('Background Calculations'!$X$65)","v":62.730000000000004},null,{"$f":"IRRIGATION!$K$9","v":""},null,{"$f":"IRRIGATION!$K$22","v":""},null,{"$f":"IRRIGATION!$K$34","v":""}]
[null,null,null,2020,{"$f":"('Background Calculations'!$Y$63)+('Background Calculations'!$Y$66*'2023 Farm Bill Calculator'!$C$11)+('Background Calculations'!$Y$68*(1-'2023 Farm Bill Calculator'!$C$11))","v":161.4},{"$f":"IF(E28>0.00001,1,0)","v":1},{"$f":"('Background Calculations'!$Y$64)+('Background Calculations'!$Y$67*'2023 Farm Bill Calculator'!$D$11)+('Background Calculations'!$Y$69*(1-'2023 Farm Bill Calculator'!$D$11))","v":50.28},1,{"$f":"('Background Calculations'!$Y$65)","v":74.75},1,3,null,null,null,null,0,null,2020,{"$f":"('Background Calculations'!$Y$63)+('Background Calculations'!$Y$66*'2023 Farm Bill Calculator'!$C$11)+('Background Calculations'!$Y$68*(1-'2023 Farm Bill Calculator'!$C$11))","v":161.4},null,{"$f":"('Background Calculations'!$Y$64)+('Background Calculations'!$Y$67*'2023 Farm Bill Calculator'!$D$11)+('Background Calculations'!$Y$69*(1-'2023 Farm Bill Calculator'!$D$11))","v":50.28},null,{"$f":"('Background Calculations'!$Y$65)","v":74.75}]
[null,null,null,2021,{"$f":"('Background Calculations'!$Z$63)+('Background Calculations'!$Z$66*'2023 Farm Bill Calculator'!$C$11)+('Background Calculations'!$Z$68*(1-'2023 Farm Bill Calculator'!$C$11))","v":176.76},{"$f":"IF(E28>0.00001,1,0)","v":1},{"$f":"('Background Calculations'!$Z$64)+('Background Calculations'!$Z$67*'2023 Farm Bill Calculator'!$D$11)+('Background Calculations'!$Z$69*(1-'2023 Farm Bill Calculator'!$D$11))","v":53.33},1,{"$f":"('Background Calculations'!$Z$65)","v":73.64},1,{"$f":"F30+H30+J30","v":3},null,null,null,null,0,null,2021,{"$f":"('Background Calculations'!$Z$63)+('Background Calculations'!$Z$66*'2023 Farm Bill Calculator'!$C$11)+('Background Calculations'!$Z$68*(1-'2023 Farm Bill Calculator'!$C$11))","v":176.76},null,{"$f":"('Background Calculations'!$Z$64)+('Background Calculations'!$Z$67*'2023 Farm Bill Calculator'!$D$11)+('Background Calculations'!$Z$69*(1-'2023 Farm Bill Calculator'!$D$11))","v":53.33},null,{"$f":"('Background Calculations'!$Z$65)","v":73.64}]
["Step 4. Enter Anticipated FARM Yields and",null,null,2023,{"$f":"E37","v":167.17666666666665},450,{"$f":"G37","v":49.223333333333329},450,{"$f":"I37","v":75.296666666666667},100,{"$f":"F31+H31+J31","v":1000},null,null,null,null,0,null,2023,{"$f":"('Background Calculations'!$AB$63)+('Background Calculations'!$AB$66*'2023 Farm Bill Calculator'!$C$11)+('Background Calculations'!$AB$68*(1-'2023 Farm Bill Calculator'!$C$11))","v":164.43560000000002},null,{"$f":"('Background Calculations'!$AB$64)+('Background Calculations'!$AB$67*'2023 Farm Bill Calculator'!$D$11)+('Background Calculations'!$AB$69*(1-'2023 Farm Bill Calculator'!$D$11))","v":48.676399999999994},null,{"$f":"('Background Calculations'!$AA$65)","v":74.286000000000016}]
[null,null,"Planted Acres for 2023",null,{"$f":"K31","v":1000},{"$f":"IF(F31+H31+J31=0,K33,\"\")","v":""},null,null,null,null,null,null,null,null,null,{"$f":"P28","v":0}]
["Step 5. Enter Anticipated COUNTY Yields for 2023",null,null,null,null,null,null,{"$f":"IF(F31+H31+J31=0,K33,\"\")","v":""},null,null,"ERROR Must have Acres in 2023",null,null,null,null,{"$f":"P32","v":0}]
[null,null,null,{"$f":"C4","v":"EATON"},"County Weighted Yield (Irrigated and Dry)",null,null,null,null,null,"Actual County Yields Not Trended with Adjustment",null,null,null,null,null,null,null,"Default = Olympic Weighted Average Trend Yields (Benchmark)",null,null,null,null,null,"County Yield  Increase"]
[null,null,null,"% Irrigated",{"$f":"C11","v":0},null,{"$f":"D11","v":0},null,{"$f":"E11","v":0},null,"County","corn","soys","wht",null,null,null,"County","Corn",null,"Soybeans",null,"Wheat",null,"Corn %",{"$f":"F37","v":0},"Soys %",{"$f":"H37","v":0},"Wheat %",{"$f":"J37","v":0}]
["High Low Yield = The highest or Lowest Actual County Yield in last 5 years",null,null,null,"2023 Anticipated COUNTY Yields",null,null,null,null,null,"High Yld",{"$f":"MAX('Background Calculations'!$S$37:$W$37)*(1+$F$37)","v":176.76},{"$f":"MAX('Background Calculations'!$S$38:$W$38)*(1+$H$37)","v":53.33},{"$f":"MAX('Background Calculations'!$S$39:$W$39)*(1+$J$37)","v":78.86},"Market Year Prices",null,null,2022,{"$f":"'Background Calculations'!$W$32","v":160.45666666666662},0,{"$f":"'Background Calculations'!$W$33","v":49.223333333333329},{"$f":"T36","v":0},{"$f":"'Background Calculations'!$W$34","v":77.036666666666676},{"$f":"V36","v":0},2022,{"$f":"F37","v":0},2022,{"$f":"H37","v":0},2022,{"$f":"J37","v":0}]
[null,null,null,2023,{"$f":"'Background Calculations'!$X$32*(1+$Z$36)","v":167.17666666666665},0,{"$f":"'Background Calculations'!$X$33*(1+$AB$36)","v":49.223333333333329},{"$f":"F37","v":0},{"$f":"'Background Calculations'!$X$34*(1+$AD$36)","v":75.296666666666667},{"$f":"H37","v":0},"Low Yld",{"$f":"MIN('Background Calculations'!$S$37:$W$37)*(1+$F$37)","v":142.08000000000001},{"$f":"MIN('Background Calculations'!$S$38:$W$38)*(1+$H$37)","v":37.46},{"$f":"MIN('Background Calculations'!$S$39:$W$39)*(1+$J$37)","v":62.730000000000004},"Corn","Soybeans","Wheat",2023,{"$f":"'Background Calculations'!$X$32","v":167.17666666666665},0,{"$f":"'Background Calculations'!$X$33","v":49.223333333333329},{"$f":"T37","v":0},{"$f":"'Background Calculations'!$X$34","v":75.296666666666667},{"$f":"V37","v":0}]
[null,null,null,"Percent of '23 Benchmark Yield",{"$f":"E37/S37","v":1},null,{"$f":"G37/U37","v":1},null,{"$f":"I37/W37","v":1},null,null,null,null,2013,{"$f":"VLOOKUP($E$51,'MYA Prices'!$B$4:$AL$11,2,FALSE)","v":4.46},{"$f":"VLOOKUP($E$51,'MYA Prices'!$B$4:$AL$11,14,FALSE)","v":13},{"$f":"VLOOKUP($E$51,'MYA Prices'!$B$4:$AL$11,26,FALSE)","v":6.87}]
[null,null,null,null,null,null,null,null,null,null,null,0,null,2014,{"$f":"VLOOKUP($E$51,'MYA Prices'!$B$4:$AL$11,3,FALSE)","v":3.7},{"$f":"VLOOKUP($E$51,'MYA Prices'!$B$4:$AL$11,15,FALSE)","v":10.1},{"$f":"VLOOKUP($E$51,'MYA Prices'!$B$4:$AL$11,27,FALSE)","v":5.99},"2022 86%",{"$f":"$S$36*0.86*(1+$F$37)","v":137.99273333333329},0,{"$f":"$U$36*0.86*(1+$H$37)","v":42.332066666666663},{"$f":"T39","v":0},{"$f":"$W$36*0.86*(1+$J$37)","v":66.251533333333342},{"$f":"V39","v":0}]
["Step 6. Choose Crop Insurance Options",null,null,null,"2023 Crop Insurance Options (Enroll by March 15th 2021)",null,null,null,null,null,null,0.5,null,2015,{"$f":"VLOOKUP($E$51,'MYA Prices'!$B$4:$AL$11,4,FALSE)","v":3.61},{"$f":"VLOOKUP($E$51,'MYA Prices'!$B$4:$AL$11,16,FALSE)","v":8.9499999999999993},{"$f":"VLOOKUP($E$51,'MYA Prices'!$B$4:$AL$11,28,FALSE)","v":4.8899999999999997},"2023 86%",{"$f":"$S$37*0.86*(1+$F$37)","v":143.77193333333332},0,{"$f":"$U$37*0.86*(1+$H$37)","v":42.332066666666663},{"$f":"T40","v":0},{"$f":"$W$37*0.86*(1+$J$37)","v":64.755133333333333},{"$f":"V40","v":0}]
[null,null,null,null,"CORN",null,"SOYBEANS",null,"WHEAT",null,null,0.55000000000000004,null,2016,{"$f":"VLOOKUP($E$51,'MYA Prices'!$B$4:$AL$11,5,FALSE)","v":3.36},{"$f":"VLOOKUP($E$51,'MYA Prices'!$B$4:$AL$11,17,FALSE)","v":9.4700000000000006},{"$f":"VLOOKUP($E$51,'MYA Prices'!$B$4:$AL$11,29,FALSE)","v":3.89},null,"Trend yield with Annual Increase "]
[null,null,null,"Revenue % Coverage (Farm Yield Based) Choice",0.8,null,0.8,null,0.8,null,null,0.6,null,2017,{"$f":"VLOOKUP($E$51,'MYA Prices'!$B$4:$AL$11,6,FALSE)","v":3.36},{"$f":"VLOOKUP($E$51,'MYA Prices'!$B$4:$AL$11,18,FALSE)","v":9.33},{"$f":"VLOOKUP($E$51,'MYA Prices'!$B$4:$AL$11,30,FALSE)","v":4.72},2022,{"$f":"'Background Calculations'!$W$32*(1+$Z$35)","v":160.45666666666662},0,{"$f":"'Background Calculations'!$W$33*(1+$AB$35)","v":49.223333333333329},{"$f":"T42","v":0},{"$f":"'Background Calculations'!$W$34*(1+$AD$35)","v":77.036666666666676},{"$f":"V42","v":0}]
[null,null,"Supplemental Coverage Option (County Yield Based)","SCO Choice",{"$f":"IF($S$46=TRUE,86%,\"NO\")","v":"NO"},null,{"$f":"IF($T$46=TRUE,86%,\"NO\")","v":"NO"},null,{"$f":"IF($U$46=TRUE,86%,\"NO\")","v":"NO"},null,null,0.65,0,2018,{"$f":"VLOOKUP($E$51,'MYA Prices'!$B$4:$AL$11,7,FALSE)","v":3.61},{"$f":"VLOOKUP($E$51,'MYA Prices'!$B$4:$AL$11,19,FALSE)","v":8.48},{"$f":"VLOOKUP($E$51,'MYA Prices'!$B$4:$AL$11,31,FALSE)","v":5.16},2023,{"$f":"'Background Calculations'!$X$32*(1+$Z$36)","v":167.17666666666665},0,{"$f":"'Background Calculations'!$X$33*(1+$AB$36)","v":49.223333333333329},{"$f":"T43","v":0},{"$f":"'Background Calculations'!$X$34*(1+$AD$36)","v":75.296666666666667},{"$f":"V43","v":0}]
[null,null,"Enhanced Coverage Option (County Yield Based)","ECO Choice",0,null,0,null,0,"Past SignUp",null,0.7,0.9,2019,{"$f":"VLOOKUP($E$51,'MYA Prices'!$B$4:$AL$11,8,FALSE)","v":3.56},{"$f":"VLOOKUP($E$51,'MYA Prices'!$B$4:$AL$11,20,FALSE)","v":8.57},{"$f":"VLOOKUP($E$51,'MYA Prices'!$B$4:$AL$11,32,FALSE)","v":4.58}]
[null,null,null,null,{"$f":"IF(E43=0.86,$N$51,\"\")","v":""},null,{"$f":"IF(G43=0.86,$N$51,\"\")","v":""},null,{"$f":"IF(I43=0.86,$N$51,\"\")","v":""},null,null,0.75,0.95,2020,{"$f":"VLOOKUP($E$51,'MYA Prices'!$B$4:$AL$11,9,FALSE)","v":4.53},{"$f":"VLOOKUP($E$51,'MYA Prices'!$B$4:$AL$11,21,FALSE)","v":10.8},{"$f":"VLOOKUP($E$51,'MYA Prices'!$B$4:$AL$11,33,FALSE)","v":5.05},"NASS 2019 Yields",{"$f":"VLOOKUP($D$34,#REF!,2,0)","v":{"$error":"#REF!"}},0,{"$f":"VLOOKUP($D$34,#REF!,3,0)","v":{"$error":"#REF!"}},0,{"$f":"VLOOKUP($D$34,#REF!,4,0)","v":{"$error":"#REF!"}},0]
["Step 7. Enter Cost of Insurance",null,null,"Farm Revenue cost/ac",{"$f":"K54*K49*E42*E42*E42*E42*E42","v":22.860170725438294},"SWAG",{"$f":"L54*L49*G42*G42*G42*G42*G42","v":18.673346886630977},"SWAG",{"$f":"M54*M49*I42*I42*I42*I42*I42","v":25.926130633990415},"SWAG",null,0.8,null,2021,{"$f":"VLOOKUP($E$51,'MYA Prices'!$B$4:$AL$11,10,FALSE)","v":5.95},{"$f":"VLOOKUP($E$51,'MYA Prices'!$B$4:$AL$11,22,FALSE)","v":13.3},{"$f":"VLOOKUP($E$51,'MYA Prices'!$B$4:$AL$11,34,FALSE)","v":7.63},null,false,false,false]
["Note: Enter Premium Cost (After Subsidy)",null,null,"SCO Choice cost/ac (65% Subsidy)",{"$f":"IFERROR(((E43-E42)*K55*K50),0)*E42*E42*0.9","v":0},"SWAG",{"$f":"IFERROR(((G43-G42)*L55*L50),0)*G42*G42*0.9","v":0},"SWAG",{"$f":"IFERROR(((I43-I42)*M55*M50),0)*I42*I42*0.9","v":0},"SWAG",null,0.85,null,2022,{"$f":"VLOOKUP($E$51,'MYA Prices'!$B$4:$AL$11,11,FALSE)","v":0},{"$f":"VLOOKUP($E$51,'MYA Prices'!$B$4:$AL$11,23,FALSE)","v":0},{"$f":"VLOOKUP($E$51,'MYA Prices'!$B$4:$AL$11,35,FALSE)","v":9.1999999999999993}]
[null,null,null,"ECO Choice cost/ac (44% Subsidy)",{"$f":"IF(E44=0.9,K56*K51,IF(E44=0.95,K52*K57,0))","v":0},"SWAG",{"$f":"IF(G44=0.9,L56*L51,IF(G44=0.95,L52*L57,0))","v":0},"SWAG",{"$f":"IF(I44=0.9,M56*M51,IF(I44=0.95,M52*M57,0))","v":0},"SWAG","Insurance Factor",null,null,2023,{"$f":"VLOOKUP($E$51,'MYA Prices'!$B$4:$AL$11,12,FALSE)","v":5.6800000000000006},{"$f":"VLOOKUP($E$51,'MYA Prices'!$B$4:$AL$11,24,FALSE)","v":13.53},{"$f":"VLOOKUP($E$51,'MYA Prices'!$B$4:$AL$11,36,FALSE)","v":7.7666666666666675},null,"CORN",null,"SOYBEANS",null,"WHEAT"]
[null,null,null,"Total Producer Cost of Insurance/ac",{"$f":"SUM(E46:E48)","v":22.860170725438294},null,{"$f":"SUM(G46:G48)","v":18.673346886630977},null,{"$f":"SUM(I46:I48)","v":25.926130633990415},null,{"$f":"0.07/22.36*22.93","v":7.1784436493738835E-2},{"$f":"0.08/17.18*17.26","v":8.0372526193247973E-2},{"$f":"0.1/18.77*23.75","v":0.12653169952051146},"REV",{"$f":"VLOOKUP($E$51,'MYA Prices'!$B$4:$AL$11,13,FALSE)","v":0},{"$f":"VLOOKUP($E$51,'MYA Prices'!$B$4:$AL$11,25,FALSE)","v":0},{"$f":"VLOOKUP($E$51,'MYA Prices'!$B$4:$AL$11,37,FALSE)","v":0},2021,{"$f":"$O$48*(1+$F$54)","v":5.6800000000000006},0,{"$f":"$P$48*(1+$H$54)","v":13.53},{"$f":"T49","v":0},{"$f":"$Q$48*(1+$J$54)","v":7.7666666666666675},{"$f":"V49","v":0}]
["Step 8. Enter or Select Projected Prices",null,null,null,null,null,null,null,null,null,{"$f":"0.2/5.79*6.69","v":0.23108808290155441},{"$f":"0.25/4.87*4.77","v":0.24486652977412729},{"$f":"0.23/3.92*3.93","v":0.23058673469387758},"SCO"]
[null,null,null,"Base Assumptions for MYA Prices to Use:","Futures 1/13/23",null,"< Select Base Prices Source",null,null,null,{"$f":"K52/9*4","v":1.3467722582193422E-2},{"$f":"L52/9*4","v":1.2498215560314063E-2},{"$f":"M52/9*4","v":1.2991542723826188E-2},"ARC not avail. with SCO"]
[null,null,null,"Price Change from Base assumptions:","2022 Crop Projected Prices",null,null,null,null,null,{"$f":"0.03/27.78*28.06","v":3.0302375809935198E-2},{"$f":"0.03/18.68*17.51","v":2.8120985010706642E-2},{"$f":"0.028/15.24*15.91","v":2.9230971128608924E-2}]
[null,null,null,null,"CORN",null,"SOYBEANS",null,"WHEAT"]
[null,"(Weighted Average for Year after Harvest)",null,"2023 Nat. MYA Farmer Final Prices ",{"$f":"$O$48*(1+$F$54)","v":5.6800000000000006},0,{"$f":"$P$48*(1+$H$54)","v":13.53},{"$f":"F54","v":0},{"$f":"$Q$48*(1+$J$54)","v":7.7666666666666675},{"$f":"H54","v":0},{"$f":"C13*E55","v":971.84999999999991},{"$f":"D13*G55","v":709.03000000000009},{"$f":"E13*I55","v":625.29999999999995},{"$f":"IFERROR(E43+0,0)","v":0},null,{"$f":"IFERROR(G43+0,0)","v":0},null,{"$f":"IFERROR(I43+0,0)","v":0}]
[null,null,null,"Planting Futures Guaranteed Price",5.89,"Feb/Dec",14.47,"Feb/Nov",8.4499999999999993,"Aug22/Sept23",{"$f":"K54*E43","v":{"$error":"#VALUE!"}},{"$f":"L54*G43","v":{"$error":"#VALUE!"}},{"$f":"M54*I43","v":{"$error":"#VALUE!"}},null,null,null,null,null,false,true,true]
[null,null,null," Harvest Futures Price",{"$f":"E54+0.3","v":5.98},"Nov/Dec",{"$f":"G54+0.4","v":13.93},"Oct/Nov",{"$f":"I54+0.5","v":8.2666666666666675},"Aug22/Sept22",{"$f":"K54*0.9","v":874.66499999999996},{"$f":"L54*0.9","v":638.12700000000007},{"$f":"M54*0.9","v":562.77},null,{"$f":"K54*0.8","v":777.48},null,null,null,false]
[null,null,null,null,{"$f":"E54-E56","v":-0.29999999999999982},"Basis?",{"$f":"G54-G56","v":-0.40000000000000036},"Basis?",{"$f":"I54-I56","v":-0.5},"Basis?",{"$f":"K54*0.95","v":923.25749999999982},{"$f":"L54*0.95","v":673.57850000000008},{"$f":"M54*0.95","v":594.03499999999997}]
[]
["Step 9. Evaluate the Results",null,null,null,"2023  Program Year Choice?"]
[null,"Projected 2023 Program Payments",null,null,"CORN",null,"SOYBEANS",null,"WHEAT"]
[null,null,"PLC",null,{"$f":"SUM('Background Calculations'!D5*C9*0.85)","v":0},null,{"$f":"SUM('Background Calculations'!F5)*D9*0.85","v":0},null,{"$f":"SUM('Background Calculations'!H5)*E9*0.85","v":0},null,null,null,null,"ARC-IC from Multiple ARC-IC Farms","ARC IC from Back ground calculations"]
[null,null,"ARC-CO",null,{"$f":"IF((N54)<0.5,(SUM('Background Calculations'!D12)*C9*0.85),0)","v":0},null,{"$f":"IF(P54<0.5,(SUM('Background Calculations'!F12)*D9*0.85),0)","v":0},null,{"$f":"IF(R54<0.5,(SUM('Background Calculations'!H12)*E9*0.85),0)","v":0},null,null,null,null,null,{"$f":"'Background Calculations'!$J$96+'Background Calculations'!$J$97","v":0}]
[null,null,null,null,"NA",null,"NA",null,"NA"]
["Decision Point >",{"$f":"SUM(E64+G64+I64)","v":0},"Best PLC or ARC-CO",null,{"$f":"MAX(E61:E62)","v":0},null,{"$f":"MAX(G61:G62)","v":0},null,{"$f":"MAX(I61:I62)","v":0},null,null,null,null,null,"ECO Calculations",0.9,0.95,null,"Enhanced Coverage Option"]
[null,null,null,null,{"$f":"IF(E43=0.86,$N$51,\"\")","v":""},null,{"$f":"IF(G43=0.86,$N$51,\"\")","v":""},null,{"$f":"IF(I43=0.86,$N$51,\"\")","v":""},null,null,null,null,null,"SCO Calculations",0.86,null,null,"Supplemental Coverage Option"]
[]
[null,{"$f":"(B64)/F9","v":0},"ARC/PLC Payments Used Evenly Across All Base Acres"]
[null,null,"2023 Crop Revenues "]
["Decision Point >","Crop  Insurance Indemnity Payments",null,null,"CORN",null,"SOYS",null,"WHEAT"]
[null,null,"Farm Based","RP",{"$f":"IF(F31>0,R97,0)","v":0},null,{"$f":"IF(H31>0,T97,0)","v":0},null,{"$f":"IF(J31>0,V97,0)","v":0}]
[null,null,"County Based","SCO",{"$f":"IF(F31>0,R101,0)","v":0},null,{"$f":"IF(H31>0,T101,0)","v":0},null,{"$f":"IF(J31>0,V101,0)","v":0}]
[null,null,"County Based","ECO",{"$f":"IF(F31>0,R102,0)","v":0},null,{"$f":"IF(H31>0,T102,0)","v":0},null,{"$f":"IF(J31>0,V102,0)","v":0}]
["`","ARC/PLC Payments on ALL Base Acres",null,null,{"$f":"B67","v":0},null,{"$f":"B67","v":0},null,{"$f":"B67","v":0}]
[null,"Harvested Crop Value/acre",null,null,{"$f":"IF(K31>0,('2023 Farm Bill Calculator'!Q103*'2023 Farm Bill Calculator'!E54),0)","v":949.56346666666661},null,{"$f":"IF(H31>0,('2023 Farm Bill Calculator'!S103*'2023 Farm Bill Calculator'!G54),0)","v":665.99169999999992},null,{"$f":"IF(J31>0,('2023 Farm Bill Calculator'!U103*'2023 Farm Bill Calculator'!I54),0)","v":584.80411111111118}]
["Net = After Insurance","Net Revenue on Base Acres/acre",null,null,{"$f":"IF(F31>1,SUM(E70:F74)-E49,0)","v":926.70329594122836},null,{"$f":"IF(H31>1,SUM(G70:H74)-G49,0)","v":647.31835311336897},null,{"$f":"IF(J31>1,SUM(I70:J74)-I49,0)","v":558.87798047712079}]
["Net = After Insurance","Net Revenue on Non Base Acres/acre",null,null,{"$f":"IF(F31>1,(E74+E72+E71+E70-E49),0)","v":926.70329594122836},null,{"$f":"IF(H31>1,(G74+G72+G71+G70-G49),0)","v":647.31835311336897},null,{"$f":"IF(J31>1,(I74+I72+I71+I70-I49),0)","v":558.87798047712079}]
[null,null,null,null,null,null,null,null,"Total Net Revenue (Subtracting Insurance Cost) on Planted and/or Base Acres"]
[null,null,null,null,{"$f":"(E75*C9)+(E76*(F31-C9))","v":417016.48317355278},null,{"$f":"(G75*D9)+(G76*(H31-D9))","v":291293.25890101603},null,{"$f":"(I75*E9)+(I76*(J31-E9))","v":55887.79804771208}]
[null,null,null,null,{"$f":"E78+G78+I78","v":764197.54012228083},null,"Total Net Revenue after Insurance Premiums"]
["Step 10. Save up to 5 Different Scenarios to Compare."]
[null,null,null,"Revenue Protection Level",null,null,null,null,null,null,{"$f":"E42","v":0.8},null,{"$f":"G42","v":0.8},null,{"$f":"I42","v":0.8}]
[null,null,null,"SCO Choice?",null,null,null,null,null,null,{"$f":"E43","v":"NO"},null,{"$f":"G43","v":"NO"},null,{"$f":"I43","v":"NO"}]
[null,null,null,"ECO Choice?",null,null,null,null,null,null,{"$f":"E44","v":0},null,{"$f":"G44","v":0},null,{"$f":"I44","v":0}]
[null,null,null,"MYA",null,null,null,null,null,null,{"$f":"E153","v":5.6800000000000006},null,{"$f":"G153","v":13.53},null,{"$f":"I153","v":7.7666666666666675}]
[null,null,null,"Harvest Price (Futures)",null,null,null,null,null,null,{"$f":"E154","v":5.98},null,{"$f":"G154","v":13.93},null,{"$f":"I154","v":8.2666666666666675}]
[null,null,null,"Farm Yield",null,null,null,null,null,null,{"$f":"E155","v":167.17666666666665},null,{"$f":"G155","v":49.223333333333329},null,{"$f":"I155","v":75.296666666666667}]
[null,null,null,null,null,null,null,null,null,null,{"$f":"E156","v":167.17666666666665},null,{"$f":"G156","v":49.223333333333329},null,{"$f":"I156","v":75.296666666666667}]
[null,null,null,null,null,null,null,null,null,null,{"$f":"E78","v":417016.48317355278},null,{"$f":"G78","v":291293.25890101603},null,{"$f":"I78","v":55887.79804771208}]
["Total Net Revenue after Insurance Premiums",null,null,{"$f":"E88+G88+I88","v":0}]
[]
[null,null,null,"Revenue Protection Level",null,null,null,null,null,null,null,null,null,null,"Expected Yields",null,"Corn",null,"Soybeans",null,"Wheat"]
[null,null,null,"SCO Choice?",null,null,null,null,null,null,null,null,null,null,null,"County trend adjusted",{"$f":"'Background Calculations'!V32","v":164.76999999999998},null,{"$f":"'Background Calculations'!V33","v":48.936666666666675},null,{"$f":"'Background Calculations'!V34","v":77.163333333333341}]
[null,null,null,"ECO Choice?",null,null,null,null,null,null,null,null,null,null,null,"Farm (Trend Adjusted APH)",{"$f":"C13","v":165},null,{"$f":"D13","v":49},null,{"$f":"E13","v":74}]
[null,null,null,"MYA",null,null,null,null,null,null,null,null,null,null,null,"County Level 100% of Revenue",{"$f":"Q92*MAX(E55,E56)","v":985.32459999999992},null,{"$f":"S92*MAX(G55,G56)","v":708.11356666666677},null,{"$f":"U92*MAX(I55,I56)","v":652.03016666666667}]
[null,null,null,"Harvest Price (Futures)",null,null,null,null,null,null,null,null,null,null,null,"Farm Level 100% of Revenue",{"$f":"Q93*MAX(E55,E56)","v":986.7},null,{"$f":"S93*MAX(G55,G56)","v":709.03000000000009},null,{"$f":"U93*MAX(I55,I56)","v":625.29999999999995}]
[null,null,null,"Farm Yield",null,null,null,null,null,null,null,null,{"$f":"C13*E42*E55","v":777.4799999999999},null,"Guarantees With HO",null,null,"Insurance Level",null,"Insurance Level",null,"Insurance Level"]
[null,null,null,"County Yield",null,null,null,null,null,null,null,null,null,{"$f":"Q97/Q95","v":0.8},"RP Farm level","FR",{"$f":"'2023 Farm Bill Calculator'!C13*MAX('2023 Farm Bill Calculator'!E55,'2023 Farm Bill Calculator'!E56)*'2023 Farm Bill Calculator'!E42","v":789.36000000000013},{"$f":"IF(Q97>Q107,Q97-Q107,0)","v":0},{"$f":"'2023 Farm Bill Calculator'!D13*MAX('2023 Farm Bill Calculator'!G55,'2023 Farm Bill Calculator'!G56)*'2023 Farm Bill Calculator'!G42","v":567.22400000000005},{"$f":"IF(S97>S107,S97-S107,0)","v":0},{"$f":"'2023 Farm Bill Calculator'!E13*MAX('2023 Farm Bill Calculator'!I55,'2023 Farm Bill Calculator'!I56)*'2023 Farm Bill Calculator'!I42","v":500.24},{"$f":"IF(U97>U107,U97-U107,0)","v":0}]
[null,null,null,"Results 2",null,null,null,null,null,null,null,null,null,null,"SCO County level","SCO",{"$f":"IFERROR((E43*Q93*MAX(E55,E56)),0)","v":0},{"$f":"Q95*(0.86-E42)","v":59.201999999999948},{"$f":"IFERROR((G43*S93*MAX('2023 Farm Bill Calculator'!G55,'2023 Farm Bill Calculator'!G56)),0)","v":0},{"$f":"S95*(0.86-G42)","v":42.541799999999967},{"$f":"IFERROR((I43*U93*MAX('2023 Farm Bill Calculator'!I55,'2023 Farm Bill Calculator'!I56)),0)","v":0},{"$f":"U95*(0.86-I42)","v":37.517999999999958}]
["Total Net Revenue after Insurance Premiums",null,null,{"$f":"E98+G98+I98","v":0},{"$f":"D99-D89","v":0},null,"From Scenario # 1",null,null,null,null,null,null,null,"ECO County Level","ECO 90",{"$f":"0.9*Q93*MAX('2023 Farm Bill Calculator'!E55,'2023 Farm Bill Calculator'!E56)","v":888.03000000000009},{"$f":"Q95*(0.9-0.86)","v":39.468000000000039},{"$f":"G44*S93*MAX('2023 Farm Bill Calculator'!G55,'2023 Farm Bill Calculator'!G56)","v":0},{"$f":"S95*(G44-0.86)","v":-609.76580000000001},{"$f":"I44*U93*MAX('2023 Farm Bill Calculator'!I55,'2023 Farm Bill Calculator'!I56)","v":0},{"$f":"U95*(I44-0.86)","v":-537.75799999999992}]
[null,null,null,null,null,null,null,null,null,null,null,null,null,{"$f":"Q108/Q94","v":1.0146062187695981},null,"ECO 95",{"$f":"0.95*Q93*MAX('2023 Farm Bill Calculator'!E55,'2023 Farm Bill Calculator'!E56)","v":937.36500000000012},{"$f":"Q95*(0.95-0.86)","v":88.802999999999969},{"$f":"0.95*S93*MAX('2023 Farm Bill Calculator'!G55,'2023 Farm Bill Calculator'!G56)","v":673.57849999999996},{"$f":"S95*(0.95-0.86)","v":63.812699999999985},{"$f":"0.95*U93*MAX('2023 Farm Bill Calculator'!I55,'2023 Farm Bill Calculator'!I56)","v":594.03499999999997},{"$f":"U95*(0.95-0.86)","v":56.27699999999998}]
[null,null,null,"Revenue Protection Level",null,null,null,null,null,null,null,null,null,null,"Harvested Actual Yields",null,"SCO ENDEM",{"$f":"R109*R98","v":0},"SCO ENDEM",{"$f":"T109*T98","v":0},"SCO ENDEM",{"$f":"V109*V98","v":0}]
[null,null,null,"SCO Choice?",null,null,null,null,null,null,null,null,{"$f":"Q95-R102-R101","v":986.7},{"$f":"M102/Q95","v":1},null,"Farm Level","ECO ENDEM",{"$f":"R99*R111","v":0},"ECO ENDEM",{"$f":"T99*T111","v":0},"ECO ENDEM",{"$f":"V99*V111","v":0}]
[null,null,null,"ECO Choice?",null,null,null,null,null,null,null,null,null,null,null,"County Level",{"$f":"'2023 Farm Bill Calculator'!E31","v":167.17666666666665},null,{"$f":"'2023 Farm Bill Calculator'!G31","v":49.223333333333329},null,{"$f":"'2023 Farm Bill Calculator'!I31","v":75.296666666666667}]
[null,null,null,"MYA",null,null,null,null,null,null,null,null,null,null,null,null,{"$f":"'2023 Farm Bill Calculator'!E37","v":167.17666666666665},null,{"$f":"'2023 Farm Bill Calculator'!G37","v":49.223333333333329},null,{"$f":"'2023 Farm Bill Calculator'!I37","v":75.296666666666667}]
[null,null,null,"Harvest Price (Futures)",null,null,null,null,null,null,null,null,null,null,"Actual Revenue",null,"SCO Percent loss",{"$f":"IFERROR(MIN(E43-E42,(MAX(((Q94-Q108)/Q94)-(1-0.86),0))),0)","v":0},"SCO Percent loss",{"$f":"IFERROR(MIN(G43-G42,(MAX(((S94-S108)/S94)-(1-0.86),0))),0)","v":0},"SCO Percent loss",{"$f":"IFERROR(MIN(I43-I42,(MAX(((U94-U108)/U94)-(1-0.86),0))),0)","v":0}]
[null,null,null,"Farm Yield",null,null,null,null,null,null,null,null,null,null,null,"Farm Level","ECO Percent loss",{"$f":"MAX(MIN((E44-0.86),E44-(Q108/Q94)),0)","v":0},"ECO Percent loss",{"$f":"MAX(MIN((G44-0.86),G44-(S108/S94)),0)","v":0},"ECO Percent loss",{"$f":"MAX(MIN((I44-0.86),I44-(U108/U94)),0)","v":0}]
[null,null,null,"County Yield",null,null,null,null,null,null,null,null,null,{"$f":"Q108/Q95","v":1.0131919191919192},null,"County Level",{"$f":"E56*Q103","v":999.71646666666663},null,{"$f":"G56*S103","v":685.68103333333329},null,{"$f":"I56*U103","v":622.4524444444445}]
[null,null,null,"Results 3",null,null,null,null,null,null,null,null,null,null,null,null,{"$f":"E56*Q104","v":999.71646666666663},null,{"$f":"G56*S104","v":685.68103333333329},null,{"$f":"I56*U104","v":622.4524444444445}]
["Total Net Revenue after Insurance Premiums",null,null,{"$f":"E108+G108+I108","v":0},{"$f":"D109-D99","v":0},null,"From Scenario # 2",null,null,null,null,null,null,null,null,null,"SCO Payment Factor",{"$f":"IFERROR(R105/(0.86-E42),0)","v":0},"SCO Payment Factor",{"$f":"T105/(0.86-G42)","v":0},"SCO Payment Factor",{"$f":"V105/(0.86-I42)","v":0}]
[]
[null,null,null,"Revenue Protection Level",null,null,null,null,null,null,null,null,null,null,null,null,"ECO Payment Factor",{"$f":"R106/(E44-0.86)","v":0},"ECO Payment Factor",{"$f":"T106/(G44-0.86)","v":0},"ECO Payment Factor",{"$f":"V106/(I44-0.86)","v":0}]
[null,null,null,"SCO Choice?"]
[null,null,null,"ECO Choice?"]
[null,null,null,"MYA"]
[null,null,null,"Harvest Price (Futures)"]
[null,null,null,"Farm Yield"]
[null,null,null,"County Yield"]
[null,null,null,"Results 4"]
["Total Net Revenue after Insurance Premiums",null,null,{"$f":"E118+G118+I118","v":0},{"$f":"D119-D109","v":0},"From Scenario # 3","From Scenario # 3"]
[]
[null,null,null,"Revenue Protection Level"]
[null,null,null,"SCO Choice?"]
[null,null,null,"ECO Choice?"]
[null,null,null,"MYA"]
[null,null,null,"Harvest Price (Futures)"]
[null,null,null,"Farm Yield"]
[null,null,null,"County Yield"]
[null,null,null,"Results 5"]
["Total Net Revenue after Insurance Premiums",null,null,{"$f":"E128+G128+I128","v":0},{"$f":"D129-D119","v":0},"From Scenario # 3","From Scenario # 4"]
[]
[]
[]
[]
[]
[]
[]
[]
[]
[]
[]
[]
[]
[]
[]
[]
[null,null,null,null,"Corn",null,"Soybeans",null,"Wheat"]
[null,null,null,"Crop Value",{"$f":"E74","v":949.56346666666661},null,{"$f":"G74","v":665.99169999999992},null,{"$f":"I74","v":584.80411111111118}]
[null,null,null,"ARC PLC",{"$f":"E73","v":0},null,{"$f":"G73","v":0},null,{"$f":"I73","v":0}]
[null,null,null,"RP",{"$f":"E70","v":0},null,{"$f":"G70","v":0},null,{"$f":"I70","v":0}]
[null,null,null,"SCO",{"$f":"E71","v":0},null,{"$f":"G71","v":0},null,{"$f":"I71","v":0}]
[null,null,null,"ECO",{"$f":"E72","v":0},null,{"$f":"G72","v":0},null,{"$f":"I72","v":0}]
[]
[null,null,null,"MYA",{"$f":"E54","v":5.6800000000000006},null,{"$f":"G54","v":13.53},null,{"$f":"I54","v":7.7666666666666675}]
[null,null,null,"Harvest Price (Futures)",{"$f":"E56","v":5.98},null,{"$f":"G56","v":13.93},null,{"$f":"I56","v":8.2666666666666675}]
[null,null,null,"Farm Yield",{"$f":"E31","v":167.17666666666665},null,{"$f":"G31","v":49.223333333333329},null,{"$f":"I31","v":75.296666666666667}]
[null,null,null,"County Yield",{"$f":"E37","v":167.17666666666665},null,{"$f":"G37","v":49.223333333333329},null,{"$f":"I37","v":75.296666666666667}]

{"sheet":"Background Calculations","index":2,"n_rows":117,"n_cols":28,"rows_kept":117,"cut":false,"hidden":true,"merged":[[12,11,12,12],[22,10,28,10]]}
[null,null,null,null,null,null,null,null,null,null,null,{"$f":"'2023 Farm Bill Calculator'!C4","v":"EATON"}]
[null,null," 81% or 85.91% wheat PLC Update Yield Calculation",{"$f":"AVERAGE('2023 Farm Bill Calculator'!E24:E28)*0.81","v":61.853625000000015},null,{"$f":"AVERAGE('2023 Farm Bill Calculator'!G24:G28)*0.81","v":18.075150000000001},null,{"$f":"AVERAGE('2023 Farm Bill Calculator'!I24:I28)*0.8591","v":30.409992249999998},null,null,null,null,"County Trend Yield from FSA ARC-CO",2013,2014,2015,2016,2017,2018,2019,2020,2021,2022,2023]
[null,null,"2019-23 PLC Price Guarantee",3.7,null,8.4,null,5.5,null,null,"all","Corn",{"$f":"'2023 Farm Bill Calculator'!$C$4&L3&K3","v":"EATONCornall"},{"$f":"IFERROR(VLOOKUP($M3,'County Trend Yields'!$B$3:$AF$289,2,0),0)","v":0},{"$f":"IFERROR(VLOOKUP($M3,'County Trend Yields'!$B$3:$AF$289,3,0),0)","v":0},{"$f":"IFERROR(VLOOKUP($M3,'County Trend Yields'!$B$3:$AF$289,4,0),0)","v":174.34},{"$f":"IFERROR(VLOOKUP($M3,'FSA22'!$E$5:$Q$286,3,0),0)","v":156.6},{"$f":"IFERROR(VLOOKUP($M3,'FSA23'!$E$5:$Q$286,3,0),0)","v":186.83},{"$f":"IFERROR(VLOOKUP($M3,'FSA23'!$E$5:$Q$286,4,0),0)","v":163.37},{"$f":"IFERROR(VLOOKUP($M3,'FSA23'!$E$5:$Q$286,5,0),0)","v":142.08000000000001},{"$f":"IFERROR(VLOOKUP($M3,'FSA23'!$E$5:$Q$286,6,0),0)","v":161.4},{"$f":"IFERROR(VLOOKUP($M3,'FSA23'!$E$5:$Q$286,7,0),0)","v":176.76}]
[null,null,"PLC / Acre/Before 85%","CORN","Farm w/85%","SOYBEANS","Farm w/85%","WHEAT","Farm w/85%",null,"all","soybeans",{"$f":"'2023 Farm Bill Calculator'!$C$4&L4&K4","v":"EATONsoybeansall"},{"$f":"IFERROR(VLOOKUP($M4,'County Trend Yields'!$B$3:$AF$289,2,0),0)","v":0},{"$f":"IFERROR(VLOOKUP($M4,'County Trend Yields'!$B$3:$AF$289,3,0),0)","v":0},{"$f":"IFERROR(VLOOKUP($M4,'County Trend Yields'!$B$3:$AF$289,4,0),0)","v":0},{"$f":"IFERROR(VLOOKUP($M4,'FSA22'!$E$5:$Q$286,3,0),0)","v":0},{"$f":"IFERROR(VLOOKUP($M4,'FSA23'!$E$5:$Q$286,3,0),0)","v":0},{"$f":"IFERROR(VLOOKUP($M4,'FSA23'!$E$5:$Q$286,4,0),0)","v":0},{"$f":"IFERROR(VLOOKUP($M4,'FSA23'!$E$5:$Q$286,5,0),0)","v":0},{"$f":"IFERROR(VLOOKUP($M4,'FSA23'!$E$5:$Q$286,6,0),0)","v":0},{"$f":"IFERROR(VLOOKUP($M4,'FSA23'!$E$5:$Q$286,7,0),0)","v":0}]
[null,null,2021,{"$f":"IF('2023 Farm Bill Calculator'!E54>'2023 Farm Bill Calculator'!E$16,IF('2023 Farm Bill Calculator'!E54<D$3,D$3-'2023 Farm Bill Calculator'!E54,0)*'2023 Farm Bill Calculator'!C10,(D$3-'2023 Farm Bill Calculator'!E$16)*'2023 Farm Bill Calculator'!C10)","v":0},{"$f":"D5*'2023 Farm Bill Calculator'!$C$9*0.85","v":0},{"$f":"IF('2023 Farm Bill Calculator'!G54>'2023 Farm Bill Calculator'!G$16,IF('2023 Farm Bill Calculator'!G54<F$3,F$3-'2023 Farm Bill Calculator'!G54,0)*'2023 Farm Bill Calculator'!D10,(F$3-'2023 Farm Bill Calculator'!G$16)*'2023 Farm Bill Calculator'!D10)","v":0},{"$f":"F5*'2023 Farm Bill Calculator'!$D$9*0.85","v":0},{"$f":"IF('2023 Farm Bill Calculator'!I54>'2023 Farm Bill Calculator'!I$16,IF('2023 Farm Bill Calculator'!I54<H$3,H$3-'2023 Farm Bill Calculator'!I54,0)*'2023 Farm Bill Calculator'!E10,(H$3-'2023 Farm Bill Calculator'!I$16)*'2023 Farm Bill Calculator'!E10)","v":0},{"$f":"H5*'2023 Farm Bill Calculator'!$E$9*0.85","v":0},null,"all","Wheat",{"$f":"'2023 Farm Bill Calculator'!$C$4&L5&K5","v":"EATONWheatall"},{"$f":"IFERROR(VLOOKUP($M5,'County Trend Yields'!$B$3:$AF$289,2,0),0)","v":0},{"$f":"IFERROR(VLOOKUP($M5,'County Trend Yields'!$B$3:$AF$289,3,0),0)","v":0},{"$f":"IFERROR(VLOOKUP($M5,'County Trend Yields'!$B$3:$AF$289,4,0),0)","v":75.13000000000001},{"$f":"IFERROR(VLOOKUP($M5,'FSA22'!$E$5:$Q$286,3,0),0)","v":86.34},{"$f":"IFERROR(VLOOKUP($M5,'FSA23'!$E$5:$Q$286,3,0),0)","v":77.5},{"$f":"IFERROR(VLOOKUP($M5,'FSA23'!$E$5:$Q$286,4,0),0)","v":78.86},{"$f":"IFERROR(VLOOKUP($M5,'FSA23'!$E$5:$Q$286,5,0),0)","v":62.730000000000004},{"$f":"IFERROR(VLOOKUP($M5,'FSA23'!$E$5:$Q$286,6,0),0)","v":74.75},{"$f":"IFERROR(VLOOKUP($M5,'FSA23'!$E$5:$Q$286,7,0),0)","v":73.64}]
[null,null,2022,{"$f":"IF('2023 Farm Bill Calculator'!E54>'2023 Farm Bill Calculator'!E$16,IF('2023 Farm Bill Calculator'!E54<D$3,D$3-'2023 Farm Bill Calculator'!E54,0)*'2023 Farm Bill Calculator'!C10,(D$3-'2023 Farm Bill Calculator'!E$16)*'2023 Farm Bill Calculator'!C10)","v":0},{"$f":"D6*'2023 Farm Bill Calculator'!$C$9*0.85","v":0},{"$f":"IF('2023 Farm Bill Calculator'!G54>'2023 Farm Bill Calculator'!G$16,IF('2023 Farm Bill Calculator'!G54<F$3,F$3-'2023 Farm Bill Calculator'!G54,0)*'2023 Farm Bill Calculator'!D10,(F$3-'2023 Farm Bill Calculator'!G$16)*'2023 Farm Bill Calculator'!D10)","v":0},{"$f":"F6*'2023 Farm Bill Calculator'!$D$9*0.85","v":0},{"$f":"IF('2023 Farm Bill Calculator'!I54>'2023 Farm Bill Calculator'!I$16,IF('2023 Farm Bill Calculator'!I54<H$3,H$3-'2023 Farm Bill Calculator'!I54,0)*'2023 Farm Bill Calculator'!E10,(H$3-'2023 Farm Bill Calculator'!I$16)*'2023 Farm Bill Calculator'!E10)","v":0},{"$f":"H6*'2023 Farm Bill Calculator'!$E$9*0.85","v":0},null,"Irrigated","Corn",{"$f":"'2023 Farm Bill Calculator'!$C$4&L6&K6","v":"EATONCornIrrigated"},{"$f":"IFERROR(VLOOKUP($M6,'County Trend Yields'!$B$3:$AF$289,2,0),0)","v":0},{"$f":"IFERROR(VLOOKUP($M6,'County Trend Yields'!$B$3:$AF$289,3,0),0)","v":0},{"$f":"IFERROR(VLOOKUP($M6,'County Trend Yields'!$B$3:$AF$289,4,0),0)","v":0},{"$f":"IFERROR(VLOOKUP($M6,'FSA22'!$E$5:$Q$286,3,0),0)","v":0},{"$f":"IFERROR(VLOOKUP($M6,'FSA23'!$E$5:$Q$286,3,0),0)","v":0},{"$f":"IFERROR(VLOOKUP($M6,'FSA23'!$E$5:$Q$286,4,0),0)","v":0},{"$f":"IFERROR(VLOOKUP($M6,'FSA23'!$E$5:$Q$286,5,0),0)","v":0},{"$f":"IFERROR(VLOOKUP($M6,'FSA23'!$E$5:$Q$286,6,0),0)","v":0},{"$f":"IFERROR(VLOOKUP($M6,'FSA23'!$E$5:$Q$286,7,0),0)","v":0}]
[null,null,2023,null,{"$f":"D7*'2023 Farm Bill Calculator'!$C$9*0.85","v":0},null,{"$f":"F7*'2023 Farm Bill Calculator'!$D$9*0.85","v":0},null,{"$f":"H7*'2023 Farm Bill Calculator'!$E$9*0.85","v":0},null,"Irrigated","soybeans",{"$f":"'2023 Farm Bill Calculator'!$C$4&L7&K7","v":"EATONsoybeansIrrigated"},{"$f":"IFERROR(VLOOKUP($M7,'County Trend Yields'!$B$3:$AF$289,2,0),0)","v":0},{"$f":"IFERROR(VLOOKUP($M7,'County Trend Yields'!$B$3:$AF$289,3,0),0)","v":0},{"$f":"IFERROR(VLOOKUP($M7,'County Trend Yields'!$B$3:$AF$289,4,0),0)","v":0},{"$f":"IFERROR(VLOOKUP($M7,'FSA22'!$E$5:$Q$286,3,0),0)","v":51.82},{"$f":"IFERROR(VLOOKUP($M7,'FSA23'!$E$5:$Q$286,3,0),0)","v":54.37},{"$f":"IFERROR(VLOOKUP($M7,'FSA23'!$E$5:$Q$286,4,0),0)","v":64.69},{"$f":"IFERROR(VLOOKUP($M7,'FSA23'!$E$5:$Q$286,5,0),0)","v":48.18},{"$f":"IFERROR(VLOOKUP($M7,'FSA23'!$E$5:$Q$286,6,0),0)","v":54.47},{"$f":"IFERROR(VLOOKUP($M7,'FSA23'!$E$5:$Q$286,7,0),0)","v":55.3}]
[null,null,2024,null,{"$f":"D8*'2023 Farm Bill Calculator'!$C$9*0.85","v":0},null,{"$f":"F8*'2023 Farm Bill Calculator'!$D$9*0.85","v":0},null,{"$f":"H8*'2023 Farm Bill Calculator'!$E$9*0.85","v":0},null,"nonirrigated","Corn",{"$f":"'2023 Farm Bill Calculator'!$C$4&L8&K8","v":"EATONCornnonirrigated"},{"$f":"IFERROR(VLOOKUP($M8,'County Trend Yields'!$B$3:$AF$289,2,0),0)","v":0},{"$f":"IFERROR(VLOOKUP($M8,'County Trend Yields'!$B$3:$AF$289,3,0),0)","v":0},{"$f":"IFERROR(VLOOKUP($M8,'County Trend Yields'!$B$3:$AF$289,4,0),0)","v":0},{"$f":"IFERROR(VLOOKUP($M8,'FSA22'!$E$5:$Q$286,3,0),0)","v":0},{"$f":"IFERROR(VLOOKUP($M8,'FSA23'!$E$5:$Q$286,3,0),0)","v":0},{"$f":"IFERROR(VLOOKUP($M8,'FSA23'!$E$5:$Q$286,4,0),0)","v":0},{"$f":"IFERROR(VLOOKUP($M8,'FSA23'!$E$5:$Q$286,5,0),0)","v":0},{"$f":"IFERROR(VLOOKUP($M8,'FSA23'!$E$5:$Q$286,6,0),0)","v":0},{"$f":"IFERROR(VLOOKUP($M8,'FSA23'!$E$5:$Q$286,7,0),0)","v":0}]
[null,null,2025,null,{"$f":"D9*'2023 Farm Bill Calculator'!$C$9*0.85","v":0},null,{"$f":"F9*'2023 Farm Bill Calculator'!$D$9*0.85","v":0},null,{"$f":"H9*'2023 Farm Bill Calculator'!$E$9*0.85","v":0},null,"nonirrigated","soybeans",{"$f":"'2023 Farm Bill Calculator'!$C$4&L9&K9","v":"EATONsoybeansnonirrigated"},{"$f":"IFERROR(VLOOKUP($M9,'County Trend Yields'!$B$3:$AF$289,2,0),0)","v":0},{"$f":"IFERROR(VLOOKUP($M9,'County Trend Yields'!$B$3:$AF$289,3,0),0)","v":0},{"$f":"IFERROR(VLOOKUP($M9,'County Trend Yields'!$B$3:$AF$289,4,0),0)","v":49.42},{"$f":"IFERROR(VLOOKUP($M9,'FSA22'!$E$5:$Q$286,3,0),0)","v":54.260000000000005},{"$f":"IFERROR(VLOOKUP($M9,'FSA23'!$E$5:$Q$286,3,0),0)","v":45.589999999999996},{"$f":"IFERROR(VLOOKUP($M9,'FSA23'!$E$5:$Q$286,4,0),0)","v":51.800000000000004},{"$f":"IFERROR(VLOOKUP($M9,'FSA23'!$E$5:$Q$286,5,0),0)","v":37.46},{"$f":"IFERROR(VLOOKUP($M9,'FSA23'!$E$5:$Q$286,6,0),0)","v":50.28},{"$f":"IFERROR(VLOOKUP($M9,'FSA23'!$E$5:$Q$286,7,0),0)","v":53.33}]
[null,null,"Totals",{"$f":"SUM(D5:D9)","v":0},{"$f":"D10*'2023 Farm Bill Calculator'!$C$9*0.85","v":0},{"$f":"SUM(F5:F9)","v":0},{"$f":"F10*'2023 Farm Bill Calculator'!$D$9*0.85","v":0},{"$f":"SUM(H5:H9)","v":0},{"$f":"H10*'2023 Farm Bill Calculator'!$E$9*0.85","v":0},null,"Irrigated","Wheat",{"$f":"'2023 Farm Bill Calculator'!$C$4&L10&K10","v":"EATONWheatIrrigated"},{"$f":"IFERROR(VLOOKUP($M10,'County Trend Yields'!$B$3:$AF$289,2,0),0)","v":0},{"$f":"IFERROR(VLOOKUP($M10,'County Trend Yields'!$B$3:$AF$289,3,0),0)","v":0},{"$f":"IFERROR(VLOOKUP($M10,'County Trend Yields'!$B$3:$AF$289,4,0),0)","v":0},{"$f":"IFERROR(VLOOKUP($M10,'FSA22'!$E$5:$Q$286,3,0),0)","v":0},{"$f":"IFERROR(VLOOKUP($M10,'FSA23'!$E$5:$Q$286,3,0),0)","v":0},{"$f":"IFERROR(VLOOKUP($M10,'FSA23'!$E$5:$Q$286,4,0),0)","v":0},{"$f":"IFERROR(VLOOKUP($M10,'FSA23'!$E$5:$Q$286,5,0),0)","v":0},{"$f":"IFERROR(VLOOKUP($M10,'FSA23'!$E$5:$Q$286,6,0),0)","v":0},{"$f":"IFERROR(VLOOKUP($M10,'FSA23'!$E$5:$Q$286,7,0),0)","v":0}]
[null,null,"ARC-CO Payment/Acre /before the 85%",null,null,null,null,null,null,null,"nonirrigated","Wheat",{"$f":"'2023 Farm Bill Calculator'!$C$4&L11&K11","v":"EATONWheatnonirrigated"},{"$f":"IFERROR(VLOOKUP($M11,'County Trend Yields'!$B$3:$AF$289,2,0),0)","v":0},{"$f":"IFERROR(VLOOKUP($M11,'County Trend Yields'!$B$3:$AF$289,3,0),0)","v":0},{"$f":"IFERROR(VLOOKUP($M11,'County Trend Yields'!$B$3:$AF$289,4,0),0)","v":0},{"$f":"IFERROR(VLOOKUP($M11,'FSA22'!$E$5:$Q$286,3,0),0)","v":0},{"$f":"IFERROR(VLOOKUP($M11,'FSA23'!$E$5:$Q$286,3,0),0)","v":0},{"$f":"IFERROR(VLOOKUP($M11,'FSA23'!$E$5:$Q$286,4,0),0)","v":0},{"$f":"IFERROR(VLOOKUP($M11,'FSA23'!$E$5:$Q$286,5,0),0)","v":0},{"$f":"IFERROR(VLOOKUP($M11,'FSA23'!$E$5:$Q$286,6,0),0)","v":0},{"$f":"IFERROR(VLOOKUP($M11,'FSA23'!$E$5:$Q$286,7,0),0)","v":0}]
[null,null,2021,{"$f":"MIN(IF('2023 Farm Bill Calculator'!$E$54*'2023 Farm Bill Calculator'!$E$37<$E$28,$E$28-('2023 Farm Bill Calculator'!$E$37*'2023 Farm Bill Calculator'!$E$54),0),E40)","v":0},{"$f":"D12*'2023 Farm Bill Calculator'!$C$9*0.85","v":0},{"$f":"MIN(IF('2023 Farm Bill Calculator'!$G$54*'2023 Farm Bill Calculator'!$G$37<$G$28,$G$28-('2023 Farm Bill Calculator'!$G$37*'2023 Farm Bill Calculator'!$G$54),0),G40)","v":0},{"$f":"F12*'2023 Farm Bill Calculator'!$D$9*0.85","v":0},{"$f":"MIN(IF('2023 Farm Bill Calculator'!$I$54*'2023 Farm Bill Calculator'!$I$37<$I$28,$I$28-('2023 Farm Bill Calculator'!$I$37*'2023 Farm Bill Calculator'!$I$54),0),I40)","v":0},{"$f":"H12*'2023 Farm Bill Calculator'!$E$9*0.85","v":0}]
[null,null,2022,{"$f":"MIN(IF('2023 Farm Bill Calculator'!$E$54*'2023 Farm Bill Calculator'!$E$37<$E$28,$E$28-('2023 Farm Bill Calculator'!$E$37*'2023 Farm Bill Calculator'!$E$54),0),E40)","v":0},{"$f":"D13*'2023 Farm Bill Calculator'!$C$9*0.85","v":0},{"$f":"MIN(IF('2023 Farm Bill Calculator'!$G$54*'2023 Farm Bill Calculator'!$G$37<$G$28,$G$28-('2023 Farm Bill Calculator'!$G$37*'2023 Farm Bill Calculator'!$G$54),0),G40)","v":0},{"$f":"F13*'2023 Farm Bill Calculator'!$D$9*0.85","v":0},{"$f":"MIN(IF('2023 Farm Bill Calculator'!$I$54*'2023 Farm Bill Calculator'!$I$37<$I$28,$I$28-('2023 Farm Bill Calculator'!$I$37*'2023 Farm Bill Calculator'!$I$54),0),I40)","v":0},{"$f":"H13*'2023 Farm Bill Calculator'!$E$9*0.85","v":0},null,null,"County Olympic Average Yield ARC-CO",null,2013,2014,2015,2016,2017,2018,2019,2020,2021,2022,2023]
[null,null,2023,null,{"$f":"D14*'2023 Farm Bill Calculator'!$C$9*0.85","v":0},null,{"$f":"F14*'2023 Farm Bill Calculator'!$D$9*0.85","v":0},null,{"$f":"H14*'2023 Farm Bill Calculator'!$E$9*0.85","v":0},null,null,"Corn",{"$f":"M3","v":"EATONCornall"},null,null,null,null,null,null,{"$f":"(SUM(N3:R3)-MAX(N3:R3)-MIN(N3:R3))/3","v":110.31333333333332},{"$f":"(SUM(O3:S3)-MAX(O3:S3)-MIN(O3:S3))/3","v":164.76999999999998},{"$f":"(SUM(P3:T3)-MAX(P3:T3)-MIN(P3:T3))/3","v":164.76999999999998},{"$f":"(SUM(Q3:U3)-MAX(Q3:U3)-MIN(Q3:U3))/3","v":160.45666666666662},{"$f":"(SUM(R3:V3)-MAX(R3:V3)-MIN(R3:V3))/3","v":167.17666666666665}]
[null,null,2024,null,{"$f":"D15*'2023 Farm Bill Calculator'!$C$9*0.85","v":0},null,{"$f":"F15*'2023 Farm Bill Calculator'!$D$9*0.85","v":0},null,{"$f":"H15*'2023 Farm Bill Calculator'!$E$9*0.85","v":0},null,null,"soybeans",{"$f":"M4","v":"EATONsoybeansall"},null,null,null,null,null,null,{"$f":"((SUM(N4:R4)-MAX(N4:R4)-MIN(N4:R4)))/3","v":0},{"$f":"(SUM(O4:S4)-MAX(O4:S4)-MIN(O4:S4))/3","v":0},{"$f":"(SUM(P4:T4)-MAX(P4:T4)-MIN(P4:T4))/3","v":0},{"$f":"(SUM(Q4:U4)-MAX(Q4:U4)-MIN(Q4:U4))/3","v":0},{"$f":"(SUM(R4:V4)-MAX(R4:V4)-MIN(R4:V4))/3","v":0}]
[null,null,2025,null,{"$f":"D16*'2023 Farm Bill Calculator'!$C$9*0.85","v":0},null,{"$f":"F16*'2023 Farm Bill Calculator'!$D$9*0.85","v":0},null,{"$f":"H16*'2023 Farm Bill Calculator'!$E$9*0.85","v":0},null,null,"Wheat","EATONWheatall",null,null,null,null,null,null,{"$f":"(SUM(N5:R5)-MAX(N5:R5)-MIN(N5:R5))/3","v":50.876666666666672},77.163333333333341,77.163333333333341,77.036666666666676,75.296666666666667]
[null,null,"Totals",{"$f":"SUM(D12:D16)","v":0},0,0,0,0,0,null,null,"Corn","EATONCornIrrigated",null,null,null,null,null,null,{"$f":"(SUM(N6:R6)-MAX(N6:R6)-MIN(N6:R6))/3","v":0},0,0,0,0]
[null,null,null,null,null,null,null,null,null,null,null,"soybeans","EATONsoybeansIrrigated",null,null,null,null,null,null,{"$f":"(SUM(N7:R7)-MAX(N7:R7)-MIN(N7:R7))/3","v":17.273333333333333},35.396666666666668,51.456666666666671,53.55333333333332,54.713333333333331]
[null,null,null,null,null,null,null,null,null,null,null,"Corn","EATONCornnonirrigated",null,null,null,null,null,null,{"$f":"(SUM(N8:R8)-MAX(N8:R8)-MIN(N8:R8))/3","v":0},0,0,0,0]
[null,null,null,null,null,null,null,null,null,null,null,"soybeans","EATONsoybeansnonirrigated",null,null,null,null,null,null,{"$f":"(SUM(N9:R9)-MAX(N9:R9)-MIN(N9:R9))/3","v":31.67},48.936666666666667,48.936666666666675,49.223333333333329,49.223333333333329]
[null,null,"ARC-CO Benchmark Revenue/ac",{"$f":"D4","v":"CORN"},"Per Acre",{"$f":"F4","v":"SOYBEANS"},"Per Acre",{"$f":"H4","v":"WHEAT"},"Per Acre"]
[null,null,2021,null,{"$f":"V32*V56","v":609.649},null,{"$f":"V33*V57","v":437.9831666666667},null,{"$f":"V34*V58","v":424.39833333333337},null,null," FSA County Trend Yields for Arc Co NOT USED",null,2013,2014,2015,2016,2017,2018,2019,2020,2021,2022,2023]
[null,null,2022,null,{"$f":"W32*W56","v":593.68966666666654},null,{"$f":"W33*W57","v":448.91679999999991},null,{"$f":"W34*W58","v":423.70166666666671},null,"Problem Irrigated Yields for counties with out irrigated history back to 2013","Corn",{"$f":"M3","v":"EATONCornall"},0,0,174.34,156.6,186.83,163.37,142.08000000000001,161.4,176.76,0,0]
[null,null,2023,null,{"$f":"X32*X56","v":665.36313333333328},null,{"$f":"X33*X57","v":471.06729999999999},null,{"$f":"X34*X58","v":414.13166666666666},null,null,"soybeans",{"$f":"M4","v":"EATONsoybeansall"},0,0,0,0,0,0,0,0,0,0,0]
[null,null,2024,null,null,null,null,null,null,null,null,"Wheat","EATONWheatall",0,0,75.13000000000001,86.34,77.5,78.86,62.730000000000004,74.75,73.64,0,0]
[null,null,2025,null,null,null,null,null,null,null,null,"Corn","EATONCornIrrigated",0,0,0,0,0,0,0,0,0,0,0]
[null,null,"86% ARC-CO Guarantee/Ac",null,null,null,null,null,null,null,null,"soybeans","EATONsoybeansIrrigated",0,0,0,51.82,54.37,64.69,48.18,54.47,55.3,0,0]
[null,null,2021,null,{"$f":"E22*0.86","v":524.29813999999999},null,{"$f":"G22*0.86","v":376.66552333333334},null,{"$f":"I22*0.86","v":364.98256666666668},null,null,"Corn","EATONCornnonirrigated",0,0,0,0,0,0,0,0,0,0,0]
[null,null,2022,null,{"$f":"E23*0.86","v":510.5731133333332},null,{"$f":"G23*0.86","v":386.06844799999993},null,{"$f":"I23*0.86","v":364.38343333333336},null,null,"soybeans","EATONsoybeansnonirrigated",0,0,49.42,54.260000000000005,45.589999999999996,51.800000000000004,37.46,50.28,53.33,0,0]
[null,null,2023,null,572.21229466666659,null,405.11787799999996,null,356.15323333333333]
[null,null,2024,null,0,null,0,null,0,null,null,"County Benchmark Weighted Olympic average Yield",null,2013,2014,2015,2016,2017,2018,2019,2020,2021,2022,2023]
[null,null,2025,null,0,null,0,null,0,null,null,null,"Corn",null,null,null,null,null,null,{"$f":"('Background Calculations'!T$14)+('Background Calculations'!T$17*'2023 Farm Bill Calculator'!$C$11)+('Background Calculations'!T$19*(1-'2023 Farm Bill Calculator'!$C$11))","v":110.31333333333332},{"$f":"('Background Calculations'!U$14)+('Background Calculations'!U$17*'2023 Farm Bill Calculator'!$C$11)+('Background Calculations'!U$19*(1-'2023 Farm Bill Calculator'!$C$11))","v":164.76999999999998},{"$f":"('Background Calculations'!V$14)+('Background Calculations'!V$17*'2023 Farm Bill Calculator'!$C$11)+('Background Calculations'!V$19*(1-'2023 Farm Bill Calculator'!$C$11))","v":164.76999999999998},{"$f":"('Background Calculations'!W$14)+('Background Calculations'!W$17*'2023 Farm Bill Calculator'!$C$11)+('Background Calculations'!W$19*(1-'2023 Farm Bill Calculator'!$C$11))","v":160.45666666666662},{"$f":"('Background Calculations'!X$14)+('Background Calculations'!X$17*'2023 Farm Bill Calculator'!$C$11)+('Background Calculations'!X$19*(1-'2023 Farm Bill Calculator'!$C$11))","v":167.17666666666665}]
[null,null,"ARC-CO Actual Revenue/Ac (before 85%)",null,null,null,null,null,null,null,null,null,"Soybeans",null,null,null,null,null,null,{"$f":"('Background Calculations'!T$15)+('Background Calculations'!T$18*'2023 Farm Bill Calculator'!$D$11)+('Background Calculations'!T$20*(1-'2023 Farm Bill Calculator'!$D$11))","v":31.67},{"$f":"('Background Calculations'!U$15)+('Background Calculations'!U$18*'2023 Farm Bill Calculator'!$D$11)+('Background Calculations'!U$20*(1-'2023 Farm Bill Calculator'!$D$11))","v":48.936666666666667},{"$f":"('Background Calculations'!V$15)+('Background Calculations'!V$18*'2023 Farm Bill Calculator'!$D$11)+('Background Calculations'!V$20*(1-'2023 Farm Bill Calculator'!$D$11))","v":48.936666666666675},{"$f":"('Background Calculations'!W$15)+('Background Calculations'!W$18*'2023 Farm Bill Calculator'!$D$11)+('Background Calculations'!W$20*(1-'2023 Farm Bill Calculator'!$D$11))","v":49.223333333333329},{"$f":"('Background Calculations'!X$15)+('Background Calculations'!X$18*'2023 Farm Bill Calculator'!$D$11)+('Background Calculations'!X$20*(1-'2023 Farm Bill Calculator'!$D$11))","v":49.223333333333329}]
[null,null,2021,null,{"$f":"'2023 Farm Bill Calculator'!O46*'Background Calculations'!V37","v":1051.722},null,{"$f":"'2023 Farm Bill Calculator'!P46*'Background Calculations'!V38","v":709.28899999999999},null,{"$f":"'2023 Farm Bill Calculator'!Q46*V39","v":561.8732},null,null,null,"Wheat",null,null,null,null,null,null,{"$f":"T16","v":50.876666666666672},{"$f":"U16","v":77.163333333333341},{"$f":"V16","v":77.163333333333341},{"$f":"W16","v":77.036666666666676},{"$f":"X16","v":75.296666666666667}]
[null,null,2022,null,{"$f":"'2023 Farm Bill Calculator'!O47*'Background Calculations'!W37","v":0},null,{"$f":"'2023 Farm Bill Calculator'!P47*W38","v":0},null,{"$f":"'2023 Farm Bill Calculator'!Q47*W39","v":683.4312000000001}]
[null,null,2023,null,{"$f":"'2023 Farm Bill Calculator'!E54*'2023 Farm Bill Calculator'!E37","v":949.56346666666661},null,{"$f":"'2023 Farm Bill Calculator'!G54*'2023 Farm Bill Calculator'!G37","v":665.99169999999992},null,{"$f":"'2023 Farm Bill Calculator'!I37*'2023 Farm Bill Calculator'!I54","v":584.80411111111118},null,null,"Cty Act. weighted payment yields not Trended not Olympic",null,2013,2014,2015,2016,2017,2018,2019,2020,2021,2022,2023]
[null,null,2024,null,null,null,null,null,null,null,null,null,"Corn",{"$f":"('Background Calculations'!R63)+('Background Calculations'!R66*'2023 Farm Bill Calculator'!$C$11)+('Background Calculations'!R68*(1-'2023 Farm Bill Calculator'!$C$11))","v":0},{"$f":"('Background Calculations'!S63)+('Background Calculations'!S66*'2023 Farm Bill Calculator'!$C$11)+('Background Calculations'!S68*(1-'2023 Farm Bill Calculator'!$C$11))","v":0},{"$f":"('Background Calculations'!T63)+('Background Calculations'!T66*'2023 Farm Bill Calculator'!$C$11)+('Background Calculations'!T68*(1-'2023 Farm Bill Calculator'!$C$11))","v":0},{"$f":"('Background Calculations'!U63)+('Background Calculations'!U66*'2023 Farm Bill Calculator'!$C$11)+('Background Calculations'!U68*(1-'2023 Farm Bill Calculator'!$C$11))","v":0},{"$f":"('Background Calculations'!V63)+('Background Calculations'!V66*'2023 Farm Bill Calculator'!$C$11)+('Background Calculations'!V68*(1-'2023 Farm Bill Calculator'!$C$11))","v":0},{"$f":"('Background Calculations'!W63)+('Background Calculations'!W66*'2023 Farm Bill Calculator'!$C$11)+('Background Calculations'!W68*(1-'2023 Farm Bill Calculator'!$C$11))","v":163.37},{"$f":"('Background Calculations'!X63)+('Background Calculations'!X66*'2023 Farm Bill Calculator'!$C$11)+('Background Calculations'!X68*(1-'2023 Farm Bill Calculator'!$C$11))","v":142.08000000000001},{"$f":"('Background Calculations'!Y63)+('Background Calculations'!Y66*'2023 Farm Bill Calculator'!$C$11)+('Background Calculations'!Y68*(1-'2023 Farm Bill Calculator'!$C$11))","v":161.4},{"$f":"('Background Calculations'!Z63)+('Background Calculations'!Z66*'2023 Farm Bill Calculator'!$C$11)+('Background Calculations'!Z68*(1-'2023 Farm Bill Calculator'!$C$11))","v":176.76},{"$f":"('Background Calculations'!AA63)+('Background Calculations'!AA66*'2023 Farm Bill Calculator'!$C$11)+('Background Calculations'!AA68*(1-'2023 Farm Bill Calculator'!$C$11))","v":168.16800000000003},{"$f":"('Background Calculations'!AB63)+('Background Calculations'!AB66*'2023 Farm Bill Calculator'!$C$11)+('Background Calculations'!AB68*(1-'2023 Farm Bill Calculator'!$C$11))","v":164.43560000000002}]
[null,null,2025,null,null,null,null,null,null,null,null,null,"Soybeans",{"$f":"('Background Calculations'!R64)+('Background Calculations'!R67*'2023 Farm Bill Calculator'!$C$11)+('Background Calculations'!R69*(1-'2023 Farm Bill Calculator'!$C$11))","v":0},{"$f":"('Background Calculations'!S64)+('Background Calculations'!S67*'2023 Farm Bill Calculator'!$C$11)+('Background Calculations'!S69*(1-'2023 Farm Bill Calculator'!$C$11))","v":0},{"$f":"('Background Calculations'!T64)+('Background Calculations'!T67*'2023 Farm Bill Calculator'!$C$11)+('Background Calculations'!T69*(1-'2023 Farm Bill Calculator'!$C$11))","v":0},{"$f":"('Background Calculations'!U64)+('Background Calculations'!U67*'2023 Farm Bill Calculator'!$C$11)+('Background Calculations'!U69*(1-'2023 Farm Bill Calculator'!$C$11))","v":0},{"$f":"('Background Calculations'!V64)+('Background Calculations'!V67*'2023 Farm Bill Calculator'!$C$11)+('Background Calculations'!V69*(1-'2023 Farm Bill Calculator'!$C$11))","v":0},{"$f":"('Background Calculations'!W64)+('Background Calculations'!W67*'2023 Farm Bill Calculator'!$C$11)+('Background Calculations'!W69*(1-'2023 Farm Bill Calculator'!$C$11))","v":51.800000000000004},{"$f":"('Background Calculations'!X64)+('Background Calculations'!X67*'2023 Farm Bill Calculator'!$C$11)+('Background Calculations'!X69*(1-'2023 Farm Bill Calculator'!$C$11))","v":37.46},{"$f":"('Background Calculations'!Y64)+('Background Calculations'!Y67*'2023 Farm Bill Calculator'!$C$11)+('Background Calculations'!Y69*(1-'2023 Farm Bill Calculator'!$C$11))","v":50.28},{"$f":"('Background Calculations'!Z64)+('Background Calculations'!Z67*'2023 Farm Bill Calculator'!$C$11)+('Background Calculations'!Z69*(1-'2023 Farm Bill Calculator'!$C$11))","v":53.33},{"$f":"('Background Calculations'!AA64)+('Background Calculations'!AA67*'2023 Farm Bill Calculator'!$C$11)+('Background Calculations'!AA69*(1-'2023 Farm Bill Calculator'!$C$11))","v":48.161999999999992},{"$f":"('Background Calculations'!AB64)+('Background Calculations'!AB67*'2023 Farm Bill Calculator'!$C$11)+('Background Calculations'!AB69*(1-'2023 Farm Bill Calculator'!$C$11))","v":48.676399999999994}]
[null,null,"10% Maximum Payment ARC-CO/Ac (before 85%)",null,null,null,null,null,null,null,null,null,"Wheat",{"$f":"R65","v":0},0,0,0,0,78.86,62.730000000000004,74.75,73.64,74.286000000000016,73.643200000000007]
[null,null,2021,null,{"$f":"E22*0.1","v":60.9649},null,{"$f":"G22*0.1","v":43.798316666666672},null,{"$f":"I22*0.1","v":42.43983333333334}]
[null,null,2022,null,{"$f":"E23*0.1","v":59.368966666666658},null,{"$f":"G23*0.1","v":44.891679999999994},null,{"$f":"I23*0.1","v":42.370166666666677},null,null,"Actual National Market Year Average Price (MYA)"]
[null,null,2023,null,66.536313333333325,null,47.106729999999999,null,41.413166666666669,null,null,null,null,2013,2014,2015,2016,2017,2018,2019,2020,2021,2022,2023]
[null,null,2024,null,null,null,null,null,null,null,null,null,"Corn MYA Producer Price 3.70",{"$f":"'2023 Farm Bill Calculator'!O38","v":4.46},{"$f":"'2023 Farm Bill Calculator'!O39","v":3.7},{"$f":"'2023 Farm Bill Calculator'!O40","v":3.61},{"$f":"'2023 Farm Bill Calculator'!O41","v":3.36},{"$f":"'2023 Farm Bill Calculator'!O42","v":3.36},{"$f":"'2023 Farm Bill Calculator'!O43","v":3.61},{"$f":"'2023 Farm Bill Calculator'!O44","v":3.56},{"$f":"'2023 Farm Bill Calculator'!O45","v":4.53},{"$f":"'2023 Farm Bill Calculator'!E54","v":5.6800000000000006},{"$f":"'2023 Farm Bill Calculator'!O47","v":0},{"$f":"'2023 Farm Bill Calculator'!O48","v":5.6800000000000006}]
[null,null,2025,null,null,null,null,null,null,null,null,null,"Soy MYA Producer Price 8.40",{"$f":"'2023 Farm Bill Calculator'!P38","v":13},{"$f":"'2023 Farm Bill Calculator'!P39","v":10.1},{"$f":"'2023 Farm Bill Calculator'!P40","v":8.9499999999999993},{"$f":"'2023 Farm Bill Calculator'!P41","v":9.4700000000000006},{"$f":"'2023 Farm Bill Calculator'!P42","v":9.33},{"$f":"'2023 Farm Bill Calculator'!P43","v":8.48},{"$f":"'2023 Farm Bill Calculator'!P44","v":8.57},{"$f":"'2023 Farm Bill Calculator'!P45","v":10.8},{"$f":"'2023 Farm Bill Calculator'!G54","v":13.53},{"$f":"'2023 Farm Bill Calculator'!P47","v":0},{"$f":"'2023 Farm Bill Calculator'!P48","v":13.53}]
[null,null,"ARC-CO PAYMENT /ac (before 85%)",null,null,null,null,null,null,null,null,null,"Wheat MYA Producer Price 5.50",{"$f":"'2023 Farm Bill Calculator'!Q38","v":6.87},{"$f":"'2023 Farm Bill Calculator'!Q39","v":5.99},{"$f":"'2023 Farm Bill Calculator'!Q40","v":4.8899999999999997},{"$f":"'2023 Farm Bill Calculator'!Q41","v":3.89},{"$f":"'2023 Farm Bill Calculator'!Q42","v":4.72},{"$f":"'2023 Farm Bill Calculator'!Q43","v":5.16},{"$f":"'2023 Farm Bill Calculator'!Q44","v":4.58},{"$f":"'2023 Farm Bill Calculator'!Q45","v":5.05},{"$f":"'2023 Farm Bill Calculator'!I54","v":7.7666666666666675},{"$f":"'2023 Farm Bill Calculator'!Q47","v":9.1999999999999993},{"$f":"'2023 Farm Bill Calculator'!Q48","v":7.7666666666666675}]
[null,null,2021,null,{"$f":"IF(E28-E34>0,MIN(E28-E34,E40),0)","v":0},null,{"$f":"IF(G28-G34>0,MIN(G28-G34,G40),0)","v":0},null,{"$f":"IF(I28-I34>0,MIN(I28-I34,I40),0)","v":0}]
[null,null,2022,null,{"$f":"IF(E29-E35>0,MIN(E29-E35,E41),0)","v":59.368966666666658},null,{"$f":"IF(G29-G35>0,MIN(G29-G35,G41),0)","v":44.891679999999994},null,{"$f":"IF(I29-I35>0,MIN(I29-I35,I41),0)","v":0}]
[null,null,2023,null,{"$f":"IF(E30-E36>0,MIN(E30-E36,E42),0)","v":0},null,{"$f":"IF(G30-G36>0,MIN(G30-G36,G42),0)","v":0},null,{"$f":"IF(I30-I36>0,MIN(I30-I36,I42),0)","v":0}]
[null,null,2024]
[null,null,2025,null,null,null,null,null,null,null,null,"Minimum Prices for Revenue Guarantees",null,2013,2014,2015,2016,2017,{"$f":"S42","v":2018},2019,2020,2021,2022,2023]
[null,null,"ARC-IC",null,null,null,null,null,null,null,null,null,"Corn MYA Producer Price 3.70",{"$f":"IF(N43<3.7,3.7,N43)","v":4.46},3.7,3.7,3.7,3.7,3.7,3.7,4.53,5.6800000000000006,3.7,5.6800000000000006]
[null,null,"Individual Farm Actual Revenues",null,null,null,null,null,null,null,null,null,"Soy MYA Producer Price 8.40",{"$f":"IF(N44<8.4,8.4,N44)","v":13},10.1,8.9499999999999993,9.4700000000000006,9.33,8.48,8.57,10.8,{"$f":"IF(V44<8.4,8.4,V44)","v":13.53},8.4,13.53]
[null,null,null,{"$f":"'2023 Farm Bill Calculator'!E15","v":"CORN"},null,{"$f":"'2023 Farm Bill Calculator'!G15","v":"SOYBEANS"},null,{"$f":"'2023 Farm Bill Calculator'!I15","v":"WHEAT"},null,"Farm Actual Revenue/ac",null,null,"Wheat MYA Producer Price 5.50",{"$f":"IF(N45<5.5,5.5,N45)","v":6.87},5.99,5.5,5.5,5.5,5.5,5.5,5.5,7.7666666666666675,9.1999999999999993,7.7666666666666675]
[null,null,null,{"$f":"IFERROR('2023 Farm Bill Calculator'!E24*'Background Calculations'!N$43,0)","v":0},null,{"$f":"IFERROR('2023 Farm Bill Calculator'!G24*'Background Calculations'!N$44,0)","v":0},null,{"$f":"IFERROR('2023 Farm Bill Calculator'!I24*'Background Calculations'!N$45,0)","v":0},null,{"$f":"D54*D77+F54*F77+H54*H77","v":0}]
[null,null,2015,{"$f":"IFERROR('2023 Farm Bill Calculator'!E24*'Background Calculations'!O$43,0)","v":0},null,{"$f":"IFERROR('2023 Farm Bill Calculator'!G25*'Background Calculations'!O$44,0)","v":0},null,{"$f":"IFERROR('2023 Farm Bill Calculator'!I25*'Background Calculations'!O$45,0)","v":0},null,{"$f":"D55*D78+F55*F78+H55*H78","v":0},null,null,null,null,null,null,null,null,"Benchmark Olympic Price for:",2019,2020,2021,2022,2023]
[null,null,2016,{"$f":"IFERROR('2023 Farm Bill Calculator'!E25*'Background Calculations'!P$43,0)","v":0},null,{"$f":"IFERROR('2023 Farm Bill Calculator'!G25*'Background Calculations'!P$44,0)","v":0},null,{"$f":"IFERROR('2023 Farm Bill Calculator'!I25*'Background Calculations'!P$45,0)","v":0},null,{"$error":"#DIV/0!"},null,null,null,null,null,null,null,null,"Corn",{"$f":"ROUND(((SUM(N51:R51)-MAX(N51:R51)-MIN(N51:R51))/3),2)","v":3.7},{"$f":"ROUND(((SUM(O51:S51)-MAX(O51:S51)-MIN(O51:S51))/3),2)","v":3.7},{"$f":"ROUND(((SUM(P51:T51)-MAX(P51:T51)-MIN(P51:T51))/3),2)","v":3.7},{"$f":"ROUND(((SUM(Q51:U51)-MAX(Q51:U51)-MIN(Q51:U51))/3),2)","v":3.7},{"$f":"ROUND(((SUM(R51:V51)-MAX(R51:V51)-MIN(R51:V51))/3),2)","v":3.98}]
[null,null,2017,{"$f":"IFERROR('2023 Farm Bill Calculator'!E26*'Background Calculations'!Q$43,0)","v":0},null,{"$f":"IFERROR('2023 Farm Bill Calculator'!G26*'Background Calculations'!Q$44,0)","v":0},null,{"$f":"IFERROR('2023 Farm Bill Calculator'!I26*'Background Calculations'!Q$45,0)","v":0},null,{"$error":"#DIV/0!"},null,null,null,null,null,null,null,null,"Soys",9.6300000000000008,9.25,{"$f":"ROUND(((SUM(P52:T52)-MAX(P52:T52)-MIN(P52:T52))/3),2)","v":8.9499999999999993},{"$f":"ROUND(((SUM(Q52:U52)-MAX(Q52:U52)-MIN(Q52:U52))/3),2)","v":9.1199999999999992},9.57]
[null,null,2018,{"$f":"IFERROR('2023 Farm Bill Calculator'!E27*'Background Calculations'!R$43,0)","v":548.92319999999995},null,{"$f":"IFERROR('2023 Farm Bill Calculator'!G27*'Background Calculations'!R$44,0)","v":483.29400000000004},null,{"$f":"IFERROR('2023 Farm Bill Calculator'!I27*'Background Calculations'!R$45,0)","v":372.2192},null,468.14546666666666,null,null,null,null,null,null,null,null,"Wheat",5.66,{"$f":"ROUND(((SUM(O53:S53)-MAX(O53:S53)-MIN(O53:S53))/3),2)","v":5.5},{"$f":"ROUND(((SUM(P53:T53)-MAX(P53:T53)-MIN(P53:T53))/3),2)","v":5.5},5.5,5.5]
[null,null,2019,{"$f":"IFERROR('2023 Farm Bill Calculator'!E28*'Background Calculations'!S$43,0)","v":512.90880000000004},null,{"$f":"IFERROR('2023 Farm Bill Calculator'!G28*'Background Calculations'!S$44,0)","v":317.66080000000005},null,{"$f":"IFERROR('2023 Farm Bill Calculator'!I28*'Background Calculations'!S$45,0)","v":323.68680000000001},null,{"$f":"D59*D82+F59*F82+H59*H82","v":384.75213333333335}]
[null,null,2020,{"$f":"IFERROR('2023 Farm Bill Calculator'!E29*'Background Calculations'!T$43,0)","v":574.58400000000006},null,{"$f":"IFERROR('2023 Farm Bill Calculator'!G29*'Background Calculations'!T$44,0)","v":430.89960000000002},null,{"$f":"IFERROR('2023 Farm Bill Calculator'!I29*'Background Calculations'!T$45,0)","v":342.35500000000002},null,{"$f":"D60*D83+F60*F83+H60*H83","v":449.27953333333335}]
[null,null,2021,{"$f":"IFERROR('2023 Farm Bill Calculator'!E30*'Background Calculations'!U$43,0)","v":800.72280000000001},null,{"$f":"IFERROR('2023 Farm Bill Calculator'!G30*'Background Calculations'!U$44,0)","v":575.96400000000006},null,{"$f":"IFERROR('2023 Farm Bill Calculator'!I30*'Background Calculations'!U$45,0)","v":371.88200000000001},null,582.85626666666667,null,{"$f":"L1","v":"EATON"},"Actual Yields NOT TRENDED"]
[null,null,2022,{"$f":"IFERROR('2023 Farm Bill Calculator'!E31*'Background Calculations'!V$43,0)","v":949.56346666666661},null,{"$f":"IFERROR('2023 Farm Bill Calculator'!G31*'Background Calculations'!U$44,0)","v":531.61199999999997},null,{"$f":"IFERROR('2023 Farm Bill Calculator'!I31*'Background Calculations'!V$45,0)","v":584.80411111111118},null,{"$f":"D62*D85+F62*F85+H62*H85","v":0},null,null,"County Trend Yield from FSA ARC-CO",2009,2010,2011,2012,2013,2014,2015,2016,2017,2018,2019,2020,2021,2022,2023]
[null,null,2023,{"$f":"IFERROR('2023 Farm Bill Calculator'!F32*'Background Calculations'!W$43,0)","v":0},null,{"$f":"IFERROR('2023 Farm Bill Calculator'!G32*'Background Calculations'!U$44,0)","v":0},null,{"$f":"IFERROR('2023 Farm Bill Calculator'!I32*'Background Calculations'!W$45,0)","v":0},null,{"$f":"D63*D86+F63*F86+H63*H86","v":0},"all","Corn",{"$f":"'2023 Farm Bill Calculator'!$C$4&L63&K63","v":"EATONCornall"},{"$f":"IFERROR(VLOOKUP($M63,#REF!,3,0),0)","v":0},{"$f":"IFERROR(VLOOKUP($M63,#REF!,4,0),0)","v":0},{"$f":"IFERROR(VLOOKUP($M63,#REF!,5,0),0)","v":0},{"$f":"IFERROR(VLOOKUP($M63,#REF!,6,0),0)","v":0},{"$f":"IFERROR(VLOOKUP($M63,#REF!,7,0),0)","v":0},{"$f":"IFERROR(VLOOKUP($M63,#REF!,8,0),0)","v":0},{"$f":"IFERROR(VLOOKUP($M63,#REF!,9,0),0)","v":0},{"$f":"IFERROR(VLOOKUP($M63,#REF!,10,0),0)","v":0},{"$f":"IFERROR(VLOOKUP($M63,#REF!,11,0),0)","v":0},{"$f":"IFERROR(VLOOKUP($M63,'County Trend Yields'!$B$3:$AF$289,26,0),0)","v":163.37},{"$f":"IFERROR(VLOOKUP($M63,'County Trend Yields'!$B$3:$AF$289,27,0),0)","v":142.08000000000001},{"$f":"IFERROR(VLOOKUP($M63,'County Trend Yields'!$B$3:$AF$289,28,0),0)","v":161.4},{"$f":"IFERROR(VLOOKUP($M63,'County Trend Yields'!$B$3:$AF$289,29,0),0)","v":176.76},{"$f":"IFERROR(VLOOKUP($M63,'County Trend Yields'!$B$3:$AF$289,30,0),0)","v":168.16800000000003},{"$f":"IFERROR(VLOOKUP($M63,'County Trend Yields'!$B$3:$AF$289,31,0),0)","v":164.43560000000002}]
[null,null,null,null,null,null,null,null,null,null,"all","soybeans",{"$f":"'2023 Farm Bill Calculator'!$C$4&L64&K64","v":"EATONsoybeansall"},{"$f":"IFERROR(VLOOKUP($M64,#REF!,3,0),0)","v":0},{"$f":"IFERROR(VLOOKUP($M64,#REF!,4,0),0)","v":0},{"$f":"IFERROR(VLOOKUP($M64,#REF!,5,0),0)","v":0},{"$f":"IFERROR(VLOOKUP($M64,#REF!,6,0),0)","v":0},{"$f":"IFERROR(VLOOKUP($M64,#REF!,7,0),0)","v":0},{"$f":"IFERROR(VLOOKUP($M64,#REF!,8,0),0)","v":0},{"$f":"IFERROR(VLOOKUP($M64,#REF!,9,0),0)","v":0},{"$f":"IFERROR(VLOOKUP($M64,#REF!,10,0),0)","v":0},{"$f":"IFERROR(VLOOKUP($M64,#REF!,11,0),0)","v":0},{"$f":"IFERROR(VLOOKUP($M64,'County Trend Yields'!$B$3:$AF$289,26,0),0)","v":0},{"$f":"IFERROR(VLOOKUP($M64,'County Trend Yields'!$B$3:$AF$289,27,0),0)","v":0},{"$f":"IFERROR(VLOOKUP($M64,'County Trend Yields'!$B$3:$AF$289,28,0),0)","v":0},{"$f":"IFERROR(VLOOKUP($M64,'County Trend Yields'!$B$3:$AF$289,29,0),0)","v":0},{"$f":"IFERROR(VLOOKUP($M64,'County Trend Yields'!$B$3:$AF$289,30,0),0)","v":0},{"$f":"IFERROR(VLOOKUP($M64,'County Trend Yields'!$B$3:$AF$289,31,0),0)","v":0}]
[null,null,"Individual Farm Benchmark Revenues",null,null,null,null,null,null,null,"all","Wheat",{"$f":"'2023 Farm Bill Calculator'!$C$4&L65&K65","v":"EATONWheatall"},{"$f":"IFERROR(VLOOKUP($M65,#REF!,3,0),0)","v":0},{"$f":"IFERROR(VLOOKUP($M65,#REF!,4,0),0)","v":0},{"$f":"IFERROR(VLOOKUP($M65,#REF!,5,0),0)","v":0},{"$f":"IFERROR(VLOOKUP($M65,#REF!,6,0),0)","v":0},{"$f":"IFERROR(VLOOKUP($M65,#REF!,7,0),0)","v":0},{"$f":"IFERROR(VLOOKUP($M65,#REF!,8,0),0)","v":0},{"$f":"IFERROR(VLOOKUP($M65,#REF!,9,0),0)","v":0},{"$f":"IFERROR(VLOOKUP($M65,#REF!,10,0),0)","v":0},{"$f":"IFERROR(VLOOKUP($M65,#REF!,11,0),0)","v":0},{"$f":"IFERROR(VLOOKUP($M65,'County Trend Yields'!$B$3:$AF$289,26,0),0)","v":78.86},{"$f":"IFERROR(VLOOKUP($M65,'County Trend Yields'!$B$3:$AF$289,27,0),0)","v":62.730000000000004},{"$f":"IFERROR(VLOOKUP($M65,'County Trend Yields'!$B$3:$AF$289,28,0),0)","v":74.75},{"$f":"IFERROR(VLOOKUP($M65,'County Trend Yields'!$B$3:$AF$289,29,0),0)","v":73.64},{"$f":"IFERROR(VLOOKUP($M65,'County Trend Yields'!$B$3:$AF$289,30,0),0)","v":74.286000000000016},{"$f":"IFERROR(VLOOKUP($M65,'County Trend Yields'!$B$3:$AF$289,31,0),0)","v":73.643200000000007}]
[null,null,null,{"$f":"'Background Calculations'!N$51*'Background Calculations'!N$115","v":0},null,{"$f":"'Background Calculations'!$N$52*'Background Calculations'!$N$116","v":0},null,{"$f":"'Background Calculations'!$N$53*'Background Calculations'!$N$117","v":0},null,null,"Irrigated","Corn",{"$f":"'2023 Farm Bill Calculator'!$C$4&L66&K66","v":"EATONCornIrrigated"},{"$f":"IFERROR(VLOOKUP($M66,#REF!,3,0),0)","v":0},{"$f":"IFERROR(VLOOKUP($M66,#REF!,4,0),0)","v":0},{"$f":"IFERROR(VLOOKUP($M66,#REF!,5,0),0)","v":0},{"$f":"IFERROR(VLOOKUP($M66,#REF!,6,0),0)","v":0},{"$f":"IFERROR(VLOOKUP($M66,#REF!,7,0),0)","v":0},{"$f":"IFERROR(VLOOKUP($M66,#REF!,8,0),0)","v":0},{"$f":"IFERROR(VLOOKUP($M66,#REF!,9,0),0)","v":0},{"$f":"IFERROR(VLOOKUP($M66,#REF!,10,0),0)","v":0},{"$f":"IFERROR(VLOOKUP($M66,#REF!,11,0),0)","v":0},{"$f":"IFERROR(VLOOKUP($M66,'County Trend Yields'!$B$3:$AF$289,26,0),0)","v":0},{"$f":"IFERROR(VLOOKUP($M66,'County Trend Yields'!$B$3:$AF$289,27,0),0)","v":0},{"$f":"IFERROR(VLOOKUP($M66,'County Trend Yields'!$B$3:$AF$289,28,0),0)","v":0},{"$f":"IFERROR(VLOOKUP($M66,'County Trend Yields'!$B$3:$AF$289,29,0),0)","v":0},{"$f":"IFERROR(VLOOKUP($M66,'County Trend Yields'!$B$3:$AF$289,30,0),0)","v":0},{"$f":"IFERROR(VLOOKUP($M66,'County Trend Yields'!$B$3:$AF$289,31,0),0)","v":0}]
[null,null,2015,{"$f":"'Background Calculations'!O$51*'Background Calculations'!O$115","v":0},null,{"$f":"'Background Calculations'!O$52*'Background Calculations'!O$116","v":0},null,{"$f":"'Background Calculations'!$O$53*'Background Calculations'!$O$117","v":0},null,null,"Irrigated","soybeans",{"$f":"'2023 Farm Bill Calculator'!$C$4&L67&K67","v":"EATONsoybeansIrrigated"},{"$f":"IFERROR(VLOOKUP($M67,#REF!,3,0),0)","v":0},{"$f":"IFERROR(VLOOKUP($M67,#REF!,4,0),0)","v":0},{"$f":"IFERROR(VLOOKUP($M67,#REF!,5,0),0)","v":0},{"$f":"IFERROR(VLOOKUP($M67,#REF!,6,0),0)","v":0},{"$f":"IFERROR(VLOOKUP($M67,#REF!,7,0),0)","v":0},{"$f":"IFERROR(VLOOKUP($M67,#REF!,8,0),0)","v":0},{"$f":"IFERROR(VLOOKUP($M67,#REF!,9,0),0)","v":0},{"$f":"IFERROR(VLOOKUP($M67,#REF!,10,0),0)","v":0},{"$f":"IFERROR(VLOOKUP($M67,#REF!,11,0),0)","v":0},{"$f":"IFERROR(VLOOKUP($M67,'County Trend Yields'!$B$3:$AF$289,26,0),0)","v":64.69},{"$f":"IFERROR(VLOOKUP($M67,'County Trend Yields'!$B$3:$AF$289,27,0),0)","v":48.18},{"$f":"IFERROR(VLOOKUP($M67,'County Trend Yields'!$B$3:$AF$289,28,0),0)","v":54.47},{"$f":"IFERROR(VLOOKUP($M67,'County Trend Yields'!$B$3:$AF$289,29,0),0)","v":55.3},{"$f":"IFERROR(VLOOKUP($M67,'County Trend Yields'!$B$3:$AF$289,30,0),0)","v":55.872},{"$f":"IFERROR(VLOOKUP($M67,'County Trend Yields'!$B$3:$AF$289,31,0),0)","v":56.172399999999996}]
[null,null,2016,{"$f":"'Background Calculations'!P$51*'Background Calculations'!P$115","v":0},null,{"$f":"'Background Calculations'!P$52*'Background Calculations'!P$116","v":0},null,{"$f":"'Background Calculations'!$P$53*'Background Calculations'!$P$117","v":0},null,null,"nonirrigated","Corn",{"$f":"'2023 Farm Bill Calculator'!$C$4&L68&K68","v":"EATONCornnonirrigated"},{"$f":"IFERROR(VLOOKUP($M68,#REF!,3,0),0)","v":0},{"$f":"IFERROR(VLOOKUP($M68,#REF!,4,0),0)","v":0},{"$f":"IFERROR(VLOOKUP($M68,#REF!,5,0),0)","v":0},{"$f":"IFERROR(VLOOKUP($M68,#REF!,6,0),0)","v":0},{"$f":"IFERROR(VLOOKUP($M68,#REF!,7,0),0)","v":0},{"$f":"IFERROR(VLOOKUP($M68,#REF!,8,0),0)","v":0},{"$f":"IFERROR(VLOOKUP($M68,#REF!,9,0),0)","v":0},{"$f":"IFERROR(VLOOKUP($M68,#REF!,10,0),0)","v":0},{"$f":"IFERROR(VLOOKUP($M68,#REF!,11,0),0)","v":0},{"$f":"IFERROR(VLOOKUP($M68,'County Trend Yields'!$B$3:$AF$289,26,0),0)","v":0},{"$f":"IFERROR(VLOOKUP($M68,'County Trend Yields'!$B$3:$AF$289,27,0),0)","v":0},{"$f":"IFERROR(VLOOKUP($M68,'County Trend Yields'!$B$3:$AF$289,28,0),0)","v":0},{"$f":"IFERROR(VLOOKUP($M68,'County Trend Yields'!$B$3:$AF$289,29,0),0)","v":0},{"$f":"IFERROR(VLOOKUP($M68,'County Trend Yields'!$B$3:$AF$289,30,0),0)","v":0},{"$f":"IFERROR(VLOOKUP($M68,'County Trend Yields'!$B$3:$AF$289,31,0),0)","v":0}]
[null,null,2017,{"$f":"'Background Calculations'!Q$51*'Background Calculations'!Q$115","v":0},null,{"$f":"'Background Calculations'!Q$52*'Background Calculations'!Q$116","v":0},null,{"$f":"'Background Calculations'!$Q$53*'Background Calculations'!$Q$117","v":433.73},null,null,"nonirrigated","soybeans",{"$f":"'2023 Farm Bill Calculator'!$C$4&L69&K69","v":"EATONsoybeansnonirrigated"},{"$f":"IFERROR(VLOOKUP($M69,#REF!,3,0),0)","v":0},{"$f":"IFERROR(VLOOKUP($M69,#REF!,4,0),0)","v":0},{"$f":"IFERROR(VLOOKUP($M69,#REF!,5,0),0)","v":0},{"$f":"IFERROR(VLOOKUP($M69,#REF!,6,0),0)","v":0},{"$f":"IFERROR(VLOOKUP($M69,#REF!,7,0),0)","v":0},{"$f":"IFERROR(VLOOKUP($M69,#REF!,8,0),0)","v":0},{"$f":"IFERROR(VLOOKUP($M69,#REF!,9,0),0)","v":0},{"$f":"IFERROR(VLOOKUP($M69,#REF!,10,0),0)","v":0},{"$f":"IFERROR(VLOOKUP($M69,#REF!,11,0),0)","v":0},{"$f":"IFERROR(VLOOKUP($M69,'County Trend Yields'!$B$3:$AF$289,26,0),0)","v":51.800000000000004},{"$f":"IFERROR(VLOOKUP($M69,'County Trend Yields'!$B$3:$AF$289,27,0),0)","v":37.46},{"$f":"IFERROR(VLOOKUP($M69,'County Trend Yields'!$B$3:$AF$289,28,0),0)","v":50.28},{"$f":"IFERROR(VLOOKUP($M69,'County Trend Yields'!$B$3:$AF$289,29,0),0)","v":53.33},{"$f":"IFERROR(VLOOKUP($M69,'County Trend Yields'!$B$3:$AF$289,30,0),0)","v":48.161999999999992},{"$f":"IFERROR(VLOOKUP($M69,'County Trend Yields'!$B$3:$AF$289,31,0),0)","v":48.676399999999994}]
[null,null,2018,{"$f":"'Background Calculations'!R$51*'Background Calculations'!R$115","v":0},null,{"$f":"'Background Calculations'!R$52*'Background Calculations'!R$116","v":0},null,{"$f":"'Background Calculations'!$R$53*'Background Calculations'!$R$117","v":345.01500000000004},null,null,"Irrigated","Wheat",{"$f":"'2023 Farm Bill Calculator'!$C$4&L70&K70","v":"EATONWheatIrrigated"},{"$f":"IFERROR(VLOOKUP($M70,#REF!,3,0),0)","v":0},{"$f":"IFERROR(VLOOKUP($M70,#REF!,4,0),0)","v":0},{"$f":"IFERROR(VLOOKUP($M70,#REF!,5,0),0)","v":0},{"$f":"IFERROR(VLOOKUP($M70,#REF!,6,0),0)","v":0},{"$f":"IFERROR(VLOOKUP($M70,#REF!,7,0),0)","v":0},{"$f":"IFERROR(VLOOKUP($M70,#REF!,8,0),0)","v":0},{"$f":"IFERROR(VLOOKUP($M70,#REF!,9,0),0)","v":0},{"$f":"IFERROR(VLOOKUP($M70,#REF!,10,0),0)","v":0},{"$f":"IFERROR(VLOOKUP($M70,#REF!,11,0),0)","v":0},{"$f":"IFERROR(VLOOKUP($M70,'County Trend Yields'!$B$3:$AF$289,26,0),0)","v":0},{"$f":"IFERROR(VLOOKUP($M70,'County Trend Yields'!$B$3:$AF$289,27,0),0)","v":0},{"$f":"IFERROR(VLOOKUP($M70,'County Trend Yields'!$B$3:$AF$289,28,0),0)","v":0},{"$f":"IFERROR(VLOOKUP($M70,'County Trend Yields'!$B$3:$AF$289,29,0),0)","v":0},{"$f":"IFERROR(VLOOKUP($M70,'County Trend Yields'!$B$3:$AF$289,30,0),0)","v":0},{"$f":"IFERROR(VLOOKUP($M70,'County Trend Yields'!$B$3:$AF$289,31,0),0)","v":0}]
[null,null,2019,{"$f":"'Background Calculations'!S$51*'Background Calculations'!S$115","v":604.46900000000005},null,{"$f":"'Background Calculations'!S$52*'Background Calculations'!S$116","v":439.26400000000007},null,{"$f":"'Background Calculations'!$S$53*'Background Calculations'!$S$117","v":433.73},null,null,"nonirrigated","Wheat",{"$f":"'2023 Farm Bill Calculator'!$C$4&L71&K71","v":"EATONWheatnonirrigated"},{"$f":"IFERROR(VLOOKUP($M71,#REF!,3,0),0)","v":0},{"$f":"IFERROR(VLOOKUP($M71,#REF!,4,0),0)","v":0},{"$f":"IFERROR(VLOOKUP($M71,#REF!,5,0),0)","v":0},{"$f":"IFERROR(VLOOKUP($M71,#REF!,6,0),0)","v":0},{"$f":"IFERROR(VLOOKUP($M71,#REF!,7,0),0)","v":0},{"$f":"IFERROR(VLOOKUP($M71,#REF!,8,0),0)","v":0},{"$f":"IFERROR(VLOOKUP($M71,#REF!,9,0),0)","v":0},{"$f":"IFERROR(VLOOKUP($M71,#REF!,10,0),0)","v":0},{"$f":"IFERROR(VLOOKUP($M71,#REF!,11,0),0)","v":0},{"$f":"IFERROR(VLOOKUP($M71,'County Trend Yields'!$B$3:$AF$289,26,0),0)","v":0},{"$f":"IFERROR(VLOOKUP($M71,'County Trend Yields'!$B$3:$AF$289,27,0),0)","v":0},{"$f":"IFERROR(VLOOKUP($M71,'County Trend Yields'!$B$3:$AF$289,28,0),0)","v":0},{"$f":"IFERROR(VLOOKUP($M71,'County Trend Yields'!$B$3:$AF$289,29,0),0)","v":0},{"$f":"IFERROR(VLOOKUP($M71,'County Trend Yields'!$B$3:$AF$289,30,0),0)","v":0},{"$f":"IFERROR(VLOOKUP($M71,'County Trend Yields'!$B$3:$AF$289,31,0),0)","v":0}]
[null,null,2020,{"$f":"'Background Calculations'!T$51*'Background Calculations'!T$115","v":525.69600000000003},null,{"$f":"'Background Calculations'!T$52*'Background Calculations'!T$116","v":321.03220000000005},null,{"$f":"'Background Calculations'!$T$53*'Background Calculations'!$T$117","v":405.02}]
[null,null,2021,{"$f":"'Background Calculations'!U$51*'Background Calculations'!U$115","v":731.14200000000005},null,{"$f":"'Background Calculations'!U$52*'Background Calculations'!U$116","v":543.024},null,{"$f":"'Background Calculations'!$U$53*'Background Calculations'!$U$117","v":414.13166666666666},null,null,null,"FOR ARC IC LOW YIELD TABLE weighted by Percent irrigated"]
[null,null,2022,{"$f":"'Background Calculations'!V$51*'Background Calculations'!V$115","v":1003.9968},null,{"$f":"'Background Calculations'!V$52*'Background Calculations'!V$116","v":721.55489999999998},null,{"$f":"'Background Calculations'!$V$53*'Background Calculations'!$V$117","v":571.93733333333341},null,null,null,"Cty Act. weighted payment yields not Trended not Olympic",null,2009,2010,2011,2012,2013,2014,2015,2016,2017,2018,2019,2020,2021,2022,2023]
[null,null,2023,{"$f":"'Background Calculations'!W$51*'Background Calculations'!W$115","v":618.55366666666657},null,{"$f":"'Background Calculations'!W$52*'Background Calculations'!W$116","v":413.476},null,{"$f":"'Background Calculations'!$W$53*'Background Calculations'!$W$117","v":683.4312000000001},null,null,null,null,"Corn",{"$f":"('Background Calculations'!N63)+('Background Calculations'!N66*'Multiple ARC-IC Farms'!$D$55)+('Background Calculations'!N68*(1-'Multiple ARC-IC Farms'!$D$55))","v":0},{"$f":"('Background Calculations'!O63)+('Background Calculations'!O66*'Multiple ARC-IC Farms'!$D$55)+('Background Calculations'!O68*(1-'Multiple ARC-IC Farms'!$D$55))","v":0},{"$f":"('Background Calculations'!P63)+('Background Calculations'!P66*'Multiple ARC-IC Farms'!$D$55)+('Background Calculations'!P68*(1-'Multiple ARC-IC Farms'!$D$55))","v":0},{"$f":"('Background Calculations'!Q63)+('Background Calculations'!Q66*'Multiple ARC-IC Farms'!$D$55)+('Background Calculations'!Q68*(1-'Multiple ARC-IC Farms'!$D$55))","v":0},{"$f":"('Background Calculations'!R63)+('Background Calculations'!R66*'Multiple ARC-IC Farms'!$D$55)+('Background Calculations'!R68*(1-'Multiple ARC-IC Farms'!$D$55))","v":0},{"$f":"('Background Calculations'!S63)+('Background Calculations'!S66*'Multiple ARC-IC Farms'!$D$55)+('Background Calculations'!S68*(1-'Multiple ARC-IC Farms'!$D$55))","v":0},{"$f":"('Background Calculations'!T63)+('Background Calculations'!T66*'Multiple ARC-IC Farms'!$D$55)+('Background Calculations'!T68*(1-'Multiple ARC-IC Farms'!$D$55))","v":0},{"$f":"('Background Calculations'!U63)+('Background Calculations'!U66*'Multiple ARC-IC Farms'!$D$55)+('Background Calculations'!U68*(1-'Multiple ARC-IC Farms'!$D$55))","v":0},{"$f":"('Background Calculations'!V63)+('Background Calculations'!V66*'Multiple ARC-IC Farms'!$D$55)+('Background Calculations'!V68*(1-'Multiple ARC-IC Farms'!$D$55))","v":0},{"$f":"('Background Calculations'!W63)+('Background Calculations'!W66*'Multiple ARC-IC Farms'!$D$55)+('Background Calculations'!W68*(1-'Multiple ARC-IC Farms'!$D$55))","v":163.37},{"$f":"('Background Calculations'!X63)+('Background Calculations'!X66*'Multiple ARC-IC Farms'!$D$55)+('Background Calculations'!X68*(1-'Multiple ARC-IC Farms'!$D$55))","v":142.08000000000001},{"$f":"('Background Calculations'!Y63)+('Background Calculations'!Y66*'Multiple ARC-IC Farms'!$D$55)+('Background Calculations'!Y68*(1-'Multiple ARC-IC Farms'!$D$55))","v":161.4},{"$f":"('Background Calculations'!Z63)+('Background Calculations'!Z66*'Multiple ARC-IC Farms'!$D$55)+('Background Calculations'!Z68*(1-'Multiple ARC-IC Farms'!$D$55))","v":176.76},{"$f":"('Background Calculations'!AA63)+('Background Calculations'!AA66*'Multiple ARC-IC Farms'!$D$55)+('Background Calculations'!AA68*(1-'Multiple ARC-IC Farms'!$D$55))","v":168.16800000000003},{"$f":"('Background Calculations'!AB63)+('Background Calculations'!AB66*'Multiple ARC-IC Farms'!$D$55)+('Background Calculations'!AB68*(1-'Multiple ARC-IC Farms'!$D$55))","v":164.43560000000002}]
[null,null,"Percent Planted by Year",null,null,null,null,null,null,null,null,null,"Soybeans",{"$f":"('Background Calculations'!N64)+('Background Calculations'!N67*'Multiple ARC-IC Farms'!$F$55)+('Background Calculations'!N69*(1-'Multiple ARC-IC Farms'!$F$55))","v":0},{"$f":"('Background Calculations'!O64)+('Background Calculations'!O67*'Multiple ARC-IC Farms'!$F$55)+('Background Calculations'!O69*(1-'Multiple ARC-IC Farms'!$F$55))","v":0},{"$f":"('Background Calculations'!P64)+('Background Calculations'!P67*'Multiple ARC-IC Farms'!$F$55)+('Background Calculations'!P69*(1-'Multiple ARC-IC Farms'!$F$55))","v":0},{"$f":"('Background Calculations'!Q64)+('Background Calculations'!Q67*'Multiple ARC-IC Farms'!$F$55)+('Background Calculations'!Q69*(1-'Multiple ARC-IC Farms'!$F$55))","v":0},{"$f":"('Background Calculations'!R64)+('Background Calculations'!R67*'Multiple ARC-IC Farms'!$F$55)+('Background Calculations'!R69*(1-'Multiple ARC-IC Farms'!$F$55))","v":0},{"$f":"('Background Calculations'!S64)+('Background Calculations'!S67*'Multiple ARC-IC Farms'!$F$55)+('Background Calculations'!S69*(1-'Multiple ARC-IC Farms'!$F$55))","v":0},{"$f":"('Background Calculations'!T64)+('Background Calculations'!T67*'Multiple ARC-IC Farms'!$F$55)+('Background Calculations'!T69*(1-'Multiple ARC-IC Farms'!$F$55))","v":0},{"$f":"('Background Calculations'!U64)+('Background Calculations'!U67*'Multiple ARC-IC Farms'!$F$55)+('Background Calculations'!U69*(1-'Multiple ARC-IC Farms'!$F$55))","v":0},{"$f":"('Background Calculations'!V64)+('Background Calculations'!V67*'Multiple ARC-IC Farms'!$F$55)+('Background Calculations'!V69*(1-'Multiple ARC-IC Farms'!$F$55))","v":0},{"$f":"('Background Calculations'!W64)+('Background Calculations'!W67*'Multiple ARC-IC Farms'!$F$55)+('Background Calculations'!W69*(1-'Multiple ARC-IC Farms'!$F$55))","v":51.800000000000004},{"$f":"('Background Calculations'!X64)+('Background Calculations'!X67*'Multiple ARC-IC Farms'!$F$55)+('Background Calculations'!X69*(1-'Multiple ARC-IC Farms'!$F$55))","v":37.46},{"$f":"('Background Calculations'!Y64)+('Background Calculations'!Y67*'Multiple ARC-IC Farms'!$F$55)+('Background Calculations'!Y69*(1-'Multiple ARC-IC Farms'!$F$55))","v":50.28},{"$f":"('Background Calculations'!Z64)+('Background Calculations'!Z67*'Multiple ARC-IC Farms'!$F$55)+('Background Calculations'!Z69*(1-'Multiple ARC-IC Farms'!$F$55))","v":53.33},{"$f":"('Background Calculations'!AA64)+('Background Calculations'!AA67*'Multiple ARC-IC Farms'!$F$55)+('Background Calculations'!AA69*(1-'Multiple ARC-IC Farms'!$F$55))","v":48.161999999999992},{"$f":"('Background Calculations'!AB64)+('Background Calculations'!AB67*'Multiple ARC-IC Farms'!$F$55)+('Background Calculations'!AB69*(1-'Multiple ARC-IC Farms'!$F$55))","v":48.676399999999994}]
[null,null,null,null,null,null,null,null,null,null,null,null,"Wheat",{"$f":"N65","v":0},{"$f":"O65","v":0},{"$f":"P65","v":0},{"$f":"Q65","v":0},{"$f":"R65","v":0},0,0,0,0,78.86,62.730000000000004,74.75,73.64,74.286000000000016,73.643200000000007]
[]
[null,null,2016,{"$f":"'2023 Farm Bill Calculator'!F25/'2023 Farm Bill Calculator'!$K25","v":{"$error":"#DIV/0!"}},null,{"$f":"'2023 Farm Bill Calculator'!H25/'2023 Farm Bill Calculator'!$K25","v":{"$error":"#DIV/0!"}},null,{"$f":"'2023 Farm Bill Calculator'!J25/'2023 Farm Bill Calculator'!$K25","v":{"$error":"#DIV/0!"}},null,null,null,"Cty Act. weighted payment yields not Trended not Olympic 5 year average",null,null,null,null,null,2013,2014,2015,2016,2017,2018,2019,2020,2021,2022,2023]
[null,null,2017,{"$f":"'2023 Farm Bill Calculator'!F26/'2023 Farm Bill Calculator'!$K26","v":{"$error":"#DIV/0!"}},null,{"$f":"'2023 Farm Bill Calculator'!H26/'2023 Farm Bill Calculator'!$K26","v":{"$error":"#DIV/0!"}},null,{"$f":"'2023 Farm Bill Calculator'!J26/'2023 Farm Bill Calculator'!$K26","v":{"$error":"#DIV/0!"}},null,null,null,null,"Corn",null,null,null,null,{"$f":"AVERAGE(N75:R75)","v":0},{"$f":"AVERAGE(O75:S75)","v":0},0,0,0,32.673999999999999,61.090000000000011,93.37,128.72200000000001,162.35560000000001,162.56872000000001]
[null,null,2018,{"$f":"'2023 Farm Bill Calculator'!F27/'2023 Farm Bill Calculator'!$K27","v":0.33333333333333331},null,{"$f":"'2023 Farm Bill Calculator'!H27/'2023 Farm Bill Calculator'!$K27","v":0.33333333333333331},null,{"$f":"'2023 Farm Bill Calculator'!J27/'2023 Farm Bill Calculator'!$K27","v":0.33333333333333331},null,null,null,null,"Soybeans",null,null,null,null,{"$f":"AVERAGE(N76:R76)","v":0},0,0,0,0,10.360000000000001,17.852,27.908000000000005,38.573999999999998,48.206399999999995,47.581679999999992]
[null,null,2019,{"$f":"'2023 Farm Bill Calculator'!F28/'2023 Farm Bill Calculator'!$K28","v":0.33333333333333331},null,{"$f":"'2023 Farm Bill Calculator'!H28/'2023 Farm Bill Calculator'!$K28","v":0.33333333333333331},null,{"$f":"'2023 Farm Bill Calculator'!J28/'2023 Farm Bill Calculator'!$K28","v":0.33333333333333331},null,null,null,null,"Wheat",null,null,null,null,{"$f":"AVERAGE(N77:R77)","v":0},0,0,0,0,15.772,28.318000000000001,43.268000000000001,57.996000000000002,72.853200000000001,71.809840000000008]
[null,null,2020,{"$f":"'2023 Farm Bill Calculator'!F29/'2023 Farm Bill Calculator'!$K29","v":0.33333333333333331},null,{"$f":"'2023 Farm Bill Calculator'!H29/'2023 Farm Bill Calculator'!$K29","v":0.33333333333333331},null,{"$f":"'2023 Farm Bill Calculator'!J29/'2023 Farm Bill Calculator'!$K29","v":0.33333333333333331}]
[null,null,2021,{"$f":"'2023 Farm Bill Calculator'!F30/'2023 Farm Bill Calculator'!$K30","v":0.33333333333333331},null,{"$f":"'2023 Farm Bill Calculator'!H30/'2023 Farm Bill Calculator'!$K30","v":0.33333333333333331},null,{"$f":"'2023 Farm Bill Calculator'!J30/'2023 Farm Bill Calculator'!$K30","v":0.33333333333333331}]
[null,null,2022]
[null,null,2023,{"$f":"'2023 Farm Bill Calculator'!F31/'2023 Farm Bill Calculator'!$K31","v":0.45},null,{"$f":"'2023 Farm Bill Calculator'!H31/'2023 Farm Bill Calculator'!$K31","v":0.45},null,{"$f":"'2023 Farm Bill Calculator'!J31/'2023 Farm Bill Calculator'!$K31","v":0.1},null,null,null,null,"Estimated T-Yield = 5yr weighted by % irrigation average ",{"$f":"N2","v":2013},2014,2015,2016,2017,2018,2019,2020,2021,2022,2023]
[null,null,null,null,null,null,null,null,null,null,null,null,"Corn",{"$f":"R80","v":0},{"$f":"S80","v":0},0,0,0,32.673999999999999,61.090000000000011,93.37,128.72200000000001,162.35560000000001,162.56872000000001]
[null,null,"ARC-IC OLYMPIC AVERAGES lagged one year",null,null,null,null,"ARC-IC",null,"ARC-IC",null,null,"Soybeans",{"$f":"R81","v":0},{"$f":"S81","v":0},0,0,0,10.360000000000001,17.852,27.908000000000005,38.573999999999998,48.206399999999995,47.581679999999992]
[null,null,null,"Corn","Soys ","Wheat",null,"Benchmark Rev",null,"Coverage Guarantee",null,null,"Wheat",{"$f":"R82","v":0},{"$f":"S82","v":0},0,0,0,15.772,28.318000000000001,43.268000000000001,57.996000000000002,72.853200000000001,71.809840000000008]
[null,null,2020,{"$f":"(SUM(D66:D70)-MIN(D66:D70)-MAX(D66:D70))/3","v":0},{"$f":"(SUM(F66:F70)-MIN(F66:F70)-MAX(F66:F70))/3","v":0},{"$f":"(SUM(H66:H70)-MIN(H66:H70)-MAX(H66:H70))/3","v":115.00500000000004},null,{"$f":"D90*D83+E90*F83+F90*H83","v":38.335000000000008},null,{"$f":"0.86*H90","v":32.968100000000007},null,null,"Weighted 5 YR Average Yield"]
[null,null,2021,{"$f":"(SUM(D67:D71)-MIN(D67:D71)-MAX(D67:D71))/3","v":0},{"$f":"(SUM(F67:F71)-MIN(F67:F71)-MAX(F67:F71))/3","v":0},{"$f":"(SUM(H67:H71)-MIN(H67:H71)-MAX(H67:H71))/3","v":259.58166666666671},null,{"$f":"D91*D84+E91*F84+F91*H84","v":86.527222222222235},null,{"$f":"0.86*H91","v":74.413411111111117},null,null,"Corn",{"$f":"N87","v":0},{"$f":"O87","v":0},0,0,0,32.673999999999999,61.090000000000011,93.37,128.72200000000001,162.35560000000001,162.56872000000001]
[null,null,2022,{"$f":"(SUM(D68:D72)-MIN(D68:D72)-MAX(D68:D72))/3","v":175.23199999999997},{"$f":"(SUM(F68:F72)-MIN(F68:F72)-MAX(F68:F72))/3","v":107.01073333333335},{"$f":"(SUM(H68:H72)-MIN(H68:H72)-MAX(H68:H72))/3","v":394.58833333333337},null,{"$f":"D92*D85+E92*F85+F92*H85","v":0},null,{"$f":"0.86*H92","v":0},null,null,"Soybeans",{"$f":"N88","v":0},0,0,0,0,10.360000000000001,17.852,27.908000000000005,38.573999999999998,48.206399999999995,47.581679999999992]
[null,null,2023,{"$f":"(SUM(D69:D73)-MIN(D69:D73)-MAX(D69:D73))/3","v":376.72166666666664},{"$f":"(SUM(F69:F73)-MIN(F69:F73)-MAX(F69:F73))/3","v":253.43206666666671},{"$f":"(SUM(H69:H73)-MIN(H69:H73)-MAX(H69:H73))/3","v":417.6272222222222},null,{"$f":"D93*D85+E93*F85+F93*H85","v":0},null,{"$f":"0.86*H93","v":0},null,null,"Wheat",{"$f":"N89","v":0},0,0,0,0,15.772,28.318000000000001,43.268000000000001,57.996000000000002,72.853200000000001,71.809840000000008]
[null,null,2024,{"$f":"(SUM(D70:D74)-MIN(D70:D74)-MAX(D70:D74))/3","v":620.43566666666675},{"$f":"(SUM(F70:F74)-MIN(F70:F74)-MAX(F70:F74))/3","v":434.44006666666672},{"$f":"(SUM(H70:H74)-MIN(H70:H74)-MAX(H70:H74))/3","v":417.6272222222222},null,{"$f":"D94*D86+E94*F86+F94*H86","v":516.45680222222234},null,{"$f":"0.86*H94","v":444.15284991111122}]
[null,null,"ARC-IC","Payment Rate/Ac(before 65%)",null,"Max Rate/Ac(before65%)",null,"Payment/Ac(before 65%)",null,"Farm Payment @ 65% of Base Acres",null,"75% T-Yield for Individual"]
[null,null,2019,{"$f":"J90-J60","v":-416.31143333333335},null,{"$f":"H90*0.1","v":3.8335000000000008},null,{"$f":"IF(D96>0.01,MIN(D96,F96),0)","v":0},null,{"$f":"IF(H96>0,H96*'2023 Farm Bill Calculator'!$F$9*0.65,0)","v":0},null,null,"Corn",{"$f":"0.75*N87","v":0},0,0,0,0,24.505499999999998,45.81750000000001,70.027500000000003,96.541500000000013,121.76670000000001,121.92654000000002]
[null,null,2020,{"$f":"J91-J61","v":-508.44285555555552},null,{"$f":"H91*0.1","v":8.6527222222222235},null,{"$f":"IF(D97>0.01,MIN(D97,F97),0)","v":0},null,{"$f":"IF(H97>0,H97*'2023 Farm Bill Calculator'!$F$9*0.65,0)","v":0},null,null,"Soybeans",{"$f":"0.75*N88","v":0},0,0,0,0,7.7700000000000014,13.388999999999999,20.931000000000004,28.930499999999999,36.154799999999994,35.68625999999999]
[null,null,2021,{"$f":"J92-J61","v":-582.85626666666667},null,{"$f":"H92*0.1","v":0},null,{"$f":"IF(D98>0.01,MIN(D98,F98),0)","v":0},null,{"$f":"IF(H98>0,H98*'2023 Farm Bill Calculator'!$F$9*0.65,0)","v":0},null,null,"Wheat",{"$f":"0.75*N89","v":0},0,0,0,0,11.829000000000001,21.238500000000002,32.451000000000001,43.497,54.639899999999997,53.857380000000006]
[null,null,2022,{"$f":"J93-J62","v":0},null,{"$f":"H93*0.1","v":0},null,{"$f":"IF(D99>0.01,MIN(D99,F99),0)","v":0},null,{"$f":"IF(H99>0,H99*'2023 Farm Bill Calculator'!$F$9*0.65,0)","v":0}]
[null,null,2023,{"$f":"J94-J63","v":444.15284991111122},null,{"$f":"H94*0.1","v":51.645680222222239},null,{"$f":"IF(D100>0.01,MIN(D100,F100),0)","v":51.645680222222239},null,{"$f":"IF(H100>0,H100*'2023 Farm Bill Calculator'!$F$9*0.65,0)","v":23498.78450111112}]
[]
[null,null,null,null,null,null,null,null,null,null,null,"80% of 5yr County Average Yield"]
[null,null,null,null,null,null,null,null,null,null,null,null,{"$f":"M91","v":"Corn"},{"$f":"0.8*N91","v":0},0,0,0,0,26.139200000000002,{"$f":"0.8*T91","v":48.872000000000014},74.696000000000012,102.97760000000001,129.88448000000002,130.05497600000001]
[null,null,null,null,null,null,null,null,null,null,null,null,{"$f":"M92","v":"Soybeans"},{"$f":"0.8*N92","v":0},0,0,0,0,8.288000000000002,14.281600000000001,22.326400000000007,30.859200000000001,38.56512,38.065343999999996]
[null,null,null,null,null,null,null,null,null,null,null,null,{"$f":"M93","v":"Wheat"},{"$f":"0.8*N93","v":0},0,0,0,0,12.617600000000001,22.654400000000003,34.614400000000003,46.396800000000006,58.282560000000004,57.447872000000011]
[]
[null,null,null,null,null,null,null,null,null,null,null,"Min \"75% Yield\" for Farm (PLC Yield)",null,2013,2014,2015,2016,2017,2018,2019,2020,2021,2022,2023]
[null,null,null,null,null,null,null,null,null,null,null,null,{"$f":"M103","v":"Corn"},{"$f":"N87*0.75","v":0},{"$f":"O87*0.75","v":0},0,0,0,24.505499999999998,45.81750000000001,70.027500000000003,96.541500000000013,121.76670000000001,121.92654000000002]
[null,null,null,null,null,null,null,null,null,null,null,null,{"$f":"M104","v":"Soybeans"},{"$f":"N88*0.75","v":0},0,0,0,0,7.7700000000000014,13.388999999999999,20.931000000000004,28.930499999999999,36.154799999999994,35.68625999999999]
[null,null,null,null,null,null,null,null,null,null,null,null,{"$f":"M105","v":"Wheat"},{"$f":"N89*0.75","v":0},0,0,0,0,11.829000000000001,21.238500000000002,32.451000000000001,43.497,54.639899999999997,53.857380000000006]
[]
[]
[]
[null,null,null,null,null,null,null,null,null,null,null,"FOR ARC-IC if not planted = MAX of (County Yield or \"75% T Yield\")  -OR- if planted MAX of (farm actual or 75% T-Yield)"]
[null,null,null,null,null,null,null,null,null,null,null,null,{"$f":"M108","v":"Corn"},{"$f":"IF('2023 Farm Bill Calculator'!$E24>0.01,MAX(N96,'2023 Farm Bill Calculator'!$E24),MAX(N96,N37))","v":0},{"$f":"IF('2023 Farm Bill Calculator'!$E25>0.01,MAX(O96,'2023 Farm Bill Calculator'!$E25),MAX(O96,O37))","v":0},{"$f":"IF('2023 Farm Bill Calculator'!$E26>0.01,MAX(P96,'2023 Farm Bill Calculator'!$E26),MAX(P96,P37))","v":0},{"$f":"IF('2023 Farm Bill Calculator'!$E25>0.01,MAX(Q96,'2023 Farm Bill Calculator'!$E25),MAX(Q96,Q37))","v":0},{"$f":"IF('2023 Farm Bill Calculator'!$E26>0.01,MAX(R96,'2023 Farm Bill Calculator'!$E26),MAX(R96,R37))","v":0},{"$f":"IF('2023 Farm Bill Calculator'!$E27>0.01,MAX(S96,'2023 Farm Bill Calculator'!$E27),MAX(S96,S37))","v":163.37},{"$f":"IF('2023 Farm Bill Calculator'!$E28>0.01,MAX(T96,'2023 Farm Bill Calculator'!$E28),MAX(T96,T37))","v":142.08000000000001},{"$f":"IF('2023 Farm Bill Calculator'!$E29>0.01,MAX(U96,'2023 Farm Bill Calculator'!$E29),MAX(U96,U37))","v":161.4},{"$f":"IF('2023 Farm Bill Calculator'!$E30>0.01,MAX(V96,'2023 Farm Bill Calculator'!$E30),MAX(V96,V37))","v":176.76},{"$f":"IF('2023 Farm Bill Calculator'!$E31>0.01,MAX(W96,'2023 Farm Bill Calculator'!$E31),MAX(W96,W37))","v":167.17666666666665},{"$f":"IF('2023 Farm Bill Calculator'!$E32>0.01,MAX(X96,'2023 Farm Bill Calculator'!$E32),MAX(X96,X37))","v":1000}]
[null,null,null,null,null,null,null,null,null,null,null,null,{"$f":"M109","v":"Soybeans"},{"$f":"IF('2023 Farm Bill Calculator'!$G24>0.1,MAX(N97,'2023 Farm Bill Calculator'!$G24),MAX(N97,N38))","v":0},{"$f":"IF('2023 Farm Bill Calculator'!$G25>0.1,MAX(O97,'2023 Farm Bill Calculator'!$G25),MAX(O97,O38))","v":0},{"$f":"IF('2023 Farm Bill Calculator'!$G26>0.1,MAX(P97,'2023 Farm Bill Calculator'!$G26),MAX(P97,P38))","v":0},{"$f":"IF('2023 Farm Bill Calculator'!$G25>0.1,MAX(Q97,'2023 Farm Bill Calculator'!$G25),MAX(Q97,Q38))","v":0},{"$f":"IF('2023 Farm Bill Calculator'!$G26>0.1,MAX(R97,'2023 Farm Bill Calculator'!$G26),MAX(R97,R38))","v":0},{"$f":"IF('2023 Farm Bill Calculator'!$G27>0.1,MAX(S97,'2023 Farm Bill Calculator'!$G27),MAX(S97,S38))","v":51.800000000000004},{"$f":"IF('2023 Farm Bill Calculator'!$G28>0.1,MAX(T97,'2023 Farm Bill Calculator'!$G28),MAX(T97,T38))","v":37.46},{"$f":"IF('2023 Farm Bill Calculator'!$G29>0.1,MAX(U97,'2023 Farm Bill Calculator'!$G29),MAX(U97,U38))","v":50.28},{"$f":"IF('2023 Farm Bill Calculator'!$G30>0.1,MAX(V97,'2023 Farm Bill Calculator'!$G30),MAX(V97,V38))","v":53.33},{"$f":"IF('2023 Farm Bill Calculator'!$G31>0.1,MAX(W97,'2023 Farm Bill Calculator'!$G31),MAX(W97,W38))","v":49.223333333333329},{"$f":"IF('2023 Farm Bill Calculator'!$G32>0.1,MAX(X97,'2023 Farm Bill Calculator'!$G32),MAX(X97,X38))","v":48.676399999999994}]
[null,null,null,null,null,null,null,null,null,null,null,null,{"$f":"M110","v":"Wheat"},{"$f":"IF('2023 Farm Bill Calculator'!$I24>0.1,MAX(N98,'2023 Farm Bill Calculator'!$I24),MAX(N98,N39))","v":0},{"$f":"IF('2023 Farm Bill Calculator'!$I25>0.1,MAX(O98,'2023 Farm Bill Calculator'!$I25),MAX(O98,O39))","v":0},{"$f":"IF('2023 Farm Bill Calculator'!$I26>0.1,MAX(P98,'2023 Farm Bill Calculator'!$I26),MAX(P98,P39))","v":0},{"$f":"IF('2023 Farm Bill Calculator'!$I27>0.1,MAX(Q98,'2023 Farm Bill Calculator'!$I27),MAX(Q98,Q39))","v":78.86},{"$f":"IF('2023 Farm Bill Calculator'!$I28>0.1,MAX(R98,'2023 Farm Bill Calculator'!$I28),MAX(R98,R39))","v":62.730000000000004},{"$f":"IF('2023 Farm Bill Calculator'!$I29>0.1,MAX(S98,'2023 Farm Bill Calculator'!$I27),MAX(S98,S39))","v":78.86},{"$f":"IF('2023 Farm Bill Calculator'!$I30>0.1,MAX(T98,'2023 Farm Bill Calculator'!$I30),MAX(T98,T39))","v":73.64},{"$f":"IF('2023 Farm Bill Calculator'!$I31>0.1,MAX(U98,'2023 Farm Bill Calculator'!$I31),MAX(U98,U39))","v":75.296666666666667},{"$f":"IF('2023 Farm Bill Calculator'!$I32>0.1,MAX(V98,'2023 Farm Bill Calculator'!$I32),MAX(V98,V39))","v":73.64},{"$f":"IF('2023 Farm Bill Calculator'!$I33>0.1,MAX(W98,'2023 Farm Bill Calculator'!$I33),MAX(W98,W39))","v":74.286000000000016},{"$f":"IF('2023 Farm Bill Calculator'!$I34>0.1,MAX(X98,'2023 Farm Bill Calculator'!$I34),MAX(X98,X39))","v":73.643200000000007}]

{"sheet":"MYA Prices","index":3,"n_rows":65,"n_cols":38,"rows_kept":65,"cut":false,"hidden":true,"merged":[]}
[1,2,3,4,5,6,7,8,9,10,11,12,13,14,15,16,17,18,19,20]
[null,"1 ","2 ","3 ","4 ","5 ","6 ","7 ","8 ","9 ","10 ","11 ","12 ","13 ","14 ","15 ","16 ","17 ","18 ","19 ","20 ","21 ","22 ","23 ","24 ","25 ","26 ","27 ","28 ","29 ","30 ","31 ","32 ","33 ","34 ","35 ","36 ","37 "]
[null,null,"Corn 13","Corn 14","Corn 15","Corn 16","Corn 17","Corn 18","Corn 19","Corn 20","Corn 21","Corn 22","Corn 23","Corn 24","Soy 13","SOY 14","SOY 15","SOY 16","SOY 17","SOY 18","SOY 19","SOY 20","SOY 21","SOY 22","SOY 23","SOY 24","Wheat 13","Wheat 14","Wheat 15","Wheat 16","Wheat 17","Wheat 18","Wheat 19","Wheat 20","Wheat 21","Wheat 22","Wheat 23","Wheat 24"]
[null,{"$f":"D20","v":"XXXXXXXXXXXxxXXXXXXXXXXXXUSDA Ag Outlook Dec 21"},{"$f":"E20","v":4.46},3.7,3.61,3.36,3.36,3.61,3.56,4.53,6,6.8,{"$f":"O20","v":0},0,{"$f":"E30","v":13},{"$f":"F30","v":10.1},8.9499999999999993,9.4700000000000006,9.33,8.48,8.57,10.8,13.3,0,0,0,{"$f":"E40","v":6.87},{"$f":"F40","v":5.99},4.8899999999999997,3.89,4.72,5.16,4.58,5.05,763,9.1999999999999993,0,0]
[null,"USDA/WASDE  1/12/23",4.46,3.7,3.61,3.36,3.36,3.61,3.56,4.53,5.95,6.8,5.7,4.9000000000000004,{"$f":"E31","v":13},10.1,8.9499999999999993,9.4700000000000006,9.33,8.48,8.57,10.8,13.3,14,13,11.4,{"$f":"E41","v":6.87},5.99,4.8899999999999997,3.89,4.72,5.16,4.58,5.05,7.63,9.1999999999999993,8,7]
[null,"XXXXXXXXXXXXXXXXXXXXXXXXXXXXXXXCBO Baseline Feb 21",4.46,3.7,3.61,3.36,3.36,3.61,3.56,4.53,5.95,0,0,0,13,10.1,8.9499999999999993,9.4700000000000006,9.33,8.48,8.57,10.8,13.3,0,0,0,6.87,5.99,4.8899999999999997,3.89,4.72,5.16,4.58,5.05,7.63,0,0,0]
[null,"FAPRI Aug 22",{"$f":"E23","v":4.46},{"$f":"F23","v":3.7},3.61,3.36,3.36,3.61,3.56,4.53,5.95,6.34,5.22,4.6500000000000004,13,10.1,8.9499999999999993,9.4700000000000006,9.33,8.48,8.57,10.8,13.3,{"$f":"N33","v":14.22},12.36,11.85,6.87,5.99,4.8899999999999997,3.89,4.72,5.16,4.58,5.05,7.63,9.0500000000000007,7.11,6.44]
[null,"Futures 1/13/23",{"$f":"E24","v":4.46},3.7,3.61,3.36,3.36,3.61,3.56,4.53,5.95,0,5.6800000000000006,0,13,10.1,8.9499999999999993,9.4700000000000006,9.33,8.48,8.57,10.8,13.3,0,13.53,0,6.87,5.99,4.8899999999999997,3.89,4.72,5.16,4.58,5.05,7.63,9.1999999999999993,7.7666666666666675,0]
[null,"Kstate 12/31/22",{"$f":"E25","v":4.46},3.7,3.61,3.36,3.36,3.61,3.56,4.53,6,6.39,5.84,0,13,10.1,8.9499999999999993,9.4700000000000006,9.33,8.48,8.57,10.8,13.3,14.07,13.56,0,6.87,5.99,4.8899999999999997,3.8899999999999997,4.72,5.16,4.58,5.05,7.63,8.7899999999999991,8.8699999999999992,0]
[null,"Average ",{"$f":"E26","v":4.46},3.6999999999999997,3.61,3.36,3.36,3.61,3.56,4.53,5.95,6.5100000000000007,5.61,4.7750000000000004,13,10.1,8.9500000000000011,9.4700000000000006,9.33,8.48,8.57,10.799999999999999,13.299999999999999,14.096666666666666,13.112500000000001,11.625,6.87,5.9900000000000011,4.8899999999999997,3.89,4.72,5.16,4.5799999999999992,5.05,7.63,9.0879999999999992,7.9366666666666656,6.7200000000000006]
[null,"Reference Price",{"$f":"K18","v":3.7},{"$f":"K18","v":3.7},{"$f":"Table1[[#This Row],[3 ]]","v":3.7},{"$f":"Table1[[#This Row],[3 ]]","v":3.7},{"$f":"Table1[[#This Row],[3 ]]","v":3.7},{"$f":"Table1[[#This Row],[3 ]]","v":3.7},{"$f":"Table1[[#This Row],[3 ]]","v":3.7},{"$f":"Table1[[#This Row],[3 ]]","v":3.7},{"$f":"Table1[[#This Row],[3 ]]","v":3.7},{"$f":"Table1[[#This Row],[3 ]]","v":3.7},{"$f":"Table1[[#This Row],[3 ]]","v":3.7},{"$f":"Table1[[#This Row],[3 ]]","v":3.7},8.4,8.4,8.4,8.4,8.4,8.4,8.4,8.4,8.4,8.4,8.4,8.4,5.5,5.5,5.5,5.5,5.5,5.5,5.5,5.5,5.5,5.5,5.5,5.5]
[null,"Benchmark Price"]
[]
[]
[null,null,null,"Updated  1/13/23"]
[]
[null,null,null,null,null,null,"Five Year Price Forecasts "]
["Five Year Price Forecasts for the 2018 Farm Bill",null,null,null,null,null,null,null,null,"Corn",3.7,null,null,null,"Corn"]
[null,null,null,null,"2013/14","2014/15","2015/16","2016/17","2017/18","2018/19","2019/20","2020/21","2021/22","2022/23","2023/24","2024/25"]
[null,null,null,"XXXXXXXXXXXxxXXXXXXXXXXXXUSDA Ag Outlook Dec 21",4.46,3.7,3.61,3.36,3.36,3.61,3.56,4.53,5.95]
[null,null,null,"USDA/WASDE  1/12/23",4.46,3.7,3.61,3.36,3.36,3.61,3.56,4.53,5.95,6.8,5.7,4.9000000000000004,4.5,4.3,4.3]
[null,null,null,"XXXXXXXXXXXXXXXXXXXXXXXXXXXXXXXCBO Baseline Feb 21",4.46,3.7,3.61,3.36,3.36,3.61,3.56,4.53,5.95]
[null,null,null,"FAPRI Aug 22",4.46,3.7,3.61,3.36,3.36,3.61,3.56,4.53,5.95,6.34,5.22,4.6500000000000004,4.59,4.43,4.37]
[null,null,null,"Futures 1/13/23",4.46,3.7,3.61,3.36,3.36,3.61,3.56,4.53,5.95,null,{"$f":"5.98-0.3","v":5.6800000000000006}]
[null,null,null,"Kstate 12/31/22",4.46,3.7,3.61,3.36,3.36,3.61,3.56,4.53,6,6.39,5.84]
[null,null,null,"Average ",{"$f":"AVERAGE(E20:E25)","v":4.46},{"$f":"AVERAGE(F20:F25)","v":3.6999999999999997},{"$f":"AVERAGE(G20:G25)","v":3.61},3.36,3.36,3.61,3.56,4.53,5.95,6.5100000000000007,5.61,4.7750000000000004]
[]
[null,null,null,null,null,null,null,null,null,"Soybeans",8.4,null,null,null,"Soybeans"]
[null,null,null,null,"2013/14","2014/15","2015/16","2016/17","2017/18","2018/19","2019/20","2020/21","2021/22","2022/23","2023/24","2024/25"]
[null,null,null,{"$f":"D20","v":"XXXXXXXXXXXxxXXXXXXXXXXXXUSDA Ag Outlook Dec 21"},13,10.1,8.9499999999999993,9.4700000000000006,9.33,8.48,8.57,10.8,13.3]
[null,null,null,"USDA/WASDE  1/12/23",13,10.1,8.9499999999999993,9.4700000000000006,9.33,8.48,8.57,10.8,13.3,14,13,11.4,10.85,10.45,10.35,10.3]
[null,null,null,"XXXXXXXXXXXXXXXXXXXXXXXXXXXXXXXCBO Baseline Feb 21",13,10.1,8.9499999999999993,9.4700000000000006,9.33,8.48,8.57,10.8,13.3]
[null,null,null,"FAPRI Aug 22",13,10.1,8.9499999999999993,9.4700000000000006,9.33,8.48,8.57,10.8,13.3,14.22,12.36,11.85,11.44,11.23,11.22]
[null,null,null,"Futures 1/13/23",13,10.1,8.9499999999999993,9.4700000000000006,9.33,8.48,8.57,10.8,13.3,null,{"$f":"13.93-0.4","v":13.53}]
[null,null,null,"Kstate 12/31/22",13,10.1,8.9499999999999993,9.4700000000000006,9.33,8.48,8.57,10.8,13.3,14.07,13.56]
[null,null,null,"Average ",{"$f":"AVERAGE(E30:E35)","v":13},{"$f":"AVERAGE(F30:F35)","v":10.1},{"$f":"AVERAGE(G30:G35)","v":8.9500000000000011},9.4700000000000006,9.33,8.48,8.57,10.799999999999999,13.299999999999999,14.096666666666666,13.112500000000001,11.625]
[]
[null,null,null,null,null,null,null,null,null,"Wheat",5.5,null,null,null,"Wheat"]
[null,null,null,null,"2013/14","2014/15","2015/16","2016/17","2017/18","2018/19","2019/20","2020/21","2021/22","2022/23","2023/24","2024/25"]
[null,null,null,{"$f":"D30","v":"XXXXXXXXXXXxxXXXXXXXXXXXXUSDA Ag Outlook Dec 21"},6.87,5.99,4.8899999999999997,3.89,4.72,5.16,4.58,5.05,7.63,9.1999999999999993]
[null,null,null,{"$f":"D31","v":"USDA/WASDE  1/12/23"},6.87,5.99,4.8899999999999997,3.89,4.72,5.16,4.58,5.05,7.63,9.1999999999999993,8,7,6,5.7,5.7]
[null,null,null,"XXXXXXXXXXXXXXXXXXXXXXXXXXXXXXXCBO Baseline Feb 21",6.87,5.99,4.8899999999999997,3.89,4.72,5.16,4.58,5.05,7.63]
[null,null,null,"FAPRI Aug 22",6.87,5.99,4.8899999999999997,3.89,4.72,5.16,4.58,5.05,7.63,9.0500000000000007,7.11,6.44,6.02,5.84,5.77]
[null,null,null,"Futures 1/13/23",6.87,5.99,4.8899999999999997,3.89,4.72,5.16,4.58,5.05,7.63,9.1999999999999993,{"$f":"O62","v":7.7666666666666675}]
[null,null,null,"Kstate 12/31/22",6.87,{"$f":"AVERAGE(F40:F44)","v":5.99},{"$f":"AVERAGE(G40:G44)","v":4.8899999999999997},{"$f":"AVERAGE(H40:H44)","v":3.8899999999999997},4.72,5.16,4.58,5.05,7.63,8.7899999999999991,8.8699999999999992]
[null,null,null,"Average ",{"$f":"AVERAGE(E40:E45)","v":6.87},{"$f":"AVERAGE(F40:F45)","v":5.9900000000000011},{"$f":"AVERAGE(G40:G45)","v":4.8899999999999997},3.89,4.72,5.16,4.5799999999999992,5.05,7.63,9.0879999999999992,7.9366666666666656,6.7200000000000006]
[]
[null,null,null,null,null,null,null,null,null,null,null,null,null,null,"UPDATES "]
[null,null,null,"FAPRI - Food and Agricultural Policy Research Institute  (http://www.fapri.missouri.edu/)",null,null,null,null,"http://www.fapri.missouri.edu/"]
[null,null,null,"USDA's Agricultural Projections to 2028",null,null,null,null,null,null,null,null,null,null,null,null," "]
[null,null,null,"CBO's May 2019 Baseline ",null,null,"https://www.cbo.gov/sites/default/files/recurringdata/"]
[]
[null,null,null,"K State Ag Manager",null,null,"https://www.agmanager.info/crop-insurance/risk-management-strategies/projections-and-sources-mya-prices-arc-and-plc-commodity"]
[null,null,null,"Composite - Average of the FAPRI, USDA/WASDE, CBO, Futures, & Hilker Forecasts"]
[null,null,null,null,null,null,null,null,null,null,null,null,null,"sept","2023-09-23"]
[null,null,null,null,null,null,null,null,"Crop Year",null,19,20,21,22,23]
[null,null,null,null,null,null,null,null,"Chicago",null,5.15,5.55,6.33,7.87,7.61]
[null,null,null,null,null,null,null,null,"Kansas City",null,4.28,4.91,6.29,8.5,8.3699999999999992]
[null,null,null,null,null,null,null,null,"Minneapolis ",null,5.26,5.6,{"$f":"M58","v":6.29},9.14,8.82]
[null,null,null,null,null,null,null,null,null,null,null,null,null,{"$f":"AVERAGE(N57:N59)","v":8.5033333333333339},{"$f":"AVERAGE(O57:O59)","v":8.2666666666666675}]
[null,null,null,null,null,null,null,null,null,null,null,null,"Basis",-0.5,-0.5]
[null,null,null,"https://www.agmanager.info/crop-insurance/risk-management-strategies/mya-price-estimates-updated-arc-and-plc-commodity-0",null,null,null,null,null,null,null,null,null,{"$f":"N60+N61","v":8.0033333333333339},{"$f":"O60+O61","v":7.7666666666666675}]
[null,null,null,"https://www.usda.gov/oce/commodity/wasde/"]
[null,null,null,"https://www.fapri.missouri.edu/"]
[null,null,null,"https://www.ers.usda.gov/data-products/season-average-price-forecasts/"]

{"sheet":"County Trend Yields","index":4,"n_rows":289,"n_cols":32,"rows_kept":289,"cut":false,"hidden":true,"merged":[]}
[1,"Helper Column 1",2,3,4,5,6,7,8,9,10,11,12,13,14,15,16,17,18,19,20,"21 Actual Yields",22,23,24,25,26,"Trend yield26",28,29,30,31]
["county",null,2013,2014,"Trend Adjsut 2015","Trend Adjust 2016","Trend Adjst 2017","trend adjusted2018","Trend Adjusted 2019","trend adjusted2020","trend adjusted2021","trend adjusted2022","trend adjusted2023","trend adjusted2024",null,null,null,"Corn","Soys ","Wheat","Note: We are not supporting selecting irrigated and non-irrigated fields, yet. We will default to non-irrigated if available, otherwise irrigated.",2013,2014,2015,2016,2017,2018,2019,2020,2021,2022,2023]
["ALCONA","AlconaCornAll",{"$f":"VLOOKUP($B3,#REF!,3,0)","v":{"$error":"#REF!"}},{"$f":"VLOOKUP($B3,#REF!,4,0)","v":{"$error":"#REF!"}},{"$f":"VLOOKUP($B3,'FSA21'!$E$5:$K$183,3,0)","v":158.44},{"$f":"VLOOKUP($B3,'FSA21'!$E$5:$K$183,4,0)","v":121.72},{"$f":"VLOOKUP($B3,'FSA23'!$E$5:$K$288,3,0)","v":134.49},{"$f":"VLOOKUP($B3,'FSA23'!$E$5:$K$288,4,0)","v":126.52},{"$f":"VLOOKUP($B3,'FSA23'!$E$5:$K$288,5,0)","v":94},{"$f":"VLOOKUP($B3,'FSA23'!$E$5:$K$288,6,0)","v":145.11000000000001},{"$f":"VLOOKUP($B3,'FSA23'!$E$5:$K$288,7,0)","v":190.78},{"$f":"AVERAGE(G3:K3)+$R3","v":139.20000000000002},{"$f":"AVERAGE(H3:L3)+$R3","v":140.14200000000002},{"$f":"AVERAGE(I3:M3)+$R3","v":142.86640000000003},null,null,null,1.02,0.35,0.86,null,{"$f":"C3-($R3*6)","v":{"$error":"#REF!"}},{"$f":"D3-($R3*5)","v":{"$error":"#REF!"}},{"$f":"E3","v":158.44},{"$f":"F3","v":121.72},{"$f":"G3","v":134.49},{"$f":"H3","v":126.52},{"$f":"I3","v":94},{"$f":"J3","v":145.11000000000001},{"$f":"K3","v":190.78},{"$f":"L3","v":139.20000000000002},{"$f":"M3","v":140.14200000000002}]
["ALGER","AlconaSoybeansAll",{"$f":"VLOOKUP($B4,#REF!,3,0)","v":{"$error":"#REF!"}},{"$f":"VLOOKUP($B4,#REF!,4,0)","v":{"$error":"#REF!"}},{"$f":"VLOOKUP($B4,'FSA21'!$E$5:$K$183,3,0)","v":35.93},{"$f":"VLOOKUP($B4,'FSA21'!$E$5:$K$183,4,0)","v":40},{"$f":"VLOOKUP($B4,'FSA23'!$E$5:$K$288,3,0)","v":37},{"$f":"VLOOKUP($B4,'FSA23'!$E$5:$K$288,4,0)","v":35.03},{"$f":"VLOOKUP($B4,'FSA23'!$E$5:$K$288,5,0)","v":35.229999999999997},{"$f":"VLOOKUP($B4,'FSA23'!$E$5:$K$288,6,0)","v":38.200000000000003},{"$f":"VLOOKUP($B4,'FSA23'!$E$5:$K$288,7,0)","v":46.18},{"$f":"AVERAGE(G4:K4)+$S4","v":38.677999999999997},{"$f":"AVERAGE(H4:L4)+$S4","v":39.013599999999997},{"$f":"AVERAGE(I4:M4)+$S4","v":39.810320000000004},null,null,null,1.02,0.35,0.86,null,{"$f":"C4-($S4*6)","v":{"$error":"#REF!"}},{"$f":"D4-($S4*5)","v":{"$error":"#REF!"}},35.93,40,37,35.03,35.229999999999997,38.200000000000003,46.18,38.677999999999997,39.013599999999997]
["ALLEGAN","AlconaWheatAll",{"$f":"VLOOKUP($B5,#REF!,3,0)","v":{"$error":"#REF!"}},{"$f":"VLOOKUP($B5,#REF!,4,0)","v":{"$error":"#REF!"}},{"$f":"VLOOKUP($B5,#REF!,5,0)","v":{"$error":"#REF!"}},{"$f":"VLOOKUP($B5,#REF!,6,0)","v":{"$error":"#REF!"}},{"$f":"VLOOKUP($B5,'FSA23'!$E$5:$K$288,3,0)","v":49.32},{"$f":"VLOOKUP($B5,'FSA23'!$E$5:$K$288,4,0)","v":47.83},{"$f":"VLOOKUP($B5,'FSA23'!$E$5:$K$288,5,0)","v":57.48},{"$f":"VLOOKUP($B5,'FSA23'!$E$5:$K$288,6,0)","v":58.49},{"$f":"VLOOKUP($B5,'FSA23'!$E$5:$K$288,7,0)","v":52.730000000000004},{"$f":"AVERAGE(G5:K5)+$T5","v":54.03},{"$f":"AVERAGE(H5:L5)+$T5","v":54.972000000000008},{"$f":"AVERAGE(I5:M5)+$T5","v":56.400399999999998},null,null,null,1.02,0.35,0.86,null,{"$f":"C5-($T5*6)","v":{"$error":"#REF!"}},{"$f":"D5-($T5*5)","v":{"$error":"#REF!"}},{"$error":"#REF!"},{"$error":"#REF!"},49.32,47.83,57.48,58.49,52.730000000000004,54.03,54.972000000000008]
["ALPENA","AlgerCornAll",{"$f":"VLOOKUP($B6,#REF!,3,0)","v":{"$error":"#REF!"}},{"$f":"VLOOKUP($B6,#REF!,4,0)","v":{"$error":"#REF!"}},{"$f":"VLOOKUP($B6,'FSA21'!$E$5:$K$183,3,0)","v":132},{"$f":"VLOOKUP($B6,'FSA21'!$E$5:$K$183,4,0)","v":87},{"$f":"VLOOKUP($B6,'FSA23'!$E$5:$K$288,3,0)","v":58.4},{"$f":"VLOOKUP($B6,'FSA23'!$E$5:$K$288,4,0)","v":111},{"$f":"VLOOKUP($B6,'FSA23'!$E$5:$K$288,5,0)","v":58.49},{"$f":"VLOOKUP($B6,'FSA23'!$E$5:$K$288,6,0)","v":183.9},{"$f":"VLOOKUP($B6,'FSA23'!$E$5:$K$288,7,0)","v":110.84},{"$f":"AVERAGE(G6:K6)+$R6","v":105.566},{"$f":"AVERAGE(H6:L6)+$R6","v":114.99920000000002},{"$f":"AVERAGE(I6:M6)+$R6","v":115.79904000000001},null,null,null,1.04,null,0.67,null,{"$f":"C6-($R6*6)","v":{"$error":"#REF!"}},{"$f":"D6-($R6*5)","v":{"$error":"#REF!"}},132,87,58.4,111,58.49,183.9,110.84,105.566,114.99920000000002]
["ANTRIM","AlgerWheatAll",{"$f":"VLOOKUP($B7,#REF!,3,0)","v":{"$error":"#REF!"}},{"$f":"VLOOKUP($B7,#REF!,4,0)","v":{"$error":"#REF!"}},{"$f":"VLOOKUP($B7,#REF!,5,0)","v":{"$error":"#REF!"}},{"$f":"VLOOKUP($B7,#REF!,6,0)","v":{"$error":"#REF!"}},{"$f":"VLOOKUP($B7,'FSA23'!$E$5:$K$288,3,0)","v":53.6},{"$f":"VLOOKUP($B7,'FSA23'!$E$5:$K$288,4,0)","v":40},{"$f":"VLOOKUP($B7,'FSA23'!$E$5:$K$288,5,0)","v":53.1},{"$f":"VLOOKUP($B7,'FSA23'!$E$5:$K$288,6,0)","v":50.4},{"$f":"VLOOKUP($B7,'FSA23'!$E$5:$K$288,7,0)","v":61.66},{"$f":"AVERAGE(G7:K7)+$T7","v":52.421999999999997},{"$f":"AVERAGE(H7:L7)+$T7","v":52.186399999999999},{"$f":"AVERAGE(I7:M7)+$T7","v":54.62368},null,null,null,1.04,null,0.67,null,{"$f":"C7-($T7*6)","v":{"$error":"#REF!"}},{"$f":"D7-($T7*5)","v":{"$error":"#REF!"}},{"$error":"#REF!"},{"$error":"#REF!"},53.6,40,53.1,50.4,61.66,52.421999999999997,52.186399999999999]
["ARENAC","AlleganCornIrrigated",{"$f":"VLOOKUP($B8,#REF!,3,0)","v":{"$error":"#REF!"}},{"$f":"VLOOKUP($B8,#REF!,4,0)","v":{"$error":"#REF!"}},{"$f":"VLOOKUP($B8,#REF!,5,0)","v":{"$error":"#REF!"}},{"$f":"VLOOKUP($B8,#REF!,6,0)","v":{"$error":"#REF!"}},{"$f":"VLOOKUP($B8,'FSA23'!$E$5:$K$288,3,0)","v":231.01},{"$f":"VLOOKUP($B8,'FSA23'!$E$5:$K$288,4,0)","v":210.20999999999998},{"$f":"VLOOKUP($B8,'FSA23'!$E$5:$K$288,5,0)","v":198.41},{"$f":"VLOOKUP($B8,'FSA23'!$E$5:$K$288,6,0)","v":212.20999999999998},{"$f":"VLOOKUP($B8,'FSA23'!$E$5:$K$288,7,0)","v":207.15},{"$f":"AVERAGE(G8:K8)+$R8","v":213.94800000000001},210.53559999999999,210.60072,null,null,null,2.15,0.55000000000000004,0.82,null,{"$f":"C8-($R8*6)","v":{"$error":"#REF!"}},{"$f":"D8-($R8*5)","v":{"$error":"#REF!"}},{"$error":"#REF!"},{"$error":"#REF!"},231.01,210.20999999999998,198.41,212.20999999999998,207.15,213.94800000000001,210.53559999999999]
["BARAGA","AlleganCornNonirrigated",{"$f":"VLOOKUP($B9,#REF!,3,0)","v":{"$error":"#REF!"}},{"$f":"VLOOKUP($B9,#REF!,4,0)","v":{"$error":"#REF!"}},{"$f":"VLOOKUP($B9,'FSA21'!$E$5:$K$183,3,0)","v":163.88},{"$f":"VLOOKUP($B9,'FSA21'!$E$5:$K$183,4,0)","v":179.81},{"$f":"VLOOKUP($B9,'FSA23'!$E$5:$K$288,3,0)","v":187.24},{"$f":"VLOOKUP($B9,'FSA23'!$E$5:$K$288,4,0)","v":160.18},{"$f":"VLOOKUP($B9,'FSA23'!$E$5:$K$288,5,0)","v":159.46},{"$f":"VLOOKUP($B9,'FSA23'!$E$5:$K$288,6,0)","v":171.39000000000001},{"$f":"VLOOKUP($B9,'FSA23'!$E$5:$K$288,7,0)","v":182.26},174.256,171.6592,173.95504000000003,null,null,null,2.15,0.55000000000000004,0.82,null,{"$f":"C9-($R9*6)","v":{"$error":"#REF!"}},{"$f":"D9-($R9*5)","v":{"$error":"#REF!"}},163.88,179.81,187.24,160.18,159.46,171.39000000000001,182.26,174.256,171.6592]
["BARRY","AlleganSoybeansIrrigated",{"$f":"VLOOKUP($B10,#REF!,3,0)","v":{"$error":"#REF!"}},{"$f":"VLOOKUP($B10,#REF!,4,0)","v":{"$error":"#REF!"}},{"$f":"VLOOKUP($B10,#REF!,5,0)","v":{"$error":"#REF!"}},{"$f":"VLOOKUP($B10,#REF!,6,0)","v":{"$error":"#REF!"}},{"$f":"VLOOKUP($B10,'FSA23'!$E$5:$K$288,3,0)","v":59.69},{"$f":"VLOOKUP($B10,'FSA23'!$E$5:$K$288,4,0)","v":64.929999999999993},{"$f":"VLOOKUP($B10,'FSA23'!$E$5:$K$288,5,0)","v":63.32},{"$f":"VLOOKUP($B10,'FSA23'!$E$5:$K$288,6,0)","v":65.53},{"$f":"VLOOKUP($B10,'FSA23'!$E$5:$K$288,7,0)","v":58.43},{"$f":"AVERAGE(G10:K10)+$S10","v":62.929999999999993},63.577999999999996,63.307599999999987,null,null,null,2.15,0.55000000000000004,0.82,null,{"$f":"C10-($S10*6)","v":{"$error":"#REF!"}},{"$f":"D10-($S10*5)","v":{"$error":"#REF!"}},{"$error":"#REF!"},{"$error":"#REF!"},59.69,64.929999999999993,63.32,65.53,58.43,62.929999999999993,63.577999999999996]
["BAY","AlleganSoybeansNonirrigated",{"$f":"VLOOKUP($B11,#REF!,3,0)","v":{"$error":"#REF!"}},{"$f":"VLOOKUP($B11,#REF!,4,0)","v":{"$error":"#REF!"}},{"$f":"VLOOKUP($B11,'FSA21'!$E$5:$K$183,3,0)","v":48.24},{"$f":"VLOOKUP($B11,'FSA21'!$E$5:$K$183,4,0)","v":54.699999999999996},{"$f":"VLOOKUP($B11,'FSA23'!$E$5:$K$288,3,0)","v":51.05},{"$f":"VLOOKUP($B11,'FSA23'!$E$5:$K$288,4,0)","v":52.69},{"$f":"VLOOKUP($B11,'FSA23'!$E$5:$K$288,5,0)","v":40.01},{"$f":"VLOOKUP($B11,'FSA23'!$E$5:$K$288,6,0)","v":47.32},{"$f":"VLOOKUP($B11,'FSA23'!$E$5:$K$288,7,0)","v":45.18},47.8,47.15,46.042000000000002,null,null,null,2.15,0.55000000000000004,0.82,null,{"$f":"C11-($S11*6)","v":{"$error":"#REF!"}},{"$f":"D11-($S11*5)","v":{"$error":"#REF!"}},48.24,54.699999999999996,51.05,52.69,40.01,47.32,45.18,47.8,47.15]
["BENZIE","AlleganWheatAll",{"$f":"VLOOKUP($B12,#REF!,3,0)","v":{"$error":"#REF!"}},{"$f":"VLOOKUP($B12,#REF!,4,0)","v":{"$error":"#REF!"}},{"$f":"VLOOKUP($B12,'FSA21'!$E$5:$K$183,3,0)","v":57.099999999999994},{"$f":"VLOOKUP($B12,'FSA21'!$E$5:$K$183,4,0)","v":70.12},{"$f":"VLOOKUP($B12,'FSA23'!$E$5:$K$288,3,0)","v":67.44},{"$f":"VLOOKUP($B12,'FSA23'!$E$5:$K$288,4,0)","v":79.760000000000005},{"$f":"VLOOKUP($B12,'FSA23'!$E$5:$K$288,5,0)","v":56.89},{"$f":"VLOOKUP($B12,'FSA23'!$E$5:$K$288,6,0)","v":64.34},{"$f":"VLOOKUP($B12,'FSA23'!$E$5:$K$288,7,0)","v":67.59},{"$f":"AVERAGE(G12:K12)+$T12","v":68.023999999999987},{"$f":"AVERAGE(H12:L12)+$T12","v":68.140799999999999},{"$f":"AVERAGE(I12:M12)+$T12","v":65.816959999999995},null,null,null,2.15,0.55000000000000004,0.82,null,{"$f":"C12-($T12*6)","v":{"$error":"#REF!"}},{"$f":"D12-($T12*5)","v":{"$error":"#REF!"}},57.099999999999994,70.12,67.44,79.760000000000005,56.89,64.34,67.59,68.023999999999987,68.140799999999999]
["BERRIEN","AlpenaCornAll",{"$f":"VLOOKUP($B13,#REF!,3,0)","v":{"$error":"#REF!"}},{"$f":"VLOOKUP($B13,#REF!,4,0)","v":{"$error":"#REF!"}},{"$f":"VLOOKUP($B13,'FSA21'!$E$5:$K$183,3,0)","v":143.15},{"$f":"VLOOKUP($B13,'FSA21'!$E$5:$K$183,4,0)","v":103.08000000000001},{"$f":"VLOOKUP($B13,'FSA23'!$E$5:$K$288,3,0)","v":150.15},{"$f":"VLOOKUP($B13,'FSA23'!$E$5:$K$288,4,0)","v":116.72999999999999},{"$f":"VLOOKUP($B13,'FSA23'!$E$5:$K$288,5,0)","v":121.46000000000001},{"$f":"VLOOKUP($B13,'FSA23'!$E$5:$K$288,6,0)","v":166.04999999999998},{"$f":"VLOOKUP($B13,'FSA23'!$E$5:$K$288,7,0)","v":188.58},{"$f":"AVERAGE(G13:K13)+$R13","v":149.79399999999998},{"$f":"AVERAGE(H13:L13)+$R13","v":149.72280000000001},{"$f":"AVERAGE(I13:M13)+$R13","v":156.32136},null,null,null,1.2,0.27,0.64,null,{"$f":"C13-($R13*6)","v":{"$error":"#REF!"}},{"$f":"D13-($R13*5)","v":{"$error":"#REF!"}},143.15,103.08000000000001,150.15,116.72999999999999,121.46000000000001,166.04999999999998,188.58,149.79399999999998,149.72280000000001]
["BRANCH","AlpenaSoybeansAll",{"$f":"VLOOKUP($B14,#REF!,3,0)","v":{"$error":"#REF!"}},{"$f":"VLOOKUP($B14,#REF!,4,0)","v":{"$error":"#REF!"}},{"$f":"VLOOKUP($B14,'FSA21'!$E$5:$K$183,3,0)","v":39.099999999999994},{"$f":"VLOOKUP($B14,'FSA21'!$E$5:$K$183,4,0)","v":28.77},{"$f":"VLOOKUP($B14,'FSA23'!$E$5:$K$288,3,0)","v":35.729999999999997},{"$f":"VLOOKUP($B14,'FSA23'!$E$5:$K$288,4,0)","v":38.35},{"$f":"VLOOKUP($B14,'FSA23'!$E$5:$K$288,5,0)","v":27},{"$f":"VLOOKUP($B14,'FSA23'!$E$5:$K$288,6,0)","v":46.910000000000004},{"$f":"VLOOKUP($B14,'FSA23'!$E$5:$K$288,7,0)","v":46.76},{"$f":"AVERAGE(G14:K14)+$S14","v":39.220000000000006},{"$f":"AVERAGE(H14:L14)+$S14","v":39.917999999999999},{"$f":"AVERAGE(I14:M14)+$S14","v":40.2316},null,null,null,1.2,0.27,0.64,null,{"$f":"C14-($S14*6)","v":{"$error":"#REF!"}},{"$f":"D14-($S14*5)","v":{"$error":"#REF!"}},39.099999999999994,28.77,35.729999999999997,38.35,27,46.910000000000004,46.76,39.220000000000006,39.917999999999999]
["CALHOUN","AlpenaWheatAll",{"$f":"VLOOKUP($B15,#REF!,3,0)","v":{"$error":"#REF!"}},{"$f":"VLOOKUP($B15,#REF!,4,0)","v":{"$error":"#REF!"}},{"$f":"VLOOKUP($B15,#REF!,5,0)","v":{"$error":"#REF!"}},{"$f":"VLOOKUP($B15,#REF!,6,0)","v":{"$error":"#REF!"}},{"$f":"VLOOKUP($B15,'FSA23'!$E$5:$K$288,3,0)","v":63.99},{"$f":"VLOOKUP($B15,'FSA23'!$E$5:$K$288,4,0)","v":47.599999999999994},{"$f":"VLOOKUP($B15,'FSA23'!$E$5:$K$288,5,0)","v":57.24},{"$f":"VLOOKUP($B15,'FSA23'!$E$5:$K$288,6,0)","v":52.08},{"$f":"VLOOKUP($B15,'FSA23'!$E$5:$K$288,7,0)","v":55.76},{"$f":"AVERAGE(G15:K15)+$T15","v":55.974000000000004},{"$f":"AVERAGE(H15:L15)+$T15","v":54.370800000000003},{"$f":"AVERAGE(I15:M15)+$T15","v":55.724960000000003},null,null,null,1.2,0.27,0.64,null,{"$f":"C15-($T15*6)","v":{"$error":"#REF!"}},{"$f":"D15-($T15*5)","v":{"$error":"#REF!"}},{"$error":"#REF!"},{"$error":"#REF!"},63.99,47.599999999999994,57.24,52.08,55.76,55.974000000000004,54.370800000000003]
["CASS","AntrimCornAll",{"$f":"VLOOKUP($B16,#REF!,3,0)","v":{"$error":"#REF!"}},{"$f":"VLOOKUP($B16,#REF!,4,0)","v":{"$error":"#REF!"}},{"$f":"VLOOKUP($B16,'FSA21'!$E$5:$K$183,3,0)","v":106.61},{"$f":"VLOOKUP($B16,'FSA21'!$E$5:$K$183,4,0)","v":103.42},{"$f":"VLOOKUP($B16,'FSA23'!$E$5:$K$288,3,0)","v":140.73000000000002},{"$f":"VLOOKUP($B16,'FSA23'!$E$5:$K$288,4,0)","v":115.55},{"$f":"VLOOKUP($B16,'FSA23'!$E$5:$K$288,5,0)","v":95.44},{"$f":"VLOOKUP($B16,'FSA23'!$E$5:$K$288,6,0)","v":147.51},{"$f":"VLOOKUP($B16,'FSA23'!$E$5:$K$288,7,0)","v":142.32},{"$f":"AVERAGE(G16:K16)+$R16","v":129.38},{"$f":"AVERAGE(H16:L16)+$R16","v":127.11},{"$f":"AVERAGE(I16:M16)+$R16","v":129.422},null,null,null,1.07,0.33,0.25,null,{"$f":"C16-($R16*6)","v":{"$error":"#REF!"}},{"$f":"D16-($R16*5)","v":{"$error":"#REF!"}},106.61,103.42,140.73000000000002,115.55,95.44,147.51,142.32,129.38,127.11]
["CHARLEVOIX","AntrimSoybeansAll",{"$f":"VLOOKUP($B17,#REF!,3,0)","v":{"$error":"#REF!"}},{"$f":"VLOOKUP($B17,#REF!,4,0)","v":{"$error":"#REF!"}},{"$f":"VLOOKUP($B17,#REF!,5,0)","v":{"$error":"#REF!"}},{"$f":"VLOOKUP($B17,#REF!,6,0)","v":{"$error":"#REF!"}},{"$f":"VLOOKUP($B17,'FSA23'!$E$5:$K$288,3,0)","v":37},{"$f":"VLOOKUP($B17,'FSA23'!$E$5:$K$288,4,0)","v":37},{"$f":"VLOOKUP($B17,'FSA23'!$E$5:$K$288,5,0)","v":34.4},{"$f":"VLOOKUP($B17,'FSA23'!$E$5:$K$288,6,0)","v":35.6},{"$f":"VLOOKUP($B17,'FSA23'!$E$5:$K$288,7,0)","v":43.36},{"$f":"AVERAGE(G17:K17)+$S17","v":37.802},{"$f":"AVERAGE(H17:L17)+$S17","v":37.962400000000002},{"$f":"AVERAGE(I17:M17)+$S17","v":38.154879999999999},null,null,null,1.07,0.33,0.25,null,{"$f":"C17-($S17*6)","v":{"$error":"#REF!"}},{"$f":"D17-($S17*5)","v":{"$error":"#REF!"}},{"$error":"#REF!"},{"$error":"#REF!"},37,37,34.4,35.6,43.36,37.802,37.962400000000002]
["CHEBOYGAN","AntrimWheatAll",{"$f":"VLOOKUP($B18,#REF!,3,0)","v":{"$error":"#REF!"}},{"$f":"VLOOKUP($B18,#REF!,4,0)","v":{"$error":"#REF!"}},{"$f":"VLOOKUP($B18,#REF!,5,0)","v":{"$error":"#REF!"}},{"$f":"VLOOKUP($B18,#REF!,6,0)","v":{"$error":"#REF!"}},{"$f":"VLOOKUP($B18,'FSA23'!$E$5:$K$288,3,0)","v":52},{"$f":"VLOOKUP($B18,'FSA23'!$E$5:$K$288,4,0)","v":52.21},{"$f":"VLOOKUP($B18,'FSA23'!$E$5:$K$288,5,0)","v":53.1},{"$f":"VLOOKUP($B18,'FSA23'!$E$5:$K$288,6,0)","v":48},{"$f":"VLOOKUP($B18,'FSA23'!$E$5:$K$288,7,0)","v":54.95},{"$f":"AVERAGE(G18:K18)+$T18","v":52.302},{"$f":"AVERAGE(H18:L18)+$T18","v":52.362400000000001},{"$f":"AVERAGE(I18:M18)+$T18","v":52.392880000000005},null,null,null,1.07,0.33,0.25,null,{"$f":"C18-($T18*6)","v":{"$error":"#REF!"}},{"$f":"D18-($T18*5)","v":{"$error":"#REF!"}},{"$error":"#REF!"},{"$error":"#REF!"},52,52.21,53.1,48,54.95,52.302,52.362400000000001]
["CHIPPEWA","ArenacCornAll",{"$f":"VLOOKUP($B19,#REF!,3,0)","v":{"$error":"#REF!"}},{"$f":"VLOOKUP($B19,#REF!,4,0)","v":{"$error":"#REF!"}},{"$f":"VLOOKUP($B19,'FSA21'!$E$5:$K$183,3,0)","v":168.85999999999999},{"$f":"VLOOKUP($B19,'FSA21'!$E$5:$K$183,4,0)","v":152.06},{"$f":"VLOOKUP($B19,'FSA23'!$E$5:$K$288,3,0)","v":175.67999999999998},{"$f":"VLOOKUP($B19,'FSA23'!$E$5:$K$288,4,0)","v":174.92},{"$f":"VLOOKUP($B19,'FSA23'!$E$5:$K$288,5,0)","v":142.30000000000001},{"$f":"VLOOKUP($B19,'FSA23'!$E$5:$K$288,6,0)","v":152.66},{"$f":"VLOOKUP($B19,'FSA23'!$E$5:$K$288,7,0)","v":192.54},{"$f":"AVERAGE(G19:K19)+$R19","v":169.42999999999998},{"$f":"AVERAGE(H19:L19)+$R19","v":168.17999999999998},{"$f":"AVERAGE(I19:M19)+$R19","v":166.83199999999999},null,null,null,1.81,0.53,0.88,null,{"$f":"C19-($R19*6)","v":{"$error":"#REF!"}},{"$f":"D19-($R19*5)","v":{"$error":"#REF!"}},168.85999999999999,152.06,175.67999999999998,174.92,142.30000000000001,152.66,192.54,169.42999999999998,168.17999999999998]
["CLARE","ArenacSoybeansAll",{"$f":"VLOOKUP($B20,#REF!,3,0)","v":{"$error":"#REF!"}},{"$f":"VLOOKUP($B20,#REF!,4,0)","v":{"$error":"#REF!"}},{"$f":"VLOOKUP($B20,'FSA21'!$E$5:$K$183,3,0)","v":50.68},{"$f":"VLOOKUP($B20,'FSA21'!$E$5:$K$183,4,0)","v":48.31},{"$f":"VLOOKUP($B20,'FSA23'!$E$5:$K$288,3,0)","v":44.29},{"$f":"VLOOKUP($B20,'FSA23'!$E$5:$K$288,4,0)","v":48.74},{"$f":"VLOOKUP($B20,'FSA23'!$E$5:$K$288,5,0)","v":34.18},{"$f":"VLOOKUP($B20,'FSA23'!$E$5:$K$288,6,0)","v":43.12},{"$f":"VLOOKUP($B20,'FSA23'!$E$5:$K$288,7,0)","v":51.089999999999996},{"$f":"AVERAGE(G20:K20)+$S20","v":44.814000000000007},{"$f":"AVERAGE(H20:L20)+$S20","v":44.918800000000005},{"$f":"AVERAGE(I20:M20)+$S20","v":44.154560000000004},null,null,null,1.81,0.53,0.88,null,{"$f":"C20-($S20*6)","v":{"$error":"#REF!"}},{"$f":"D20-($S20*5)","v":{"$error":"#REF!"}},50.68,48.31,44.29,48.74,34.18,43.12,51.089999999999996,44.814000000000007,44.918800000000005]
["CLINTON","ArenacWheatAll",{"$f":"VLOOKUP($B21,#REF!,3,0)","v":{"$error":"#REF!"}},{"$f":"VLOOKUP($B21,#REF!,4,0)","v":{"$error":"#REF!"}},{"$f":"VLOOKUP($B21,'FSA21'!$E$5:$K$183,3,0)","v":89.95},{"$f":"VLOOKUP($B21,'FSA21'!$E$5:$K$183,4,0)","v":85.08},{"$f":"VLOOKUP($B21,'FSA23'!$E$5:$K$288,3,0)","v":70.41},{"$f":"VLOOKUP($B21,'FSA23'!$E$5:$K$288,4,0)","v":79.510000000000005},{"$f":"VLOOKUP($B21,'FSA23'!$E$5:$K$288,5,0)","v":59.8},{"$f":"VLOOKUP($B21,'FSA23'!$E$5:$K$288,6,0)","v":64.25},{"$f":"VLOOKUP($B21,'FSA23'!$E$5:$K$288,7,0)","v":81.08},{"$f":"AVERAGE(G21:K21)+$T21","v":71.89},{"$f":"AVERAGE(H21:L21)+$T21","v":72.185999999999993},{"$f":"AVERAGE(I21:M21)+$T21","v":70.721199999999982},null,null,null,1.81,0.53,0.88,null,{"$f":"C21-($T21*6)","v":{"$error":"#REF!"}},{"$f":"D21-($T21*5)","v":{"$error":"#REF!"}},89.95,85.08,70.41,79.510000000000005,59.8,64.25,81.08,71.89,72.185999999999993]
["DELTA","BaragaCornAll",{"$f":"VLOOKUP($B22,#REF!,3,0)","v":{"$error":"#REF!"}},{"$f":"VLOOKUP($B22,#REF!,4,0)","v":{"$error":"#REF!"}},{"$f":"VLOOKUP($B22,#REF!,5,0)","v":{"$error":"#REF!"}},{"$f":"VLOOKUP($B22,#REF!,6,0)","v":{"$error":"#REF!"}},{"$f":"VLOOKUP($B22,'FSA23'!$E$5:$K$288,3,0)","v":84},{"$f":"VLOOKUP($B22,'FSA23'!$E$5:$K$288,4,0)","v":111},{"$f":"VLOOKUP($B22,'FSA23'!$E$5:$K$288,5,0)","v":84},{"$f":"VLOOKUP($B22,'FSA23'!$E$5:$K$288,6,0)","v":140.19999999999999},{"$f":"VLOOKUP($B22,'FSA23'!$E$5:$K$288,7,0)","v":110.84},{"$f":"AVERAGE(G22:K22)+$R22","v":106.97799999999999},111.57359999999998,111.68831999999999,null,null,null,0.97,null,null,null,{"$f":"C22-($R22*6)","v":{"$error":"#REF!"}},{"$f":"D22-($R22*5)","v":{"$error":"#REF!"}},{"$error":"#REF!"},{"$error":"#REF!"},84,111,84,140.19999999999999,110.84,106.97799999999999,111.57359999999998]
["DICKINSON","BarryCornIrrigated",{"$f":"VLOOKUP($B23,#REF!,3,0)","v":{"$error":"#REF!"}},{"$f":"VLOOKUP($B23,#REF!,4,0)","v":{"$error":"#REF!"}},{"$f":"VLOOKUP($B23,#REF!,5,0)","v":{"$error":"#REF!"}},{"$f":"VLOOKUP($B23,#REF!,6,0)","v":{"$error":"#REF!"}},{"$f":"VLOOKUP($B23,'FSA23'!$E$5:$K$288,3,0)","v":205.67000000000002},{"$f":"VLOOKUP($B23,'FSA23'!$E$5:$K$288,4,0)","v":192.86999999999998},{"$f":"VLOOKUP($B23,'FSA23'!$E$5:$K$288,5,0)","v":180.10999999999999},{"$f":"VLOOKUP($B23,'FSA23'!$E$5:$K$288,6,0)","v":213.11},{"$f":"VLOOKUP($B23,'FSA23'!$E$5:$K$288,7,0)","v":221.97},204.696,204.50119999999998,206.82744000000002,null,null,null,1.95,0.52,0.86,null,{"$f":"C23-($R23*6)","v":{"$error":"#REF!"}},{"$f":"D23-($R23*5)","v":{"$error":"#REF!"}},{"$error":"#REF!"},{"$error":"#REF!"},205.67000000000002,192.86999999999998,180.10999999999999,213.11,221.97,204.696,204.50119999999998]
["EATON","BarryCornNonirrigated",{"$f":"VLOOKUP($B24,#REF!,3,0)","v":{"$error":"#REF!"}},{"$f":"VLOOKUP($B24,#REF!,4,0)","v":{"$error":"#REF!"}},{"$f":"VLOOKUP($B24,'FSA21'!$E$5:$K$183,3,0)","v":165.53},{"$f":"VLOOKUP($B24,'FSA21'!$E$5:$K$183,4,0)","v":149.48000000000002},{"$f":"VLOOKUP($B24,'FSA23'!$E$5:$K$288,3,0)","v":174.37},{"$f":"VLOOKUP($B24,'FSA23'!$E$5:$K$288,4,0)","v":150.64000000000001},{"$f":"VLOOKUP($B24,'FSA23'!$E$5:$K$288,5,0)","v":141.24},{"$f":"VLOOKUP($B24,'FSA23'!$E$5:$K$288,6,0)","v":164.37},{"$f":"VLOOKUP($B24,'FSA23'!$E$5:$K$288,7,0)","v":179.36},163.946,161.8612,164.10543999999999,null,null,null,1.95,0.52,0.86,null,{"$f":"C24-($R24*6)","v":{"$error":"#REF!"}},{"$f":"D24-($R24*5)","v":{"$error":"#REF!"}},165.53,149.48000000000002,174.37,150.64000000000001,141.24,164.37,179.36,163.946,161.8612]
["EMMET","BarrySoybeansIrrigated",{"$f":"VLOOKUP($B25,#REF!,3,0)","v":{"$error":"#REF!"}},{"$f":"VLOOKUP($B25,#REF!,4,0)","v":{"$error":"#REF!"}},{"$f":"VLOOKUP($B25,#REF!,5,0)","v":{"$error":"#REF!"}},{"$f":"VLOOKUP($B25,#REF!,6,0)","v":{"$error":"#REF!"}},{"$f":"VLOOKUP($B25,'FSA23'!$E$5:$K$288,3,0)","v":59.42},{"$f":"VLOOKUP($B25,'FSA23'!$E$5:$K$288,4,0)","v":62.29},{"$f":"VLOOKUP($B25,'FSA23'!$E$5:$K$288,5,0)","v":48.14},{"$f":"VLOOKUP($B25,'FSA23'!$E$5:$K$288,6,0)","v":58.910000000000004},{"$f":"VLOOKUP($B25,'FSA23'!$E$5:$K$288,7,0)","v":58.92},{"$f":"AVERAGE(G25:K25)+$S25","v":58.056000000000004},57.783200000000001,56.881840000000011,null,null,null,1.95,0.52,0.86,null,{"$f":"C25-($S25*6)","v":{"$error":"#REF!"}},{"$f":"D25-($S25*5)","v":{"$error":"#REF!"}},{"$error":"#REF!"},{"$error":"#REF!"},59.42,62.29,48.14,58.910000000000004,58.92,58.056000000000004,57.783200000000001]
["GENESEE","BarrySoybeansNonirrigated",{"$f":"VLOOKUP($B26,#REF!,3,0)","v":{"$error":"#REF!"}},{"$f":"VLOOKUP($B26,#REF!,4,0)","v":{"$error":"#REF!"}},{"$f":"VLOOKUP($B26,'FSA21'!$E$5:$K$183,3,0)","v":49.19},{"$f":"VLOOKUP($B26,'FSA21'!$E$5:$K$183,4,0)","v":51.78},{"$f":"VLOOKUP($B26,'FSA23'!$E$5:$K$288,3,0)","v":46.52},{"$f":"VLOOKUP($B26,'FSA23'!$E$5:$K$288,4,0)","v":49.12},{"$f":"VLOOKUP($B26,'FSA23'!$E$5:$K$288,5,0)","v":49.199999999999996},{"$f":"VLOOKUP($B26,'FSA23'!$E$5:$K$288,6,0)","v":45.14},{"$f":"VLOOKUP($B26,'FSA23'!$E$5:$K$288,7,0)","v":50.550000000000004},48.626000000000012,49.047200000000004,49.032640000000008,null,null,null,1.95,0.52,0.86,null,{"$f":"C26-($S26*6)","v":{"$error":"#REF!"}},{"$f":"D26-($S26*5)","v":{"$error":"#REF!"}},49.19,51.78,46.52,49.12,49.199999999999996,45.14,50.550000000000004,48.626000000000012,49.047200000000004]
["GLADWIN","BarryWheatAll",{"$f":"VLOOKUP($B27,#REF!,3,0)","v":{"$error":"#REF!"}},{"$f":"VLOOKUP($B27,#REF!,4,0)","v":{"$error":"#REF!"}},{"$f":"VLOOKUP($B27,'FSA21'!$E$5:$K$183,3,0)","v":71.430000000000007},{"$f":"VLOOKUP($B27,'FSA21'!$E$5:$K$183,4,0)","v":91.94},{"$f":"VLOOKUP($B27,'FSA23'!$E$5:$K$288,3,0)","v":68},{"$f":"VLOOKUP($B27,'FSA23'!$E$5:$K$288,4,0)","v":78.5},{"$f":"VLOOKUP($B27,'FSA23'!$E$5:$K$288,5,0)","v":60.65},{"$f":"VLOOKUP($B27,'FSA23'!$E$5:$K$288,6,0)","v":73.91},{"$f":"VLOOKUP($B27,'FSA23'!$E$5:$K$288,7,0)","v":70.429999999999993},{"$f":"AVERAGE(G27:K27)+$T27","v":71.158000000000001},{"$f":"AVERAGE(H27:L27)+$T27","v":71.789600000000007},{"$f":"AVERAGE(I27:M27)+$T27","v":70.447520000000011},null,null,null,1.95,0.52,0.86,null,{"$f":"C27-($T27*6)","v":{"$error":"#REF!"}},{"$f":"D27-($T27*5)","v":{"$error":"#REF!"}},71.430000000000007,91.94,68,78.5,60.65,73.91,70.429999999999993,71.158000000000001,71.789600000000007]
["GOGEBIC","BayCornIrrigated",{"$f":"VLOOKUP($B28,#REF!,3,0)","v":{"$error":"#REF!"}},{"$f":"VLOOKUP($B28,#REF!,4,0)","v":{"$error":"#REF!"}},{"$f":"VLOOKUP($B28,#REF!,5,0)","v":{"$error":"#REF!"}},{"$f":"VLOOKUP($B28,#REF!,6,0)","v":{"$error":"#REF!"}},{"$f":"VLOOKUP($B28,'FSA23'!$E$5:$K$288,3,0)","v":190},{"$f":"VLOOKUP($B28,'FSA23'!$E$5:$K$288,4,0)","v":205.41000000000003},{"$f":"VLOOKUP($B28,'FSA23'!$E$5:$K$288,5,0)","v":181.66},{"$f":"VLOOKUP($B28,'FSA23'!$E$5:$K$288,6,0)","v":195.41000000000003},{"$f":"VLOOKUP($B28,'FSA23'!$E$5:$K$288,7,0)","v":209.45},{"$f":"AVERAGE(G28:K28)+$R28","v":198.31600000000003},199.97920000000002,198.89304000000001,null,null,null,1.93,0.56000000000000005,0.98,null,{"$f":"C28-($R28*6)","v":{"$error":"#REF!"}},{"$f":"D28-($R28*5)","v":{"$error":"#REF!"}},{"$error":"#REF!"},{"$error":"#REF!"},190,205.41000000000003,181.66,195.41000000000003,209.45,198.31600000000003,199.97920000000002]
["GRAND TRAVERSE","BayCornNonirrigated",{"$f":"VLOOKUP($B29,#REF!,3,0)","v":{"$error":"#REF!"}},{"$f":"VLOOKUP($B29,#REF!,4,0)","v":{"$error":"#REF!"}},{"$f":"VLOOKUP($B29,'FSA21'!$E$5:$K$183,3,0)","v":190.4},{"$f":"VLOOKUP($B29,'FSA21'!$E$5:$K$183,4,0)","v":176.64},{"$f":"VLOOKUP($B29,'FSA23'!$E$5:$K$288,3,0)","v":179.37},{"$f":"VLOOKUP($B29,'FSA23'!$E$5:$K$288,4,0)","v":193.44},{"$f":"VLOOKUP($B29,'FSA23'!$E$5:$K$288,5,0)","v":165.65},{"$f":"VLOOKUP($B29,'FSA23'!$E$5:$K$288,6,0)","v":168.13000000000002},{"$f":"VLOOKUP($B29,'FSA23'!$E$5:$K$288,7,0)","v":203.92999999999998},184.03399999999999,184.96680000000001,183.27216000000001,null,null,null,1.93,0.56000000000000005,0.98,null,{"$f":"C29-($R29*6)","v":{"$error":"#REF!"}},{"$f":"D29-($R29*5)","v":{"$error":"#REF!"}},190.4,176.64,179.37,193.44,165.65,168.13000000000002,203.92999999999998,184.03399999999999,184.96680000000001]
["GRATIOT","BaySoybeansIrrigated",{"$f":"VLOOKUP($B30,#REF!,3,0)","v":{"$error":"#REF!"}},{"$f":"VLOOKUP($B30,#REF!,4,0)","v":{"$error":"#REF!"}},{"$f":"VLOOKUP($B30,#REF!,5,0)","v":{"$error":"#REF!"}},{"$f":"VLOOKUP($B30,#REF!,6,0)","v":{"$error":"#REF!"}},{"$f":"VLOOKUP($B30,'FSA23'!$E$5:$K$288,3,0)","v":42.9},{"$f":"VLOOKUP($B30,'FSA23'!$E$5:$K$288,4,0)","v":54.67},{"$f":"VLOOKUP($B30,'FSA23'!$E$5:$K$288,5,0)","v":51.89},{"$f":"VLOOKUP($B30,'FSA23'!$E$5:$K$288,6,0)","v":62.830000000000005},{"$f":"VLOOKUP($B30,'FSA23'!$E$5:$K$288,7,0)","v":58.69},{"$f":"AVERAGE(G30:K30)+$S30","v":54.756000000000007},57.127200000000002,57.618640000000006,null,null,null,1.93,0.56000000000000005,0.98,null,{"$f":"C30-($S30*6)","v":{"$error":"#REF!"}},{"$f":"D30-($S30*5)","v":{"$error":"#REF!"}},{"$error":"#REF!"},{"$error":"#REF!"},42.9,54.67,51.89,62.830000000000005,58.69,54.756000000000007,57.127200000000002]
["HILLSDALE","BaySoybeansNonirrigated",{"$f":"VLOOKUP($B31,#REF!,3,0)","v":{"$error":"#REF!"}},{"$f":"VLOOKUP($B31,#REF!,4,0)","v":{"$error":"#REF!"}},{"$f":"VLOOKUP($B31,'FSA21'!$E$5:$K$183,3,0)","v":58.300000000000004},{"$f":"VLOOKUP($B31,'FSA21'!$E$5:$K$183,4,0)","v":58.74},{"$f":"VLOOKUP($B31,'FSA23'!$E$5:$K$288,3,0)","v":50.9},{"$f":"VLOOKUP($B31,'FSA23'!$E$5:$K$288,4,0)","v":60.199999999999996},{"$f":"VLOOKUP($B31,'FSA23'!$E$5:$K$288,5,0)","v":39.630000000000003},{"$f":"VLOOKUP($B31,'FSA23'!$E$5:$K$288,6,0)","v":52.660000000000004},{"$f":"VLOOKUP($B31,'FSA23'!$E$5:$K$288,7,0)","v":56.91},52.61999999999999,52.963999999999999,51.516800000000003,null,null,null,1.93,0.56000000000000005,0.98,null,{"$f":"C31-($S31*6)","v":{"$error":"#REF!"}},{"$f":"D31-($S31*5)","v":{"$error":"#REF!"}},58.300000000000004,58.74,50.9,60.199999999999996,39.630000000000003,52.660000000000004,56.91,52.61999999999999,52.963999999999999]
["HOUGHTON","BayWheatAll",{"$f":"VLOOKUP($B32,#REF!,3,0)","v":{"$error":"#REF!"}},{"$f":"VLOOKUP($B32,#REF!,4,0)","v":{"$error":"#REF!"}},{"$f":"VLOOKUP($B32,'FSA21'!$E$5:$K$183,3,0)","v":99.5},{"$f":"VLOOKUP($B32,'FSA21'!$E$5:$K$183,4,0)","v":98.15},{"$f":"VLOOKUP($B32,'FSA23'!$E$5:$K$288,3,0)","v":85.83},{"$f":"VLOOKUP($B32,'FSA23'!$E$5:$K$288,4,0)","v":85.87},{"$f":"VLOOKUP($B32,'FSA23'!$E$5:$K$288,5,0)","v":77.180000000000007},{"$f":"VLOOKUP($B32,'FSA23'!$E$5:$K$288,6,0)","v":81.180000000000007},{"$f":"VLOOKUP($B32,'FSA23'!$E$5:$K$288,7,0)","v":83.93},{"$f":"AVERAGE(G32:K32)+$T32","v":83.778000000000006},{"$f":"AVERAGE(H32:L32)+$T32","v":83.36760000000001},{"$f":"AVERAGE(I32:M32)+$T32","v":82.867120000000014},null,null,null,1.93,0.56000000000000005,0.98,null,{"$f":"C32-($T32*6)","v":{"$error":"#REF!"}},{"$f":"D32-($T32*5)","v":{"$error":"#REF!"}},99.5,98.15,85.83,85.87,77.180000000000007,81.180000000000007,83.93,83.778000000000006,83.36760000000001]
["HURON","BenzieCornAll",{"$f":"VLOOKUP($B33,#REF!,3,0)","v":{"$error":"#REF!"}},{"$f":"VLOOKUP($B33,#REF!,4,0)","v":{"$error":"#REF!"}},{"$f":"VLOOKUP($B33,'FSA21'!$E$5:$K$183,3,0)","v":88.3},{"$f":"VLOOKUP($B33,'FSA21'!$E$5:$K$183,4,0)","v":104.63},{"$f":"VLOOKUP($B33,'FSA23'!$E$5:$K$288,3,0)","v":135.26},{"$f":"VLOOKUP($B33,'FSA23'!$E$5:$K$288,4,0)","v":117.95},{"$f":"VLOOKUP($B33,'FSA23'!$E$5:$K$288,5,0)","v":97.23},{"$f":"VLOOKUP($B33,'FSA23'!$E$5:$K$288,6,0)","v":110.37},{"$f":"VLOOKUP($B33,'FSA23'!$E$5:$K$288,7,0)","v":157.9},{"$f":"AVERAGE(G33:K33)+$R33","v":124.792},122.69840000000001,123.64808000000001,null,null,null,1.05,null,null,null,{"$f":"C33-($R33*6)","v":{"$error":"#REF!"}},{"$f":"D33-($R33*5)","v":{"$error":"#REF!"}},88.3,104.63,135.26,117.95,97.23,110.37,157.9,124.792,122.69840000000001]
["INGHAM","BerrienCornIrrigated",{"$f":"VLOOKUP($B34,#REF!,3,0)","v":{"$error":"#REF!"}},{"$f":"VLOOKUP($B34,#REF!,4,0)","v":{"$error":"#REF!"}},{"$f":"VLOOKUP($B34,#REF!,5,0)","v":{"$error":"#REF!"}},{"$f":"VLOOKUP($B34,#REF!,6,0)","v":{"$error":"#REF!"}},{"$f":"VLOOKUP($B34,'FSA23'!$E$5:$K$288,3,0)","v":242.81},{"$f":"VLOOKUP($B34,'FSA23'!$E$5:$K$288,4,0)","v":215.38},{"$f":"VLOOKUP($B34,'FSA23'!$E$5:$K$288,5,0)","v":195.32999999999998},{"$f":"VLOOKUP($B34,'FSA23'!$E$5:$K$288,6,0)","v":210.48000000000002},{"$f":"VLOOKUP($B34,'FSA23'!$E$5:$K$288,7,0)","v":219.84},218.98799999999997,214.2236,213.99231999999998,null,null,null,2.2200000000000002,0.53,0.77,null,{"$f":"C34-($R34*6)","v":{"$error":"#REF!"}},{"$f":"D34-($R34*5)","v":{"$error":"#REF!"}},{"$error":"#REF!"},{"$error":"#REF!"},242.81,215.38,195.32999999999998,210.48000000000002,219.84,218.98799999999997,214.2236]
["IONIA","BerrienCornNonirrigated",{"$f":"VLOOKUP($B35,#REF!,3,0)","v":{"$error":"#REF!"}},{"$f":"VLOOKUP($B35,#REF!,4,0)","v":{"$error":"#REF!"}},{"$f":"VLOOKUP($B35,'FSA21'!$E$5:$K$183,3,0)","v":182.83999999999997},{"$f":"VLOOKUP($B35,'FSA21'!$E$5:$K$183,4,0)","v":170.77},{"$f":"VLOOKUP($B35,'FSA23'!$E$5:$K$288,3,0)","v":183.76999999999998},{"$f":"VLOOKUP($B35,'FSA23'!$E$5:$K$288,4,0)","v":172.69},{"$f":"VLOOKUP($B35,'FSA23'!$E$5:$K$288,5,0)","v":152.96},{"$f":"VLOOKUP($B35,'FSA23'!$E$5:$K$288,6,0)","v":161.75},{"$f":"VLOOKUP($B35,'FSA23'!$E$5:$K$288,7,0)","v":183.7},173.19399999999999,171.07879999999997,170.75656000000001,null,null,null,2.2200000000000002,0.53,0.77,null,{"$f":"C35-($R35*6)","v":{"$error":"#REF!"}},{"$f":"D35-($R35*5)","v":{"$error":"#REF!"}},182.83999999999997,170.77,183.76999999999998,172.69,152.96,161.75,183.7,173.19399999999999,171.07879999999997]
["IOSCO","BerrienSoybeansIrrigated",{"$f":"VLOOKUP($B36,#REF!,3,0)","v":{"$error":"#REF!"}},{"$f":"VLOOKUP($B36,#REF!,4,0)","v":{"$error":"#REF!"}},{"$f":"VLOOKUP($B36,#REF!,5,0)","v":{"$error":"#REF!"}},{"$f":"VLOOKUP($B36,#REF!,6,0)","v":{"$error":"#REF!"}},{"$f":"VLOOKUP($B36,'FSA23'!$E$5:$K$288,3,0)","v":57.86},{"$f":"VLOOKUP($B36,'FSA23'!$E$5:$K$288,4,0)","v":68.77},{"$f":"VLOOKUP($B36,'FSA23'!$E$5:$K$288,5,0)","v":55.7},{"$f":"VLOOKUP($B36,'FSA23'!$E$5:$K$288,6,0)","v":66.259999999999991},{"$f":"VLOOKUP($B36,'FSA23'!$E$5:$K$288,7,0)","v":62.97},{"$f":"AVERAGE(G36:K36)+$S36","v":62.841999999999992},63.838399999999993,62.852079999999994,null,null,null,2.2200000000000002,0.53,0.77,null,{"$f":"C36-($S36*6)","v":{"$error":"#REF!"}},{"$f":"D36-($S36*5)","v":{"$error":"#REF!"}},{"$error":"#REF!"},{"$error":"#REF!"},57.86,68.77,55.7,66.259999999999991,62.97,62.841999999999992,63.838399999999993]
["IRON","BerrienSoybeansNonirrigated",{"$f":"VLOOKUP($B37,#REF!,3,0)","v":{"$error":"#REF!"}},{"$f":"VLOOKUP($B37,#REF!,4,0)","v":{"$error":"#REF!"}},{"$f":"VLOOKUP($B37,'FSA21'!$E$5:$K$183,3,0)","v":52.34},{"$f":"VLOOKUP($B37,'FSA21'!$E$5:$K$183,4,0)","v":53.69},{"$f":"VLOOKUP($B37,'FSA23'!$E$5:$K$288,3,0)","v":43.949999999999996},{"$f":"VLOOKUP($B37,'FSA23'!$E$5:$K$288,4,0)","v":53.629999999999995},{"$f":"VLOOKUP($B37,'FSA23'!$E$5:$K$288,5,0)","v":40.92},{"$f":"VLOOKUP($B37,'FSA23'!$E$5:$K$288,6,0)","v":44.370000000000005},{"$f":"VLOOKUP($B37,'FSA23'!$E$5:$K$288,7,0)","v":51.78},47.46,48.162000000000006,47.068400000000004,null,null,null,2.2200000000000002,0.53,0.77,null,{"$f":"C37-($S37*6)","v":{"$error":"#REF!"}},{"$f":"D37-($S37*5)","v":{"$error":"#REF!"}},52.34,53.69,43.949999999999996,53.629999999999995,40.92,44.370000000000005,51.78,47.46,48.162000000000006]
["ISABELLA","BerrienWheatAll",{"$f":"VLOOKUP($B38,#REF!,3,0)","v":{"$error":"#REF!"}},{"$f":"VLOOKUP($B38,#REF!,4,0)","v":{"$error":"#REF!"}},{"$f":"VLOOKUP($B38,'FSA21'!$E$5:$K$183,3,0)","v":76.400000000000006},{"$f":"VLOOKUP($B38,'FSA21'!$E$5:$K$183,4,0)","v":86.67},{"$f":"VLOOKUP($B38,'FSA23'!$E$5:$K$288,3,0)","v":70.44},{"$f":"VLOOKUP($B38,'FSA23'!$E$5:$K$288,4,0)","v":77.12},{"$f":"VLOOKUP($B38,'FSA23'!$E$5:$K$288,5,0)","v":72.099999999999994},{"$f":"VLOOKUP($B38,'FSA23'!$E$5:$K$288,6,0)","v":65.430000000000007},{"$f":"VLOOKUP($B38,'FSA23'!$E$5:$K$288,7,0)","v":69.900000000000006},{"$f":"AVERAGE(G38:K38)+$T38","v":71.768000000000001},{"$f":"AVERAGE(H38:L38)+$T38","v":72.033599999999993},{"$f":"AVERAGE(I38:M38)+$T38","v":71.016319999999993},null,null,null,2.2200000000000002,0.53,0.77,null,{"$f":"C38-($T38*6)","v":{"$error":"#REF!"}},{"$f":"D38-($T38*5)","v":{"$error":"#REF!"}},76.400000000000006,86.67,70.44,77.12,72.099999999999994,65.430000000000007,69.900000000000006,71.768000000000001,72.033599999999993]
["JACKSON","BranchCornIrrigated",{"$f":"VLOOKUP($B39,#REF!,3,0)","v":{"$error":"#REF!"}},{"$f":"VLOOKUP($B39,#REF!,4,0)","v":{"$error":"#REF!"}},{"$f":"VLOOKUP($B39,#REF!,5,0)","v":{"$error":"#REF!"}},{"$f":"VLOOKUP($B39,#REF!,6,0)","v":{"$error":"#REF!"}},{"$f":"VLOOKUP($B39,'FSA23'!$E$5:$K$288,3,0)","v":204.46},{"$f":"VLOOKUP($B39,'FSA23'!$E$5:$K$288,4,0)","v":192.68},{"$f":"VLOOKUP($B39,'FSA23'!$E$5:$K$288,5,0)","v":198.91},{"$f":"VLOOKUP($B39,'FSA23'!$E$5:$K$288,6,0)","v":203.94},{"$f":"VLOOKUP($B39,'FSA23'!$E$5:$K$288,7,0)","v":181.26000000000002},{"$f":"AVERAGE(G39:K39)+$R39","v":198.06},196.77999999999997,197.60000000000002,null,null,null,1.81,0.48,0.65,null,{"$f":"C39-($R39*6)","v":{"$error":"#REF!"}},{"$f":"D39-($R39*5)","v":{"$error":"#REF!"}},{"$error":"#REF!"},{"$error":"#REF!"},204.46,192.68,198.91,203.94,181.26000000000002,198.06,196.77999999999997]
["KALAMAZOO","BranchCornNonirrigated",{"$f":"VLOOKUP($B40,#REF!,3,0)","v":{"$error":"#REF!"}},{"$f":"VLOOKUP($B40,#REF!,4,0)","v":{"$error":"#REF!"}},{"$f":"VLOOKUP($B40,'FSA21'!$E$5:$K$183,3,0)","v":164.8},{"$f":"VLOOKUP($B40,'FSA21'!$E$5:$K$183,4,0)","v":167.23},{"$f":"VLOOKUP($B40,'FSA23'!$E$5:$K$288,3,0)","v":166.38000000000002},{"$f":"VLOOKUP($B40,'FSA23'!$E$5:$K$288,4,0)","v":159.22},{"$f":"VLOOKUP($B40,'FSA23'!$E$5:$K$288,5,0)","v":157.83000000000001},{"$f":"VLOOKUP($B40,'FSA23'!$E$5:$K$288,6,0)","v":157.01},{"$f":"VLOOKUP($B40,'FSA23'!$E$5:$K$288,7,0)","v":165.95000000000002},163.08800000000002,162.42959999999999,163.07152000000002,null,null,null,1.81,0.48,0.65,null,{"$f":"C40-($R40*6)","v":{"$error":"#REF!"}},{"$f":"D40-($R40*5)","v":{"$error":"#REF!"}},164.8,167.23,166.38000000000002,159.22,157.83000000000001,157.01,165.95000000000002,163.08800000000002,162.42959999999999]
["KALKASKA","BranchSoybeansIrrigated",{"$f":"VLOOKUP($B41,#REF!,3,0)","v":{"$error":"#REF!"}},{"$f":"VLOOKUP($B41,#REF!,4,0)","v":{"$error":"#REF!"}},{"$f":"VLOOKUP($B41,#REF!,5,0)","v":{"$error":"#REF!"}},{"$f":"VLOOKUP($B41,#REF!,6,0)","v":{"$error":"#REF!"}},{"$f":"VLOOKUP($B41,'FSA23'!$E$5:$K$288,3,0)","v":54.04},{"$f":"VLOOKUP($B41,'FSA23'!$E$5:$K$288,4,0)","v":60.46},{"$f":"VLOOKUP($B41,'FSA23'!$E$5:$K$288,5,0)","v":56.28},{"$f":"VLOOKUP($B41,'FSA23'!$E$5:$K$288,6,0)","v":59.449999999999996},{"$f":"VLOOKUP($B41,'FSA23'!$E$5:$K$288,7,0)","v":61.33},{"$f":"AVERAGE(G41:K41)+$S41","v":58.791999999999994},59.742399999999989,59.598880000000001,null,null,null,1.81,0.48,0.65,null,{"$f":"C41-($S41*6)","v":{"$error":"#REF!"}},{"$f":"D41-($S41*5)","v":{"$error":"#REF!"}},{"$error":"#REF!"},{"$error":"#REF!"},54.04,60.46,56.28,59.449999999999996,61.33,58.791999999999994,59.742399999999989]
["KENT","BranchSoybeansNonirrigated",{"$f":"VLOOKUP($B42,#REF!,3,0)","v":{"$error":"#REF!"}},{"$f":"VLOOKUP($B42,#REF!,4,0)","v":{"$error":"#REF!"}},{"$f":"VLOOKUP($B42,'FSA21'!$E$5:$K$183,3,0)","v":47.980000000000004},{"$f":"VLOOKUP($B42,'FSA21'!$E$5:$K$183,4,0)","v":53.57},{"$f":"VLOOKUP($B42,'FSA23'!$E$5:$K$288,3,0)","v":41.84},{"$f":"VLOOKUP($B42,'FSA23'!$E$5:$K$288,4,0)","v":48.410000000000004},{"$f":"VLOOKUP($B42,'FSA23'!$E$5:$K$288,5,0)","v":45.02},{"$f":"VLOOKUP($B42,'FSA23'!$E$5:$K$288,6,0)","v":46.33},{"$f":"VLOOKUP($B42,'FSA23'!$E$5:$K$288,7,0)","v":51.03},47.006,48.039199999999994,47.965039999999995,null,null,null,1.81,0.48,0.65,null,{"$f":"C42-($S42*6)","v":{"$error":"#REF!"}},{"$f":"D42-($S42*5)","v":{"$error":"#REF!"}},47.980000000000004,53.57,41.84,48.410000000000004,45.02,46.33,51.03,47.006,48.039199999999994]
["KEWEENAW","BranchWheatAll",{"$f":"VLOOKUP($B43,#REF!,3,0)","v":{"$error":"#REF!"}},{"$f":"VLOOKUP($B43,#REF!,4,0)","v":{"$error":"#REF!"}},{"$f":"VLOOKUP($B43,'FSA21'!$E$5:$K$183,3,0)","v":65},{"$f":"VLOOKUP($B43,'FSA21'!$E$5:$K$183,4,0)","v":80.78},{"$f":"VLOOKUP($B43,'FSA23'!$E$5:$K$288,3,0)","v":80.95},{"$f":"VLOOKUP($B43,'FSA23'!$E$5:$K$288,4,0)","v":65.88},{"$f":"VLOOKUP($B43,'FSA23'!$E$5:$K$288,5,0)","v":72.150000000000006},{"$f":"VLOOKUP($B43,'FSA23'!$E$5:$K$288,6,0)","v":67.429999999999993},{"$f":"VLOOKUP($B43,'FSA23'!$E$5:$K$288,7,0)","v":75.28},{"$f":"AVERAGE(G43:K43)+$T43","v":72.988},{"$f":"AVERAGE(H43:L43)+$T43","v":71.395600000000002},{"$f":"AVERAGE(I43:M43)+$T43","v":72.498719999999992},null,null,null,1.81,0.48,0.65,null,{"$f":"C43-($T43*6)","v":{"$error":"#REF!"}},{"$f":"D43-($T43*5)","v":{"$error":"#REF!"}},65,80.78,80.95,65.88,72.150000000000006,67.429999999999993,75.28,72.988,71.395600000000002]
["LAKE","CalhounCornIrrigated",{"$f":"VLOOKUP($B44,#REF!,3,0)","v":{"$error":"#REF!"}},{"$f":"VLOOKUP($B44,#REF!,4,0)","v":{"$error":"#REF!"}},{"$f":"VLOOKUP($B44,#REF!,5,0)","v":{"$error":"#REF!"}},{"$f":"VLOOKUP($B44,#REF!,6,0)","v":{"$error":"#REF!"}},{"$f":"VLOOKUP($B44,'FSA23'!$E$5:$K$288,3,0)","v":200.6},{"$f":"VLOOKUP($B44,'FSA23'!$E$5:$K$288,4,0)","v":191},{"$f":"VLOOKUP($B44,'FSA23'!$E$5:$K$288,5,0)","v":161.75},{"$f":"VLOOKUP($B44,'FSA23'!$E$5:$K$288,6,0)","v":186.29},{"$f":"VLOOKUP($B44,'FSA23'!$E$5:$K$288,7,0)","v":194.64},{"$f":"AVERAGE(G44:K44)+$R44","v":188.36599999999999},185.91919999999999,184.90303999999998,null,null,null,1.51,0.44,0.66,null,{"$f":"C44-($R44*6)","v":{"$error":"#REF!"}},{"$f":"D44-($R44*5)","v":{"$error":"#REF!"}},{"$error":"#REF!"},{"$error":"#REF!"},200.6,191,161.75,186.29,194.64,188.36599999999999,185.91919999999999]
["LAPEER","CalhounCornNonirrigated",{"$f":"VLOOKUP($B45,#REF!,3,0)","v":{"$error":"#REF!"}},{"$f":"VLOOKUP($B45,#REF!,4,0)","v":{"$error":"#REF!"}},{"$f":"VLOOKUP($B45,'FSA21'!$E$5:$K$183,3,0)","v":163.65},{"$f":"VLOOKUP($B45,'FSA21'!$E$5:$K$183,4,0)","v":143.11999999999998},{"$f":"VLOOKUP($B45,'FSA23'!$E$5:$K$288,3,0)","v":145.6},{"$f":"VLOOKUP($B45,'FSA23'!$E$5:$K$288,4,0)","v":149.11000000000001},{"$f":"VLOOKUP($B45,'FSA23'!$E$5:$K$288,5,0)","v":136.16000000000003},{"$f":"VLOOKUP($B45,'FSA23'!$E$5:$K$288,6,0)","v":135.41999999999999},{"$f":"VLOOKUP($B45,'FSA23'!$E$5:$K$288,7,0)","v":166.86},148.14000000000001,148.648,148.5556,null,null,null,1.51,0.44,0.66,null,{"$f":"C45-($R45*6)","v":{"$error":"#REF!"}},{"$f":"D45-($R45*5)","v":{"$error":"#REF!"}},163.65,143.11999999999998,145.6,149.11000000000001,136.16000000000003,135.41999999999999,166.86,148.14000000000001,148.648]
["LEELANAU","CalhounSoybeansIrrigated",{"$f":"VLOOKUP($B46,#REF!,3,0)","v":{"$error":"#REF!"}},{"$f":"VLOOKUP($B46,#REF!,4,0)","v":{"$error":"#REF!"}},{"$f":"VLOOKUP($B46,#REF!,5,0)","v":{"$error":"#REF!"}},{"$f":"VLOOKUP($B46,#REF!,6,0)","v":{"$error":"#REF!"}},{"$f":"VLOOKUP($B46,'FSA23'!$E$5:$K$288,3,0)","v":55.36},{"$f":"VLOOKUP($B46,'FSA23'!$E$5:$K$288,4,0)","v":65.31},{"$f":"VLOOKUP($B46,'FSA23'!$E$5:$K$288,5,0)","v":51.57},{"$f":"VLOOKUP($B46,'FSA23'!$E$5:$K$288,6,0)","v":59.33},{"$f":"VLOOKUP($B46,'FSA23'!$E$5:$K$288,7,0)","v":60.67},{"$f":"AVERAGE(G46:K46)+$S46","v":58.887999999999998},59.593599999999995,58.450319999999998,null,null,null,1.51,0.44,0.66,null,{"$f":"C46-($S46*6)","v":{"$error":"#REF!"}},{"$f":"D46-($S46*5)","v":{"$error":"#REF!"}},{"$error":"#REF!"},{"$error":"#REF!"},55.36,65.31,51.57,59.33,60.67,58.887999999999998,59.593599999999995]
["LENAWEE","CalhounSoybeansNonirrigated",{"$f":"VLOOKUP($B47,#REF!,3,0)","v":{"$error":"#REF!"}},{"$f":"VLOOKUP($B47,#REF!,4,0)","v":{"$error":"#REF!"}},{"$f":"VLOOKUP($B47,'FSA21'!$E$5:$K$183,3,0)","v":47.68},{"$f":"VLOOKUP($B47,'FSA21'!$E$5:$K$183,4,0)","v":49.35},{"$f":"VLOOKUP($B47,'FSA23'!$E$5:$K$288,3,0)","v":36},{"$f":"VLOOKUP($B47,'FSA23'!$E$5:$K$288,4,0)","v":45.24},{"$f":"VLOOKUP($B47,'FSA23'!$E$5:$K$288,5,0)","v":37.83},{"$f":"VLOOKUP($B47,'FSA23'!$E$5:$K$288,6,0)","v":41.230000000000004},{"$f":"VLOOKUP($B47,'FSA23'!$E$5:$K$288,7,0)","v":47.4},41.980000000000004,43.176000000000002,42.763199999999998,null,null,null,1.51,0.44,0.66,null,{"$f":"C47-($S47*6)","v":{"$error":"#REF!"}},{"$f":"D47-($S47*5)","v":{"$error":"#REF!"}},47.68,49.35,36,45.24,37.83,41.230000000000004,47.4,41.980000000000004,43.176000000000002]
["LIVINGSTON","CalhounWheatAll",{"$f":"VLOOKUP($B48,#REF!,3,0)","v":{"$error":"#REF!"}},{"$f":"VLOOKUP($B48,#REF!,4,0)","v":{"$error":"#REF!"}},{"$f":"VLOOKUP($B48,'FSA21'!$E$5:$K$183,3,0)","v":58.47},{"$f":"VLOOKUP($B48,'FSA21'!$E$5:$K$183,4,0)","v":77.11},{"$f":"VLOOKUP($B48,'FSA23'!$E$5:$K$288,3,0)","v":70.959999999999994},{"$f":"VLOOKUP($B48,'FSA23'!$E$5:$K$288,4,0)","v":66.13},{"$f":"VLOOKUP($B48,'FSA23'!$E$5:$K$288,5,0)","v":64.72},{"$f":"VLOOKUP($B48,'FSA23'!$E$5:$K$288,6,0)","v":55.37},{"$f":"VLOOKUP($B48,'FSA23'!$E$5:$K$288,7,0)","v":55.46},{"$f":"AVERAGE(G48:K48)+$T48","v":63.187999999999981},{"$f":"AVERAGE(H48:L48)+$T48","v":61.633599999999994},{"$f":"AVERAGE(I48:M48)+$T48","v":60.734319999999997},null,null,null,1.51,0.44,0.66,null,{"$f":"C48-($T48*6)","v":{"$error":"#REF!"}},{"$f":"D48-($T48*5)","v":{"$error":"#REF!"}},58.47,77.11,70.959999999999994,66.13,64.72,55.37,55.46,63.187999999999981,61.633599999999994]
["LUCE","CassCornIrrigated",{"$f":"VLOOKUP($B49,#REF!,3,0)","v":{"$error":"#REF!"}},{"$f":"VLOOKUP($B49,#REF!,4,0)","v":{"$error":"#REF!"}},{"$f":"VLOOKUP($B49,'FSA21'!$E$5:$K$183,3,0)","v":210},{"$f":"VLOOKUP($B49,'FSA21'!$E$5:$K$183,4,0)","v":198.11},{"$f":"VLOOKUP($B49,'FSA23'!$E$5:$K$288,3,0)","v":224.01},{"$f":"VLOOKUP($B49,'FSA23'!$E$5:$K$288,4,0)","v":162.44999999999999},{"$f":"VLOOKUP($B49,'FSA23'!$E$5:$K$288,5,0)","v":192.01},{"$f":"VLOOKUP($B49,'FSA23'!$E$5:$K$288,6,0)","v":210.82},{"$f":"VLOOKUP($B49,'FSA23'!$E$5:$K$288,7,0)","v":208.36},{"$f":"AVERAGE(G49:K49)+$R49","v":201.59},197.10599999999999,204.03720000000001,null,null,null,2.06,0.52,0.64,null,{"$f":"C49-($R49*6)","v":{"$error":"#REF!"}},{"$f":"D49-($R49*5)","v":{"$error":"#REF!"}},210,198.11,224.01,162.44999999999999,192.01,210.82,208.36,201.59,197.10599999999999]
["MACKINAC","CassCornNonirrigated",{"$f":"VLOOKUP($B50,#REF!,3,0)","v":{"$error":"#REF!"}},{"$f":"VLOOKUP($B50,#REF!,4,0)","v":{"$error":"#REF!"}},{"$f":"VLOOKUP($B50,'FSA21'!$E$5:$K$183,3,0)","v":158.70000000000002},{"$f":"VLOOKUP($B50,'FSA21'!$E$5:$K$183,4,0)","v":127.63000000000001},{"$f":"VLOOKUP($B50,'FSA23'!$E$5:$K$288,3,0)","v":163.49},{"$f":"VLOOKUP($B50,'FSA23'!$E$5:$K$288,4,0)","v":153.69999999999999},{"$f":"VLOOKUP($B50,'FSA23'!$E$5:$K$288,5,0)","v":136.25},{"$f":"VLOOKUP($B50,'FSA23'!$E$5:$K$288,6,0)","v":139.70000000000002},{"$f":"VLOOKUP($B50,'FSA23'!$E$5:$K$288,7,0)","v":160.4},152.768,150.62360000000001,150.00832000000003,null,null,null,2.06,0.52,0.64,null,{"$f":"C50-($R50*6)","v":{"$error":"#REF!"}},{"$f":"D50-($R50*5)","v":{"$error":"#REF!"}},158.70000000000002,127.63000000000001,163.49,153.69999999999999,136.25,139.70000000000002,160.4,152.768,150.62360000000001]
["MACOMB","CassSoybeansIrrigated",{"$f":"VLOOKUP($B51,#REF!,3,0)","v":{"$error":"#REF!"}},{"$f":"VLOOKUP($B51,#REF!,4,0)","v":{"$error":"#REF!"}},{"$f":"VLOOKUP($B51,'FSA21'!$E$5:$K$183,3,0)","v":62.550000000000004},{"$f":"VLOOKUP($B51,'FSA21'!$E$5:$K$183,4,0)","v":67.02},{"$f":"VLOOKUP($B51,'FSA23'!$E$5:$K$288,3,0)","v":59.72},{"$f":"VLOOKUP($B51,'FSA23'!$E$5:$K$288,4,0)","v":52.35},{"$f":"VLOOKUP($B51,'FSA23'!$E$5:$K$288,5,0)","v":62.440000000000005},{"$f":"VLOOKUP($B51,'FSA23'!$E$5:$K$288,6,0)","v":64.930000000000007},{"$f":"VLOOKUP($B51,'FSA23'!$E$5:$K$288,7,0)","v":65.64},{"$f":"AVERAGE(G51:K51)+$S51","v":61.536000000000001},61.899200000000008,63.809040000000003,null,null,null,2.06,0.52,0.64,null,{"$f":"C51-($S51*6)","v":{"$error":"#REF!"}},{"$f":"D51-($S51*5)","v":{"$error":"#REF!"}},62.550000000000004,67.02,59.72,52.35,62.440000000000005,64.930000000000007,65.64,61.536000000000001,61.899200000000008]
["MANISTEE","CassSoybeansNonirrigated",{"$f":"VLOOKUP($B52,#REF!,3,0)","v":{"$error":"#REF!"}},{"$f":"VLOOKUP($B52,#REF!,4,0)","v":{"$error":"#REF!"}},{"$f":"VLOOKUP($B52,'FSA21'!$E$5:$K$183,3,0)","v":47.23},{"$f":"VLOOKUP($B52,'FSA21'!$E$5:$K$183,4,0)","v":44.61},{"$f":"VLOOKUP($B52,'FSA23'!$E$5:$K$288,3,0)","v":44.03},{"$f":"VLOOKUP($B52,'FSA23'!$E$5:$K$288,4,0)","v":51.2},{"$f":"VLOOKUP($B52,'FSA23'!$E$5:$K$288,5,0)","v":43.44},{"$f":"VLOOKUP($B52,'FSA23'!$E$5:$K$288,6,0)","v":40.74},{"$f":"VLOOKUP($B52,'FSA23'!$E$5:$K$288,7,0)","v":48.88},46.178000000000004,46.607599999999998,45.689120000000003,null,null,null,2.06,0.52,0.64,null,{"$f":"C52-($S52*6)","v":{"$error":"#REF!"}},{"$f":"D52-($S52*5)","v":{"$error":"#REF!"}},47.23,44.61,44.03,51.2,43.44,40.74,48.88,46.178000000000004,46.607599999999998]
["MARQUETTE","CassWheatAll",{"$f":"VLOOKUP($B53,#REF!,3,0)","v":{"$error":"#REF!"}},{"$f":"VLOOKUP($B53,#REF!,4,0)","v":{"$error":"#REF!"}},{"$f":"VLOOKUP($B53,#REF!,5,0)","v":{"$error":"#REF!"}},{"$f":"VLOOKUP($B53,#REF!,6,0)","v":{"$error":"#REF!"}},{"$f":"VLOOKUP($B53,'FSA23'!$E$5:$K$288,3,0)","v":68.27000000000001},{"$f":"VLOOKUP($B53,'FSA23'!$E$5:$K$288,4,0)","v":64.95},{"$f":"VLOOKUP($B53,'FSA23'!$E$5:$K$288,5,0)","v":63.21},{"$f":"VLOOKUP($B53,'FSA23'!$E$5:$K$288,6,0)","v":67.81},{"$f":"VLOOKUP($B53,'FSA23'!$E$5:$K$288,7,0)","v":55.12},{"$f":"AVERAGE(G53:K53)+$T53","v":64.512},{"$f":"AVERAGE(H53:L53)+$T53","v":63.760399999999997},{"$f":"AVERAGE(I53:M53)+$T53","v":63.522480000000002},null,null,null,2.06,0.52,0.64,null,{"$f":"C53-($T53*6)","v":{"$error":"#REF!"}},{"$f":"D53-($T53*5)","v":{"$error":"#REF!"}},{"$error":"#REF!"},{"$error":"#REF!"},68.27000000000001,64.95,63.21,67.81,55.12,64.512,63.760399999999997]
["MASON","CharlevoixCornAll",{"$f":"VLOOKUP($B54,#REF!,3,0)","v":{"$error":"#REF!"}},{"$f":"VLOOKUP($B54,#REF!,4,0)","v":{"$error":"#REF!"}},{"$f":"VLOOKUP($B54,#REF!,5,0)","v":{"$error":"#REF!"}},{"$f":"VLOOKUP($B54,#REF!,6,0)","v":{"$error":"#REF!"}},{"$f":"VLOOKUP($B54,'FSA23'!$E$5:$K$288,3,0)","v":122.88},{"$f":"VLOOKUP($B54,'FSA23'!$E$5:$K$288,4,0)","v":118.4},{"$f":"VLOOKUP($B54,'FSA23'!$E$5:$K$288,5,0)","v":122.02},{"$f":"VLOOKUP($B54,'FSA23'!$E$5:$K$288,6,0)","v":145.44},{"$f":"VLOOKUP($B54,'FSA23'!$E$5:$K$288,7,0)","v":152},{"$f":"AVERAGE(G54:K54)+$R54","v":133.09799999999998},{"$f":"AVERAGE(H54:L54)+$R54","v":135.14159999999998},{"$f":"AVERAGE(I54:M54)+$R54","v":138.48991999999998},null,null,null,0.95,0.3,0.35,null,{"$f":"C54-($R54*6)","v":{"$error":"#REF!"}},{"$f":"D54-($R54*5)","v":{"$error":"#REF!"}},{"$error":"#REF!"},{"$error":"#REF!"},122.88,118.4,122.02,145.44,152,133.09799999999998,135.14159999999998]
["MECOSTA","CharlevoixSoybeansAll",{"$f":"VLOOKUP($B55,#REF!,3,0)","v":{"$error":"#REF!"}},{"$f":"VLOOKUP($B55,#REF!,4,0)","v":{"$error":"#REF!"}},{"$f":"VLOOKUP($B55,#REF!,5,0)","v":{"$error":"#REF!"}},{"$f":"VLOOKUP($B55,#REF!,6,0)","v":{"$error":"#REF!"}},{"$f":"VLOOKUP($B55,'FSA23'!$E$5:$K$288,3,0)","v":40.799999999999997},{"$f":"VLOOKUP($B55,'FSA23'!$E$5:$K$288,4,0)","v":40.799999999999997},{"$f":"VLOOKUP($B55,'FSA23'!$E$5:$K$288,5,0)","v":40.799999999999997},{"$f":"VLOOKUP($B55,'FSA23'!$E$5:$K$288,6,0)","v":40.799999999999997},{"$f":"VLOOKUP($B55,'FSA23'!$E$5:$K$288,7,0)","v":45.8},{"$f":"AVERAGE(G55:K55)+$S55","v":42.099999999999994},{"$f":"AVERAGE(H55:L55)+$S55","v":42.359999999999992},{"$f":"AVERAGE(I55:M55)+$S55","v":42.671999999999997},null,null,null,0.95,0.3,0.35,null,{"$f":"C55-($S55*6)","v":{"$error":"#REF!"}},{"$f":"D55-($S55*5)","v":{"$error":"#REF!"}},{"$error":"#REF!"},{"$error":"#REF!"},40.799999999999997,40.799999999999997,40.799999999999997,40.799999999999997,45.8,42.099999999999994,42.359999999999992]
["MENOMINEE","CharlevoixWheatAll",{"$f":"VLOOKUP($B56,#REF!,3,0)","v":{"$error":"#REF!"}},{"$f":"VLOOKUP($B56,#REF!,4,0)","v":{"$error":"#REF!"}},{"$f":"VLOOKUP($B56,#REF!,5,0)","v":{"$error":"#REF!"}},{"$f":"VLOOKUP($B56,#REF!,6,0)","v":{"$error":"#REF!"}},{"$f":"VLOOKUP($B56,'FSA23'!$E$5:$K$288,3,0)","v":55.2},{"$f":"VLOOKUP($B56,'FSA23'!$E$5:$K$288,4,0)","v":40},{"$f":"VLOOKUP($B56,'FSA23'!$E$5:$K$288,5,0)","v":55.2},{"$f":"VLOOKUP($B56,'FSA23'!$E$5:$K$288,6,0)","v":55.2},{"$f":"VLOOKUP($B56,'FSA23'!$E$5:$K$288,7,0)","v":55.2},{"$f":"AVERAGE(G56:K56)+$T56","v":52.510000000000005},{"$f":"AVERAGE(H56:L56)+$T56","v":51.972000000000001},{"$f":"AVERAGE(I56:M56)+$T56","v":54.366399999999999},null,null,null,0.95,0.3,0.35,null,{"$f":"C56-($T56*6)","v":{"$error":"#REF!"}},{"$f":"D56-($T56*5)","v":{"$error":"#REF!"}},{"$error":"#REF!"},{"$error":"#REF!"},55.2,40,55.2,55.2,55.2,52.510000000000005,51.972000000000001]
["MIDLAND","CheboyganCornAll",{"$f":"VLOOKUP($B57,#REF!,3,0)","v":{"$error":"#REF!"}},{"$f":"VLOOKUP($B57,#REF!,4,0)","v":{"$error":"#REF!"}},{"$f":"VLOOKUP($B57,'FSA21'!$E$5:$K$183,3,0)","v":100.88},{"$f":"VLOOKUP($B57,'FSA21'!$E$5:$K$183,4,0)","v":97},{"$f":"VLOOKUP($B57,'FSA23'!$E$5:$K$288,3,0)","v":131},{"$f":"VLOOKUP($B57,'FSA23'!$E$5:$K$288,4,0)","v":117},{"$f":"VLOOKUP($B57,'FSA23'!$E$5:$K$288,5,0)","v":110.3},{"$f":"VLOOKUP($B57,'FSA23'!$E$5:$K$288,6,0)","v":129.9},{"$f":"VLOOKUP($B57,'FSA23'!$E$5:$K$288,7,0)","v":144.49},{"$f":"AVERAGE(G57:K57)+$R57","v":127.89800000000001},{"$f":"AVERAGE(H57:L57)+$R57","v":127.27760000000002},{"$f":"AVERAGE(I57:M57)+$R57","v":129.33312000000001},null,null,null,1.36,0.34,0.73,null,{"$f":"C57-($R57*6)","v":{"$error":"#REF!"}},{"$f":"D57-($R57*5)","v":{"$error":"#REF!"}},100.88,97,131,117,110.3,129.9,144.49,127.89800000000001,127.27760000000002]
["MISSAUKEE","CheboyganSoybeansAll",{"$f":"VLOOKUP($B58,#REF!,3,0)","v":{"$error":"#REF!"}},{"$f":"VLOOKUP($B58,#REF!,4,0)","v":{"$error":"#REF!"}},{"$f":"VLOOKUP($B58,#REF!,5,0)","v":{"$error":"#REF!"}},{"$f":"VLOOKUP($B58,#REF!,6,0)","v":{"$error":"#REF!"}},{"$f":"VLOOKUP($B58,'FSA23'!$E$5:$K$288,3,0)","v":40.799999999999997},{"$f":"VLOOKUP($B58,'FSA23'!$E$5:$K$288,4,0)","v":40.799999999999997},{"$f":"VLOOKUP($B58,'FSA23'!$E$5:$K$288,5,0)","v":40.799999999999997},{"$f":"VLOOKUP($B58,'FSA23'!$E$5:$K$288,6,0)","v":40.799999999999997},{"$f":"VLOOKUP($B58,'FSA23'!$E$5:$K$288,7,0)","v":42},{"$f":"AVERAGE(G58:K58)+$S58","v":41.38},{"$f":"AVERAGE(H58:L58)+$S58","v":41.495999999999995},{"$f":"AVERAGE(I58:M58)+$S58","v":41.635200000000005},null,null,null,1.36,0.34,0.73,null,{"$f":"C58-($S58*6)","v":{"$error":"#REF!"}},{"$f":"D58-($S58*5)","v":{"$error":"#REF!"}},{"$error":"#REF!"},{"$error":"#REF!"},40.799999999999997,40.799999999999997,40.799999999999997,40.799999999999997,42,41.38,41.495999999999995]
["MONROE","CheboyganWheatAll",{"$f":"VLOOKUP($B59,#REF!,3,0)","v":{"$error":"#REF!"}},{"$f":"VLOOKUP($B59,#REF!,4,0)","v":{"$error":"#REF!"}},{"$f":"VLOOKUP($B59,#REF!,5,0)","v":{"$error":"#REF!"}},{"$f":"VLOOKUP($B59,#REF!,6,0)","v":{"$error":"#REF!"}},{"$f":"VLOOKUP($B59,'FSA23'!$E$5:$K$288,3,0)","v":52},{"$f":"VLOOKUP($B59,'FSA23'!$E$5:$K$288,4,0)","v":47},{"$f":"VLOOKUP($B59,'FSA23'!$E$5:$K$288,5,0)","v":52},{"$f":"VLOOKUP($B59,'FSA23'!$E$5:$K$288,6,0)","v":52},{"$f":"VLOOKUP($B59,'FSA23'!$E$5:$K$288,7,0)","v":52},{"$f":"AVERAGE(G59:K59)+$T59","v":51.73},{"$f":"AVERAGE(H59:L59)+$T59","v":51.675999999999995},{"$f":"AVERAGE(I59:M59)+$T59","v":52.611199999999997},null,null,null,1.36,0.34,0.73,null,{"$f":"C59-($T59*6)","v":{"$error":"#REF!"}},{"$f":"D59-($T59*5)","v":{"$error":"#REF!"}},{"$error":"#REF!"},{"$error":"#REF!"},52,47,52,52,52,51.73,51.675999999999995]
["MONTCALM","ChippewaCornAll",{"$f":"VLOOKUP($B60,#REF!,3,0)","v":{"$error":"#REF!"}},{"$f":"VLOOKUP($B60,#REF!,4,0)","v":{"$error":"#REF!"}},{"$f":"VLOOKUP($B60,#REF!,5,0)","v":{"$error":"#REF!"}},{"$f":"VLOOKUP($B60,#REF!,6,0)","v":{"$error":"#REF!"}},{"$f":"VLOOKUP($B60,'FSA23'!$E$5:$K$288,3,0)","v":84},{"$f":"VLOOKUP($B60,'FSA23'!$E$5:$K$288,4,0)","v":111},{"$f":"VLOOKUP($B60,'FSA23'!$E$5:$K$288,5,0)","v":93.6},{"$f":"VLOOKUP($B60,'FSA23'!$E$5:$K$288,6,0)","v":182.7},{"$f":"VLOOKUP($B60,'FSA23'!$E$5:$K$288,7,0)","v":110.84},{"$f":"AVERAGE(G60:K60)+$R60","v":117.408},{"$f":"AVERAGE(H60:L60)+$R60","v":124.0896},{"$f":"AVERAGE(I60:M60)+$R60","v":126.70752},null,null,null,0.98,0.27,0.65,null,{"$f":"C60-($R60*6)","v":{"$error":"#REF!"}},{"$f":"D60-($R60*5)","v":{"$error":"#REF!"}},{"$error":"#REF!"},{"$error":"#REF!"},84,111,93.6,182.7,110.84,117.408,124.0896]
["MONTMORENCY","ChippewaSoybeansAll",{"$f":"VLOOKUP($B61,#REF!,3,0)","v":{"$error":"#REF!"}},{"$f":"VLOOKUP($B61,#REF!,4,0)","v":{"$error":"#REF!"}},{"$f":"VLOOKUP($B61,#REF!,5,0)","v":{"$error":"#REF!"}},{"$f":"VLOOKUP($B61,#REF!,6,0)","v":{"$error":"#REF!"}},{"$f":"VLOOKUP($B61,'FSA23'!$E$5:$K$288,3,0)","v":37},{"$f":"VLOOKUP($B61,'FSA23'!$E$5:$K$288,4,0)","v":37},{"$f":"VLOOKUP($B61,'FSA23'!$E$5:$K$288,5,0)","v":1131.1099999999999},{"$f":"VLOOKUP($B61,'FSA23'!$E$5:$K$288,6,0)","v":40.1},{"$f":"VLOOKUP($B61,'FSA23'!$E$5:$K$288,7,0)","v":33.200000000000003},{"$f":"AVERAGE(G61:K61)+$S61","v":255.95199999999997},{"$f":"AVERAGE(H61:L61)+$S61","v":299.74239999999998},{"$f":"AVERAGE(I61:M61)+$S61","v":352.2908799999999},null,null,null,0.98,0.27,0.65,null,{"$f":"C61-($S61*6)","v":{"$error":"#REF!"}},{"$f":"D61-($S61*5)","v":{"$error":"#REF!"}},{"$error":"#REF!"},{"$error":"#REF!"},37,37,1131.1099999999999,40.1,33.200000000000003,255.95199999999997,299.74239999999998]
["MUSKEGON","ChippewaWheatAll",{"$f":"VLOOKUP($B62,#REF!,3,0)","v":{"$error":"#REF!"}},{"$f":"VLOOKUP($B62,#REF!,4,0)","v":{"$error":"#REF!"}},{"$f":"VLOOKUP($B62,#REF!,5,0)","v":{"$error":"#REF!"}},{"$f":"VLOOKUP($B62,#REF!,6,0)","v":{"$error":"#REF!"}},{"$f":"VLOOKUP($B62,'FSA23'!$E$5:$K$288,3,0)","v":52},{"$f":"VLOOKUP($B62,'FSA23'!$E$5:$K$288,4,0)","v":40},{"$f":"VLOOKUP($B62,'FSA23'!$E$5:$K$288,5,0)","v":53.1},{"$f":"VLOOKUP($B62,'FSA23'!$E$5:$K$288,6,0)","v":50.4},{"$f":"VLOOKUP($B62,'FSA23'!$E$5:$K$288,7,0)","v":61.66},{"$f":"AVERAGE(G62:K62)+$T62","v":52.081999999999994},{"$f":"AVERAGE(H62:L62)+$T62","v":52.098399999999991},{"$f":"AVERAGE(I62:M62)+$T62","v":54.518079999999998},null,null,null,0.98,0.27,0.65,null,{"$f":"C62-($T62*6)","v":{"$error":"#REF!"}},{"$f":"D62-($T62*5)","v":{"$error":"#REF!"}},{"$error":"#REF!"},{"$error":"#REF!"},52,40,53.1,50.4,61.66,52.081999999999994,52.098399999999991]
["NEWAYGO","ClareCornAll",{"$f":"VLOOKUP($B63,#REF!,3,0)","v":{"$error":"#REF!"}},{"$f":"VLOOKUP($B63,#REF!,4,0)","v":{"$error":"#REF!"}},{"$f":"VLOOKUP($B63,'FSA21'!$E$5:$K$183,3,0)","v":136.53},{"$f":"VLOOKUP($B63,'FSA21'!$E$5:$K$183,4,0)","v":124.91},{"$f":"VLOOKUP($B63,'FSA23'!$E$5:$K$288,3,0)","v":138.21},{"$f":"VLOOKUP($B63,'FSA23'!$E$5:$K$288,4,0)","v":144.89000000000001},{"$f":"VLOOKUP($B63,'FSA23'!$E$5:$K$288,5,0)","v":113.08000000000001},{"$f":"VLOOKUP($B63,'FSA23'!$E$5:$K$288,6,0)","v":164.64000000000001},{"$f":"VLOOKUP($B63,'FSA23'!$E$5:$K$288,7,0)","v":169.35000000000002},{"$f":"AVERAGE(G63:K63)+$R63","v":147.64400000000003},{"$f":"AVERAGE(H63:L63)+$R63","v":149.53080000000003},{"$f":"AVERAGE(I63:M63)+$R63","v":150.45896000000002},null,null,null,1.61,0.39,0.62,null,{"$f":"C63-($R63*6)","v":{"$error":"#REF!"}},{"$f":"D63-($R63*5)","v":{"$error":"#REF!"}},136.53,124.91,138.21,144.89000000000001,113.08000000000001,164.64000000000001,169.35000000000002,147.64400000000003,149.53080000000003]
["OAKLAND","ClareSoybeansAll",{"$f":"VLOOKUP($B64,#REF!,3,0)","v":{"$error":"#REF!"}},{"$f":"VLOOKUP($B64,#REF!,4,0)","v":{"$error":"#REF!"}},{"$f":"VLOOKUP($B64,'FSA21'!$E$5:$K$183,3,0)","v":33.28},{"$f":"VLOOKUP($B64,'FSA21'!$E$5:$K$183,4,0)","v":39.47},{"$f":"VLOOKUP($B64,'FSA23'!$E$5:$K$288,3,0)","v":34.130000000000003},{"$f":"VLOOKUP($B64,'FSA23'!$E$5:$K$288,4,0)","v":33.950000000000003},{"$f":"VLOOKUP($B64,'FSA23'!$E$5:$K$288,5,0)","v":26.43},{"$f":"VLOOKUP($B64,'FSA23'!$E$5:$K$288,6,0)","v":30.79},{"$f":"VLOOKUP($B64,'FSA23'!$E$5:$K$288,7,0)","v":30.01},{"$f":"AVERAGE(G64:K64)+$S64","v":31.452000000000002},{"$f":"AVERAGE(H64:L64)+$S64","v":30.916400000000003},{"$f":"AVERAGE(I64:M64)+$S64","v":30.30968},null,null,null,1.61,0.39,0.62,null,{"$f":"C64-($S64*6)","v":{"$error":"#REF!"}},{"$f":"D64-($S64*5)","v":{"$error":"#REF!"}},33.28,39.47,34.130000000000003,33.950000000000003,26.43,30.79,30.01,31.452000000000002,30.916400000000003]
["OCEANA","ClareWheatAll",{"$f":"VLOOKUP($B65,#REF!,3,0)","v":{"$error":"#REF!"}},{"$f":"VLOOKUP($B65,#REF!,4,0)","v":{"$error":"#REF!"}},{"$f":"VLOOKUP($B65,'FSA21'!$E$5:$K$183,3,0)","v":67.89},{"$f":"VLOOKUP($B65,'FSA21'!$E$5:$K$183,4,0)","v":71.8},{"$f":"VLOOKUP($B65,'FSA23'!$E$5:$K$288,3,0)","v":47.8},{"$f":"VLOOKUP($B65,'FSA23'!$E$5:$K$288,4,0)","v":65.209999999999994},{"$f":"VLOOKUP($B65,'FSA23'!$E$5:$K$288,5,0)","v":50.72},{"$f":"VLOOKUP($B65,'FSA23'!$E$5:$K$288,6,0)","v":55},{"$f":"VLOOKUP($B65,'FSA23'!$E$5:$K$288,7,0)","v":69.05},{"$f":"AVERAGE(G65:K65)+$T65","v":58.175999999999995},{"$f":"AVERAGE(H65:L65)+$T65","v":60.251199999999997},{"$f":"AVERAGE(I65:M65)+$T65","v":59.259439999999991},null,null,null,1.61,0.39,0.62,null,{"$f":"C65-($T65*6)","v":{"$error":"#REF!"}},{"$f":"D65-($T65*5)","v":{"$error":"#REF!"}},67.89,71.8,47.8,65.209999999999994,50.72,55,69.05,58.175999999999995,60.251199999999997]
["OGEMAW","ClintonCornIrrigated",{"$f":"VLOOKUP($B66,#REF!,3,0)","v":{"$error":"#REF!"}},{"$f":"VLOOKUP($B66,#REF!,4,0)","v":{"$error":"#REF!"}},{"$f":"VLOOKUP($B66,#REF!,5,0)","v":{"$error":"#REF!"}},{"$f":"VLOOKUP($B66,#REF!,6,0)","v":{"$error":"#REF!"}},{"$f":"VLOOKUP($B66,'FSA23'!$E$5:$K$288,3,0)","v":196.23000000000002},{"$f":"VLOOKUP($B66,'FSA23'!$E$5:$K$288,4,0)","v":205.65},{"$f":"VLOOKUP($B66,'FSA23'!$E$5:$K$288,5,0)","v":199.96},{"$f":"VLOOKUP($B66,'FSA23'!$E$5:$K$288,6,0)","v":202.54},{"$f":"VLOOKUP($B66,'FSA23'!$E$5:$K$288,7,0)","v":227.16},{"$f":"AVERAGE(G66:K66)+$R66","v":208.22799999999998},210.6276,211.62311999999997,null,null,null,1.92,0.47,1.04,null,{"$f":"C66-($R66*6)","v":{"$error":"#REF!"}},{"$f":"D66-($R66*5)","v":{"$error":"#REF!"}},{"$error":"#REF!"},{"$error":"#REF!"},196.23000000000002,205.65,199.96,202.54,227.16,208.22799999999998,210.6276]
["ONTONAGON","ClintonCornNonirrigated",{"$f":"VLOOKUP($B67,#REF!,3,0)","v":{"$error":"#REF!"}},{"$f":"VLOOKUP($B67,#REF!,4,0)","v":{"$error":"#REF!"}},{"$f":"VLOOKUP($B67,'FSA21'!$E$5:$K$183,3,0)","v":183.07},{"$f":"VLOOKUP($B67,'FSA21'!$E$5:$K$183,4,0)","v":162.77000000000001},{"$f":"VLOOKUP($B67,'FSA23'!$E$5:$K$288,3,0)","v":158.06},{"$f":"VLOOKUP($B67,'FSA23'!$E$5:$K$288,4,0)","v":149.46},{"$f":"VLOOKUP($B67,'FSA23'!$E$5:$K$288,5,0)","v":153.87},{"$f":"VLOOKUP($B67,'FSA23'!$E$5:$K$288,6,0)","v":158.28},{"$f":"VLOOKUP($B67,'FSA23'!$E$5:$K$288,7,0)","v":188.61},163.57599999999999,164.67920000000001,167.72304,null,null,null,1.92,0.47,1.04,null,{"$f":"C67-($R67*6)","v":{"$error":"#REF!"}},{"$f":"D67-($R67*5)","v":{"$error":"#REF!"}},{"$f":"E67","v":183.07},{"$f":"F67","v":162.77000000000001},{"$f":"G67","v":158.06},{"$f":"H67","v":149.46},{"$f":"I67","v":153.87},{"$f":"J67","v":158.28},{"$f":"K67","v":188.61},{"$f":"L67","v":163.57599999999999},{"$f":"M67","v":164.67920000000001}]
["OSCEOLA","ClintonSoybeansIrrigated",{"$f":"VLOOKUP($B68,#REF!,3,0)","v":{"$error":"#REF!"}},{"$f":"VLOOKUP($B68,#REF!,4,0)","v":{"$error":"#REF!"}},{"$f":"VLOOKUP($B68,#REF!,5,0)","v":{"$error":"#REF!"}},{"$f":"VLOOKUP($B68,#REF!,6,0)","v":{"$error":"#REF!"}},{"$f":"VLOOKUP($B68,'FSA23'!$E$5:$K$288,3,0)","v":53.13},{"$f":"VLOOKUP($B68,'FSA23'!$E$5:$K$288,4,0)","v":49.3},{"$f":"VLOOKUP($B68,'FSA23'!$E$5:$K$288,5,0)","v":48.1},{"$f":"VLOOKUP($B68,'FSA23'!$E$5:$K$288,6,0)","v":49.1},{"$f":"VLOOKUP($B68,'FSA23'!$E$5:$K$288,7,0)","v":59.5},{"$f":"AVERAGE(G68:K68)+$S68","v":52.295999999999999},52.129199999999997,52.695039999999992,null,null,null,1.92,0.47,1.04,null,{"$f":"C68-($S68*6)","v":{"$error":"#REF!"}},{"$f":"D68-($S68*5)","v":{"$error":"#REF!"}},{"$error":"#REF!"},{"$error":"#REF!"},53.13,49.3,48.1,49.1,59.5,52.295999999999999,52.129199999999997]
["OSCODA","ClintonSoybeansNonirrigated",{"$f":"VLOOKUP($B69,#REF!,3,0)","v":{"$error":"#REF!"}},{"$f":"VLOOKUP($B69,#REF!,4,0)","v":{"$error":"#REF!"}},{"$f":"VLOOKUP($B69,#REF!,5,0)","v":{"$error":"#REF!"}},{"$f":"VLOOKUP($B69,#REF!,6,0)","v":{"$error":"#REF!"}},{"$f":"VLOOKUP($B69,'FSA23'!$E$5:$K$288,3,0)","v":43.35},{"$f":"VLOOKUP($B69,'FSA23'!$E$5:$K$288,4,0)","v":43.9},{"$f":"VLOOKUP($B69,'FSA23'!$E$5:$K$288,5,0)","v":41.1},{"$f":"VLOOKUP($B69,'FSA23'!$E$5:$K$288,6,0)","v":49.1},{"$f":"VLOOKUP($B69,'FSA23'!$E$5:$K$288,7,0)","v":53.31},46.622,47.276399999999995,47.951679999999996,null,null,null,1.92,0.47,1.04,null,{"$f":"C69-($S69*6)","v":{"$error":"#REF!"}},{"$f":"D69-($S69*5)","v":{"$error":"#REF!"}},{"$error":"#REF!"},{"$error":"#REF!"},43.35,43.9,41.1,49.1,53.31,46.622,47.276399999999995]
["OTSEGO","ClintonWheatAll",{"$f":"VLOOKUP($B70,#REF!,3,0)","v":{"$error":"#REF!"}},{"$f":"VLOOKUP($B70,#REF!,4,0)","v":{"$error":"#REF!"}},{"$f":"VLOOKUP($B70,'FSA21'!$E$5:$K$183,3,0)","v":93.98},{"$f":"VLOOKUP($B70,'FSA21'!$E$5:$K$183,4,0)","v":96.4},{"$f":"VLOOKUP($B70,'FSA23'!$E$5:$K$288,3,0)","v":78.55},{"$f":"VLOOKUP($B70,'FSA23'!$E$5:$K$288,4,0)","v":93.56},{"$f":"VLOOKUP($B70,'FSA23'!$E$5:$K$288,5,0)","v":75.150000000000006},{"$f":"VLOOKUP($B70,'FSA23'!$E$5:$K$288,6,0)","v":78.66},{"$f":"VLOOKUP($B70,'FSA23'!$E$5:$K$288,7,0)","v":82.36},{"$f":"AVERAGE(G70:K70)+$T70","v":82.696000000000012},{"$f":"AVERAGE(H70:L70)+$T70","v":83.525200000000012},{"$f":"AVERAGE(I70:M70)+$T70","v":81.518240000000006},null,null,null,1.92,0.47,1.04,null,{"$f":"C70-($T70*6)","v":{"$error":"#REF!"}},{"$f":"D70-($T70*5)","v":{"$error":"#REF!"}},93.98,96.4,78.55,93.56,75.150000000000006,78.66,82.36,82.696000000000012,83.525200000000012]
["OTTAWA","DeltaCornAll",{"$f":"VLOOKUP($B71,#REF!,3,0)","v":{"$error":"#REF!"}},{"$f":"VLOOKUP($B71,#REF!,4,0)","v":{"$error":"#REF!"}},{"$f":"VLOOKUP($B71,'FSA21'!$E$5:$K$183,3,0)","v":141.1},{"$f":"VLOOKUP($B71,'FSA21'!$E$5:$K$183,4,0)","v":120.83},{"$f":"VLOOKUP($B71,'FSA23'!$E$5:$K$288,3,0)","v":61.98},{"$f":"VLOOKUP($B71,'FSA23'!$E$5:$K$288,4,0)","v":159.56},{"$f":"VLOOKUP($B71,'FSA23'!$E$5:$K$288,5,0)","v":61.559999999999995},{"$f":"VLOOKUP($B71,'FSA23'!$E$5:$K$288,6,0)","v":189.43},{"$f":"VLOOKUP($B71,'FSA23'!$E$5:$K$288,7,0)","v":97.490000000000009},{"$f":"AVERAGE(G71:K71)+$R71","v":114.91399999999999},{"$f":"AVERAGE(H71:L71)+$R71","v":125.50079999999998},{"$f":"AVERAGE(I71:M71)+$R71","v":118.68896000000001},null,null,null,0.91,0.28000000000000003,0.67,null,{"$f":"C71-($R71*6)","v":{"$error":"#REF!"}},{"$f":"D71-($R71*5)","v":{"$error":"#REF!"}},141.1,120.83,61.98,159.56,61.559999999999995,189.43,97.490000000000009,114.91399999999999,125.50079999999998]
["PRESQUE ISLE","DeltaSoybeansAll",{"$f":"VLOOKUP($B72,#REF!,3,0)","v":{"$error":"#REF!"}},{"$f":"VLOOKUP($B72,#REF!,4,0)","v":{"$error":"#REF!"}},{"$f":"VLOOKUP($B72,'FSA21'!$E$5:$K$183,3,0)","v":36},{"$f":"VLOOKUP($B72,'FSA21'!$E$5:$K$183,4,0)","v":35},{"$f":"VLOOKUP($B72,'FSA23'!$E$5:$K$288,3,0)","v":37},{"$f":"VLOOKUP($B72,'FSA23'!$E$5:$K$288,4,0)","v":37},{"$f":"VLOOKUP($B72,'FSA23'!$E$5:$K$288,5,0)","v":34.4},{"$f":"VLOOKUP($B72,'FSA23'!$E$5:$K$288,6,0)","v":40.1},{"$f":"VLOOKUP($B72,'FSA23'!$E$5:$K$288,7,0)","v":33.200000000000003},{"$f":"AVERAGE(G72:K72)+$S72","v":36.619999999999997},{"$f":"AVERAGE(H72:L72)+$S72","v":36.543999999999997},{"$f":"AVERAGE(I72:M72)+$S72","v":36.452799999999996},null,null,null,0.91,0.28000000000000003,0.67,null,{"$f":"C72-($S72*6)","v":{"$error":"#REF!"}},{"$f":"D72-($S72*5)","v":{"$error":"#REF!"}},36,35,37,37,34.4,40.1,33.200000000000003,36.619999999999997,36.543999999999997]
["ROSCOMMON","DeltaWheatAll",{"$f":"VLOOKUP($B73,#REF!,3,0)","v":{"$error":"#REF!"}},{"$f":"VLOOKUP($B73,#REF!,4,0)","v":{"$error":"#REF!"}},{"$f":"VLOOKUP($B73,'FSA21'!$E$5:$K$183,3,0)","v":51},{"$f":"VLOOKUP($B73,'FSA21'!$E$5:$K$183,4,0)","v":55},{"$f":"VLOOKUP($B73,'FSA23'!$E$5:$K$288,3,0)","v":52},{"$f":"VLOOKUP($B73,'FSA23'!$E$5:$K$288,4,0)","v":40},{"$f":"VLOOKUP($B73,'FSA23'!$E$5:$K$288,5,0)","v":53.1},{"$f":"VLOOKUP($B73,'FSA23'!$E$5:$K$288,6,0)","v":50.4},{"$f":"VLOOKUP($B73,'FSA23'!$E$5:$K$288,7,0)","v":61.66},{"$f":"AVERAGE(G73:K73)+$T73","v":52.101999999999997},{"$f":"AVERAGE(H73:L73)+$T73","v":52.122399999999999},{"$f":"AVERAGE(I73:M73)+$T73","v":54.546880000000009},null,null,null,0.91,0.28000000000000003,0.67,null,{"$f":"C73-($T73*6)","v":{"$error":"#REF!"}},{"$f":"D73-($T73*5)","v":{"$error":"#REF!"}},51,55,52,40,53.1,50.4,61.66,52.101999999999997,52.122399999999999]
["SAGINAW","DickinsonCornAll",{"$f":"VLOOKUP($B74,#REF!,3,0)","v":{"$error":"#REF!"}},{"$f":"VLOOKUP($B74,#REF!,4,0)","v":{"$error":"#REF!"}},{"$f":"VLOOKUP($B74,'FSA21'!$E$5:$K$183,3,0)","v":170.29},{"$f":"VLOOKUP($B74,'FSA21'!$E$5:$K$183,4,0)","v":66.09},{"$f":"VLOOKUP($B74,'FSA23'!$E$5:$K$288,3,0)","v":80.84},{"$f":"VLOOKUP($B74,'FSA23'!$E$5:$K$288,4,0)","v":157.62},{"$f":"VLOOKUP($B74,'FSA23'!$E$5:$K$288,5,0)","v":61.6},{"$f":"VLOOKUP($B74,'FSA23'!$E$5:$K$288,6,0)","v":180.08},{"$f":"VLOOKUP($B74,'FSA23'!$E$5:$K$288,7,0)","v":104.96},{"$f":"AVERAGE(G74:K74)+$R74","v":118.10000000000001},{"$f":"AVERAGE(H74:L74)+$R74","v":125.55200000000001},{"$f":"AVERAGE(I74:M74)+$R74","v":119.1384},null,null,null,1.08,null,0.56000000000000005,null,{"$f":"C74-($R74*6)","v":{"$error":"#REF!"}},{"$f":"D74-($R74*5)","v":{"$error":"#REF!"}},170.29,66.09,80.84,157.62,61.6,180.08,104.96,118.10000000000001,125.55200000000001]
["SANILAC","DickinsonWheatAll",{"$f":"VLOOKUP($B75,#REF!,3,0)","v":{"$error":"#REF!"}},{"$f":"VLOOKUP($B75,#REF!,4,0)","v":{"$error":"#REF!"}},{"$f":"VLOOKUP($B75,#REF!,5,0)","v":{"$error":"#REF!"}},{"$f":"VLOOKUP($B75,#REF!,6,0)","v":{"$error":"#REF!"}},{"$f":"VLOOKUP($B75,'FSA23'!$E$5:$K$288,3,0)","v":{"$error":"#N/A"}},{"$f":"VLOOKUP($B75,'FSA23'!$E$5:$K$288,4,0)","v":{"$error":"#N/A"}},{"$f":"VLOOKUP($B75,'FSA23'!$E$5:$K$288,5,0)","v":{"$error":"#N/A"}},{"$f":"VLOOKUP($B75,'FSA23'!$E$5:$K$288,6,0)","v":{"$error":"#N/A"}},{"$f":"VLOOKUP($B75,'FSA23'!$E$5:$K$288,7,0)","v":{"$error":"#N/A"}},{"$f":"AVERAGE(G75:K75)+$T75","v":{"$error":"#N/A"}},{"$f":"AVERAGE(H75:L75)+$T75","v":{"$error":"#N/A"}},{"$f":"AVERAGE(I75:M75)+$T75","v":{"$error":"#N/A"}},null,null,null,1.08,null,0.56000000000000005,null,{"$f":"C75-($T75*6)","v":{"$error":"#REF!"}},{"$f":"D75-($T75*5)","v":{"$error":"#REF!"}},{"$error":"#REF!"},{"$error":"#REF!"},{"$error":"#N/A"},{"$error":"#N/A"},{"$error":"#N/A"},{"$error":"#N/A"},{"$error":"#N/A"},{"$error":"#N/A"},{"$error":"#N/A"}]
["SCHOOLCRAFT","EatonCornAll",{"$f":"VLOOKUP($B76,#REF!,3,0)","v":{"$error":"#REF!"}},{"$f":"VLOOKUP($B76,#REF!,4,0)","v":{"$error":"#REF!"}},{"$f":"VLOOKUP($B76,'FSA21'!$E$5:$K$183,3,0)","v":174.34},{"$f":"VLOOKUP($B76,'FSA21'!$E$5:$K$183,4,0)","v":153.32},{"$f":"VLOOKUP($B76,'FSA23'!$E$5:$K$288,3,0)","v":186.83},{"$f":"VLOOKUP($B76,'FSA23'!$E$5:$K$288,4,0)","v":163.37},{"$f":"VLOOKUP($B76,'FSA23'!$E$5:$K$288,5,0)","v":142.08000000000001},{"$f":"VLOOKUP($B76,'FSA23'!$E$5:$K$288,6,0)","v":161.4},{"$f":"VLOOKUP($B76,'FSA23'!$E$5:$K$288,7,0)","v":176.76},{"$f":"AVERAGE(G76:K76)+$R76","v":168.16800000000003},{"$f":"AVERAGE(H76:L76)+$R76","v":164.43560000000002},{"$f":"AVERAGE(I76:M76)+$R76","v":164.64872000000003},null,null,null,2.08,0.47,0.79,null,{"$f":"C76-($R76*6)","v":{"$error":"#REF!"}},{"$f":"D76-($R76*5)","v":{"$error":"#REF!"}},174.34,153.32,186.83,163.37,142.08000000000001,161.4,176.76,168.16800000000003,164.43560000000002]
["SHIAWASSEE","EatonSoybeansIrrigated",{"$f":"VLOOKUP($B77,#REF!,3,0)","v":{"$error":"#REF!"}},{"$f":"VLOOKUP($B77,#REF!,4,0)","v":{"$error":"#REF!"}},{"$f":"VLOOKUP($B77,#REF!,5,0)","v":{"$error":"#REF!"}},{"$f":"VLOOKUP($B77,#REF!,6,0)","v":{"$error":"#REF!"}},{"$f":"VLOOKUP($B77,'FSA23'!$E$5:$K$288,3,0)","v":54.37},{"$f":"VLOOKUP($B77,'FSA23'!$E$5:$K$288,4,0)","v":64.69},{"$f":"VLOOKUP($B77,'FSA23'!$E$5:$K$288,5,0)","v":48.18},{"$f":"VLOOKUP($B77,'FSA23'!$E$5:$K$288,6,0)","v":54.47},{"$f":"VLOOKUP($B77,'FSA23'!$E$5:$K$288,7,0)","v":55.3},{"$f":"AVERAGE(G77:K77)+$S77","v":55.872},56.172399999999996,54.468879999999999,null,null,null,2.08,0.47,0.79,null,{"$f":"C77-($S77*6)","v":{"$error":"#REF!"}},{"$f":"D77-($S77*5)","v":{"$error":"#REF!"}},{"$error":"#REF!"},{"$error":"#REF!"},54.37,64.69,48.18,54.47,55.3,55.872,56.172399999999996]
["St. Clair","EatonSoybeansNonirrigated",{"$f":"VLOOKUP($B78,#REF!,3,0)","v":{"$error":"#REF!"}},{"$f":"VLOOKUP($B78,#REF!,4,0)","v":{"$error":"#REF!"}},{"$f":"VLOOKUP($B78,'FSA21'!$E$5:$K$183,3,0)","v":49.42},{"$f":"VLOOKUP($B78,'FSA21'!$E$5:$K$183,4,0)","v":53.45},{"$f":"VLOOKUP($B78,'FSA23'!$E$5:$K$288,3,0)","v":45.589999999999996},{"$f":"VLOOKUP($B78,'FSA23'!$E$5:$K$288,4,0)","v":51.800000000000004},{"$f":"VLOOKUP($B78,'FSA23'!$E$5:$K$288,5,0)","v":37.46},{"$f":"VLOOKUP($B78,'FSA23'!$E$5:$K$288,6,0)","v":50.28},{"$f":"VLOOKUP($B78,'FSA23'!$E$5:$K$288,7,0)","v":53.33},48.161999999999992,48.676399999999994,48.05167999999999,null,null,null,2.08,0.47,0.79,null,{"$f":"C78-($S78*6)","v":{"$error":"#REF!"}},{"$f":"D78-($S78*5)","v":{"$error":"#REF!"}},49.42,53.45,45.589999999999996,51.800000000000004,37.46,50.28,53.33,48.161999999999992,48.676399999999994]
["ST. JOSEPH","EatonWheatAll",{"$f":"VLOOKUP($B79,#REF!,3,0)","v":{"$error":"#REF!"}},{"$f":"VLOOKUP($B79,#REF!,4,0)","v":{"$error":"#REF!"}},{"$f":"VLOOKUP($B79,'FSA21'!$E$5:$K$183,3,0)","v":75.13000000000001},{"$f":"VLOOKUP($B79,'FSA21'!$E$5:$K$183,4,0)","v":85.58},{"$f":"VLOOKUP($B79,'FSA23'!$E$5:$K$288,3,0)","v":77.5},{"$f":"VLOOKUP($B79,'FSA23'!$E$5:$K$288,4,0)","v":78.86},{"$f":"VLOOKUP($B79,'FSA23'!$E$5:$K$288,5,0)","v":62.730000000000004},{"$f":"VLOOKUP($B79,'FSA23'!$E$5:$K$288,6,0)","v":74.75},{"$f":"VLOOKUP($B79,'FSA23'!$E$5:$K$288,7,0)","v":73.64},{"$f":"AVERAGE(G79:K79)+$T79","v":74.286000000000016},{"$f":"AVERAGE(H79:L79)+$T79","v":73.643200000000007},{"$f":"AVERAGE(I79:M79)+$T79","v":72.599840000000015},null,null,null,2.08,0.47,0.79,null,{"$f":"C79-($T79*6)","v":{"$error":"#REF!"}},{"$f":"D79-($T79*5)","v":{"$error":"#REF!"}},75.13000000000001,85.58,77.5,78.86,62.730000000000004,74.75,73.64,74.286000000000016,73.643200000000007]
["TUSCOLA","EmmetCornAll",{"$f":"VLOOKUP($B80,#REF!,3,0)","v":{"$error":"#REF!"}},{"$f":"VLOOKUP($B80,#REF!,4,0)","v":{"$error":"#REF!"}},{"$f":"VLOOKUP($B80,'FSA21'!$E$5:$K$183,3,0)","v":119.32},{"$f":"VLOOKUP($B80,'FSA21'!$E$5:$K$183,4,0)","v":112.77},{"$f":"VLOOKUP($B80,'FSA23'!$E$5:$K$288,3,0)","v":125.34},{"$f":"VLOOKUP($B80,'FSA23'!$E$5:$K$288,4,0)","v":115.45},{"$f":"VLOOKUP($B80,'FSA23'!$E$5:$K$288,5,0)","v":84.36},{"$f":"VLOOKUP($B80,'FSA23'!$E$5:$K$288,6,0)","v":131.57},{"$f":"VLOOKUP($B80,'FSA23'!$E$5:$K$288,7,0)","v":137.61000000000001},{"$f":"AVERAGE(G80:K80)+$R80","v":119.86600000000001},{"$f":"AVERAGE(H80:L80)+$R80","v":118.77119999999999},{"$f":"AVERAGE(I80:M80)+$R80","v":119.43544000000001},null,null,null,1,0.28000000000000003,0.79,null,{"$f":"C80-($R80*6)","v":{"$error":"#REF!"}},{"$f":"D80-($R80*5)","v":{"$error":"#REF!"}},119.32,112.77,125.34,115.45,84.36,131.57,137.61000000000001,119.86600000000001,118.77119999999999]
["VAN BUREN","EmmetSoybeansAll",{"$f":"VLOOKUP($B81,#REF!,3,0)","v":{"$error":"#REF!"}},{"$f":"VLOOKUP($B81,#REF!,4,0)","v":{"$error":"#REF!"}},{"$f":"VLOOKUP($B81,#REF!,5,0)","v":{"$error":"#REF!"}},{"$f":"VLOOKUP($B81,#REF!,6,0)","v":{"$error":"#REF!"}},{"$f":"VLOOKUP($B81,'FSA23'!$E$5:$K$288,3,0)","v":40.799999999999997},{"$f":"VLOOKUP($B81,'FSA23'!$E$5:$K$288,4,0)","v":40.799999999999997},{"$f":"VLOOKUP($B81,'FSA23'!$E$5:$K$288,5,0)","v":40.799999999999997},{"$f":"VLOOKUP($B81,'FSA23'!$E$5:$K$288,6,0)","v":40.799999999999997},{"$f":"VLOOKUP($B81,'FSA23'!$E$5:$K$288,7,0)","v":40.799999999999997},{"$f":"AVERAGE(G81:K81)+$S81","v":41.08},{"$f":"AVERAGE(H81:L81)+$S81","v":41.135999999999996},{"$f":"AVERAGE(I81:M81)+$S81","v":41.203199999999995},null,null,null,1,0.28000000000000003,0.79,null,{"$f":"C81-($S81*6)","v":{"$error":"#REF!"}},{"$f":"D81-($S81*5)","v":{"$error":"#REF!"}},{"$error":"#REF!"},{"$error":"#REF!"},40.799999999999997,40.799999999999997,40.799999999999997,40.799999999999997,40.799999999999997,41.08,41.135999999999996]
["WASHTENAW","EmmetWheatAll",{"$f":"VLOOKUP($B82,#REF!,3,0)","v":{"$error":"#REF!"}},{"$f":"VLOOKUP($B82,#REF!,4,0)","v":{"$error":"#REF!"}},{"$f":"VLOOKUP($B82,#REF!,5,0)","v":{"$error":"#REF!"}},{"$f":"VLOOKUP($B82,#REF!,6,0)","v":{"$error":"#REF!"}},{"$f":"VLOOKUP($B82,'FSA23'!$E$5:$K$288,3,0)","v":55.2},{"$f":"VLOOKUP($B82,'FSA23'!$E$5:$K$288,4,0)","v":40},{"$f":"VLOOKUP($B82,'FSA23'!$E$5:$K$288,5,0)","v":55.2},{"$f":"VLOOKUP($B82,'FSA23'!$E$5:$K$288,6,0)","v":55.2},{"$f":"VLOOKUP($B82,'FSA23'!$E$5:$K$288,7,0)","v":55.2},{"$f":"AVERAGE(G82:K82)+$T82","v":52.95},{"$f":"AVERAGE(H82:L82)+$T82","v":52.5},{"$f":"AVERAGE(I82:M82)+$T82","v":55},null,null,null,1,0.28000000000000003,0.79,null,{"$f":"C82-($T82*6)","v":{"$error":"#REF!"}},{"$f":"D82-($T82*5)","v":{"$error":"#REF!"}},{"$error":"#REF!"},{"$error":"#REF!"},55.2,40,55.2,55.2,55.2,52.95,52.5]
["WAYNE","GeneseeCornAll",{"$f":"VLOOKUP($B83,#REF!,3,0)","v":{"$error":"#REF!"}},{"$f":"VLOOKUP($B83,#REF!,4,0)","v":{"$error":"#REF!"}},{"$f":"VLOOKUP($B83,'FSA21'!$E$5:$K$183,3,0)","v":184.69},{"$f":"VLOOKUP($B83,'FSA21'!$E$5:$K$183,4,0)","v":160.07999999999998},{"$f":"VLOOKUP($B83,'FSA23'!$E$5:$K$288,3,0)","v":178.39000000000001},{"$f":"VLOOKUP($B83,'FSA23'!$E$5:$K$288,4,0)","v":170.26000000000002},{"$f":"VLOOKUP($B83,'FSA23'!$E$5:$K$288,5,0)","v":145.29},{"$f":"VLOOKUP($B83,'FSA23'!$E$5:$K$288,6,0)","v":155.16999999999999},{"$f":"VLOOKUP($B83,'FSA23'!$E$5:$K$288,7,0)","v":175.20000000000002},{"$f":"AVERAGE(G83:K83)+$R83","v":166.37200000000001},{"$f":"AVERAGE(H83:L83)+$R83","v":163.96840000000003},{"$f":"AVERAGE(I83:M83)+$R83","v":162.71007999999998},null,null,null,1.51,0.39,0.7,null,{"$f":"C83-($R83*6)","v":{"$error":"#REF!"}},{"$f":"D83-($R83*5)","v":{"$error":"#REF!"}},184.69,160.07999999999998,178.39000000000001,170.26000000000002,145.29,155.16999999999999,175.20000000000002,166.37200000000001,163.96840000000003]
["WEXFORD","GeneseeSoybeansAll",{"$f":"VLOOKUP($B84,#REF!,3,0)","v":{"$error":"#REF!"}},{"$f":"VLOOKUP($B84,#REF!,4,0)","v":{"$error":"#REF!"}},{"$f":"VLOOKUP($B84,'FSA21'!$E$5:$K$183,3,0)","v":50.75},{"$f":"VLOOKUP($B84,'FSA21'!$E$5:$K$183,4,0)","v":45.64},{"$f":"VLOOKUP($B84,'FSA23'!$E$5:$K$288,3,0)","v":42.769999999999996},{"$f":"VLOOKUP($B84,'FSA23'!$E$5:$K$288,4,0)","v":49.5},{"$f":"VLOOKUP($B84,'FSA23'!$E$5:$K$288,5,0)","v":38.769999999999996},{"$f":"VLOOKUP($B84,'FSA23'!$E$5:$K$288,6,0)","v":46.15},{"$f":"VLOOKUP($B84,'FSA23'!$E$5:$K$288,7,0)","v":48.690000000000005},{"$f":"AVERAGE(G84:K84)+$S84","v":45.566000000000003},{"$f":"AVERAGE(H84:L84)+$S84","v":46.1252},{"$f":"AVERAGE(I84:M84)+$S84","v":45.450240000000001},null,null,null,1.51,0.39,0.7,null,{"$f":"C84-($S84*6)","v":{"$error":"#REF!"}},{"$f":"D84-($S84*5)","v":{"$error":"#REF!"}},50.75,45.64,42.769999999999996,49.5,38.769999999999996,46.15,48.690000000000005,45.566000000000003,46.1252]
[null,"GeneseeWheatAll",{"$f":"VLOOKUP($B85,#REF!,3,0)","v":{"$error":"#REF!"}},{"$f":"VLOOKUP($B85,#REF!,4,0)","v":{"$error":"#REF!"}},{"$f":"VLOOKUP($B85,'FSA21'!$E$5:$K$183,3,0)","v":81.92},{"$f":"VLOOKUP($B85,'FSA21'!$E$5:$K$183,4,0)","v":83.9},{"$f":"VLOOKUP($B85,'FSA23'!$E$5:$K$288,3,0)","v":72.98},{"$f":"VLOOKUP($B85,'FSA23'!$E$5:$K$288,4,0)","v":79.58},{"$f":"VLOOKUP($B85,'FSA23'!$E$5:$K$288,5,0)","v":65.900000000000006},{"$f":"VLOOKUP($B85,'FSA23'!$E$5:$K$288,6,0)","v":62.42},{"$f":"VLOOKUP($B85,'FSA23'!$E$5:$K$288,7,0)","v":79.09},{"$f":"AVERAGE(G85:K85)+$T85","v":72.694000000000003},{"$f":"AVERAGE(H85:L85)+$T85","v":72.636800000000008},{"$f":"AVERAGE(I85:M85)+$T85","v":71.248159999999999},null,null,null,1.51,0.39,0.7,null,{"$f":"C85-($T85*6)","v":{"$error":"#REF!"}},{"$f":"D85-($T85*5)","v":{"$error":"#REF!"}},81.92,83.9,72.98,79.58,65.900000000000006,62.42,79.09,72.694000000000003,72.636800000000008]
[null,"GladwinCornAll",{"$f":"VLOOKUP($B86,#REF!,3,0)","v":{"$error":"#REF!"}},{"$f":"VLOOKUP($B86,#REF!,4,0)","v":{"$error":"#REF!"}},{"$f":"VLOOKUP($B86,'FSA21'!$E$5:$K$183,3,0)","v":156.41},{"$f":"VLOOKUP($B86,'FSA21'!$E$5:$K$183,4,0)","v":153.67000000000002},{"$f":"VLOOKUP($B86,'FSA23'!$E$5:$K$288,3,0)","v":154.34},{"$f":"VLOOKUP($B86,'FSA23'!$E$5:$K$288,4,0)","v":175.27},{"$f":"VLOOKUP($B86,'FSA23'!$E$5:$K$288,5,0)","v":139.16999999999999},{"$f":"VLOOKUP($B86,'FSA23'!$E$5:$K$288,6,0)","v":156.94},{"$f":"VLOOKUP($B86,'FSA23'!$E$5:$K$288,7,0)","v":186.22},{"$f":"AVERAGE(G86:K86)+$R86","v":164.44800000000001},{"$f":"AVERAGE(H86:L86)+$R86","v":166.46960000000001},{"$f":"AVERAGE(I86:M86)+$R86","v":164.70952},null,null,null,2.06,0.51,0.85,null,{"$f":"C86-($R86*6)","v":{"$error":"#REF!"}},{"$f":"D86-($R86*5)","v":{"$error":"#REF!"}},156.41,153.67000000000002,154.34,175.27,139.16999999999999,156.94,186.22,164.44800000000001,166.46960000000001]
[null,"GladwinSoybeansAll",{"$f":"VLOOKUP($B87,#REF!,3,0)","v":{"$error":"#REF!"}},{"$f":"VLOOKUP($B87,#REF!,4,0)","v":{"$error":"#REF!"}},{"$f":"VLOOKUP($B87,'FSA21'!$E$5:$K$183,3,0)","v":44.910000000000004},{"$f":"VLOOKUP($B87,'FSA21'!$E$5:$K$183,4,0)","v":44.82},{"$f":"VLOOKUP($B87,'FSA23'!$E$5:$K$288,3,0)","v":41.26},{"$f":"VLOOKUP($B87,'FSA23'!$E$5:$K$288,4,0)","v":43.16},{"$f":"VLOOKUP($B87,'FSA23'!$E$5:$K$288,5,0)","v":33.64},{"$f":"VLOOKUP($B87,'FSA23'!$E$5:$K$288,6,0)","v":41.949999999999996},{"$f":"VLOOKUP($B87,'FSA23'!$E$5:$K$288,7,0)","v":47.69},{"$f":"AVERAGE(G87:K87)+$S87","v":42.05},{"$f":"AVERAGE(H87:L87)+$S87","v":42.207999999999998},{"$f":"AVERAGE(I87:M87)+$S87","v":42.017599999999995},null,null,null,2.06,0.51,0.85,null,{"$f":"C87-($S87*6)","v":{"$error":"#REF!"}},{"$f":"D87-($S87*5)","v":{"$error":"#REF!"}},44.910000000000004,44.82,41.26,43.16,33.64,41.949999999999996,47.69,42.05,42.207999999999998]
[null,"GladwinWheatAll",{"$f":"VLOOKUP($B88,#REF!,3,0)","v":{"$error":"#REF!"}},{"$f":"VLOOKUP($B88,#REF!,4,0)","v":{"$error":"#REF!"}},{"$f":"VLOOKUP($B88,'FSA21'!$E$5:$K$183,3,0)","v":92.53},{"$f":"VLOOKUP($B88,'FSA21'!$E$5:$K$183,4,0)","v":84.08},{"$f":"VLOOKUP($B88,'FSA23'!$E$5:$K$288,3,0)","v":62.94},{"$f":"VLOOKUP($B88,'FSA23'!$E$5:$K$288,4,0)","v":77.210000000000008},{"$f":"VLOOKUP($B88,'FSA23'!$E$5:$K$288,5,0)","v":59.36},{"$f":"VLOOKUP($B88,'FSA23'!$E$5:$K$288,6,0)","v":58.72},{"$f":"VLOOKUP($B88,'FSA23'!$E$5:$K$288,7,0)","v":77.180000000000007},{"$f":"AVERAGE(G88:K88)+$T88","v":67.932000000000002},{"$f":"AVERAGE(H88:L88)+$T88","v":68.930400000000006},{"$f":"AVERAGE(I88:M88)+$T88","v":67.274479999999997},null,null,null,2.06,0.51,0.85,null,{"$f":"C88-($T88*6)","v":{"$error":"#REF!"}},{"$f":"D88-($T88*5)","v":{"$error":"#REF!"}},92.53,84.08,62.94,77.210000000000008,59.36,58.72,77.180000000000007,67.932000000000002,68.930400000000006]
[null,"Grand TraverseCornAll",{"$f":"VLOOKUP($B89,#REF!,3,0)","v":{"$error":"#REF!"}},{"$f":"VLOOKUP($B89,#REF!,4,0)","v":{"$error":"#REF!"}},{"$f":"VLOOKUP($B89,'FSA21'!$E$5:$K$183,3,0)","v":108.46},{"$f":"VLOOKUP($B89,'FSA21'!$E$5:$K$183,4,0)","v":82.96},{"$f":"VLOOKUP($B89,'FSA23'!$E$5:$K$288,3,0)","v":133.76},{"$f":"VLOOKUP($B89,'FSA23'!$E$5:$K$288,4,0)","v":89.15},{"$f":"VLOOKUP($B89,'FSA23'!$E$5:$K$288,5,0)","v":105.97999999999999},{"$f":"VLOOKUP($B89,'FSA23'!$E$5:$K$288,6,0)","v":106.96},{"$f":"VLOOKUP($B89,'FSA23'!$E$5:$K$288,7,0)","v":153.16999999999999},{"$f":"AVERAGE(G89:K89)+$R89","v":118.494},{"$f":"AVERAGE(H89:L89)+$R89","v":115.4408},{"$f":"AVERAGE(I89:M89)+$R89","v":120.69896},null,null,null,0.69,0.27,0.51,null,{"$f":"C89-($R89*6)","v":{"$error":"#REF!"}},{"$f":"D89-($R89*5)","v":{"$error":"#REF!"}},108.46,82.96,133.76,89.15,105.97999999999999,106.96,153.16999999999999,118.494,115.4408]
[null,"Grand TraverseSoybeansAll",{"$f":"VLOOKUP($B90,#REF!,3,0)","v":{"$error":"#REF!"}},{"$f":"VLOOKUP($B90,#REF!,4,0)","v":{"$error":"#REF!"}},{"$f":"VLOOKUP($B90,'FSA21'!$E$5:$K$183,3,0)","v":27.09},{"$f":"VLOOKUP($B90,'FSA21'!$E$5:$K$183,4,0)","v":30.48},{"$f":"VLOOKUP($B90,'FSA23'!$E$5:$K$288,3,0)","v":34.869999999999997},{"$f":"VLOOKUP($B90,'FSA23'!$E$5:$K$288,4,0)","v":27.75},{"$f":"VLOOKUP($B90,'FSA23'!$E$5:$K$288,5,0)","v":34.4},{"$f":"VLOOKUP($B90,'FSA23'!$E$5:$K$288,6,0)","v":35.9},{"$f":"VLOOKUP($B90,'FSA23'!$E$5:$K$288,7,0)","v":40.92},{"$f":"AVERAGE(G90:K90)+$S90","v":35.037999999999997},{"$f":"AVERAGE(H90:L90)+$S90","v":35.071599999999997},{"$f":"AVERAGE(I90:M90)+$S90","v":36.535919999999997},null,null,null,0.69,0.27,0.51,null,{"$f":"C90-($S90*6)","v":{"$error":"#REF!"}},{"$f":"D90-($S90*5)","v":{"$error":"#REF!"}},27.09,30.48,34.869999999999997,27.75,34.4,35.9,40.92,35.037999999999997,35.071599999999997]
[null,"Grand TraverseWheatAll",{"$f":"VLOOKUP($B91,#REF!,3,0)","v":{"$error":"#REF!"}},{"$f":"VLOOKUP($B91,#REF!,4,0)","v":{"$error":"#REF!"}},{"$f":"VLOOKUP($B91,'FSA21'!$E$5:$K$183,3,0)","v":45.69},{"$f":"VLOOKUP($B91,'FSA21'!$E$5:$K$183,4,0)","v":47.42},{"$f":"VLOOKUP($B91,'FSA23'!$E$5:$K$288,3,0)","v":56.199999999999996},{"$f":"VLOOKUP($B91,'FSA23'!$E$5:$K$288,4,0)","v":39.11},{"$f":"VLOOKUP($B91,'FSA23'!$E$5:$K$288,5,0)","v":47.12},{"$f":"VLOOKUP($B91,'FSA23'!$E$5:$K$288,6,0)","v":45.19},{"$f":"VLOOKUP($B91,'FSA23'!$E$5:$K$288,7,0)","v":48.72},{"$f":"AVERAGE(G91:K91)+$T91","v":47.777999999999999},{"$f":"AVERAGE(H91:L91)+$T91","v":46.093599999999995},{"$f":"AVERAGE(I91:M91)+$T91","v":47.49031999999999},null,null,null,0.69,0.27,0.51,null,{"$f":"C91-($T91*6)","v":{"$error":"#REF!"}},{"$f":"D91-($T91*5)","v":{"$error":"#REF!"}},45.69,47.42,56.199999999999996,39.11,47.12,45.19,48.72,47.777999999999999,46.093599999999995]
[null,"GratiotCornIrrigated",{"$f":"VLOOKUP($B92,#REF!,3,0)","v":{"$error":"#REF!"}},{"$f":"VLOOKUP($B92,#REF!,4,0)","v":{"$error":"#REF!"}},{"$f":"VLOOKUP($B92,#REF!,5,0)","v":{"$error":"#REF!"}},{"$f":"VLOOKUP($B92,#REF!,6,0)","v":{"$error":"#REF!"}},{"$f":"VLOOKUP($B92,'FSA23'!$E$5:$K$288,3,0)","v":186.67999999999998},{"$f":"VLOOKUP($B92,'FSA23'!$E$5:$K$288,4,0)","v":196.85000000000002},{"$f":"VLOOKUP($B92,'FSA23'!$E$5:$K$288,5,0)","v":185.20000000000002},{"$f":"VLOOKUP($B92,'FSA23'!$E$5:$K$288,6,0)","v":201.59},{"$f":"VLOOKUP($B92,'FSA23'!$E$5:$K$288,7,0)","v":199.22},{"$f":"AVERAGE(G92:K92)+$R92","v":195.68800000000002},197.48960000000002,197.61751999999998,null,null,null,1.78,0.43,1,null,{"$f":"C92-($R92*6)","v":{"$error":"#REF!"}},{"$f":"D92-($R92*5)","v":{"$error":"#REF!"}},{"$error":"#REF!"},{"$error":"#REF!"},186.67999999999998,196.85000000000002,185.20000000000002,201.59,199.22,195.68800000000002,197.48960000000002]
[null,"GratiotCornNonirrigated",{"$f":"VLOOKUP($B93,#REF!,3,0)","v":{"$error":"#REF!"}},{"$f":"VLOOKUP($B93,#REF!,4,0)","v":{"$error":"#REF!"}},{"$f":"VLOOKUP($B93,'FSA21'!$E$5:$K$183,3,0)","v":182.32999999999998},{"$f":"VLOOKUP($B93,'FSA21'!$E$5:$K$183,4,0)","v":177.81},{"$f":"VLOOKUP($B93,'FSA23'!$E$5:$K$288,3,0)","v":164.63},{"$f":"VLOOKUP($B93,'FSA23'!$E$5:$K$288,4,0)","v":174.91},{"$f":"VLOOKUP($B93,'FSA23'!$E$5:$K$288,5,0)","v":152.5},{"$f":"VLOOKUP($B93,'FSA23'!$E$5:$K$288,6,0)","v":170.51},{"$f":"VLOOKUP($B93,'FSA23'!$E$5:$K$288,7,0)","v":180.49},170.38800000000001,171.53960000000001,170.86552,null,null,null,1.78,0.43,1,null,{"$f":"C93-($R93*6)","v":{"$error":"#REF!"}},{"$f":"D93-($R93*5)","v":{"$error":"#REF!"}},182.32999999999998,177.81,164.63,174.91,152.5,170.51,180.49,170.38800000000001,171.53960000000001]
[null,"GratiotSoybeansIrrigated",{"$f":"VLOOKUP($B94,#REF!,3,0)","v":{"$error":"#REF!"}},{"$f":"VLOOKUP($B94,#REF!,4,0)","v":{"$error":"#REF!"}},{"$f":"VLOOKUP($B94,#REF!,5,0)","v":{"$error":"#REF!"}},{"$f":"VLOOKUP($B94,#REF!,6,0)","v":{"$error":"#REF!"}},{"$f":"VLOOKUP($B94,'FSA23'!$E$5:$K$288,3,0)","v":51.49},{"$f":"VLOOKUP($B94,'FSA23'!$E$5:$K$288,4,0)","v":57.440000000000005},{"$f":"VLOOKUP($B94,'FSA23'!$E$5:$K$288,5,0)","v":47.8},{"$f":"VLOOKUP($B94,'FSA23'!$E$5:$K$288,6,0)","v":51.12},{"$f":"VLOOKUP($B94,'FSA23'!$E$5:$K$288,7,0)","v":55},{"$f":"AVERAGE(G94:K94)+$S94","v":53.000000000000007},53.302,52.474399999999996,null,null,null,1.78,0.43,1,null,{"$f":"C94-($S94*6)","v":{"$error":"#REF!"}},{"$f":"D94-($S94*5)","v":{"$error":"#REF!"}},{"$error":"#REF!"},{"$error":"#REF!"},51.49,57.440000000000005,47.8,51.12,55,53.000000000000007,53.302]
[null,"GratiotSoybeansNonirrigated",{"$f":"VLOOKUP($B95,#REF!,3,0)","v":{"$error":"#REF!"}},{"$f":"VLOOKUP($B95,#REF!,4,0)","v":{"$error":"#REF!"}},{"$f":"VLOOKUP($B95,'FSA21'!$E$5:$K$183,3,0)","v":56.12},{"$f":"VLOOKUP($B95,'FSA21'!$E$5:$K$183,4,0)","v":57.1},{"$f":"VLOOKUP($B95,'FSA23'!$E$5:$K$288,3,0)","v":45.65},{"$f":"VLOOKUP($B95,'FSA23'!$E$5:$K$288,4,0)","v":55.13},{"$f":"VLOOKUP($B95,'FSA23'!$E$5:$K$288,5,0)","v":41.44},{"$f":"VLOOKUP($B95,'FSA23'!$E$5:$K$288,6,0)","v":52.239999999999995},{"$f":"VLOOKUP($B95,'FSA23'!$E$5:$K$288,7,0)","v":51.739999999999995},49.669999999999995,50.473999999999997,49.542799999999993,null,null,null,1.78,0.43,1,null,{"$f":"C95-($S95*6)","v":{"$error":"#REF!"}},{"$f":"D95-($S95*5)","v":{"$error":"#REF!"}},56.12,57.1,45.65,55.13,41.44,52.239999999999995,51.739999999999995,49.669999999999995,50.473999999999997]
[null,"GratiotWheatAll",{"$f":"VLOOKUP($B96,#REF!,3,0)","v":{"$error":"#REF!"}},{"$f":"VLOOKUP($B96,#REF!,4,0)","v":{"$error":"#REF!"}},{"$f":"VLOOKUP($B96,'FSA21'!$E$5:$K$183,3,0)","v":92.42},{"$f":"VLOOKUP($B96,'FSA21'!$E$5:$K$183,4,0)","v":90.49},{"$f":"VLOOKUP($B96,'FSA23'!$E$5:$K$288,3,0)","v":80.44},{"$f":"VLOOKUP($B96,'FSA23'!$E$5:$K$288,4,0)","v":93.37},{"$f":"VLOOKUP($B96,'FSA23'!$E$5:$K$288,5,0)","v":70.72},{"$f":"VLOOKUP($B96,'FSA23'!$E$5:$K$288,6,0)","v":69.5},{"$f":"VLOOKUP($B96,'FSA23'!$E$5:$K$288,7,0)","v":85.67},{"$f":"AVERAGE(G96:K96)+$T96","v":80.94},{"$f":"AVERAGE(H96:L96)+$T96","v":81.039999999999992},{"$f":"AVERAGE(I96:M96)+$T96","v":78.573999999999998},null,null,null,1.78,0.43,1,null,{"$f":"C96-($T96*6)","v":{"$error":"#REF!"}},{"$f":"D96-($T96*5)","v":{"$error":"#REF!"}},92.42,90.49,80.44,93.37,70.72,69.5,85.67,80.94,81.039999999999992]
[null,"HillsdaleCornIrrigated",{"$f":"VLOOKUP($B97,#REF!,3,0)","v":{"$error":"#REF!"}},{"$f":"VLOOKUP($B97,#REF!,4,0)","v":{"$error":"#REF!"}},{"$f":"VLOOKUP($B97,#REF!,5,0)","v":{"$error":"#REF!"}},{"$f":"VLOOKUP($B97,#REF!,6,0)","v":{"$error":"#REF!"}},{"$f":"VLOOKUP($B97,'FSA23'!$E$5:$K$288,3,0)","v":203.81},{"$f":"VLOOKUP($B97,'FSA23'!$E$5:$K$288,4,0)","v":187.67},{"$f":"VLOOKUP($B97,'FSA23'!$E$5:$K$288,5,0)","v":198.37},{"$f":"VLOOKUP($B97,'FSA23'!$E$5:$K$288,6,0)","v":213.54999999999998},{"$f":"VLOOKUP($B97,'FSA23'!$E$5:$K$288,7,0)","v":191.79999999999998},{"$f":"AVERAGE(G97:K97)+$R97","v":200.76},200.14999999999998,202.64599999999999,null,null,null,1.72,0.47,0.94,null,{"$f":"C97-($R97*6)","v":{"$error":"#REF!"}},{"$f":"D97-($R97*5)","v":{"$error":"#REF!"}},{"$error":"#REF!"},{"$error":"#REF!"},203.81,187.67,198.37,213.54999999999998,191.79999999999998,200.76,200.14999999999998]
[null,"HillsdaleCornNonirrigated",{"$f":"VLOOKUP($B98,#REF!,3,0)","v":{"$error":"#REF!"}},{"$f":"VLOOKUP($B98,#REF!,4,0)","v":{"$error":"#REF!"}},{"$f":"VLOOKUP($B98,'FSA21'!$E$5:$K$183,3,0)","v":163.82999999999998},{"$f":"VLOOKUP($B98,'FSA21'!$E$5:$K$183,4,0)","v":171.19},{"$f":"VLOOKUP($B98,'FSA23'!$E$5:$K$288,3,0)","v":172.04},{"$f":"VLOOKUP($B98,'FSA23'!$E$5:$K$288,4,0)","v":164.3},{"$f":"VLOOKUP($B98,'FSA23'!$E$5:$K$288,5,0)","v":163.38999999999999},{"$f":"VLOOKUP($B98,'FSA23'!$E$5:$K$288,6,0)","v":154.85},{"$f":"VLOOKUP($B98,'FSA23'!$E$5:$K$288,7,0)","v":181.33},168.90200000000002,168.27440000000001,169.06928000000002,null,null,null,1.72,0.47,0.94,null,{"$f":"C98-($R98*6)","v":{"$error":"#REF!"}},{"$f":"D98-($R98*5)","v":{"$error":"#REF!"}},163.82999999999998,171.19,172.04,164.3,163.38999999999999,154.85,181.33,168.90200000000002,168.27440000000001]
[null,"HillsdaleSoybeansIrrigated",{"$f":"VLOOKUP($B99,#REF!,3,0)","v":{"$error":"#REF!"}},{"$f":"VLOOKUP($B99,#REF!,4,0)","v":{"$error":"#REF!"}},{"$f":"VLOOKUP($B99,#REF!,5,0)","v":{"$error":"#REF!"}},{"$f":"VLOOKUP($B99,#REF!,6,0)","v":{"$error":"#REF!"}},{"$f":"VLOOKUP($B99,'FSA23'!$E$5:$K$288,3,0)","v":52.32},{"$f":"VLOOKUP($B99,'FSA23'!$E$5:$K$288,4,0)","v":57.19},{"$f":"VLOOKUP($B99,'FSA23'!$E$5:$K$288,5,0)","v":55.35},{"$f":"VLOOKUP($B99,'FSA23'!$E$5:$K$288,6,0)","v":58.71},{"$f":"VLOOKUP($B99,'FSA23'!$E$5:$K$288,7,0)","v":56.629999999999995},{"$f":"AVERAGE(G99:K99)+$S99","v":56.51},57.347999999999999,57.379599999999996,null,null,null,1.72,0.47,0.94,null,{"$f":"C99-($S99*6)","v":{"$error":"#REF!"}},{"$f":"D99-($S99*5)","v":{"$error":"#REF!"}},{"$error":"#REF!"},{"$error":"#REF!"},52.32,57.19,55.35,58.71,56.629999999999995,56.51,57.347999999999999]
[null,"HillsdaleSoybeansNonirrigated",{"$f":"VLOOKUP($B100,#REF!,3,0)","v":{"$error":"#REF!"}},{"$f":"VLOOKUP($B100,#REF!,4,0)","v":{"$error":"#REF!"}},{"$f":"VLOOKUP($B100,'FSA21'!$E$5:$K$183,3,0)","v":48.32},{"$f":"VLOOKUP($B100,'FSA21'!$E$5:$K$183,4,0)","v":57.190000000000005},{"$f":"VLOOKUP($B100,'FSA23'!$E$5:$K$288,3,0)","v":45.839999999999996},{"$f":"VLOOKUP($B100,'FSA23'!$E$5:$K$288,4,0)","v":48.78},{"$f":"VLOOKUP($B100,'FSA23'!$E$5:$K$288,5,0)","v":44.43},{"$f":"VLOOKUP($B100,'FSA23'!$E$5:$K$288,6,0)","v":48.980000000000004},{"$f":"VLOOKUP($B100,'FSA23'!$E$5:$K$288,7,0)","v":49.87},48.050000000000004,48.492000000000004,48.434399999999997,null,null,null,1.72,0.47,0.94,null,{"$f":"C100-($S100*6)","v":{"$error":"#REF!"}},{"$f":"D100-($S100*5)","v":{"$error":"#REF!"}},48.32,57.190000000000005,45.839999999999996,48.78,44.43,48.980000000000004,49.87,48.050000000000004,48.492000000000004]
[null,"HillsdaleWheatAll",{"$f":"VLOOKUP($B101,#REF!,3,0)","v":{"$error":"#REF!"}},{"$f":"VLOOKUP($B101,#REF!,4,0)","v":{"$error":"#REF!"}},{"$f":"VLOOKUP($B101,'FSA21'!$E$5:$K$183,3,0)","v":73},{"$f":"VLOOKUP($B101,'FSA21'!$E$5:$K$183,4,0)","v":87.39},{"$f":"VLOOKUP($B101,'FSA23'!$E$5:$K$288,3,0)","v":86.4},{"$f":"VLOOKUP($B101,'FSA23'!$E$5:$K$288,4,0)","v":75.760000000000005},{"$f":"VLOOKUP($B101,'FSA23'!$E$5:$K$288,5,0)","v":60.96},{"$f":"VLOOKUP($B101,'FSA23'!$E$5:$K$288,6,0)","v":65.259999999999991},{"$f":"VLOOKUP($B101,'FSA23'!$E$5:$K$288,7,0)","v":76.42},{"$f":"AVERAGE(G101:K101)+$T101","v":73.900000000000006},{"$f":"AVERAGE(H101:L101)+$T101","v":71.399999999999991},{"$f":"AVERAGE(I101:M101)+$T101","v":70.527999999999992},null,null,null,1.72,0.47,0.94,null,{"$f":"C101-($T101*6)","v":{"$error":"#REF!"}},{"$f":"D101-($T101*5)","v":{"$error":"#REF!"}},73,87.39,86.4,75.760000000000005,60.96,65.259999999999991,76.42,73.900000000000006,71.399999999999991]
[null,"HoughtonCornAll",{"$f":"VLOOKUP($B102,#REF!,3,0)","v":{"$error":"#REF!"}},{"$f":"VLOOKUP($B102,#REF!,4,0)","v":{"$error":"#REF!"}},{"$f":"VLOOKUP($B102,'FSA21'!$E$5:$K$183,3,0)","v":132},{"$f":"VLOOKUP($B102,'FSA21'!$E$5:$K$183,4,0)","v":87},{"$f":"VLOOKUP($B102,'FSA23'!$E$5:$K$288,3,0)","v":58.4},{"$f":"VLOOKUP($B102,'FSA23'!$E$5:$K$288,4,0)","v":111},{"$f":"VLOOKUP($B102,'FSA23'!$E$5:$K$288,5,0)","v":58.49},{"$f":"VLOOKUP($B102,'FSA23'!$E$5:$K$288,6,0)","v":138.6},{"$f":"VLOOKUP($B102,'FSA23'!$E$5:$K$288,7,0)","v":110.84},{"$f":"AVERAGE(G102:K102)+$R102","v":96.536000000000001},{"$f":"AVERAGE(H102:L102)+$R102","v":104.16320000000002},{"$f":"AVERAGE(I102:M102)+$R102","v":102.79584},null,null,null,1.07,null,0.61,null,{"$f":"C102-($R102*6)","v":{"$error":"#REF!"}},{"$f":"D102-($R102*5)","v":{"$error":"#REF!"}},132,87,58.4,111,58.49,138.6,110.84,96.536000000000001,104.16320000000002]
[null,"HoughtonWheatAll",{"$f":"VLOOKUP($B103,#REF!,3,0)","v":{"$error":"#REF!"}},{"$f":"VLOOKUP($B103,#REF!,4,0)","v":{"$error":"#REF!"}},{"$f":"VLOOKUP($B103,#REF!,5,0)","v":{"$error":"#REF!"}},{"$f":"VLOOKUP($B103,#REF!,6,0)","v":{"$error":"#REF!"}},{"$f":"VLOOKUP($B103,'FSA23'!$E$5:$K$288,3,0)","v":{"$error":"#N/A"}},{"$f":"VLOOKUP($B103,'FSA23'!$E$5:$K$288,4,0)","v":{"$error":"#N/A"}},{"$f":"VLOOKUP($B103,'FSA23'!$E$5:$K$288,5,0)","v":{"$error":"#N/A"}},{"$f":"VLOOKUP($B103,'FSA23'!$E$5:$K$288,6,0)","v":{"$error":"#N/A"}},{"$f":"VLOOKUP($B103,'FSA23'!$E$5:$K$288,7,0)","v":{"$error":"#N/A"}},{"$f":"AVERAGE(G103:K103)+$T103","v":{"$error":"#N/A"}},{"$f":"AVERAGE(H103:L103)+$T103","v":{"$error":"#N/A"}},{"$f":"AVERAGE(I103:M103)+$T103","v":{"$error":"#N/A"}},null,null,null,1.07,null,0.61,null,{"$f":"C103-($T103*6)","v":{"$error":"#REF!"}},{"$f":"D103-($T103*5)","v":{"$error":"#REF!"}},{"$error":"#REF!"},{"$error":"#REF!"},{"$error":"#N/A"},{"$error":"#N/A"},{"$error":"#N/A"},{"$error":"#N/A"},{"$error":"#N/A"},{"$error":"#N/A"},{"$error":"#N/A"}]
[null,"HuronCornIrrigated",{"$f":"VLOOKUP($B104,#REF!,3,0)","v":{"$error":"#REF!"}},{"$f":"VLOOKUP($B104,#REF!,4,0)","v":{"$error":"#REF!"}},{"$f":"VLOOKUP($B104,#REF!,5,0)","v":{"$error":"#REF!"}},{"$f":"VLOOKUP($B104,#REF!,6,0)","v":{"$error":"#REF!"}},{"$f":"VLOOKUP($B104,'FSA23'!$E$5:$K$288,3,0)","v":208.45},{"$f":"VLOOKUP($B104,'FSA23'!$E$5:$K$288,4,0)","v":207.21},{"$f":"VLOOKUP($B104,'FSA23'!$E$5:$K$288,5,0)","v":206.79000000000002},{"$f":"VLOOKUP($B104,'FSA23'!$E$5:$K$288,6,0)","v":217.66},{"$f":"VLOOKUP($B104,'FSA23'!$E$5:$K$288,7,0)","v":216.67},{"$f":"AVERAGE(G104:K104)+$R104","v":213.61599999999999},214.64919999999998,216.13703999999998,null,null,null,2.2599999999999998,0.65,1.3,null,{"$f":"C104-($R104*6)","v":{"$error":"#REF!"}},{"$f":"D104-($R104*5)","v":{"$error":"#REF!"}},{"$error":"#REF!"},{"$error":"#REF!"},208.45,207.21,206.79000000000002,217.66,216.67,213.61599999999999,214.64919999999998]
[null,"HuronCornNonirrigated",{"$f":"VLOOKUP($B105,#REF!,3,0)","v":{"$error":"#REF!"}},{"$f":"VLOOKUP($B105,#REF!,4,0)","v":{"$error":"#REF!"}},{"$f":"VLOOKUP($B105,'FSA21'!$E$5:$K$183,3,0)","v":209.8},{"$f":"VLOOKUP($B105,'FSA21'!$E$5:$K$183,4,0)","v":174.16},{"$f":"VLOOKUP($B105,'FSA23'!$E$5:$K$288,3,0)","v":205.28},{"$f":"VLOOKUP($B105,'FSA23'!$E$5:$K$288,4,0)","v":178.93},{"$f":"VLOOKUP($B105,'FSA23'!$E$5:$K$288,5,0)","v":179.42000000000002},{"$f":"VLOOKUP($B105,'FSA23'!$E$5:$K$288,6,0)","v":199.05999999999997},{"$f":"VLOOKUP($B105,'FSA23'!$E$5:$K$288,7,0)","v":221.56},199.10999999999999,197.876,201.66519999999997,null,null,null,2.2599999999999998,0.65,1.3,null,{"$f":"C105-($R105*6)","v":{"$error":"#REF!"}},{"$f":"D105-($R105*5)","v":{"$error":"#REF!"}},209.8,174.16,205.28,178.93,179.42000000000002,199.05999999999997,221.56,199.10999999999999,197.876]
[null,"HuronSoybeansIrrigated",{"$f":"VLOOKUP($B106,#REF!,3,0)","v":{"$error":"#REF!"}},{"$f":"VLOOKUP($B106,#REF!,4,0)","v":{"$error":"#REF!"}},{"$f":"VLOOKUP($B106,#REF!,5,0)","v":{"$error":"#REF!"}},{"$f":"VLOOKUP($B106,#REF!,6,0)","v":{"$error":"#REF!"}},{"$f":"VLOOKUP($B106,'FSA23'!$E$5:$K$288,3,0)","v":50.92},{"$f":"VLOOKUP($B106,'FSA23'!$E$5:$K$288,4,0)","v":59.550000000000004},{"$f":"VLOOKUP($B106,'FSA23'!$E$5:$K$288,5,0)","v":46.76},{"$f":"VLOOKUP($B106,'FSA23'!$E$5:$K$288,6,0)","v":61.17},{"$f":"VLOOKUP($B106,'FSA23'!$E$5:$K$288,7,0)","v":55.67},{"$f":"AVERAGE(G106:K106)+$S106","v":55.463999999999999},56.372800000000005,55.737360000000002,null,null,null,2.2599999999999998,0.65,1.3,null,{"$f":"C106-($S106*6)","v":{"$error":"#REF!"}},{"$f":"D106-($S106*5)","v":{"$error":"#REF!"}},{"$error":"#REF!"},{"$error":"#REF!"},50.92,59.550000000000004,46.76,61.17,55.67,55.463999999999999,56.372800000000005]
[null,"HuronSoybeansNonirrigated",{"$f":"VLOOKUP($B107,#REF!,3,0)","v":{"$error":"#REF!"}},{"$f":"VLOOKUP($B107,#REF!,4,0)","v":{"$error":"#REF!"}},{"$f":"VLOOKUP($B107,#REF!,5,0)","v":{"$error":"#REF!"}},{"$f":"VLOOKUP($B107,#REF!,6,0)","v":{"$error":"#REF!"}},{"$f":"VLOOKUP($B107,'FSA23'!$E$5:$K$288,3,0)","v":57.26},{"$f":"VLOOKUP($B107,'FSA23'!$E$5:$K$288,4,0)","v":49.75},{"$f":"VLOOKUP($B107,'FSA23'!$E$5:$K$288,5,0)","v":47.65},{"$f":"VLOOKUP($B107,'FSA23'!$E$5:$K$288,6,0)","v":52},{"$f":"VLOOKUP($B107,'FSA23'!$E$5:$K$288,7,0)","v":57.55},53.491999999999997,52.738399999999999,53.336079999999988,null,null,null,2.2599999999999998,0.65,1.3,null,{"$f":"C107-($S107*6)","v":{"$error":"#REF!"}},{"$f":"D107-($S107*5)","v":{"$error":"#REF!"}},{"$error":"#REF!"},{"$error":"#REF!"},57.26,49.75,47.65,52,57.55,53.491999999999997,52.738399999999999]
[null,"HuronWheatAll",{"$f":"VLOOKUP($B108,#REF!,3,0)","v":{"$error":"#REF!"}},{"$f":"VLOOKUP($B108,#REF!,4,0)","v":{"$error":"#REF!"}},{"$f":"VLOOKUP($B108,'FSA21'!$E$5:$K$183,3,0)","v":114.12},{"$f":"VLOOKUP($B108,'FSA21'!$E$5:$K$183,4,0)","v":110.57},{"$f":"VLOOKUP($B108,'FSA23'!$E$5:$K$288,3,0)","v":100.48},{"$f":"VLOOKUP($B108,'FSA23'!$E$5:$K$288,4,0)","v":87.36},{"$f":"VLOOKUP($B108,'FSA23'!$E$5:$K$288,5,0)","v":93.31},{"$f":"VLOOKUP($B108,'FSA23'!$E$5:$K$288,6,0)","v":95.94},{"$f":"VLOOKUP($B108,'FSA23'!$E$5:$K$288,7,0)","v":89.38},{"$f":"AVERAGE(G108:K108)+$T108","v":94.593999999999994},{"$f":"AVERAGE(H108:L108)+$T108","v":93.416799999999995},{"$f":"AVERAGE(I108:M108)+$T108","v":94.628159999999994},null,null,null,2.2599999999999998,0.65,1.3,null,{"$f":"C108-($T108*6)","v":{"$error":"#REF!"}},{"$f":"D108-($T108*5)","v":{"$error":"#REF!"}},114.12,110.57,100.48,87.36,93.31,95.94,89.38,94.593999999999994,93.416799999999995]
[null,"InghamCornAll",{"$f":"VLOOKUP($B109,#REF!,3,0)","v":{"$error":"#REF!"}},{"$f":"VLOOKUP($B109,#REF!,4,0)","v":{"$error":"#REF!"}},{"$f":"VLOOKUP($B109,'FSA21'!$E$5:$K$183,3,0)","v":181.76},{"$f":"VLOOKUP($B109,'FSA21'!$E$5:$K$183,4,0)","v":164.21},{"$f":"VLOOKUP($B109,'FSA23'!$E$5:$K$288,3,0)","v":172.86},{"$f":"VLOOKUP($B109,'FSA23'!$E$5:$K$288,4,0)","v":159.79},{"$f":"VLOOKUP($B109,'FSA23'!$E$5:$K$288,5,0)","v":160.87},{"$f":"VLOOKUP($B109,'FSA23'!$E$5:$K$288,6,0)","v":162.88},{"$f":"VLOOKUP($B109,'FSA23'!$E$5:$K$288,7,0)","v":196.32999999999998},{"$f":"AVERAGE(G109:K109)+$R109","v":172.566},{"$f":"AVERAGE(H109:L109)+$R109","v":172.50719999999998},{"$f":"AVERAGE(I109:M109)+$R109","v":175.05064000000002},null,null,null,2.02,0.5,1.05,null,{"$f":"C109-($R109*6)","v":{"$error":"#REF!"}},{"$f":"D109-($R109*5)","v":{"$error":"#REF!"}},181.76,164.21,172.86,159.79,160.87,162.88,196.32999999999998,172.566,172.50719999999998]
[null,"InghamSoybeansIrrigated",{"$f":"VLOOKUP($B110,#REF!,3,0)","v":{"$error":"#REF!"}},{"$f":"VLOOKUP($B110,#REF!,4,0)","v":{"$error":"#REF!"}},{"$f":"VLOOKUP($B110,#REF!,5,0)","v":{"$error":"#REF!"}},{"$f":"VLOOKUP($B110,#REF!,6,0)","v":{"$error":"#REF!"}},{"$f":"VLOOKUP($B110,'FSA23'!$E$5:$K$288,3,0)","v":42.39},{"$f":"VLOOKUP($B110,'FSA23'!$E$5:$K$288,4,0)","v":50.16},{"$f":"VLOOKUP($B110,'FSA23'!$E$5:$K$288,5,0)","v":48.300000000000004},{"$f":"VLOOKUP($B110,'FSA23'!$E$5:$K$288,6,0)","v":49.949999999999996},{"$f":"VLOOKUP($B110,'FSA23'!$E$5:$K$288,7,0)","v":59.97},{"$f":"AVERAGE(G110:K110)+$S110","v":50.653999999999996},52.306799999999996,52.736159999999998,null,null,null,2.02,0.5,1.05,null,{"$f":"C110-($S110*6)","v":{"$error":"#REF!"}},{"$f":"D110-($S110*5)","v":{"$error":"#REF!"}},{"$error":"#REF!"},{"$error":"#REF!"},42.39,50.16,48.300000000000004,49.949999999999996,59.97,50.653999999999996,52.306799999999996]
[null,"InghamSoybeansNonirrigated",{"$f":"VLOOKUP($B111,#REF!,3,0)","v":{"$error":"#REF!"}},{"$f":"VLOOKUP($B111,#REF!,4,0)","v":{"$error":"#REF!"}},{"$f":"VLOOKUP($B111,'FSA21'!$E$5:$K$183,3,0)","v":53.52},{"$f":"VLOOKUP($B111,'FSA21'!$E$5:$K$183,4,0)","v":55.36},{"$f":"VLOOKUP($B111,'FSA23'!$E$5:$K$288,3,0)","v":50.839999999999996},{"$f":"VLOOKUP($B111,'FSA23'!$E$5:$K$288,4,0)","v":54.48},{"$f":"VLOOKUP($B111,'FSA23'!$E$5:$K$288,5,0)","v":42},{"$f":"VLOOKUP($B111,'FSA23'!$E$5:$K$288,6,0)","v":50.089999999999996},{"$f":"VLOOKUP($B111,'FSA23'!$E$5:$K$288,7,0)","v":50.81},50.143999999999998,50.004800000000003,49.109760000000009,null,null,null,2.02,0.5,1.05,null,{"$f":"C111-($S111*6)","v":{"$error":"#REF!"}},{"$f":"D111-($S111*5)","v":{"$error":"#REF!"}},53.52,55.36,50.839999999999996,54.48,42,50.089999999999996,50.81,50.143999999999998,50.004800000000003]
[null,"InghamWheatAll",{"$f":"VLOOKUP($B112,#REF!,3,0)","v":{"$error":"#REF!"}},{"$f":"VLOOKUP($B112,#REF!,4,0)","v":{"$error":"#REF!"}},{"$f":"VLOOKUP($B112,'FSA21'!$E$5:$K$183,3,0)","v":78},{"$f":"VLOOKUP($B112,'FSA21'!$E$5:$K$183,4,0)","v":98.72},{"$f":"VLOOKUP($B112,'FSA23'!$E$5:$K$288,3,0)","v":76.03},{"$f":"VLOOKUP($B112,'FSA23'!$E$5:$K$288,4,0)","v":85.36},{"$f":"VLOOKUP($B112,'FSA23'!$E$5:$K$288,5,0)","v":73.81},{"$f":"VLOOKUP($B112,'FSA23'!$E$5:$K$288,6,0)","v":75.83},{"$f":"VLOOKUP($B112,'FSA23'!$E$5:$K$288,7,0)","v":78.5},{"$f":"AVERAGE(G112:K112)+$T112","v":78.955999999999989},{"$f":"AVERAGE(H112:L112)+$T112","v":79.541200000000003},{"$f":"AVERAGE(I112:M112)+$T112","v":78.377439999999993},null,null,null,2.02,0.5,1.05,null,{"$f":"C112-($T112*6)","v":{"$error":"#REF!"}},{"$f":"D112-($T112*5)","v":{"$error":"#REF!"}},78,98.72,76.03,85.36,73.81,75.83,78.5,78.955999999999989,79.541200000000003]
[null,"IoniaCornIrrigated",{"$f":"VLOOKUP($B113,#REF!,3,0)","v":{"$error":"#REF!"}},{"$f":"VLOOKUP($B113,#REF!,4,0)","v":{"$error":"#REF!"}},{"$f":"VLOOKUP($B113,#REF!,5,0)","v":{"$error":"#REF!"}},{"$f":"VLOOKUP($B113,#REF!,6,0)","v":{"$error":"#REF!"}},{"$f":"VLOOKUP($B113,'FSA23'!$E$5:$K$288,3,0)","v":209.64},{"$f":"VLOOKUP($B113,'FSA23'!$E$5:$K$288,4,0)","v":218.7},{"$f":"VLOOKUP($B113,'FSA23'!$E$5:$K$288,5,0)","v":195.29},{"$f":"VLOOKUP($B113,'FSA23'!$E$5:$K$288,6,0)","v":219.61},{"$f":"VLOOKUP($B113,'FSA23'!$E$5:$K$288,7,0)","v":237.82000000000002},{"$f":"AVERAGE(G113:K113)+$R113","v":218.44199999999998},220.20240000000001,220.50287999999998,null,null,null,2.23,0.54,0.96,null,{"$f":"C113-($R113*6)","v":{"$error":"#REF!"}},{"$f":"D113-($R113*5)","v":{"$error":"#REF!"}},{"$error":"#REF!"},{"$error":"#REF!"},209.64,218.7,195.29,219.61,237.82000000000002,218.44199999999998,220.20240000000001]
[null,"IoniaCornNonirrigated",{"$f":"VLOOKUP($B114,#REF!,3,0)","v":{"$error":"#REF!"}},{"$f":"VLOOKUP($B114,#REF!,4,0)","v":{"$error":"#REF!"}},{"$f":"VLOOKUP($B114,'FSA21'!$E$5:$K$183,3,0)","v":193.97},{"$f":"VLOOKUP($B114,'FSA21'!$E$5:$K$183,4,0)","v":180.78},{"$f":"VLOOKUP($B114,'FSA23'!$E$5:$K$288,3,0)","v":175.60999999999999},{"$f":"VLOOKUP($B114,'FSA23'!$E$5:$K$288,4,0)","v":172.12},{"$f":"VLOOKUP($B114,'FSA23'!$E$5:$K$288,5,0)","v":162.9},{"$f":"VLOOKUP($B114,'FSA23'!$E$5:$K$288,6,0)","v":162.35000000000002},{"$f":"VLOOKUP($B114,'FSA23'!$E$5:$K$288,7,0)","v":195.29},175.88399999999999,175.93879999999999,176.70255999999998,null,null,null,2.23,0.54,0.96,null,{"$f":"C114-($R114*6)","v":{"$error":"#REF!"}},{"$f":"D114-($R114*5)","v":{"$error":"#REF!"}},193.97,180.78,175.60999999999999,172.12,162.9,162.35000000000002,195.29,175.88399999999999,175.93879999999999]
[null,"IoniaSoybeansIrrigated",{"$f":"VLOOKUP($B115,#REF!,3,0)","v":{"$error":"#REF!"}},{"$f":"VLOOKUP($B115,#REF!,4,0)","v":{"$error":"#REF!"}},{"$f":"VLOOKUP($B115,#REF!,5,0)","v":{"$error":"#REF!"}},{"$f":"VLOOKUP($B115,#REF!,6,0)","v":{"$error":"#REF!"}},{"$f":"VLOOKUP($B115,'FSA23'!$E$5:$K$288,3,0)","v":60.06},{"$f":"VLOOKUP($B115,'FSA23'!$E$5:$K$288,4,0)","v":62.160000000000004},{"$f":"VLOOKUP($B115,'FSA23'!$E$5:$K$288,5,0)","v":61.01},{"$f":"VLOOKUP($B115,'FSA23'!$E$5:$K$288,6,0)","v":65.09},{"$f":"VLOOKUP($B115,'FSA23'!$E$5:$K$288,7,0)","v":67.38000000000001},{"$f":"AVERAGE(G115:K115)+$S115","v":63.68},64.403999999999996,64.852800000000016,null,null,null,2.23,0.54,0.96,null,{"$f":"C115-($S115*6)","v":{"$error":"#REF!"}},{"$f":"D115-($S115*5)","v":{"$error":"#REF!"}},{"$error":"#REF!"},{"$error":"#REF!"},60.06,62.160000000000004,61.01,65.09,67.38000000000001,63.68,64.403999999999996]
[null,"IoniaSoybeansNonirrigated",{"$f":"VLOOKUP($B116,#REF!,3,0)","v":{"$error":"#REF!"}},{"$f":"VLOOKUP($B116,#REF!,4,0)","v":{"$error":"#REF!"}},{"$f":"VLOOKUP($B116,'FSA21'!$E$5:$K$183,3,0)","v":57.059999999999995},{"$f":"VLOOKUP($B116,'FSA21'!$E$5:$K$183,4,0)","v":58.739999999999995},{"$f":"VLOOKUP($B116,'FSA23'!$E$5:$K$288,3,0)","v":47.16},{"$f":"VLOOKUP($B116,'FSA23'!$E$5:$K$288,4,0)","v":56.7},{"$f":"VLOOKUP($B116,'FSA23'!$E$5:$K$288,5,0)","v":48.44},{"$f":"VLOOKUP($B116,'FSA23'!$E$5:$K$288,6,0)","v":48.2},{"$f":"VLOOKUP($B116,'FSA23'!$E$5:$K$288,7,0)","v":60.74},52.788000000000004,53.913599999999995,53.356319999999997,null,null,null,2.23,0.54,0.96,null,{"$f":"C116-($S116*6)","v":{"$error":"#REF!"}},{"$f":"D116-($S116*5)","v":{"$error":"#REF!"}},57.059999999999995,58.739999999999995,47.16,56.7,48.44,48.2,60.74,52.788000000000004,53.913599999999995]
[null,"IoniaWheatAll",{"$f":"VLOOKUP($B117,#REF!,3,0)","v":{"$error":"#REF!"}},{"$f":"VLOOKUP($B117,#REF!,4,0)","v":{"$error":"#REF!"}},{"$f":"VLOOKUP($B117,'FSA21'!$E$5:$K$183,3,0)","v":87.44},{"$f":"VLOOKUP($B117,'FSA21'!$E$5:$K$183,4,0)","v":97.57},{"$f":"VLOOKUP($B117,'FSA23'!$E$5:$K$288,3,0)","v":81.47},{"$f":"VLOOKUP($B117,'FSA23'!$E$5:$K$288,4,0)","v":88.76},{"$f":"VLOOKUP($B117,'FSA23'!$E$5:$K$288,5,0)","v":72.599999999999994},{"$f":"VLOOKUP($B117,'FSA23'!$E$5:$K$288,6,0)","v":72.209999999999994},{"$f":"VLOOKUP($B117,'FSA23'!$E$5:$K$288,7,0)","v":85.03},{"$f":"AVERAGE(G117:K117)+$T117","v":80.974000000000004},{"$f":"AVERAGE(H117:L117)+$T117","v":80.874799999999993},{"$f":"AVERAGE(I117:M117)+$T117","v":79.297759999999997},null,null,null,2.23,0.54,0.96,null,{"$f":"C117-($T117*6)","v":{"$error":"#REF!"}},{"$f":"D117-($T117*5)","v":{"$error":"#REF!"}},87.44,97.57,81.47,88.76,72.599999999999994,72.209999999999994,85.03,80.974000000000004,80.874799999999993]
[null,"IoscoCornAll",{"$f":"VLOOKUP($B118,#REF!,3,0)","v":{"$error":"#REF!"}},{"$f":"VLOOKUP($B118,#REF!,4,0)","v":{"$error":"#REF!"}},{"$f":"VLOOKUP($B118,'FSA21'!$E$5:$K$183,3,0)","v":151.62},{"$f":"VLOOKUP($B118,'FSA21'!$E$5:$K$183,4,0)","v":142.41},{"$f":"VLOOKUP($B118,'FSA23'!$E$5:$K$288,3,0)","v":173.96},{"$f":"VLOOKUP($B118,'FSA23'!$E$5:$K$288,4,0)","v":163.72999999999999},{"$f":"VLOOKUP($B118,'FSA23'!$E$5:$K$288,5,0)","v":142.26999999999998},{"$f":"VLOOKUP($B118,'FSA23'!$E$5:$K$288,6,0)","v":153.25},{"$f":"VLOOKUP($B118,'FSA23'!$E$5:$K$288,7,0)","v":166.78},{"$f":"AVERAGE(G118:K118)+$R118","v":161.71799999999999},{"$f":"AVERAGE(H118:L118)+$R118","v":159.2696},{"$f":"AVERAGE(I118:M118)+$R118","v":158.37751999999998},null,null,null,1.72,0.43,0.95,null,{"$f":"C118-($R118*6)","v":{"$error":"#REF!"}},{"$f":"D118-($R118*5)","v":{"$error":"#REF!"}},151.62,142.41,173.96,163.72999999999999,142.26999999999998,153.25,166.78,161.71799999999999,159.2696]
[null,"IoscoSoybeansAll",{"$f":"VLOOKUP($B119,#REF!,3,0)","v":{"$error":"#REF!"}},{"$f":"VLOOKUP($B119,#REF!,4,0)","v":{"$error":"#REF!"}},{"$f":"VLOOKUP($B119,'FSA21'!$E$5:$K$183,3,0)","v":40.85},{"$f":"VLOOKUP($B119,'FSA21'!$E$5:$K$183,4,0)","v":43.17},{"$f":"VLOOKUP($B119,'FSA23'!$E$5:$K$288,3,0)","v":38.94},{"$f":"VLOOKUP($B119,'FSA23'!$E$5:$K$288,4,0)","v":47.72},{"$f":"VLOOKUP($B119,'FSA23'!$E$5:$K$288,5,0)","v":32.72},{"$f":"VLOOKUP($B119,'FSA23'!$E$5:$K$288,6,0)","v":33.01},{"$f":"VLOOKUP($B119,'FSA23'!$E$5:$K$288,7,0)","v":41.25},{"$f":"AVERAGE(G119:K119)+$S119","v":39.157999999999994},{"$f":"AVERAGE(H119:L119)+$S119","v":39.201599999999992},{"$f":"AVERAGE(I119:M119)+$S119","v":37.497919999999993},null,null,null,1.72,0.43,0.95,null,{"$f":"C119-($S119*6)","v":{"$error":"#REF!"}},{"$f":"D119-($S119*5)","v":{"$error":"#REF!"}},40.85,43.17,38.94,47.72,32.72,33.01,41.25,39.157999999999994,39.201599999999992]
[null,"IoscoWheatAll",{"$f":"VLOOKUP($B120,#REF!,3,0)","v":{"$error":"#REF!"}},{"$f":"VLOOKUP($B120,#REF!,4,0)","v":{"$error":"#REF!"}},{"$f":"VLOOKUP($B120,#REF!,5,0)","v":{"$error":"#REF!"}},{"$f":"VLOOKUP($B120,#REF!,6,0)","v":{"$error":"#REF!"}},{"$f":"VLOOKUP($B120,'FSA23'!$E$5:$K$288,3,0)","v":77.289999999999992},{"$f":"VLOOKUP($B120,'FSA23'!$E$5:$K$288,4,0)","v":63.32},{"$f":"VLOOKUP($B120,'FSA23'!$E$5:$K$288,5,0)","v":57.72},{"$f":"VLOOKUP($B120,'FSA23'!$E$5:$K$288,6,0)","v":56.769999999999996},{"$f":"VLOOKUP($B120,'FSA23'!$E$5:$K$288,7,0)","v":83.35},{"$f":"AVERAGE(G120:K120)+$T120","v":68.639999999999986},{"$f":"AVERAGE(H120:L120)+$T120","v":66.91},{"$f":"AVERAGE(I120:M120)+$T120","v":67.628},null,null,null,1.72,0.43,0.95,null,{"$f":"C120-($T120*6)","v":{"$error":"#REF!"}},{"$f":"D120-($T120*5)","v":{"$error":"#REF!"}},{"$error":"#REF!"},{"$error":"#REF!"},77.289999999999992,63.32,57.72,56.769999999999996,83.35,68.639999999999986,66.91]
[null,"IronCornAll",{"$f":"VLOOKUP($B121,#REF!,3,0)","v":{"$error":"#REF!"}},{"$f":"VLOOKUP($B121,#REF!,4,0)","v":{"$error":"#REF!"}},{"$f":"VLOOKUP($B121,#REF!,5,0)","v":{"$error":"#REF!"}},{"$f":"VLOOKUP($B121,#REF!,6,0)","v":{"$error":"#REF!"}},{"$f":"VLOOKUP($B121,'FSA23'!$E$5:$K$288,3,0)","v":84},{"$f":"VLOOKUP($B121,'FSA23'!$E$5:$K$288,4,0)","v":111},{"$f":"VLOOKUP($B121,'FSA23'!$E$5:$K$288,5,0)","v":84},{"$f":"VLOOKUP($B121,'FSA23'!$E$5:$K$288,6,0)","v":154.83000000000001},{"$f":"VLOOKUP($B121,'FSA23'!$E$5:$K$288,7,0)","v":110.84},{"$f":"AVERAGE(G121:K121)+$R121","v":109.93400000000001},{"$f":"AVERAGE(H121:L121)+$R121","v":115.1208},{"$f":"AVERAGE(I121:M121)+$R121","v":115.94496000000001},null,null,null,1,null,0.64,null,{"$f":"C121-($R121*6)","v":{"$error":"#REF!"}},{"$f":"D121-($R121*5)","v":{"$error":"#REF!"}},{"$error":"#REF!"},{"$error":"#REF!"},84,111,84,154.83000000000001,110.84,109.93400000000001,115.1208]
[null,"IronWheatAll",{"$f":"VLOOKUP($B122,#REF!,3,0)","v":{"$error":"#REF!"}},{"$f":"VLOOKUP($B122,#REF!,4,0)","v":{"$error":"#REF!"}},{"$f":"VLOOKUP($B122,#REF!,5,0)","v":{"$error":"#REF!"}},{"$f":"VLOOKUP($B122,#REF!,6,0)","v":{"$error":"#REF!"}},{"$f":"VLOOKUP($B122,'FSA23'!$E$5:$K$288,3,0)","v":53.6},{"$f":"VLOOKUP($B122,'FSA23'!$E$5:$K$288,4,0)","v":40},{"$f":"VLOOKUP($B122,'FSA23'!$E$5:$K$288,5,0)","v":53.1},{"$f":"VLOOKUP($B122,'FSA23'!$E$5:$K$288,6,0)","v":50.4},{"$f":"VLOOKUP($B122,'FSA23'!$E$5:$K$288,7,0)","v":61.66},{"$f":"AVERAGE(G122:K122)+$T122","v":52.391999999999996},{"$f":"AVERAGE(H122:L122)+$T122","v":52.150400000000005},{"$f":"AVERAGE(I122:M122)+$T122","v":54.580480000000001},null,null,null,1,null,0.64,null,{"$f":"C122-($T122*6)","v":{"$error":"#REF!"}},{"$f":"D122-($T122*5)","v":{"$error":"#REF!"}},{"$error":"#REF!"},{"$error":"#REF!"},53.6,40,53.1,50.4,61.66,52.391999999999996,52.150400000000005]
[null,"IsabellaCornIrrigated",{"$f":"VLOOKUP($B123,#REF!,3,0)","v":{"$error":"#REF!"}},{"$f":"VLOOKUP($B123,#REF!,4,0)","v":{"$error":"#REF!"}},{"$f":"VLOOKUP($B123,#REF!,5,0)","v":{"$error":"#REF!"}},{"$f":"VLOOKUP($B123,#REF!,6,0)","v":{"$error":"#REF!"}},{"$f":"VLOOKUP($B123,'FSA23'!$E$5:$K$288,3,0)","v":183.39},{"$f":"VLOOKUP($B123,'FSA23'!$E$5:$K$288,4,0)","v":188.31},{"$f":"VLOOKUP($B123,'FSA23'!$E$5:$K$288,5,0)","v":173.48999999999998},{"$f":"VLOOKUP($B123,'FSA23'!$E$5:$K$288,6,0)","v":176.62},{"$f":"VLOOKUP($B123,'FSA23'!$E$5:$K$288,7,0)","v":189.68},{"$f":"AVERAGE(G123:K123)+$R123","v":184.40800000000002},184.61160000000001,183.87192000000002,null,null,null,2.11,0.53,0.64,null,{"$f":"C123-($R123*6)","v":{"$error":"#REF!"}},{"$f":"D123-($R123*5)","v":{"$error":"#REF!"}},{"$error":"#REF!"},{"$error":"#REF!"},183.39,188.31,173.48999999999998,176.62,189.68,184.40800000000002,184.61160000000001]
[null,"IsabellaCornNonirrigated",{"$f":"VLOOKUP($B124,#REF!,3,0)","v":{"$error":"#REF!"}},{"$f":"VLOOKUP($B124,#REF!,4,0)","v":{"$error":"#REF!"}},{"$f":"VLOOKUP($B124,'FSA21'!$E$5:$K$183,3,0)","v":165.01},{"$f":"VLOOKUP($B124,'FSA21'!$E$5:$K$183,4,0)","v":164.57},{"$f":"VLOOKUP($B124,'FSA23'!$E$5:$K$288,3,0)","v":165.05},{"$f":"VLOOKUP($B124,'FSA23'!$E$5:$K$288,4,0)","v":154.57999999999998},{"$f":"VLOOKUP($B124,'FSA23'!$E$5:$K$288,5,0)","v":145.91},{"$f":"VLOOKUP($B124,'FSA23'!$E$5:$K$288,6,0)","v":134.26},{"$f":"VLOOKUP($B124,'FSA23'!$E$5:$K$288,7,0)","v":186.05},159.28,158.126,158.83520000000001,null,null,null,2.11,0.53,0.64,null,{"$f":"C124-($R124*6)","v":{"$error":"#REF!"}},{"$f":"D124-($R124*5)","v":{"$error":"#REF!"}},165.01,164.57,165.05,154.57999999999998,145.91,134.26,186.05,159.28,158.126]
[null,"IsabellaSoybeansIrrigated",{"$f":"VLOOKUP($B125,#REF!,3,0)","v":{"$error":"#REF!"}},{"$f":"VLOOKUP($B125,#REF!,4,0)","v":{"$error":"#REF!"}},{"$f":"VLOOKUP($B125,#REF!,5,0)","v":{"$error":"#REF!"}},{"$f":"VLOOKUP($B125,#REF!,6,0)","v":{"$error":"#REF!"}},{"$f":"VLOOKUP($B125,'FSA23'!$E$5:$K$288,3,0)","v":48.11},{"$f":"VLOOKUP($B125,'FSA23'!$E$5:$K$288,4,0)","v":50.27},{"$f":"VLOOKUP($B125,'FSA23'!$E$5:$K$288,5,0)","v":44.28},{"$f":"VLOOKUP($B125,'FSA23'!$E$5:$K$288,6,0)","v":52.330000000000005},{"$f":"VLOOKUP($B125,'FSA23'!$E$5:$K$288,7,0)","v":54.96},{"$f":"AVERAGE(G125:K125)+$S125","v":50.52},51.00200000000001,51.148400000000009,null,null,null,2.11,0.53,0.64,null,{"$f":"C125-($S125*6)","v":{"$error":"#REF!"}},{"$f":"D125-($S125*5)","v":{"$error":"#REF!"}},{"$error":"#REF!"},{"$error":"#REF!"},48.11,50.27,44.28,52.330000000000005,54.96,50.52,51.00200000000001]
[null,"IsabellaSoybeansNonirrigated",{"$f":"VLOOKUP($B126,#REF!,3,0)","v":{"$error":"#REF!"}},{"$f":"VLOOKUP($B126,#REF!,4,0)","v":{"$error":"#REF!"}},{"$f":"VLOOKUP($B126,'FSA21'!$E$5:$K$183,3,0)","v":48.24},{"$f":"VLOOKUP($B126,'FSA21'!$E$5:$K$183,4,0)","v":50.99},{"$f":"VLOOKUP($B126,'FSA23'!$E$5:$K$288,3,0)","v":41.989999999999995},{"$f":"VLOOKUP($B126,'FSA23'!$E$5:$K$288,4,0)","v":43.24},{"$f":"VLOOKUP($B126,'FSA23'!$E$5:$K$288,5,0)","v":36.76},{"$f":"VLOOKUP($B126,'FSA23'!$E$5:$K$288,6,0)","v":39.520000000000003},{"$f":"VLOOKUP($B126,'FSA23'!$E$5:$K$288,7,0)","v":48.26},42.483999999999995,42.582800000000006,42.451360000000008,null,null,null,2.11,0.53,0.64,null,{"$f":"C126-($S126*6)","v":{"$error":"#REF!"}},{"$f":"D126-($S126*5)","v":{"$error":"#REF!"}},48.24,50.99,41.989999999999995,43.24,36.76,39.520000000000003,48.26,42.483999999999995,42.582800000000006]
[null,"IsabellaWheatAll",{"$f":"VLOOKUP($B127,#REF!,3,0)","v":{"$error":"#REF!"}},{"$f":"VLOOKUP($B127,#REF!,4,0)","v":{"$error":"#REF!"}},{"$f":"VLOOKUP($B127,'FSA21'!$E$5:$K$183,3,0)","v":87.460000000000008},{"$f":"VLOOKUP($B127,'FSA21'!$E$5:$K$183,4,0)","v":81.45},{"$f":"VLOOKUP($B127,'FSA23'!$E$5:$K$288,3,0)","v":77.849999999999994},{"$f":"VLOOKUP($B127,'FSA23'!$E$5:$K$288,4,0)","v":82.51},{"$f":"VLOOKUP($B127,'FSA23'!$E$5:$K$288,5,0)","v":61.21},{"$f":"VLOOKUP($B127,'FSA23'!$E$5:$K$288,6,0)","v":59.96},{"$f":"VLOOKUP($B127,'FSA23'!$E$5:$K$288,7,0)","v":88.02},{"$f":"AVERAGE(G127:K127)+$T127","v":74.55},{"$f":"AVERAGE(H127:L127)+$T127","v":73.89},{"$f":"AVERAGE(I127:M127)+$T127","v":72.165999999999997},null,null,null,2.11,0.53,0.64,null,{"$f":"C127-($T127*6)","v":{"$error":"#REF!"}},{"$f":"D127-($T127*5)","v":{"$error":"#REF!"}},87.460000000000008,81.45,77.849999999999994,82.51,61.21,59.96,88.02,74.55,73.89]
[null,"JacksonCornIrrigated",{"$f":"VLOOKUP($B128,#REF!,3,0)","v":{"$error":"#REF!"}},{"$f":"VLOOKUP($B128,#REF!,4,0)","v":{"$error":"#REF!"}},{"$f":"VLOOKUP($B128,#REF!,5,0)","v":{"$error":"#REF!"}},{"$f":"VLOOKUP($B128,#REF!,6,0)","v":{"$error":"#REF!"}},{"$f":"VLOOKUP($B128,'FSA23'!$E$5:$K$288,3,0)","v":231.79},{"$f":"VLOOKUP($B128,'FSA23'!$E$5:$K$288,4,0)","v":210.79999999999998},{"$f":"VLOOKUP($B128,'FSA23'!$E$5:$K$288,5,0)","v":206},{"$f":"VLOOKUP($B128,'FSA23'!$E$5:$K$288,6,0)","v":217.79},{"$f":"VLOOKUP($B128,'FSA23'!$E$5:$K$288,7,0)","v":193.04999999999998},{"$f":"AVERAGE(G128:K128)+$R128","v":213.31599999999997},209.62119999999999,209.38544000000002,null,null,null,1.43,0.42,0.73,null,{"$f":"C128-($R128*6)","v":{"$error":"#REF!"}},{"$f":"D128-($R128*5)","v":{"$error":"#REF!"}},{"$error":"#REF!"},{"$error":"#REF!"},231.79,210.79999999999998,206,217.79,193.04999999999998,213.31599999999997,209.62119999999999]
[null,"JacksonCornNonirrigated",{"$f":"VLOOKUP($B129,#REF!,3,0)","v":{"$error":"#REF!"}},{"$f":"VLOOKUP($B129,#REF!,4,0)","v":{"$error":"#REF!"}},{"$f":"VLOOKUP($B129,'FSA21'!$E$5:$K$183,3,0)","v":154.06},{"$f":"VLOOKUP($B129,'FSA21'!$E$5:$K$183,4,0)","v":123},{"$f":"VLOOKUP($B129,'FSA23'!$E$5:$K$288,3,0)","v":134.13},{"$f":"VLOOKUP($B129,'FSA23'!$E$5:$K$288,4,0)","v":137.18},{"$f":"VLOOKUP($B129,'FSA23'!$E$5:$K$288,5,0)","v":157.44},{"$f":"VLOOKUP($B129,'FSA23'!$E$5:$K$288,6,0)","v":137.75},{"$f":"VLOOKUP($B129,'FSA23'!$E$5:$K$288,7,0)","v":166.76000000000002},148.08199999999999,150.8724,153.61088000000001,null,null,null,1.43,0.42,0.73,null,{"$f":"C129-($R129*6)","v":{"$error":"#REF!"}},{"$f":"D129-($R129*5)","v":{"$error":"#REF!"}},154.06,123,134.13,137.18,157.44,137.75,166.76000000000002,148.08199999999999,150.8724]
[null,"JacksonSoybeansIrrigated",{"$f":"VLOOKUP($B130,#REF!,3,0)","v":{"$error":"#REF!"}},{"$f":"VLOOKUP($B130,#REF!,4,0)","v":{"$error":"#REF!"}},{"$f":"VLOOKUP($B130,#REF!,5,0)","v":{"$error":"#REF!"}},{"$f":"VLOOKUP($B130,#REF!,6,0)","v":{"$error":"#REF!"}},{"$f":"VLOOKUP($B130,'FSA23'!$E$5:$K$288,3,0)","v":59.69},{"$f":"VLOOKUP($B130,'FSA23'!$E$5:$K$288,4,0)","v":58.05},{"$f":"VLOOKUP($B130,'FSA23'!$E$5:$K$288,5,0)","v":59.290000000000006},{"$f":"VLOOKUP($B130,'FSA23'!$E$5:$K$288,6,0)","v":55.37},{"$f":"VLOOKUP($B130,'FSA23'!$E$5:$K$288,7,0)","v":58.28},{"$f":"AVERAGE(G130:K130)+$S130","v":58.556000000000004},58.3292,58.385040000000004,null,null,null,1.43,0.42,0.73,null,{"$f":"C130-($S130*6)","v":{"$error":"#REF!"}},{"$f":"D130-($S130*5)","v":{"$error":"#REF!"}},{"$error":"#REF!"},{"$error":"#REF!"},59.69,58.05,59.290000000000006,55.37,58.28,58.556000000000004,58.3292]
[null,"JacksonSoybeansNonirrigated",{"$f":"VLOOKUP($B131,#REF!,3,0)","v":{"$error":"#REF!"}},{"$f":"VLOOKUP($B131,#REF!,4,0)","v":{"$error":"#REF!"}},{"$f":"VLOOKUP($B131,'FSA21'!$E$5:$K$183,3,0)","v":43.68},{"$f":"VLOOKUP($B131,'FSA21'!$E$5:$K$183,4,0)","v":48.190000000000005},{"$f":"VLOOKUP($B131,'FSA23'!$E$5:$K$288,3,0)","v":35.21},{"$f":"VLOOKUP($B131,'FSA23'!$E$5:$K$288,4,0)","v":43.35},{"$f":"VLOOKUP($B131,'FSA23'!$E$5:$K$288,5,0)","v":44.010000000000005},{"$f":"VLOOKUP($B131,'FSA23'!$E$5:$K$288,6,0)","v":40.130000000000003},{"$f":"VLOOKUP($B131,'FSA23'!$E$5:$K$288,7,0)","v":48.629999999999995},42.686000000000007,44.181200000000004,44.347440000000006,null,null,null,1.43,0.42,0.73,null,{"$f":"C131-($S131*6)","v":{"$error":"#REF!"}},{"$f":"D131-($S131*5)","v":{"$error":"#REF!"}},{"$f":"E131","v":43.68},{"$f":"F131","v":48.190000000000005},{"$f":"G131","v":35.21},{"$f":"H131","v":43.35},{"$f":"I131","v":44.010000000000005},{"$f":"J131","v":40.130000000000003},{"$f":"K131","v":48.629999999999995},{"$f":"L131","v":42.686000000000007},{"$f":"M131","v":44.181200000000004}]
[null,"JacksonWheatAll",{"$f":"VLOOKUP($B132,#REF!,3,0)","v":{"$error":"#REF!"}},{"$f":"VLOOKUP($B132,#REF!,4,0)","v":{"$error":"#REF!"}},{"$f":"VLOOKUP($B132,'FSA21'!$E$5:$K$183,3,0)","v":75.16},{"$f":"VLOOKUP($B132,'FSA21'!$E$5:$K$183,4,0)","v":81.900000000000006},{"$f":"VLOOKUP($B132,'FSA23'!$E$5:$K$288,3,0)","v":77.73},{"$f":"VLOOKUP($B132,'FSA23'!$E$5:$K$288,4,0)","v":65.08},{"$f":"VLOOKUP($B132,'FSA23'!$E$5:$K$288,5,0)","v":70.31},{"$f":"VLOOKUP($B132,'FSA23'!$E$5:$K$288,6,0)","v":70.22},{"$f":"VLOOKUP($B132,'FSA23'!$E$5:$K$288,7,0)","v":59.14},{"$f":"AVERAGE(G132:K132)+$T132","v":69.226000000000013},{"$f":"AVERAGE(H132:L132)+$T132","v":67.525199999999998},{"$f":"AVERAGE(I132:M132)+$T132","v":68.014240000000001},null,null,null,1.43,0.42,0.73,null,{"$f":"C132-($T132*6)","v":{"$error":"#REF!"}},{"$f":"D132-($T132*5)","v":{"$error":"#REF!"}},75.16,81.900000000000006,77.73,65.08,70.31,70.22,59.14,69.226000000000013,67.525199999999998]
[null,"KalamazooCornIrrigated",{"$f":"VLOOKUP($B133,#REF!,3,0)","v":{"$error":"#REF!"}},{"$f":"VLOOKUP($B133,#REF!,4,0)","v":{"$error":"#REF!"}},{"$f":"VLOOKUP($B133,'FSA21'!$E$5:$K$183,3,0)","v":211.35},{"$f":"VLOOKUP($B133,'FSA21'!$E$5:$K$183,4,0)","v":214.5},{"$f":"VLOOKUP($B133,'FSA23'!$E$5:$K$288,3,0)","v":220.53},{"$f":"VLOOKUP($B133,'FSA23'!$E$5:$K$288,4,0)","v":161.55000000000001},{"$f":"VLOOKUP($B133,'FSA23'!$E$5:$K$288,5,0)","v":193.97},{"$f":"VLOOKUP($B133,'FSA23'!$E$5:$K$288,6,0)","v":217.06},{"$f":"VLOOKUP($B133,'FSA23'!$E$5:$K$288,7,0)","v":221.97},{"$f":"AVERAGE(G133:K133)+$R133","v":205.07600000000002},201.98519999999999,210.07224000000002,null,null,null,2.06,0.52,0.65,null,{"$f":"C133-($R133*6)","v":{"$error":"#REF!"}},{"$f":"D133-($R133*5)","v":{"$error":"#REF!"}},211.35,214.5,220.53,161.55000000000001,193.97,217.06,221.97,205.07600000000002,201.98519999999999]
[null,"KalamazooCornNonirrigated",{"$f":"VLOOKUP($B134,#REF!,3,0)","v":{"$error":"#REF!"}},{"$f":"VLOOKUP($B134,#REF!,4,0)","v":{"$error":"#REF!"}},{"$f":"VLOOKUP($B134,'FSA21'!$E$5:$K$183,3,0)","v":169.75},{"$f":"VLOOKUP($B134,'FSA21'!$E$5:$K$183,4,0)","v":161.79000000000002},{"$f":"VLOOKUP($B134,'FSA23'!$E$5:$K$288,3,0)","v":151.81},{"$f":"VLOOKUP($B134,'FSA23'!$E$5:$K$288,4,0)","v":153.4},{"$f":"VLOOKUP($B134,'FSA23'!$E$5:$K$288,5,0)","v":143.89999999999998},{"$f":"VLOOKUP($B134,'FSA23'!$E$5:$K$288,6,0)","v":140.77000000000001},{"$f":"VLOOKUP($B134,'FSA23'!$E$5:$K$288,7,0)","v":171.77},154.38999999999999,154.90599999999998,155.20719999999997,null,null,null,2.06,0.52,0.65,null,{"$f":"C134-($R134*6)","v":{"$error":"#REF!"}},{"$f":"D134-($R134*5)","v":{"$error":"#REF!"}},169.75,161.79000000000002,151.81,153.4,143.89999999999998,140.77000000000001,171.77,154.38999999999999,154.90599999999998]
[null,"KalamazooSoybeansIrrigated",{"$f":"VLOOKUP($B135,#REF!,3,0)","v":{"$error":"#REF!"}},{"$f":"VLOOKUP($B135,#REF!,4,0)","v":{"$error":"#REF!"}},{"$f":"VLOOKUP($B135,#REF!,5,0)","v":{"$error":"#REF!"}},{"$f":"VLOOKUP($B135,#REF!,6,0)","v":{"$error":"#REF!"}},{"$f":"VLOOKUP($B135,'FSA23'!$E$5:$K$288,3,0)","v":57.7},{"$f":"VLOOKUP($B135,'FSA23'!$E$5:$K$288,4,0)","v":69.23},{"$f":"VLOOKUP($B135,'FSA23'!$E$5:$K$288,5,0)","v":59.370000000000005},{"$f":"VLOOKUP($B135,'FSA23'!$E$5:$K$288,6,0)","v":67.17},{"$f":"VLOOKUP($B135,'FSA23'!$E$5:$K$288,7,0)","v":65.540000000000006},{"$f":"AVERAGE(G135:K135)+$S135","v":64.322000000000003},65.646400000000014,64.929680000000005,null,null,null,2.06,0.52,0.65,null,{"$f":"C135-($S135*6)","v":{"$error":"#REF!"}},{"$f":"D135-($S135*5)","v":{"$error":"#REF!"}},{"$error":"#REF!"},{"$error":"#REF!"},57.7,69.23,59.370000000000005,67.17,65.540000000000006,64.322000000000003,65.646400000000014]
[null,"KalamazooSoybeansNonirrigated",{"$f":"VLOOKUP($B136,#REF!,3,0)","v":{"$error":"#REF!"}},{"$f":"VLOOKUP($B136,#REF!,4,0)","v":{"$error":"#REF!"}},{"$f":"VLOOKUP($B136,'FSA21'!$E$5:$K$183,3,0)","v":48.58},{"$f":"VLOOKUP($B136,'FSA21'!$E$5:$K$183,4,0)","v":50.89},{"$f":"VLOOKUP($B136,'FSA23'!$E$5:$K$288,3,0)","v":39.309999999999995},{"$f":"VLOOKUP($B136,'FSA23'!$E$5:$K$288,4,0)","v":48.22},{"$f":"VLOOKUP($B136,'FSA23'!$E$5:$K$288,5,0)","v":42.809999999999995},{"$f":"VLOOKUP($B136,'FSA23'!$E$5:$K$288,6,0)","v":38.480000000000004},{"$f":"VLOOKUP($B136,'FSA23'!$E$5:$K$288,7,0)","v":50.49},44.382000000000005,45.396400000000007,44.831680000000006,null,null,null,2.06,0.52,0.65,null,{"$f":"C136-($S136*6)","v":{"$error":"#REF!"}},{"$f":"D136-($S136*5)","v":{"$error":"#REF!"}},48.58,50.89,39.309999999999995,48.22,42.809999999999995,38.480000000000004,50.49,44.382000000000005,45.396400000000007]
[null,"KalamazooWheatAll",{"$f":"VLOOKUP($B137,#REF!,3,0)","v":{"$error":"#REF!"}},{"$f":"VLOOKUP($B137,#REF!,4,0)","v":{"$error":"#REF!"}},{"$f":"VLOOKUP($B137,'FSA21'!$E$5:$K$183,3,0)","v":73.89},{"$f":"VLOOKUP($B137,'FSA21'!$E$5:$K$183,4,0)","v":74.63},{"$f":"VLOOKUP($B137,'FSA23'!$E$5:$K$288,3,0)","v":73.84},{"$f":"VLOOKUP($B137,'FSA23'!$E$5:$K$288,4,0)","v":68.97},{"$f":"VLOOKUP($B137,'FSA23'!$E$5:$K$288,5,0)","v":63.89},{"$f":"VLOOKUP($B137,'FSA23'!$E$5:$K$288,6,0)","v":68.539999999999992},{"$f":"VLOOKUP($B137,'FSA23'!$E$5:$K$288,7,0)","v":55.04},{"$f":"AVERAGE(G137:K137)+$T137","v":66.706000000000017},{"$f":"AVERAGE(H137:L137)+$T137","v":65.279200000000003},{"$f":"AVERAGE(I137:M137)+$T137","v":64.541039999999995},null,null,null,2.06,0.52,0.65,null,{"$f":"C137-($T137*6)","v":{"$error":"#REF!"}},{"$f":"D137-($T137*5)","v":{"$error":"#REF!"}},73.89,74.63,73.84,68.97,63.89,68.539999999999992,55.04,66.706000000000017,65.279200000000003]
[null,"KalkaskaCornAll",{"$f":"VLOOKUP($B138,#REF!,3,0)","v":{"$error":"#REF!"}},{"$f":"VLOOKUP($B138,#REF!,4,0)","v":{"$error":"#REF!"}},{"$f":"VLOOKUP($B138,#REF!,5,0)","v":{"$error":"#REF!"}},{"$f":"VLOOKUP($B138,#REF!,6,0)","v":{"$error":"#REF!"}},{"$f":"VLOOKUP($B138,'FSA23'!$E$5:$K$288,3,0)","v":129},{"$f":"VLOOKUP($B138,'FSA23'!$E$5:$K$288,4,0)","v":111},{"$f":"VLOOKUP($B138,'FSA23'!$E$5:$K$288,5,0)","v":62.4},{"$f":"VLOOKUP($B138,'FSA23'!$E$5:$K$288,6,0)","v":104.2},{"$f":"VLOOKUP($B138,'FSA23'!$E$5:$K$288,7,0)","v":120.23},{"$f":"AVERAGE(G138:K138)+$R138","v":106.27599999999998},{"$f":"AVERAGE(H138:L138)+$R138","v":101.7312},{"$f":"AVERAGE(I138:M138)+$R138","v":99.877439999999993},null,null,null,0.91,0.28000000000000003,0.25,null,{"$f":"C138-($R138*6)","v":{"$error":"#REF!"}},{"$f":"D138-($R138*5)","v":{"$error":"#REF!"}},{"$error":"#REF!"},{"$error":"#REF!"},129,111,62.4,104.2,120.23,106.27599999999998,101.7312]
[null,"KalkaskaSoybeansAll",{"$f":"VLOOKUP($B139,#REF!,3,0)","v":{"$error":"#REF!"}},{"$f":"VLOOKUP($B139,#REF!,4,0)","v":{"$error":"#REF!"}},{"$f":"VLOOKUP($B139,'FSA21'!$E$5:$K$183,3,0)","v":36},{"$f":"VLOOKUP($B139,'FSA21'!$E$5:$K$183,4,0)","v":36},{"$f":"VLOOKUP($B139,'FSA23'!$E$5:$K$288,3,0)","v":37},{"$f":"VLOOKUP($B139,'FSA23'!$E$5:$K$288,4,0)","v":37},{"$f":"VLOOKUP($B139,'FSA23'!$E$5:$K$288,5,0)","v":34.4},{"$f":"VLOOKUP($B139,'FSA23'!$E$5:$K$288,6,0)","v":35.200000000000003},{"$f":"VLOOKUP($B139,'FSA23'!$E$5:$K$288,7,0)","v":43.36},{"$f":"AVERAGE(G139:K139)+$S139","v":37.672000000000011},{"$f":"AVERAGE(H139:L139)+$S139","v":37.806400000000004},{"$f":"AVERAGE(I139:M139)+$S139","v":37.967680000000001},null,null,null,0.91,0.28000000000000003,0.25,null,{"$f":"C139-($S139*6)","v":{"$error":"#REF!"}},{"$f":"D139-($S139*5)","v":{"$error":"#REF!"}},36,36,37,37,34.4,35.200000000000003,43.36,37.672000000000011,37.806400000000004]
[null,"KalkaskaWheatAll",{"$f":"VLOOKUP($B140,#REF!,3,0)","v":{"$error":"#REF!"}},{"$f":"VLOOKUP($B140,#REF!,4,0)","v":{"$error":"#REF!"}},{"$f":"VLOOKUP($B140,'FSA21'!$E$5:$K$183,3,0)","v":72.099999999999994},{"$f":"VLOOKUP($B140,'FSA21'!$E$5:$K$183,4,0)","v":67.540000000000006},{"$f":"VLOOKUP($B140,'FSA23'!$E$5:$K$288,3,0)","v":52},{"$f":"VLOOKUP($B140,'FSA23'!$E$5:$K$288,4,0)","v":71.56},{"$f":"VLOOKUP($B140,'FSA23'!$E$5:$K$288,5,0)","v":53.1},{"$f":"VLOOKUP($B140,'FSA23'!$E$5:$K$288,6,0)","v":48.63},{"$f":"VLOOKUP($B140,'FSA23'!$E$5:$K$288,7,0)","v":61.92},{"$f":"AVERAGE(G140:K140)+$T140","v":57.691999999999993},{"$f":"AVERAGE(H140:L140)+$T140","v":58.830399999999997},{"$f":"AVERAGE(I140:M140)+$T140","v":56.284479999999995},null,null,null,0.91,0.28000000000000003,0.25,null,{"$f":"C140-($T140*6)","v":{"$error":"#REF!"}},{"$f":"D140-($T140*5)","v":{"$error":"#REF!"}},72.099999999999994,67.540000000000006,52,71.56,53.1,48.63,61.92,57.691999999999993,58.830399999999997]
[null,"KentCornIrrigated",{"$f":"VLOOKUP($B141,#REF!,3,0)","v":{"$error":"#REF!"}},{"$f":"VLOOKUP($B141,#REF!,4,0)","v":{"$error":"#REF!"}},{"$f":"VLOOKUP($B141,#REF!,5,0)","v":{"$error":"#REF!"}},{"$f":"VLOOKUP($B141,#REF!,6,0)","v":{"$error":"#REF!"}},{"$f":"VLOOKUP($B141,'FSA23'!$E$5:$K$288,3,0)","v":205.72},{"$f":"VLOOKUP($B141,'FSA23'!$E$5:$K$288,4,0)","v":170.59},{"$f":"VLOOKUP($B141,'FSA23'!$E$5:$K$288,5,0)","v":181.60999999999999},{"$f":"VLOOKUP($B141,'FSA23'!$E$5:$K$288,6,0)","v":199.97},{"$f":"VLOOKUP($B141,'FSA23'!$E$5:$K$288,7,0)","v":201.72},{"$f":"AVERAGE(G141:K141)+$R141","v":193.892},191.5264,195.71367999999998,null,null,null,1.97,0.56999999999999995,0.83,null,{"$f":"C141-($R141*6)","v":{"$error":"#REF!"}},{"$f":"D141-($R141*5)","v":{"$error":"#REF!"}},{"$error":"#REF!"},{"$error":"#REF!"},205.72,170.59,181.60999999999999,199.97,201.72,193.892,191.5264]
[null,"KentCornNonirrigated",{"$f":"VLOOKUP($B142,#REF!,3,0)","v":{"$error":"#REF!"}},{"$f":"VLOOKUP($B142,#REF!,4,0)","v":{"$error":"#REF!"}},{"$f":"VLOOKUP($B142,'FSA21'!$E$5:$K$183,3,0)","v":173.25},{"$f":"VLOOKUP($B142,'FSA21'!$E$5:$K$183,4,0)","v":170.51999999999998},{"$f":"VLOOKUP($B142,'FSA23'!$E$5:$K$288,3,0)","v":158.54000000000002},{"$f":"VLOOKUP($B142,'FSA23'!$E$5:$K$288,4,0)","v":151.22},{"$f":"VLOOKUP($B142,'FSA23'!$E$5:$K$288,5,0)","v":151.37},{"$f":"VLOOKUP($B142,'FSA23'!$E$5:$K$288,6,0)","v":169.26999999999998},{"$f":"VLOOKUP($B142,'FSA23'!$E$5:$K$288,7,0)","v":186.03},165.256,166.5992,169.67504,null,null,null,1.97,0.56999999999999995,0.83,null,{"$f":"C142-($R142*6)","v":{"$error":"#REF!"}},{"$f":"D142-($R142*5)","v":{"$error":"#REF!"}},173.25,170.51999999999998,158.54000000000002,151.22,151.37,169.26999999999998,186.03,165.256,166.5992]
[null,"KentSoybeansIrrigated",{"$f":"VLOOKUP($B143,#REF!,3,0)","v":{"$error":"#REF!"}},{"$f":"VLOOKUP($B143,#REF!,4,0)","v":{"$error":"#REF!"}},{"$f":"VLOOKUP($B143,#REF!,5,0)","v":{"$error":"#REF!"}},{"$f":"VLOOKUP($B143,#REF!,6,0)","v":{"$error":"#REF!"}},{"$f":"VLOOKUP($B143,'FSA23'!$E$5:$K$288,3,0)","v":48.54},{"$f":"VLOOKUP($B143,'FSA23'!$E$5:$K$288,4,0)","v":66.62},{"$f":"VLOOKUP($B143,'FSA23'!$E$5:$K$288,5,0)","v":47.56},{"$f":"VLOOKUP($B143,'FSA23'!$E$5:$K$288,6,0)","v":60.150000000000006},{"$f":"VLOOKUP($B143,'FSA23'!$E$5:$K$288,7,0)","v":60.38},{"$f":"AVERAGE(G143:K143)+$S143","v":57.22},58.956000000000003,57.423200000000001,null,null,null,1.97,0.56999999999999995,0.83,null,{"$f":"C143-($S143*6)","v":{"$error":"#REF!"}},{"$f":"D143-($S143*5)","v":{"$error":"#REF!"}},{"$error":"#REF!"},{"$error":"#REF!"},48.54,66.62,47.56,60.150000000000006,60.38,57.22,58.956000000000003]
[null,"KentSoybeansNonirrigated",{"$f":"VLOOKUP($B144,#REF!,3,0)","v":{"$error":"#REF!"}},{"$f":"VLOOKUP($B144,#REF!,4,0)","v":{"$error":"#REF!"}},{"$f":"VLOOKUP($B144,'FSA21'!$E$5:$K$183,3,0)","v":50.8},{"$f":"VLOOKUP($B144,'FSA21'!$E$5:$K$183,4,0)","v":53.97},{"$f":"VLOOKUP($B144,'FSA23'!$E$5:$K$288,3,0)","v":43.61},{"$f":"VLOOKUP($B144,'FSA23'!$E$5:$K$288,4,0)","v":46.720000000000006},{"$f":"VLOOKUP($B144,'FSA23'!$E$5:$K$288,5,0)","v":45.26},{"$f":"VLOOKUP($B144,'FSA23'!$E$5:$K$288,6,0)","v":47.67},{"$f":"VLOOKUP($B144,'FSA23'!$E$5:$K$288,7,0)","v":53.19},47.86,48.71,49.108000000000004,null,null,null,1.97,0.56999999999999995,0.83,null,{"$f":"C144-($S144*6)","v":{"$error":"#REF!"}},{"$f":"D144-($S144*5)","v":{"$error":"#REF!"}},50.8,53.97,43.61,46.720000000000006,45.26,47.67,53.19,47.86,48.71]
[null,"KentWheatAll",{"$f":"VLOOKUP($B145,#REF!,3,0)","v":{"$error":"#REF!"}},{"$f":"VLOOKUP($B145,#REF!,4,0)","v":{"$error":"#REF!"}},{"$f":"VLOOKUP($B145,'FSA21'!$E$5:$K$183,3,0)","v":68.320000000000007},{"$f":"VLOOKUP($B145,'FSA21'!$E$5:$K$183,4,0)","v":83.91},{"$f":"VLOOKUP($B145,'FSA23'!$E$5:$K$288,3,0)","v":61.82},{"$f":"VLOOKUP($B145,'FSA23'!$E$5:$K$288,4,0)","v":78.320000000000007},{"$f":"VLOOKUP($B145,'FSA23'!$E$5:$K$288,5,0)","v":69.22},{"$f":"VLOOKUP($B145,'FSA23'!$E$5:$K$288,6,0)","v":55.93},{"$f":"VLOOKUP($B145,'FSA23'!$E$5:$K$288,7,0)","v":70.59},{"$f":"AVERAGE(G145:K145)+$T145","v":68.006},{"$f":"AVERAGE(H145:L145)+$T145","v":69.243200000000002},{"$f":"AVERAGE(I145:M145)+$T145","v":67.427839999999989},null,null,null,1.97,0.56999999999999995,0.83,null,{"$f":"C145-($T145*6)","v":{"$error":"#REF!"}},{"$f":"D145-($T145*5)","v":{"$error":"#REF!"}},68.320000000000007,83.91,61.82,78.320000000000007,69.22,55.93,70.59,68.006,69.243200000000002]
[null,"LakeCornAll",{"$f":"VLOOKUP($B146,#REF!,3,0)","v":{"$error":"#REF!"}},{"$f":"VLOOKUP($B146,#REF!,4,0)","v":{"$error":"#REF!"}},{"$f":"VLOOKUP($B146,#REF!,5,0)","v":{"$error":"#REF!"}},{"$f":"VLOOKUP($B146,#REF!,6,0)","v":{"$error":"#REF!"}},{"$f":"VLOOKUP($B146,'FSA23'!$E$5:$K$288,3,0)","v":140},{"$f":"VLOOKUP($B146,'FSA23'!$E$5:$K$288,4,0)","v":78.17},{"$f":"VLOOKUP($B146,'FSA23'!$E$5:$K$288,5,0)","v":138.51},{"$f":"VLOOKUP($B146,'FSA23'!$E$5:$K$288,6,0)","v":154.4},{"$f":"VLOOKUP($B146,'FSA23'!$E$5:$K$288,7,0)","v":157.86000000000001},{"$f":"AVERAGE(G146:K146)+$R146","v":135.44800000000001},{"$f":"AVERAGE(H146:L146)+$R146","v":134.5376},{"$f":"AVERAGE(I146:M146)+$R146","v":145.81111999999999},null,null,null,1.66,null,0.72,null,{"$f":"C146-($R146*6)","v":{"$error":"#REF!"}},{"$f":"D146-($R146*5)","v":{"$error":"#REF!"}},{"$error":"#REF!"},{"$error":"#REF!"},140,78.17,138.51,154.4,157.86000000000001,135.44800000000001,134.5376]
[null,"LakeWheatAll",{"$f":"VLOOKUP($B147,#REF!,3,0)","v":{"$error":"#REF!"}},{"$f":"VLOOKUP($B147,#REF!,4,0)","v":{"$error":"#REF!"}},{"$f":"VLOOKUP($B147,#REF!,5,0)","v":{"$error":"#REF!"}},{"$f":"VLOOKUP($B147,#REF!,6,0)","v":{"$error":"#REF!"}},{"$f":"VLOOKUP($B147,'FSA23'!$E$5:$K$288,3,0)","v":65},{"$f":"VLOOKUP($B147,'FSA23'!$E$5:$K$288,4,0)","v":66},{"$f":"VLOOKUP($B147,'FSA23'!$E$5:$K$288,5,0)","v":51.6},{"$f":"VLOOKUP($B147,'FSA23'!$E$5:$K$288,6,0)","v":52.97},{"$f":"VLOOKUP($B147,'FSA23'!$E$5:$K$288,7,0)","v":66.97},{"$f":"AVERAGE(G147:K147)+$T147","v":61.227999999999994},{"$f":"AVERAGE(H147:L147)+$T147","v":60.47359999999999},{"$f":"AVERAGE(I147:M147)+$T147","v":59.36831999999999},null,null,null,1.66,null,0.72,null,{"$f":"C147-($T147*6)","v":{"$error":"#REF!"}},{"$f":"D147-($T147*5)","v":{"$error":"#REF!"}},{"$error":"#REF!"},{"$error":"#REF!"},65,66,51.6,52.97,66.97,61.227999999999994,60.47359999999999]
[null,"LapeerCornAll",{"$f":"VLOOKUP($B148,#REF!,3,0)","v":{"$error":"#REF!"}},{"$f":"VLOOKUP($B148,#REF!,4,0)","v":{"$error":"#REF!"}},{"$f":"VLOOKUP($B148,'FSA21'!$E$5:$K$183,3,0)","v":189.99},{"$f":"VLOOKUP($B148,'FSA21'!$E$5:$K$183,4,0)","v":180.01000000000002},{"$f":"VLOOKUP($B148,'FSA23'!$E$5:$K$288,3,0)","v":194.26},{"$f":"VLOOKUP($B148,'FSA23'!$E$5:$K$288,4,0)","v":184.31},{"$f":"VLOOKUP($B148,'FSA23'!$E$5:$K$288,5,0)","v":151.59},{"$f":"VLOOKUP($B148,'FSA23'!$E$5:$K$288,6,0)","v":177.54999999999998},{"$f":"VLOOKUP($B148,'FSA23'!$E$5:$K$288,7,0)","v":189.34},{"$f":"AVERAGE(G148:K148)+$R148","v":181.32},{"$f":"AVERAGE(H148:L148)+$R148","v":178.73199999999997},{"$f":"AVERAGE(I148:M148)+$R148","v":177.61639999999997},null,null,null,1.91,0.52,0.9,null,{"$f":"C148-($R148*6)","v":{"$error":"#REF!"}},{"$f":"D148-($R148*5)","v":{"$error":"#REF!"}},189.99,180.01000000000002,194.26,184.31,151.59,177.54999999999998,189.34,181.32,178.73199999999997]
[null,"LapeerSoybeansAll",{"$f":"VLOOKUP($B149,#REF!,3,0)","v":{"$error":"#REF!"}},{"$f":"VLOOKUP($B149,#REF!,4,0)","v":{"$error":"#REF!"}},{"$f":"VLOOKUP($B149,'FSA21'!$E$5:$K$183,3,0)","v":51.8},{"$f":"VLOOKUP($B149,'FSA21'!$E$5:$K$183,4,0)","v":53.489999999999995},{"$f":"VLOOKUP($B149,'FSA23'!$E$5:$K$288,3,0)","v":42.699999999999996},{"$f":"VLOOKUP($B149,'FSA23'!$E$5:$K$288,4,0)","v":47.669999999999995},{"$f":"VLOOKUP($B149,'FSA23'!$E$5:$K$288,5,0)","v":36.1},{"$f":"VLOOKUP($B149,'FSA23'!$E$5:$K$288,6,0)","v":49.78},{"$f":"VLOOKUP($B149,'FSA23'!$E$5:$K$288,7,0)","v":47.82},{"$f":"AVERAGE(G149:K149)+$S149","v":45.334000000000003},{"$f":"AVERAGE(H149:L149)+$S149","v":45.860800000000005},{"$f":"AVERAGE(I149:M149)+$S149","v":45.498960000000004},null,null,null,1.91,0.52,0.9,null,{"$f":"C149-($S149*6)","v":{"$error":"#REF!"}},{"$f":"D149-($S149*5)","v":{"$error":"#REF!"}},51.8,53.489999999999995,42.699999999999996,47.669999999999995,36.1,49.78,47.82,45.334000000000003,45.860800000000005]
[null,"LapeerWheatAll",{"$f":"VLOOKUP($B150,#REF!,3,0)","v":{"$error":"#REF!"}},{"$f":"VLOOKUP($B150,#REF!,4,0)","v":{"$error":"#REF!"}},{"$f":"VLOOKUP($B150,'FSA21'!$E$5:$K$183,3,0)","v":79.900000000000006},{"$f":"VLOOKUP($B150,'FSA21'!$E$5:$K$183,4,0)","v":91.66},{"$f":"VLOOKUP($B150,'FSA23'!$E$5:$K$288,3,0)","v":77.84},{"$f":"VLOOKUP($B150,'FSA23'!$E$5:$K$288,4,0)","v":81.67},{"$f":"VLOOKUP($B150,'FSA23'!$E$5:$K$288,5,0)","v":59.65},{"$f":"VLOOKUP($B150,'FSA23'!$E$5:$K$288,6,0)","v":68.08},{"$f":"VLOOKUP($B150,'FSA23'!$E$5:$K$288,7,0)","v":80.150000000000006},{"$f":"AVERAGE(G150:K150)+$T150","v":74.378},{"$f":"AVERAGE(H150:L150)+$T150","v":73.685599999999994},{"$f":"AVERAGE(I150:M150)+$T150","v":72.088719999999995},null,null,null,1.91,0.52,0.9,null,{"$f":"C150-($T150*6)","v":{"$error":"#REF!"}},{"$f":"D150-($T150*5)","v":{"$error":"#REF!"}},79.900000000000006,91.66,77.84,81.67,59.65,68.08,80.150000000000006,74.378,73.685599999999994]
[null,"LeelanauCornAll",{"$f":"VLOOKUP($B151,#REF!,3,0)","v":{"$error":"#REF!"}},{"$f":"VLOOKUP($B151,#REF!,4,0)","v":{"$error":"#REF!"}},{"$f":"VLOOKUP($B151,'FSA21'!$E$5:$K$183,3,0)","v":80.900000000000006},{"$f":"VLOOKUP($B151,'FSA21'!$E$5:$K$183,4,0)","v":66.650000000000006},{"$f":"VLOOKUP($B151,'FSA23'!$E$5:$K$288,3,0)","v":118.07000000000001},{"$f":"VLOOKUP($B151,'FSA23'!$E$5:$K$288,4,0)","v":100.33999999999999},{"$f":"VLOOKUP($B151,'FSA23'!$E$5:$K$288,5,0)","v":107.78},{"$f":"VLOOKUP($B151,'FSA23'!$E$5:$K$288,6,0)","v":133.52000000000001},{"$f":"VLOOKUP($B151,'FSA23'!$E$5:$K$288,7,0)","v":150.25},{"$f":"AVERAGE(G151:K151)+$R151","v":122.342},{"$f":"AVERAGE(H151:L151)+$R151","v":123.19639999999998},{"$f":"AVERAGE(I151:M151)+$R151","v":127.76768000000001},null,null,null,0.35,null,0.34,null,{"$f":"C151-($R151*6)","v":{"$error":"#REF!"}},{"$f":"D151-($R151*5)","v":{"$error":"#REF!"}},80.900000000000006,66.650000000000006,118.07000000000001,100.33999999999999,107.78,133.52000000000001,150.25,122.342,123.19639999999998]
[null,"LeelanauSoybeansAll",{"$f":"VLOOKUP($B152,#REF!,3,0)","v":{"$error":"#REF!"}},{"$f":"VLOOKUP($B152,#REF!,4,0)","v":{"$error":"#REF!"}},{"$f":"VLOOKUP($B152,#REF!,5,0)","v":{"$error":"#REF!"}},{"$f":"VLOOKUP($B152,#REF!,6,0)","v":{"$error":"#REF!"}},{"$f":"VLOOKUP($B152,'FSA23'!$E$5:$K$288,3,0)","v":45.13},{"$f":"VLOOKUP($B152,'FSA23'!$E$5:$K$288,4,0)","v":40.799999999999997},{"$f":"VLOOKUP($B152,'FSA23'!$E$5:$K$288,5,0)","v":40.799999999999997},{"$f":"VLOOKUP($B152,'FSA23'!$E$5:$K$288,6,0)","v":40.799999999999997},{"$f":"VLOOKUP($B152,'FSA23'!$E$5:$K$288,7,0)","v":40.92},{"$f":"AVERAGE(G152:K152)+$S152","v":41.69},{"$f":"AVERAGE(H152:L152)+$S152","v":41.001999999999995},{"$f":"AVERAGE(I152:M152)+$S152","v":41.042400000000001},null,null,null,0.35,0,0.34,null,{"$f":"C152-($S152*6)","v":{"$error":"#REF!"}},{"$f":"D152-($S152*5)","v":{"$error":"#REF!"}},{"$error":"#REF!"},{"$error":"#REF!"},45.13,40.799999999999997,40.799999999999997,40.799999999999997,40.92,41.69,41.001999999999995]
[null,"LeelanauWheatAll",{"$f":"VLOOKUP($B153,#REF!,3,0)","v":{"$error":"#REF!"}},{"$f":"VLOOKUP($B153,#REF!,4,0)","v":{"$error":"#REF!"}},{"$f":"VLOOKUP($B153,'FSA21'!$E$5:$K$183,3,0)","v":51},{"$f":"VLOOKUP($B153,'FSA21'!$E$5:$K$183,4,0)","v":55},{"$f":"VLOOKUP($B153,'FSA23'!$E$5:$K$288,3,0)","v":52},{"$f":"VLOOKUP($B153,'FSA23'!$E$5:$K$288,4,0)","v":40},{"$f":"VLOOKUP($B153,'FSA23'!$E$5:$K$288,5,0)","v":53.1},{"$f":"VLOOKUP($B153,'FSA23'!$E$5:$K$288,6,0)","v":44.08},{"$f":"VLOOKUP($B153,'FSA23'!$E$5:$K$288,7,0)","v":47.98},{"$f":"AVERAGE(G153:K153)+$T153","v":47.772000000000006},{"$f":"AVERAGE(H153:L153)+$T153","v":46.926400000000008},{"$f":"AVERAGE(I153:M153)+$T153","v":48.31168000000001},null,null,null,0.35,null,0.34,null,{"$f":"C153-($T153*6)","v":{"$error":"#REF!"}},{"$f":"D153-($T153*5)","v":{"$error":"#REF!"}},51,55,52,40,53.1,44.08,47.98,47.772000000000006,46.926400000000008]
[null,"LenaweeCornIrrigated",{"$f":"VLOOKUP($B154,#REF!,3,0)","v":{"$error":"#REF!"}},{"$f":"VLOOKUP($B154,#REF!,4,0)","v":{"$error":"#REF!"}},{"$f":"VLOOKUP($B154,#REF!,5,0)","v":{"$error":"#REF!"}},{"$f":"VLOOKUP($B154,#REF!,6,0)","v":{"$error":"#REF!"}},{"$f":"VLOOKUP($B154,'FSA23'!$E$5:$K$288,3,0)","v":232.36},{"$f":"VLOOKUP($B154,'FSA23'!$E$5:$K$288,4,0)","v":211.03},{"$f":"VLOOKUP($B154,'FSA23'!$E$5:$K$288,5,0)","v":216.26000000000002},{"$f":"VLOOKUP($B154,'FSA23'!$E$5:$K$288,6,0)","v":215.93},{"$f":"VLOOKUP($B154,'FSA23'!$E$5:$K$288,7,0)","v":210.42},{"$f":"AVERAGE(G154:K154)+$R154","v":219.01},216.34000000000003,217.40200000000002,null,null,null,1.81,0.4,1.03,null,{"$f":"C154-($R154*6)","v":{"$error":"#REF!"}},{"$f":"D154-($R154*5)","v":{"$error":"#REF!"}},{"$error":"#REF!"},{"$error":"#REF!"},232.36,211.03,216.26000000000002,215.93,210.42,219.01,216.34000000000003]
[null,"LenaweeCornNonirrigated",{"$f":"VLOOKUP($B155,#REF!,3,0)","v":{"$error":"#REF!"}},{"$f":"VLOOKUP($B155,#REF!,4,0)","v":{"$error":"#REF!"}},{"$f":"VLOOKUP($B155,'FSA21'!$E$5:$K$183,3,0)","v":179.44},{"$f":"VLOOKUP($B155,'FSA21'!$E$5:$K$183,4,0)","v":183.47},{"$f":"VLOOKUP($B155,'FSA23'!$E$5:$K$288,3,0)","v":189.24},{"$f":"VLOOKUP($B155,'FSA23'!$E$5:$K$288,4,0)","v":167.71},{"$f":"VLOOKUP($B155,'FSA23'!$E$5:$K$288,5,0)","v":176.10999999999999},{"$f":"VLOOKUP($B155,'FSA23'!$E$5:$K$288,6,0)","v":169.38},{"$f":"VLOOKUP($B155,'FSA23'!$E$5:$K$288,7,0)","v":193.3},180.958,179.30160000000001,181.61991999999998,null,null,null,1.81,0.4,1.03,null,{"$f":"C155-($R155*6)","v":{"$error":"#REF!"}},{"$f":"D155-($R155*5)","v":{"$error":"#REF!"}},179.44,183.47,189.24,167.71,176.10999999999999,169.38,193.3,180.958,179.30160000000001]
[null,"LenaweeSoybeansIrrigated",{"$f":"VLOOKUP($B156,#REF!,3,0)","v":{"$error":"#REF!"}},{"$f":"VLOOKUP($B156,#REF!,4,0)","v":{"$error":"#REF!"}},{"$f":"VLOOKUP($B156,#REF!,5,0)","v":{"$error":"#REF!"}},{"$f":"VLOOKUP($B156,#REF!,6,0)","v":{"$error":"#REF!"}},{"$f":"VLOOKUP($B156,'FSA23'!$E$5:$K$288,3,0)","v":58.120000000000005},{"$f":"VLOOKUP($B156,'FSA23'!$E$5:$K$288,4,0)","v":62},{"$f":"VLOOKUP($B156,'FSA23'!$E$5:$K$288,5,0)","v":68.55},{"$f":"VLOOKUP($B156,'FSA23'!$E$5:$K$288,6,0)","v":73.02000000000001},{"$f":"VLOOKUP($B156,'FSA23'!$E$5:$K$288,7,0)","v":66.17},{"$f":"AVERAGE(G156:K156)+$S156","v":65.972000000000023},67.542400000000015,68.650880000000015,null,null,null,1.81,0.4,1.03,null,{"$f":"C156-($S156*6)","v":{"$error":"#REF!"}},{"$f":"D156-($S156*5)","v":{"$error":"#REF!"}},{"$error":"#REF!"},{"$error":"#REF!"},58.120000000000005,62,68.55,73.02000000000001,66.17,65.972000000000023,67.542400000000015]
[null,"LenaweeSoybeansNonirrigated",{"$f":"VLOOKUP($B157,#REF!,3,0)","v":{"$error":"#REF!"}},{"$f":"VLOOKUP($B157,#REF!,4,0)","v":{"$error":"#REF!"}},{"$f":"VLOOKUP($B157,'FSA21'!$E$5:$K$183,3,0)","v":52.69},{"$f":"VLOOKUP($B157,'FSA21'!$E$5:$K$183,4,0)","v":59.82},{"$f":"VLOOKUP($B157,'FSA23'!$E$5:$K$288,3,0)","v":51.910000000000004},{"$f":"VLOOKUP($B157,'FSA23'!$E$5:$K$288,4,0)","v":54.220000000000006},{"$f":"VLOOKUP($B157,'FSA23'!$E$5:$K$288,5,0)","v":51.92},{"$f":"VLOOKUP($B157,'FSA23'!$E$5:$K$288,6,0)","v":50.309999999999995},{"$f":"VLOOKUP($B157,'FSA23'!$E$5:$K$288,7,0)","v":54.68},53.008000000000003,53.227600000000002,53.029119999999999,null,null,null,1.81,0.4,1.03,null,{"$f":"C157-($S157*6)","v":{"$error":"#REF!"}},{"$f":"D157-($S157*5)","v":{"$error":"#REF!"}},52.69,59.82,51.910000000000004,54.220000000000006,51.92,50.309999999999995,54.68,53.008000000000003,53.227600000000002]
[null,"LenaweeWheatAll",{"$f":"VLOOKUP($B158,#REF!,3,0)","v":{"$error":"#REF!"}},{"$f":"VLOOKUP($B158,#REF!,4,0)","v":{"$error":"#REF!"}},{"$f":"VLOOKUP($B158,'FSA21'!$E$5:$K$183,3,0)","v":65.8},{"$f":"VLOOKUP($B158,'FSA21'!$E$5:$K$183,4,0)","v":100.4},{"$f":"VLOOKUP($B158,'FSA23'!$E$5:$K$288,3,0)","v":89.79},{"$f":"VLOOKUP($B158,'FSA23'!$E$5:$K$288,4,0)","v":82.79},{"$f":"VLOOKUP($B158,'FSA23'!$E$5:$K$288,5,0)","v":63.8},{"$f":"VLOOKUP($B158,'FSA23'!$E$5:$K$288,6,0)","v":72.61},{"$f":"VLOOKUP($B158,'FSA23'!$E$5:$K$288,7,0)","v":92.97},{"$f":"AVERAGE(G158:K158)+$T158","v":81.422000000000011},{"$f":"AVERAGE(H158:L158)+$T158","v":79.748400000000004},{"$f":"AVERAGE(I158:M158)+$T158","v":79.140080000000012},null,null,null,1.81,0.4,1.03,null,{"$f":"C158-($T158*6)","v":{"$error":"#REF!"}},{"$f":"D158-($T158*5)","v":{"$error":"#REF!"}},65.8,100.4,89.79,82.79,63.8,72.61,92.97,81.422000000000011,79.748400000000004]
[null,"LivingstonCornAll",{"$f":"VLOOKUP($B159,#REF!,3,0)","v":{"$error":"#REF!"}},{"$f":"VLOOKUP($B159,#REF!,4,0)","v":{"$error":"#REF!"}},{"$f":"VLOOKUP($B159,'FSA21'!$E$5:$K$183,3,0)","v":183.10999999999999},{"$f":"VLOOKUP($B159,'FSA21'!$E$5:$K$183,4,0)","v":154.99},{"$f":"VLOOKUP($B159,'FSA23'!$E$5:$K$288,3,0)","v":167.78},{"$f":"VLOOKUP($B159,'FSA23'!$E$5:$K$288,4,0)","v":139.72},{"$f":"VLOOKUP($B159,'FSA23'!$E$5:$K$288,5,0)","v":168.57000000000002},{"$f":"VLOOKUP($B159,'FSA23'!$E$5:$K$288,6,0)","v":170.27999999999997},{"$f":"VLOOKUP($B159,'FSA23'!$E$5:$K$288,7,0)","v":180.42999999999998},{"$f":"AVERAGE(G159:K159)+$R159","v":167.126},{"$f":"AVERAGE(H159:L159)+$R159","v":166.99520000000001},{"$f":"AVERAGE(I159:M159)+$R159","v":172.45024000000001},null,null,null,1.77,0.55000000000000004,0.8,null,{"$f":"C159-($R159*6)","v":{"$error":"#REF!"}},{"$f":"D159-($R159*5)","v":{"$error":"#REF!"}},183.10999999999999,154.99,167.78,139.72,168.57000000000002,170.27999999999997,180.42999999999998,167.126,166.99520000000001]
[null,"LivingstonSoybeansAll",{"$f":"VLOOKUP($B160,#REF!,3,0)","v":{"$error":"#REF!"}},{"$f":"VLOOKUP($B160,#REF!,4,0)","v":{"$error":"#REF!"}},{"$f":"VLOOKUP($B160,'FSA21'!$E$5:$K$183,3,0)","v":49.160000000000004},{"$f":"VLOOKUP($B160,'FSA21'!$E$5:$K$183,4,0)","v":52.34},{"$f":"VLOOKUP($B160,'FSA23'!$E$5:$K$288,3,0)","v":41.61},{"$f":"VLOOKUP($B160,'FSA23'!$E$5:$K$288,4,0)","v":48.330000000000005},{"$f":"VLOOKUP($B160,'FSA23'!$E$5:$K$288,5,0)","v":47.13},{"$f":"VLOOKUP($B160,'FSA23'!$E$5:$K$288,6,0)","v":47.05},{"$f":"VLOOKUP($B160,'FSA23'!$E$5:$K$288,7,0)","v":51.01},{"$f":"AVERAGE(G160:K160)+$S160","v":47.575999999999993},{"$f":"AVERAGE(H160:L160)+$S160","v":48.769199999999991},{"$f":"AVERAGE(I160:M160)+$S160","v":48.857039999999991},null,null,null,1.77,0.55000000000000004,0.8,null,{"$f":"C160-($S160*6)","v":{"$error":"#REF!"}},{"$f":"D160-($S160*5)","v":{"$error":"#REF!"}},49.160000000000004,52.34,41.61,48.330000000000005,47.13,47.05,51.01,47.575999999999993,48.769199999999991]
[null,"LivingstonWheatAll",{"$f":"VLOOKUP($B161,#REF!,3,0)","v":{"$error":"#REF!"}},{"$f":"VLOOKUP($B161,#REF!,4,0)","v":{"$error":"#REF!"}},{"$f":"VLOOKUP($B161,'FSA21'!$E$5:$K$183,3,0)","v":78.41},{"$f":"VLOOKUP($B161,'FSA21'!$E$5:$K$183,4,0)","v":84.02},{"$f":"VLOOKUP($B161,'FSA23'!$E$5:$K$288,3,0)","v":81.42},{"$f":"VLOOKUP($B161,'FSA23'!$E$5:$K$288,4,0)","v":73.959999999999994},{"$f":"VLOOKUP($B161,'FSA23'!$E$5:$K$288,5,0)","v":58.03},{"$f":"VLOOKUP($B161,'FSA23'!$E$5:$K$288,6,0)","v":72.83},{"$f":"VLOOKUP($B161,'FSA23'!$E$5:$K$288,7,0)","v":67.19},{"$f":"AVERAGE(G161:K161)+$T161","v":71.486000000000004},{"$f":"AVERAGE(H161:L161)+$T161","v":69.499199999999988},{"$f":"AVERAGE(I161:M161)+$T161","v":68.607039999999998},null,null,null,1.77,0.55000000000000004,0.8,null,{"$f":"C161-($T161*6)","v":{"$error":"#REF!"}},{"$f":"D161-($T161*5)","v":{"$error":"#REF!"}},78.41,84.02,81.42,73.959999999999994,58.03,72.83,67.19,71.486000000000004,69.499199999999988]
[null,"LuceCornAll",{"$f":"VLOOKUP($B162,#REF!,3,0)","v":{"$error":"#REF!"}},{"$f":"VLOOKUP($B162,#REF!,4,0)","v":{"$error":"#REF!"}},{"$f":"VLOOKUP($B162,#REF!,5,0)","v":{"$error":"#REF!"}},{"$f":"VLOOKUP($B162,#REF!,6,0)","v":{"$error":"#REF!"}},{"$f":"VLOOKUP($B162,'FSA23'!$E$5:$K$288,3,0)","v":61.6},{"$f":"VLOOKUP($B162,'FSA23'!$E$5:$K$288,4,0)","v":111},{"$f":"VLOOKUP($B162,'FSA23'!$E$5:$K$288,5,0)","v":61.6},{"$f":"VLOOKUP($B162,'FSA23'!$E$5:$K$288,6,0)","v":182.4},{"$f":"VLOOKUP($B162,'FSA23'!$E$5:$K$288,7,0)","v":110.84},{"$f":"AVERAGE(G162:K162)+$R162","v":106.46800000000002},{"$f":"AVERAGE(H162:L162)+$R162","v":115.44160000000001},{"$f":"AVERAGE(I162:M162)+$R162","v":116.32992000000003},null,null,null,0.98,0.28000000000000003,0.64,null,{"$f":"C162-($R162*6)","v":{"$error":"#REF!"}},{"$f":"D162-($R162*5)","v":{"$error":"#REF!"}},{"$error":"#REF!"},{"$error":"#REF!"},61.6,111,61.6,182.4,110.84,106.46800000000002,115.44160000000001]
[null,"LuceSoybeansAll",{"$f":"VLOOKUP($B163,#REF!,3,0)","v":{"$error":"#REF!"}},{"$f":"VLOOKUP($B163,#REF!,4,0)","v":{"$error":"#REF!"}},{"$f":"VLOOKUP($B163,#REF!,5,0)","v":{"$error":"#REF!"}},{"$f":"VLOOKUP($B163,#REF!,6,0)","v":{"$error":"#REF!"}},{"$f":"VLOOKUP($B163,'FSA23'!$E$5:$K$288,3,0)","v":37},{"$f":"VLOOKUP($B163,'FSA23'!$E$5:$K$288,4,0)","v":37},{"$f":"VLOOKUP($B163,'FSA23'!$E$5:$K$288,5,0)","v":34.4},{"$f":"VLOOKUP($B163,'FSA23'!$E$5:$K$288,6,0)","v":40.1},{"$f":"VLOOKUP($B163,'FSA23'!$E$5:$K$288,7,0)","v":33.200000000000003},{"$f":"AVERAGE(G163:K163)+$S163","v":36.619999999999997},{"$f":"AVERAGE(H163:L163)+$S163","v":36.543999999999997},{"$f":"AVERAGE(I163:M163)+$S163","v":36.452799999999996},null,null,null,0.98,0.28000000000000003,0.64,null,{"$f":"C163-($S163*6)","v":{"$error":"#REF!"}},{"$f":"D163-($S163*5)","v":{"$error":"#REF!"}},{"$error":"#REF!"},{"$error":"#REF!"},37,37,34.4,40.1,33.200000000000003,36.619999999999997,36.543999999999997]
[null,"LuceWheatAll",{"$f":"VLOOKUP($B164,#REF!,3,0)","v":{"$error":"#REF!"}},{"$f":"VLOOKUP($B164,#REF!,4,0)","v":{"$error":"#REF!"}},{"$f":"VLOOKUP($B164,#REF!,5,0)","v":{"$error":"#REF!"}},{"$f":"VLOOKUP($B164,#REF!,6,0)","v":{"$error":"#REF!"}},{"$f":"VLOOKUP($B164,'FSA23'!$E$5:$K$288,3,0)","v":53.6},{"$f":"VLOOKUP($B164,'FSA23'!$E$5:$K$288,4,0)","v":40},{"$f":"VLOOKUP($B164,'FSA23'!$E$5:$K$288,5,0)","v":53.1},{"$f":"VLOOKUP($B164,'FSA23'!$E$5:$K$288,6,0)","v":50.4},{"$f":"VLOOKUP($B164,'FSA23'!$E$5:$K$288,7,0)","v":61.66},{"$f":"AVERAGE(G164:K164)+$T164","v":52.391999999999996},{"$f":"AVERAGE(H164:L164)+$T164","v":52.150400000000005},{"$f":"AVERAGE(I164:M164)+$T164","v":54.580480000000001},null,null,null,0.98,0.28000000000000003,0.64,null,{"$f":"C164-($T164*6)","v":{"$error":"#REF!"}},{"$f":"D164-($T164*5)","v":{"$error":"#REF!"}},{"$error":"#REF!"},{"$error":"#REF!"},53.6,40,53.1,50.4,61.66,52.391999999999996,52.150400000000005]
[null,"MackinacCornAll",{"$f":"VLOOKUP($B165,#REF!,3,0)","v":{"$error":"#REF!"}},{"$f":"VLOOKUP($B165,#REF!,4,0)","v":{"$error":"#REF!"}},{"$f":"VLOOKUP($B165,#REF!,5,0)","v":{"$error":"#REF!"}},{"$f":"VLOOKUP($B165,#REF!,6,0)","v":{"$error":"#REF!"}},{"$f":"VLOOKUP($B165,'FSA23'!$E$5:$K$288,3,0)","v":61.6},{"$f":"VLOOKUP($B165,'FSA23'!$E$5:$K$288,4,0)","v":111},{"$f":"VLOOKUP($B165,'FSA23'!$E$5:$K$288,5,0)","v":61.6},{"$f":"VLOOKUP($B165,'FSA23'!$E$5:$K$288,6,0)","v":182.9},{"$f":"VLOOKUP($B165,'FSA23'!$E$5:$K$288,7,0)","v":110.84},{"$f":"AVERAGE(G165:K165)+$R165","v":106.59800000000001},{"$f":"AVERAGE(H165:L165)+$R165","v":115.59760000000003},{"$f":"AVERAGE(I165:M165)+$R165","v":116.51712000000002},null,null,null,1.01,null,0.7,null,{"$f":"C165-($R165*6)","v":{"$error":"#REF!"}},{"$f":"D165-($R165*5)","v":{"$error":"#REF!"}},{"$error":"#REF!"},{"$error":"#REF!"},61.6,111,61.6,182.9,110.84,106.59800000000001,115.59760000000003]
[null,"MackinacWheatAll",{"$f":"VLOOKUP($B166,#REF!,3,0)","v":{"$error":"#REF!"}},{"$f":"VLOOKUP($B166,#REF!,4,0)","v":{"$error":"#REF!"}},{"$f":"VLOOKUP($B166,#REF!,5,0)","v":{"$error":"#REF!"}},{"$f":"VLOOKUP($B166,#REF!,6,0)","v":{"$error":"#REF!"}},{"$f":"VLOOKUP($B166,'FSA23'!$E$5:$K$288,3,0)","v":52},{"$f":"VLOOKUP($B166,'FSA23'!$E$5:$K$288,4,0)","v":40},{"$f":"VLOOKUP($B166,'FSA23'!$E$5:$K$288,5,0)","v":53.1},{"$f":"VLOOKUP($B166,'FSA23'!$E$5:$K$288,6,0)","v":50.4},{"$f":"VLOOKUP($B166,'FSA23'!$E$5:$K$288,7,0)","v":61.66},{"$f":"AVERAGE(G166:K166)+$T166","v":52.131999999999998},{"$f":"AVERAGE(H166:L166)+$T166","v":52.1584},{"$f":"AVERAGE(I166:M166)+$T166","v":54.59008},null,null,null,1.01,null,0.7,null,{"$f":"C166-($T166*6)","v":{"$error":"#REF!"}},{"$f":"D166-($T166*5)","v":{"$error":"#REF!"}},{"$error":"#REF!"},{"$error":"#REF!"},52,40,53.1,50.4,61.66,52.131999999999998,52.1584]
[null,"MacombCornAll",{"$f":"VLOOKUP($B167,#REF!,3,0)","v":{"$error":"#REF!"}},{"$f":"VLOOKUP($B167,#REF!,4,0)","v":{"$error":"#REF!"}},{"$f":"VLOOKUP($B167,'FSA21'!$E$5:$K$183,3,0)","v":169.57999999999998},{"$f":"VLOOKUP($B167,'FSA21'!$E$5:$K$183,4,0)","v":187.86},{"$f":"VLOOKUP($B167,'FSA23'!$E$5:$K$288,3,0)","v":190.48},{"$f":"VLOOKUP($B167,'FSA23'!$E$5:$K$288,4,0)","v":190.42000000000002},{"$f":"VLOOKUP($B167,'FSA23'!$E$5:$K$288,5,0)","v":160.03},{"$f":"VLOOKUP($B167,'FSA23'!$E$5:$K$288,6,0)","v":169.91000000000003},{"$f":"VLOOKUP($B167,'FSA23'!$E$5:$K$288,7,0)","v":178.74},{"$f":"AVERAGE(G167:K167)+$R167","v":179.85599999999999},{"$f":"AVERAGE(H167:L167)+$R167","v":177.73120000000003},{"$f":"AVERAGE(I167:M167)+$R167","v":175.19344000000001},null,null,null,1.94,0.38,0.75,null,{"$f":"C167-($R167*6)","v":{"$error":"#REF!"}},{"$f":"D167-($R167*5)","v":{"$error":"#REF!"}},169.57999999999998,187.86,190.48,190.42000000000002,160.03,169.91000000000003,178.74,179.85599999999999,177.73120000000003]
[null,"MacombSoybeansAll",{"$f":"VLOOKUP($B168,#REF!,3,0)","v":{"$error":"#REF!"}},{"$f":"VLOOKUP($B168,#REF!,4,0)","v":{"$error":"#REF!"}},{"$f":"VLOOKUP($B168,'FSA21'!$E$5:$K$183,3,0)","v":44.11},{"$f":"VLOOKUP($B168,'FSA21'!$E$5:$K$183,4,0)","v":52.730000000000004},{"$f":"VLOOKUP($B168,'FSA23'!$E$5:$K$288,3,0)","v":43.96},{"$f":"VLOOKUP($B168,'FSA23'!$E$5:$K$288,4,0)","v":47.559999999999995},{"$f":"VLOOKUP($B168,'FSA23'!$E$5:$K$288,5,0)","v":37.51},{"$f":"VLOOKUP($B168,'FSA23'!$E$5:$K$288,6,0)","v":42.199999999999996},{"$f":"VLOOKUP($B168,'FSA23'!$E$5:$K$288,7,0)","v":41.519999999999996},{"$f":"AVERAGE(G168:K168)+$S168","v":42.93},{"$f":"AVERAGE(H168:L168)+$S168","v":42.723999999999997},{"$f":"AVERAGE(I168:M168)+$S168","v":41.756799999999998},null,null,null,1.94,0.38,0.75,null,{"$f":"C168-($S168*6)","v":{"$error":"#REF!"}},{"$f":"D168-($S168*5)","v":{"$error":"#REF!"}},44.11,52.730000000000004,43.96,47.559999999999995,37.51,42.199999999999996,41.519999999999996,42.93,42.723999999999997]
[null,"MacombWheatAll",{"$f":"VLOOKUP($B169,#REF!,3,0)","v":{"$error":"#REF!"}},{"$f":"VLOOKUP($B169,#REF!,4,0)","v":{"$error":"#REF!"}},{"$f":"VLOOKUP($B169,'FSA21'!$E$5:$K$183,3,0)","v":71.22},{"$f":"VLOOKUP($B169,'FSA21'!$E$5:$K$183,4,0)","v":85.67},{"$f":"VLOOKUP($B169,'FSA23'!$E$5:$K$288,3,0)","v":71.16},{"$f":"VLOOKUP($B169,'FSA23'!$E$5:$K$288,4,0)","v":74.180000000000007},{"$f":"VLOOKUP($B169,'FSA23'!$E$5:$K$288,5,0)","v":67.260000000000005},{"$f":"VLOOKUP($B169,'FSA23'!$E$5:$K$288,6,0)","v":68.66},{"$f":"VLOOKUP($B169,'FSA23'!$E$5:$K$288,7,0)","v":68.3},{"$f":"AVERAGE(G169:K169)+$T169","v":70.662000000000006},{"$f":"AVERAGE(H169:L169)+$T169","v":70.562399999999997},{"$f":"AVERAGE(I169:M169)+$T169","v":69.838880000000017},null,null,null,1.94,0.38,0.75,null,{"$f":"C169-($T169*6)","v":{"$error":"#REF!"}},{"$f":"D169-($T169*5)","v":{"$error":"#REF!"}},71.22,85.67,71.16,74.180000000000007,67.260000000000005,68.66,68.3,70.662000000000006,70.562399999999997]
[null,"ManisteeCornAll",{"$f":"VLOOKUP($B170,#REF!,3,0)","v":{"$error":"#REF!"}},{"$f":"VLOOKUP($B170,#REF!,4,0)","v":{"$error":"#REF!"}},{"$f":"VLOOKUP($B170,'FSA21'!$E$5:$K$183,3,0)","v":139.55000000000001},{"$f":"VLOOKUP($B170,'FSA21'!$E$5:$K$183,4,0)","v":152.82000000000002},{"$f":"VLOOKUP($B170,'FSA23'!$E$5:$K$288,3,0)","v":127.48},{"$f":"VLOOKUP($B170,'FSA23'!$E$5:$K$288,4,0)","v":148.52000000000001},{"$f":"VLOOKUP($B170,'FSA23'!$E$5:$K$288,5,0)","v":108.60000000000001},{"$f":"VLOOKUP($B170,'FSA23'!$E$5:$K$288,6,0)","v":120.05},{"$f":"VLOOKUP($B170,'FSA23'!$E$5:$K$288,7,0)","v":155.07000000000002},{"$f":"AVERAGE(G170:K170)+$R170","v":133.00400000000002},{"$f":"AVERAGE(H170:L170)+$R170","v":134.1088},{"$f":"AVERAGE(I170:M170)+$R170","v":131.22656000000001},null,null,null,1.06,null,0.3,null,{"$f":"C170-($R170*6)","v":{"$error":"#REF!"}},{"$f":"D170-($R170*5)","v":{"$error":"#REF!"}},139.55000000000001,152.82000000000002,127.48,148.52000000000001,108.60000000000001,120.05,155.07000000000002,133.00400000000002,134.1088]
[null,"ManisteeWheatAll",{"$f":"VLOOKUP($B171,#REF!,3,0)","v":{"$error":"#REF!"}},{"$f":"VLOOKUP($B171,#REF!,4,0)","v":{"$error":"#REF!"}},{"$f":"VLOOKUP($B171,'FSA21'!$E$5:$K$183,3,0)","v":51},{"$f":"VLOOKUP($B171,'FSA21'!$E$5:$K$183,4,0)","v":55},{"$f":"VLOOKUP($B171,'FSA23'!$E$5:$K$288,3,0)","v":52},{"$f":"VLOOKUP($B171,'FSA23'!$E$5:$K$288,4,0)","v":40},{"$f":"VLOOKUP($B171,'FSA23'!$E$5:$K$288,5,0)","v":53.1},{"$f":"VLOOKUP($B171,'FSA23'!$E$5:$K$288,6,0)","v":46},{"$f":"VLOOKUP($B171,'FSA23'!$E$5:$K$288,7,0)","v":63.48},{"$f":"AVERAGE(G171:K171)+$T171","v":51.215999999999994},{"$f":"AVERAGE(H171:L171)+$T171","v":51.059199999999997},{"$f":"AVERAGE(I171:M171)+$T171","v":53.271039999999992},null,null,null,1.06,null,0.3,null,{"$f":"C171-($T171*6)","v":{"$error":"#REF!"}},{"$f":"D171-($T171*5)","v":{"$error":"#REF!"}},51,55,52,40,53.1,46,63.48,51.215999999999994,51.059199999999997]
[null,"MarquetteCornAll",{"$f":"VLOOKUP($B172,#REF!,3,0)","v":{"$error":"#REF!"}},{"$f":"VLOOKUP($B172,#REF!,4,0)","v":{"$error":"#REF!"}},{"$f":"VLOOKUP($B172,'FSA21'!$E$5:$K$183,3,0)","v":132},{"$f":"VLOOKUP($B172,'FSA21'!$E$5:$K$183,4,0)","v":87},{"$f":"VLOOKUP($B172,'FSA23'!$E$5:$K$288,3,0)","v":58.4},{"$f":"VLOOKUP($B172,'FSA23'!$E$5:$K$288,4,0)","v":111},{"$f":"VLOOKUP($B172,'FSA23'!$E$5:$K$288,5,0)","v":58.49},{"$f":"VLOOKUP($B172,'FSA23'!$E$5:$K$288,6,0)","v":184},{"$f":"VLOOKUP($B172,'FSA23'!$E$5:$K$288,7,0)","v":110.84},{"$f":"AVERAGE(G172:K172)+$R172","v":105.46600000000001},114.87920000000001,115.65504,null,null,null,0.92,null,null,null,{"$f":"C172-($R172*6)","v":{"$error":"#REF!"}},{"$f":"D172-($R172*5)","v":{"$error":"#REF!"}},132,87,58.4,111,58.49,184,110.84,105.46600000000001,114.87920000000001]
[null,"MasonCornIrrigated",{"$f":"VLOOKUP($B173,#REF!,3,0)","v":{"$error":"#REF!"}},{"$f":"VLOOKUP($B173,#REF!,4,0)","v":{"$error":"#REF!"}},{"$f":"VLOOKUP($B173,#REF!,5,0)","v":{"$error":"#REF!"}},{"$f":"VLOOKUP($B173,#REF!,6,0)","v":{"$error":"#REF!"}},{"$f":"VLOOKUP($B173,'FSA23'!$E$5:$K$288,3,0)","v":207.66},{"$f":"VLOOKUP($B173,'FSA23'!$E$5:$K$288,4,0)","v":186.01999999999998},{"$f":"VLOOKUP($B173,'FSA23'!$E$5:$K$288,5,0)","v":178.25},{"$f":"VLOOKUP($B173,'FSA23'!$E$5:$K$288,6,0)","v":198.83},{"$f":"VLOOKUP($B173,'FSA23'!$E$5:$K$288,7,0)","v":207.63},197.38800000000001,195.33360000000002,197.19632000000004,null,null,null,1.71,0.51,0.63,null,{"$f":"C173-($R173*6)","v":{"$error":"#REF!"}},{"$f":"D173-($R173*5)","v":{"$error":"#REF!"}},{"$error":"#REF!"},{"$error":"#REF!"},207.66,186.01999999999998,178.25,198.83,207.63,197.38800000000001,195.33360000000002]
[null,"MasonCornNonirrigated",{"$f":"VLOOKUP($B174,#REF!,3,0)","v":{"$error":"#REF!"}},{"$f":"VLOOKUP($B174,#REF!,4,0)","v":{"$error":"#REF!"}},{"$f":"VLOOKUP($B174,'FSA21'!$E$5:$K$183,3,0)","v":145.77000000000001},{"$f":"VLOOKUP($B174,'FSA21'!$E$5:$K$183,4,0)","v":153.33000000000001},{"$f":"VLOOKUP($B174,'FSA23'!$E$5:$K$288,3,0)","v":178.77},{"$f":"VLOOKUP($B174,'FSA23'!$E$5:$K$288,4,0)","v":139.85},{"$f":"VLOOKUP($B174,'FSA23'!$E$5:$K$288,5,0)","v":141.48000000000002},{"$f":"VLOOKUP($B174,'FSA23'!$E$5:$K$288,6,0)","v":161.97},{"$f":"VLOOKUP($B174,'FSA23'!$E$5:$K$288,7,0)","v":171.74},160.47200000000001,156.81240000000003,160.20488000000003,null,null,null,1.71,0.51,0.63,null,{"$f":"C174-($R174*6)","v":{"$error":"#REF!"}},{"$f":"D174-($R174*5)","v":{"$error":"#REF!"}},145.77000000000001,153.33000000000001,178.77,139.85,141.48000000000002,161.97,171.74,160.47200000000001,156.81240000000003]
[null,"MasonSoybeansAll",{"$f":"VLOOKUP($B175,#REF!,3,0)","v":{"$error":"#REF!"}},{"$f":"VLOOKUP($B175,#REF!,4,0)","v":{"$error":"#REF!"}},{"$f":"VLOOKUP($B175,'FSA21'!$E$5:$K$183,3,0)","v":46.86},{"$f":"VLOOKUP($B175,'FSA21'!$E$5:$K$183,4,0)","v":48.38},{"$f":"VLOOKUP($B175,'FSA23'!$E$5:$K$288,3,0)","v":49.45},{"$f":"VLOOKUP($B175,'FSA23'!$E$5:$K$288,4,0)","v":47.559999999999995},{"$f":"VLOOKUP($B175,'FSA23'!$E$5:$K$288,5,0)","v":43.21},{"$f":"VLOOKUP($B175,'FSA23'!$E$5:$K$288,6,0)","v":48.7},{"$f":"VLOOKUP($B175,'FSA23'!$E$5:$K$288,7,0)","v":56.99},{"$f":"AVERAGE(G175:K175)+$S175","v":49.692},{"$f":"AVERAGE(H175:L175)+$S175","v":49.740400000000001},{"$f":"AVERAGE(I175:M175)+$S175","v":50.176479999999998},null,null,null,1.71,0.51,0.63,null,{"$f":"C175-($S175*6)","v":{"$error":"#REF!"}},{"$f":"D175-($S175*5)","v":{"$error":"#REF!"}},46.86,48.38,49.45,47.559999999999995,43.21,48.7,56.99,49.692,49.740400000000001]
[null,"MasonWheatAll",{"$f":"VLOOKUP($B176,#REF!,3,0)","v":{"$error":"#REF!"}},{"$f":"VLOOKUP($B176,#REF!,4,0)","v":{"$error":"#REF!"}},{"$f":"VLOOKUP($B176,'FSA21'!$E$5:$K$183,3,0)","v":59.92},{"$f":"VLOOKUP($B176,'FSA21'!$E$5:$K$183,4,0)","v":73.52},{"$f":"VLOOKUP($B176,'FSA23'!$E$5:$K$288,3,0)","v":59.86},{"$f":"VLOOKUP($B176,'FSA23'!$E$5:$K$288,4,0)","v":58.48},{"$f":"VLOOKUP($B176,'FSA23'!$E$5:$K$288,5,0)","v":60.83},{"$f":"VLOOKUP($B176,'FSA23'!$E$5:$K$288,6,0)","v":54.370000000000005},{"$f":"VLOOKUP($B176,'FSA23'!$E$5:$K$288,7,0)","v":79.91},{"$f":"AVERAGE(G176:K176)+$T176","v":63.320000000000014},{"$f":"AVERAGE(H176:L176)+$T176","v":64.012},{"$f":"AVERAGE(I176:M176)+$T176","v":65.118399999999994},null,null,null,1.71,0.51,0.63,null,{"$f":"C176-($T176*6)","v":{"$error":"#REF!"}},{"$f":"D176-($T176*5)","v":{"$error":"#REF!"}},59.92,73.52,59.86,58.48,60.83,54.370000000000005,79.91,63.320000000000014,64.012]
[null,"MecostaCornIrrigated",{"$f":"VLOOKUP($B177,#REF!,3,0)","v":{"$error":"#REF!"}},{"$f":"VLOOKUP($B177,#REF!,4,0)","v":{"$error":"#REF!"}},{"$f":"VLOOKUP($B177,'FSA21'!$E$5:$K$183,3,0)","v":177.31},{"$f":"VLOOKUP($B177,'FSA21'!$E$5:$K$183,4,0)","v":179.58},{"$f":"VLOOKUP($B177,'FSA23'!$E$5:$K$288,3,0)","v":196.77},{"$f":"VLOOKUP($B177,'FSA23'!$E$5:$K$288,4,0)","v":161.75},{"$f":"VLOOKUP($B177,'FSA23'!$E$5:$K$288,5,0)","v":171.67},{"$f":"VLOOKUP($B177,'FSA23'!$E$5:$K$288,6,0)","v":187.59},{"$f":"VLOOKUP($B177,'FSA23'!$E$5:$K$288,7,0)","v":203.04},{"$f":"AVERAGE(G177:K177)+$R177","v":186.04399999999998},183.89879999999999,188.32855999999998,null,null,null,1.88,0.27,0.56000000000000005,null,{"$f":"C177-($R177*6)","v":{"$error":"#REF!"}},{"$f":"D177-($R177*5)","v":{"$error":"#REF!"}},177.31,179.58,196.77,161.75,171.67,187.59,203.04,186.04399999999998,183.89879999999999]
[null,"MecostaCornNonirrigated",{"$f":"VLOOKUP($B178,#REF!,3,0)","v":{"$error":"#REF!"}},{"$f":"VLOOKUP($B178,#REF!,4,0)","v":{"$error":"#REF!"}},{"$f":"VLOOKUP($B178,'FSA21'!$E$5:$K$183,3,0)","v":123.89},{"$f":"VLOOKUP($B178,'FSA21'!$E$5:$K$183,4,0)","v":138.88000000000002},{"$f":"VLOOKUP($B178,'FSA23'!$E$5:$K$288,3,0)","v":134.12},{"$f":"VLOOKUP($B178,'FSA23'!$E$5:$K$288,4,0)","v":123},{"$f":"VLOOKUP($B178,'FSA23'!$E$5:$K$288,5,0)","v":119.68},{"$f":"VLOOKUP($B178,'FSA23'!$E$5:$K$288,6,0)","v":96.8},{"$f":"VLOOKUP($B178,'FSA23'!$E$5:$K$288,7,0)","v":131.26},122.852,120.5984,120.11807999999999,null,null,null,1.88,0.27,0.56000000000000005,null,{"$f":"C178-($R178*6)","v":{"$error":"#REF!"}},{"$f":"D178-($R178*5)","v":{"$error":"#REF!"}},123.89,138.88000000000002,134.12,123,119.68,96.8,131.26,122.852,120.5984]
[null,"MecostaSoybeansIrrigated",{"$f":"VLOOKUP($B179,#REF!,3,0)","v":{"$error":"#REF!"}},{"$f":"VLOOKUP($B179,#REF!,4,0)","v":{"$error":"#REF!"}},{"$f":"VLOOKUP($B179,#REF!,5,0)","v":{"$error":"#REF!"}},{"$f":"VLOOKUP($B179,#REF!,6,0)","v":{"$error":"#REF!"}},{"$f":"VLOOKUP($B179,'FSA23'!$E$5:$K$288,3,0)","v":55.54},{"$f":"VLOOKUP($B179,'FSA23'!$E$5:$K$288,4,0)","v":54.02},{"$f":"VLOOKUP($B179,'FSA23'!$E$5:$K$288,5,0)","v":34.4},{"$f":"VLOOKUP($B179,'FSA23'!$E$5:$K$288,6,0)","v":56.39},{"$f":"VLOOKUP($B179,'FSA23'!$E$5:$K$288,7,0)","v":59.08},{"$f":"AVERAGE(G179:K179)+$S179","v":52.156000000000006},51.479199999999999,50.971040000000002,null,null,null,1.88,0.27,0.56000000000000005,null,{"$f":"C179-($S179*6)","v":{"$error":"#REF!"}},{"$f":"D179-($S179*5)","v":{"$error":"#REF!"}},{"$error":"#REF!"},{"$error":"#REF!"},55.54,54.02,34.4,56.39,59.08,52.156000000000006,51.479199999999999]
[null,"MecostaSoybeansNonirrigated",{"$f":"VLOOKUP($B180,#REF!,3,0)","v":{"$error":"#REF!"}},{"$f":"VLOOKUP($B180,#REF!,4,0)","v":{"$error":"#REF!"}},{"$f":"VLOOKUP($B180,#REF!,5,0)","v":{"$error":"#REF!"}},{"$f":"VLOOKUP($B180,#REF!,6,0)","v":{"$error":"#REF!"}},{"$f":"VLOOKUP($B180,'FSA23'!$E$5:$K$288,3,0)","v":33.32},{"$f":"VLOOKUP($B180,'FSA23'!$E$5:$K$288,4,0)","v":26.47},{"$f":"VLOOKUP($B180,'FSA23'!$E$5:$K$288,5,0)","v":23.2},{"$f":"VLOOKUP($B180,'FSA23'!$E$5:$K$288,6,0)","v":30.08},{"$f":"VLOOKUP($B180,'FSA23'!$E$5:$K$288,7,0)","v":36.42},30.168000000000003,29.537599999999998,30.151119999999999,null,null,null,1.88,0.27,0.56000000000000005,null,{"$f":"C180-($S180*6)","v":{"$error":"#REF!"}},{"$f":"D180-($S180*5)","v":{"$error":"#REF!"}},{"$error":"#REF!"},{"$error":"#REF!"},33.32,26.47,23.2,30.08,36.42,30.168000000000003,29.537599999999998]
[null,"MecostaWheatAll",{"$f":"VLOOKUP($B181,#REF!,3,0)","v":{"$error":"#REF!"}},{"$f":"VLOOKUP($B181,#REF!,4,0)","v":{"$error":"#REF!"}},{"$f":"VLOOKUP($B181,'FSA21'!$E$5:$K$183,3,0)","v":76.25},{"$f":"VLOOKUP($B181,'FSA21'!$E$5:$K$183,4,0)","v":78.239999999999995},{"$f":"VLOOKUP($B181,'FSA23'!$E$5:$K$288,3,0)","v":62.47},{"$f":"VLOOKUP($B181,'FSA23'!$E$5:$K$288,4,0)","v":60.199999999999996},{"$f":"VLOOKUP($B181,'FSA23'!$E$5:$K$288,5,0)","v":51.45},{"$f":"VLOOKUP($B181,'FSA23'!$E$5:$K$288,6,0)","v":50.13},{"$f":"VLOOKUP($B181,'FSA23'!$E$5:$K$288,7,0)","v":68.790000000000006},{"$f":"AVERAGE(G181:K181)+$T181","v":59.168000000000006},{"$f":"AVERAGE(H181:L181)+$T181","v":58.507600000000004},{"$f":"AVERAGE(I181:M181)+$T181","v":58.169120000000007},null,null,null,1.88,0.27,0.56000000000000005,null,{"$f":"C181-($T181*6)","v":{"$error":"#REF!"}},{"$f":"D181-($T181*5)","v":{"$error":"#REF!"}},76.25,78.239999999999995,62.47,60.199999999999996,51.45,50.13,68.790000000000006,59.168000000000006,58.507600000000004]
[null,"MenomineeCornAll",{"$f":"VLOOKUP($B182,#REF!,3,0)","v":{"$error":"#REF!"}},{"$f":"VLOOKUP($B182,#REF!,4,0)","v":{"$error":"#REF!"}},{"$f":"VLOOKUP($B182,'FSA21'!$E$5:$K$183,3,0)","v":149.66},{"$f":"VLOOKUP($B182,'FSA21'!$E$5:$K$183,4,0)","v":134.42000000000002},{"$f":"VLOOKUP($B182,'FSA23'!$E$5:$K$288,3,0)","v":68.2},{"$f":"VLOOKUP($B182,'FSA23'!$E$5:$K$288,4,0)","v":153.99},{"$f":"VLOOKUP($B182,'FSA23'!$E$5:$K$288,5,0)","v":66},{"$f":"VLOOKUP($B182,'FSA23'!$E$5:$K$288,6,0)","v":192.59},{"$f":"VLOOKUP($B182,'FSA23'!$E$5:$K$288,7,0)","v":134.54},{"$f":"AVERAGE(G182:K182)+$R182","v":124.14399999999999},{"$f":"AVERAGE(H182:L182)+$R182","v":135.33280000000002},{"$f":"AVERAGE(I182:M182)+$R182","v":131.60136000000003},null,null,null,1.08,0.28000000000000003,0.72,null,{"$f":"C182-($R182*6)","v":{"$error":"#REF!"}},{"$f":"D182-($R182*5)","v":{"$error":"#REF!"}},149.66,134.42000000000002,68.2,153.99,66,192.59,134.54,124.14399999999999,135.33280000000002]
[null,"MenomineeSoybeansAll",{"$f":"VLOOKUP($B183,#REF!,3,0)","v":{"$error":"#REF!"}},{"$f":"VLOOKUP($B183,#REF!,4,0)","v":{"$error":"#REF!"}},{"$f":"VLOOKUP($B183,'FSA21'!$E$5:$K$183,3,0)","v":27.57},{"$f":"VLOOKUP($B183,'FSA21'!$E$5:$K$183,4,0)","v":22.13},{"$f":"VLOOKUP($B183,'FSA23'!$E$5:$K$288,3,0)","v":24.18},{"$f":"VLOOKUP($B183,'FSA23'!$E$5:$K$288,4,0)","v":37.72},{"$f":"VLOOKUP($B183,'FSA23'!$E$5:$K$288,5,0)","v":17.600000000000001},{"$f":"VLOOKUP($B183,'FSA23'!$E$5:$K$288,6,0)","v":38.25},{"$f":"VLOOKUP($B183,'FSA23'!$E$5:$K$288,7,0)","v":33.200000000000003},{"$f":"AVERAGE(G183:K183)+$S183","v":30.47},{"$f":"AVERAGE(H183:L183)+$S183","v":31.728000000000002},{"$f":"AVERAGE(I183:M183)+$S183","v":30.529600000000006},null,null,null,1.08,0.28000000000000003,0.72,null,{"$f":"C183-($S183*6)","v":{"$error":"#REF!"}},{"$f":"D183-($S183*5)","v":{"$error":"#REF!"}},27.57,22.13,24.18,37.72,17.600000000000001,38.25,33.200000000000003,30.47,31.728000000000002]
[null,"MenomineeWheatAll",{"$f":"VLOOKUP($B184,#REF!,3,0)","v":{"$error":"#REF!"}},{"$f":"VLOOKUP($B184,#REF!,4,0)","v":{"$error":"#REF!"}},{"$f":"VLOOKUP($B184,#REF!,5,0)","v":{"$error":"#REF!"}},{"$f":"VLOOKUP($B184,#REF!,6,0)","v":{"$error":"#REF!"}},{"$f":"VLOOKUP($B184,'FSA23'!$E$5:$K$288,3,0)","v":53.6},{"$f":"VLOOKUP($B184,'FSA23'!$E$5:$K$288,4,0)","v":40},{"$f":"VLOOKUP($B184,'FSA23'!$E$5:$K$288,5,0)","v":53.6},{"$f":"VLOOKUP($B184,'FSA23'!$E$5:$K$288,6,0)","v":53.6},{"$f":"VLOOKUP($B184,'FSA23'!$E$5:$K$288,7,0)","v":61.66},{"$f":"AVERAGE(G184:K184)+$T184","v":53.211999999999996},{"$f":"AVERAGE(H184:L184)+$T184","v":53.134399999999999},{"$f":"AVERAGE(I184:M184)+$T184","v":55.761280000000006},null,null,null,1.08,0.28000000000000003,0.72,null,{"$f":"C184-($T184*6)","v":{"$error":"#REF!"}},{"$f":"D184-($T184*5)","v":{"$error":"#REF!"}},{"$error":"#REF!"},{"$error":"#REF!"},53.6,40,53.6,53.6,61.66,53.211999999999996,53.134399999999999]
[null,"MidlandCornIrrigated",{"$f":"VLOOKUP($B185,#REF!,3,0)","v":{"$error":"#REF!"}},{"$f":"VLOOKUP($B185,#REF!,4,0)","v":{"$error":"#REF!"}},{"$f":"VLOOKUP($B185,#REF!,5,0)","v":{"$error":"#REF!"}},{"$f":"VLOOKUP($B185,#REF!,6,0)","v":{"$error":"#REF!"}},{"$f":"VLOOKUP($B185,'FSA23'!$E$5:$K$288,3,0)","v":183.42},{"$f":"VLOOKUP($B185,'FSA23'!$E$5:$K$288,4,0)","v":195.51999999999998},{"$f":"VLOOKUP($B185,'FSA23'!$E$5:$K$288,5,0)","v":187.52},{"$f":"VLOOKUP($B185,'FSA23'!$E$5:$K$288,6,0)","v":180.70000000000002},{"$f":"VLOOKUP($B185,'FSA23'!$E$5:$K$288,7,0)","v":181.82999999999998},{"$f":"AVERAGE(G185:K185)+$R185","v":187.898},188.7936,187.44832,null,null,null,2.1,0.44,1.04,null,{"$f":"C185-($R185*6)","v":{"$error":"#REF!"}},{"$f":"D185-($R185*5)","v":{"$error":"#REF!"}},{"$error":"#REF!"},{"$error":"#REF!"},183.42,195.51999999999998,187.52,180.70000000000002,181.82999999999998,187.898,188.7936]
[null,"MidlandCornNonirrigated",{"$f":"VLOOKUP($B186,#REF!,3,0)","v":{"$error":"#REF!"}},{"$f":"VLOOKUP($B186,#REF!,4,0)","v":{"$error":"#REF!"}},{"$f":"VLOOKUP($B186,'FSA21'!$E$5:$K$183,3,0)","v":174.45},{"$f":"VLOOKUP($B186,'FSA21'!$E$5:$K$183,4,0)","v":172.68},{"$f":"VLOOKUP($B186,'FSA23'!$E$5:$K$288,3,0)","v":168.02999999999997},{"$f":"VLOOKUP($B186,'FSA23'!$E$5:$K$288,4,0)","v":172.60000000000002},{"$f":"VLOOKUP($B186,'FSA23'!$E$5:$K$288,5,0)","v":153.19},{"$f":"VLOOKUP($B186,'FSA23'!$E$5:$K$288,6,0)","v":165.20000000000002},{"$f":"VLOOKUP($B186,'FSA23'!$E$5:$K$288,7,0)","v":178.55},169.61399999999998,169.9308,169.39695999999998,null,null,null,2.1,0.44,1.04,null,{"$f":"C186-($R186*6)","v":{"$error":"#REF!"}},{"$f":"D186-($R186*5)","v":{"$error":"#REF!"}},174.45,172.68,168.02999999999997,172.60000000000002,153.19,165.20000000000002,178.55,169.61399999999998,169.9308]
[null,"MidlandSoybeansAll",{"$f":"VLOOKUP($B187,#REF!,3,0)","v":{"$error":"#REF!"}},{"$f":"VLOOKUP($B187,#REF!,4,0)","v":{"$error":"#REF!"}},{"$f":"VLOOKUP($B187,'FSA21'!$E$5:$K$183,3,0)","v":51.68},{"$f":"VLOOKUP($B187,'FSA21'!$E$5:$K$183,4,0)","v":50.97},{"$f":"VLOOKUP($B187,'FSA23'!$E$5:$K$288,3,0)","v":43.050000000000004},{"$f":"VLOOKUP($B187,'FSA23'!$E$5:$K$288,4,0)","v":47.48},{"$f":"VLOOKUP($B187,'FSA23'!$E$5:$K$288,5,0)","v":39.68},{"$f":"VLOOKUP($B187,'FSA23'!$E$5:$K$288,6,0)","v":45.1},{"$f":"VLOOKUP($B187,'FSA23'!$E$5:$K$288,7,0)","v":49.45},{"$f":"AVERAGE(G187:K187)+$S187","v":45.391999999999996},{"$f":"AVERAGE(H187:L187)+$S187","v":45.860399999999991},{"$f":"AVERAGE(I187:M187)+$S187","v":45.536479999999997},null,null,null,2.1,0.44,1.04,null,{"$f":"C187-($S187*6)","v":{"$error":"#REF!"}},{"$f":"D187-($S187*5)","v":{"$error":"#REF!"}},51.68,50.97,43.050000000000004,47.48,39.68,45.1,49.45,45.391999999999996,45.860399999999991]
[null,"MidlandWheatAll",{"$f":"VLOOKUP($B188,#REF!,3,0)","v":{"$error":"#REF!"}},{"$f":"VLOOKUP($B188,#REF!,4,0)","v":{"$error":"#REF!"}},{"$f":"VLOOKUP($B188,'FSA21'!$E$5:$K$183,3,0)","v":97.38000000000001},{"$f":"VLOOKUP($B188,'FSA21'!$E$5:$K$183,4,0)","v":87.85},{"$f":"VLOOKUP($B188,'FSA23'!$E$5:$K$288,3,0)","v":72.69},{"$f":"VLOOKUP($B188,'FSA23'!$E$5:$K$288,4,0)","v":91.73},{"$f":"VLOOKUP($B188,'FSA23'!$E$5:$K$288,5,0)","v":66.2},{"$f":"VLOOKUP($B188,'FSA23'!$E$5:$K$288,6,0)","v":65.45},{"$f":"VLOOKUP($B188,'FSA23'!$E$5:$K$288,7,0)","v":71.180000000000007},{"$f":"AVERAGE(G188:K188)+$T188","v":74.490000000000009},{"$f":"AVERAGE(H188:L188)+$T188","v":74.850000000000009},{"$f":"AVERAGE(I188:M188)+$T188","v":71.474000000000018},null,null,null,2.1,0.44,1.04,null,{"$f":"C188-($T188*6)","v":{"$error":"#REF!"}},{"$f":"D188-($T188*5)","v":{"$error":"#REF!"}},97.38000000000001,87.85,72.69,91.73,66.2,65.45,71.180000000000007,74.490000000000009,74.850000000000009]
[null,"MissaukeeCornIrrigated",{"$f":"VLOOKUP($B189,#REF!,3,0)","v":{"$error":"#REF!"}},{"$f":"VLOOKUP($B189,#REF!,4,0)","v":{"$error":"#REF!"}},{"$f":"VLOOKUP($B189,#REF!,5,0)","v":{"$error":"#REF!"}},{"$f":"VLOOKUP($B189,#REF!,6,0)","v":{"$error":"#REF!"}},{"$f":"VLOOKUP($B189,'FSA23'!$E$5:$K$288,3,0)","v":200.94},{"$f":"VLOOKUP($B189,'FSA23'!$E$5:$K$288,4,0)","v":197.53},{"$f":"VLOOKUP($B189,'FSA23'!$E$5:$K$288,5,0)","v":185.44},{"$f":"VLOOKUP($B189,'FSA23'!$E$5:$K$288,6,0)","v":214.82999999999998},{"$f":"VLOOKUP($B189,'FSA23'!$E$5:$K$288,7,0)","v":231.57},{"$f":"AVERAGE(G189:K189)+$R189","v":207.76199999999997},209.12639999999996,211.44567999999992,null,null,null,1.7,0.3,0.25,null,{"$f":"C189-($R189*6)","v":{"$error":"#REF!"}},{"$f":"D189-($R189*5)","v":{"$error":"#REF!"}},{"$error":"#REF!"},{"$error":"#REF!"},200.94,197.53,185.44,214.82999999999998,231.57,207.76199999999997,209.12639999999996]
[null,"MissaukeeCornNonirrigated",{"$f":"VLOOKUP($B190,#REF!,3,0)","v":{"$error":"#REF!"}},{"$f":"VLOOKUP($B190,#REF!,4,0)","v":{"$error":"#REF!"}},{"$f":"VLOOKUP($B190,'FSA21'!$E$5:$K$183,3,0)","v":158.52000000000001},{"$f":"VLOOKUP($B190,'FSA21'!$E$5:$K$183,4,0)","v":139.39999999999998},{"$f":"VLOOKUP($B190,'FSA23'!$E$5:$K$288,3,0)","v":157.36999999999998},{"$f":"VLOOKUP($B190,'FSA23'!$E$5:$K$288,4,0)","v":126.34},{"$f":"VLOOKUP($B190,'FSA23'!$E$5:$K$288,5,0)","v":148.44},{"$f":"VLOOKUP($B190,'FSA23'!$E$5:$K$288,6,0)","v":151.47},{"$f":"VLOOKUP($B190,'FSA23'!$E$5:$K$288,7,0)","v":204.7},159.36399999999998,159.7628,166.44735999999997,null,null,null,1.7,0.3,0.25,null,{"$f":"C190-($R190*6)","v":{"$error":"#REF!"}},{"$f":"D190-($R190*5)","v":{"$error":"#REF!"}},158.52000000000001,139.39999999999998,157.36999999999998,126.34,148.44,151.47,204.7,159.36399999999998,159.7628]
[null,"MissaukeeSoybeansAll",{"$f":"VLOOKUP($B191,#REF!,3,0)","v":{"$error":"#REF!"}},{"$f":"VLOOKUP($B191,#REF!,4,0)","v":{"$error":"#REF!"}},{"$f":"VLOOKUP($B191,'FSA21'!$E$5:$K$183,3,0)","v":36},{"$f":"VLOOKUP($B191,'FSA21'!$E$5:$K$183,4,0)","v":36},{"$f":"VLOOKUP($B191,'FSA23'!$E$5:$K$288,3,0)","v":37},{"$f":"VLOOKUP($B191,'FSA23'!$E$5:$K$288,4,0)","v":37},{"$f":"VLOOKUP($B191,'FSA23'!$E$5:$K$288,5,0)","v":34.4},{"$f":"VLOOKUP($B191,'FSA23'!$E$5:$K$288,6,0)","v":35.4},{"$f":"VLOOKUP($B191,'FSA23'!$E$5:$K$288,7,0)","v":35.47},{"$f":"AVERAGE(G191:K191)+$S191","v":36.153999999999996},{"$f":"AVERAGE(H191:L191)+$S191","v":35.9848},{"$f":"AVERAGE(I191:M191)+$S191","v":35.781759999999991},null,null,null,1.7,0.3,0.25,null,{"$f":"C191-($S191*6)","v":{"$error":"#REF!"}},{"$f":"D191-($S191*5)","v":{"$error":"#REF!"}},36,36,37,37,34.4,35.4,35.47,36.153999999999996,35.9848]
[null,"MissaukeeWheatAll",{"$f":"VLOOKUP($B192,#REF!,3,0)","v":{"$error":"#REF!"}},{"$f":"VLOOKUP($B192,#REF!,4,0)","v":{"$error":"#REF!"}},{"$f":"VLOOKUP($B192,#REF!,5,0)","v":{"$error":"#REF!"}},{"$f":"VLOOKUP($B192,#REF!,6,0)","v":{"$error":"#REF!"}},{"$f":"VLOOKUP($B192,'FSA23'!$E$5:$K$288,3,0)","v":54.94},{"$f":"VLOOKUP($B192,'FSA23'!$E$5:$K$288,4,0)","v":56.84},{"$f":"VLOOKUP($B192,'FSA23'!$E$5:$K$288,5,0)","v":55.06},{"$f":"VLOOKUP($B192,'FSA23'!$E$5:$K$288,6,0)","v":51.37},{"$f":"VLOOKUP($B192,'FSA23'!$E$5:$K$288,7,0)","v":65.58},{"$f":"AVERAGE(G192:K192)+$T192","v":57.008000000000003},{"$f":"AVERAGE(H192:L192)+$T192","v":57.421599999999998},{"$f":"AVERAGE(I192:M192)+$T192","v":57.53792},null,null,null,1.7,0.3,0.25,null,{"$f":"C192-($T192*6)","v":{"$error":"#REF!"}},{"$f":"D192-($T192*5)","v":{"$error":"#REF!"}},{"$error":"#REF!"},{"$error":"#REF!"},54.94,56.84,55.06,51.37,65.58,57.008000000000003,57.421599999999998]
[null,"MonroeCornIrrigated",{"$f":"VLOOKUP($B193,#REF!,3,0)","v":{"$error":"#REF!"}},{"$f":"VLOOKUP($B193,#REF!,4,0)","v":{"$error":"#REF!"}},{"$f":"VLOOKUP($B193,#REF!,5,0)","v":{"$error":"#REF!"}},{"$f":"VLOOKUP($B193,#REF!,6,0)","v":{"$error":"#REF!"}},{"$f":"VLOOKUP($B193,'FSA23'!$E$5:$K$288,3,0)","v":229.4},{"$f":"VLOOKUP($B193,'FSA23'!$E$5:$K$288,4,0)","v":179.23},{"$f":"VLOOKUP($B193,'FSA23'!$E$5:$K$288,5,0)","v":225.03},{"$f":"VLOOKUP($B193,'FSA23'!$E$5:$K$288,6,0)","v":225.56},{"$f":"VLOOKUP($B193,'FSA23'!$E$5:$K$288,7,0)","v":218.93},{"$f":"AVERAGE(G193:K193)+$R193","v":217.39000000000001},214.988,222.13959999999997,null,null,null,1.76,0.46,0.99,null,{"$f":"C193-($R193*6)","v":{"$error":"#REF!"}},{"$f":"D193-($R193*5)","v":{"$error":"#REF!"}},{"$error":"#REF!"},{"$error":"#REF!"},229.4,179.23,225.03,225.56,218.93,217.39000000000001,214.988]
[null,"MonroeCornNonirrigated",{"$f":"VLOOKUP($B194,#REF!,3,0)","v":{"$error":"#REF!"}},{"$f":"VLOOKUP($B194,#REF!,4,0)","v":{"$error":"#REF!"}},{"$f":"VLOOKUP($B194,'FSA21'!$E$5:$K$183,3,0)","v":155.4},{"$f":"VLOOKUP($B194,'FSA21'!$E$5:$K$183,4,0)","v":183.18},{"$f":"VLOOKUP($B194,'FSA23'!$E$5:$K$288,3,0)","v":202.6},{"$f":"VLOOKUP($B194,'FSA23'!$E$5:$K$288,4,0)","v":180.64000000000001},{"$f":"VLOOKUP($B194,'FSA23'!$E$5:$K$288,5,0)","v":189.31},{"$f":"VLOOKUP($B194,'FSA23'!$E$5:$K$288,6,0)","v":149.51},{"$f":"VLOOKUP($B194,'FSA23'!$E$5:$K$288,7,0)","v":205.82},187.33599999999996,184.28319999999999,185.01183999999995,null,null,null,1.76,0.46,0.99,null,{"$f":"C194-($R194*6)","v":{"$error":"#REF!"}},{"$f":"D194-($R194*5)","v":{"$error":"#REF!"}},155.4,183.18,202.6,180.64000000000001,189.31,149.51,205.82,187.33599999999996,184.28319999999999]
[null,"MonroeSoybeansAll",{"$f":"VLOOKUP($B195,#REF!,3,0)","v":{"$error":"#REF!"}},{"$f":"VLOOKUP($B195,#REF!,4,0)","v":{"$error":"#REF!"}},{"$f":"VLOOKUP($B195,'FSA21'!$E$5:$K$183,3,0)","v":48.449999999999996},{"$f":"VLOOKUP($B195,'FSA21'!$E$5:$K$183,4,0)","v":54.949999999999996},{"$f":"VLOOKUP($B195,'FSA23'!$E$5:$K$288,3,0)","v":52.41},{"$f":"VLOOKUP($B195,'FSA23'!$E$5:$K$288,4,0)","v":49.28},{"$f":"VLOOKUP($B195,'FSA23'!$E$5:$K$288,5,0)","v":50.97},{"$f":"VLOOKUP($B195,'FSA23'!$E$5:$K$288,6,0)","v":44.51},{"$f":"VLOOKUP($B195,'FSA23'!$E$5:$K$288,7,0)","v":53.6},{"$f":"AVERAGE(G195:K195)+$S195","v":50.613999999999997},{"$f":"AVERAGE(H195:L195)+$S195","v":50.254799999999996},{"$f":"AVERAGE(I195:M195)+$S195","v":50.449759999999998},null,null,null,1.76,0.46,0.99,null,{"$f":"C195-($S195*6)","v":{"$error":"#REF!"}},{"$f":"D195-($S195*5)","v":{"$error":"#REF!"}},{"$f":"E195","v":48.449999999999996},{"$f":"F195","v":54.949999999999996},{"$f":"G195","v":52.41},{"$f":"H195","v":49.28},{"$f":"I195","v":50.97},{"$f":"J195","v":44.51},{"$f":"K195","v":53.6},{"$f":"L195","v":50.613999999999997},{"$f":"M195","v":50.254799999999996}]
[null,"MonroeWheatAll",{"$f":"VLOOKUP($B196,#REF!,3,0)","v":{"$error":"#REF!"}},{"$f":"VLOOKUP($B196,#REF!,4,0)","v":{"$error":"#REF!"}},{"$f":"VLOOKUP($B196,'FSA21'!$E$5:$K$183,3,0)","v":67.010000000000005},{"$f":"VLOOKUP($B196,'FSA21'!$E$5:$K$183,4,0)","v":90.61},{"$f":"VLOOKUP($B196,'FSA23'!$E$5:$K$288,3,0)","v":89.74},{"$f":"VLOOKUP($B196,'FSA23'!$E$5:$K$288,4,0)","v":82.59},{"$f":"VLOOKUP($B196,'FSA23'!$E$5:$K$288,5,0)","v":63.8},{"$f":"VLOOKUP($B196,'FSA23'!$E$5:$K$288,6,0)","v":70.88},{"$f":"VLOOKUP($B196,'FSA23'!$E$5:$K$288,7,0)","v":92.57},{"$f":"AVERAGE(G196:K196)+$T196","v":80.905999999999992},{"$f":"AVERAGE(H196:L196)+$T196","v":79.139199999999988},{"$f":"AVERAGE(I196:M196)+$T196","v":78.449039999999997},null,null,null,1.76,0.46,0.99,null,{"$f":"C196-($T196*6)","v":{"$error":"#REF!"}},{"$f":"D196-($T196*5)","v":{"$error":"#REF!"}},67.010000000000005,90.61,89.74,82.59,63.8,70.88,92.57,80.905999999999992,79.139199999999988]
[null,"MontcalmCornIrrigated",{"$f":"VLOOKUP($B197,#REF!,3,0)","v":{"$error":"#REF!"}},{"$f":"VLOOKUP($B197,#REF!,4,0)","v":{"$error":"#REF!"}},{"$f":"VLOOKUP($B197,#REF!,5,0)","v":{"$error":"#REF!"}},{"$f":"VLOOKUP($B197,#REF!,6,0)","v":{"$error":"#REF!"}},{"$f":"VLOOKUP($B197,'FSA23'!$E$5:$K$288,3,0)","v":195.12},{"$f":"VLOOKUP($B197,'FSA23'!$E$5:$K$288,4,0)","v":201.03},{"$f":"VLOOKUP($B197,'FSA23'!$E$5:$K$288,5,0)","v":184.85000000000002},{"$f":"VLOOKUP($B197,'FSA23'!$E$5:$K$288,6,0)","v":196.87},{"$f":"VLOOKUP($B197,'FSA23'!$E$5:$K$288,7,0)","v":201.41},{"$f":"AVERAGE(G197:K197)+$R197","v":197.73599999999999},198.25919999999999,197.70504,null,null,null,1.88,0.37,0.51,null,{"$f":"C197-($R197*6)","v":{"$error":"#REF!"}},{"$f":"D197-($R197*5)","v":{"$error":"#REF!"}},{"$error":"#REF!"},{"$error":"#REF!"},195.12,201.03,184.85000000000002,196.87,201.41,197.73599999999999,198.25919999999999]
[null,"MontcalmCornNonirrigated",{"$f":"VLOOKUP($B198,#REF!,3,0)","v":{"$error":"#REF!"}},{"$f":"VLOOKUP($B198,#REF!,4,0)","v":{"$error":"#REF!"}},{"$f":"VLOOKUP($B198,'FSA21'!$E$5:$K$183,3,0)","v":156.31},{"$f":"VLOOKUP($B198,'FSA21'!$E$5:$K$183,4,0)","v":158.59},{"$f":"VLOOKUP($B198,'FSA23'!$E$5:$K$288,3,0)","v":141.79999999999998},{"$f":"VLOOKUP($B198,'FSA23'!$E$5:$K$288,4,0)","v":138.97},{"$f":"VLOOKUP($B198,'FSA23'!$E$5:$K$288,5,0)","v":129.28},{"$f":"VLOOKUP($B198,'FSA23'!$E$5:$K$288,6,0)","v":134.04000000000002},{"$f":"VLOOKUP($B198,'FSA23'!$E$5:$K$288,7,0)","v":168.22},144.34199999999998,144.85039999999998,146.02648000000002,null,null,null,1.88,0.37,0.51,null,{"$f":"C198-($R198*6)","v":{"$error":"#REF!"}},{"$f":"D198-($R198*5)","v":{"$error":"#REF!"}},156.31,158.59,141.79999999999998,138.97,129.28,134.04000000000002,168.22,144.34199999999998,144.85039999999998]
[null,"MontcalmSoybeansIrrigated",{"$f":"VLOOKUP($B199,#REF!,3,0)","v":{"$error":"#REF!"}},{"$f":"VLOOKUP($B199,#REF!,4,0)","v":{"$error":"#REF!"}},{"$f":"VLOOKUP($B199,#REF!,5,0)","v":{"$error":"#REF!"}},{"$f":"VLOOKUP($B199,#REF!,6,0)","v":{"$error":"#REF!"}},{"$f":"VLOOKUP($B199,'FSA23'!$E$5:$K$288,3,0)","v":52.47},{"$f":"VLOOKUP($B199,'FSA23'!$E$5:$K$288,4,0)","v":56.13},{"$f":"VLOOKUP($B199,'FSA23'!$E$5:$K$288,5,0)","v":52.84},{"$f":"VLOOKUP($B199,'FSA23'!$E$5:$K$288,6,0)","v":56.870000000000005},{"$f":"VLOOKUP($B199,'FSA23'!$E$5:$K$288,7,0)","v":60.27},{"$f":"AVERAGE(G199:K199)+$S199","v":56.085999999999991},56.809200000000004,56.945039999999999,null,null,null,1.88,0.37,0.51,null,{"$f":"C199-($S199*6)","v":{"$error":"#REF!"}},{"$f":"D199-($S199*5)","v":{"$error":"#REF!"}},{"$error":"#REF!"},{"$error":"#REF!"},52.47,56.13,52.84,56.870000000000005,60.27,56.085999999999991,56.809200000000004]
[null,"MontcalmSoybeansNonirrigated",{"$f":"VLOOKUP($B200,#REF!,3,0)","v":{"$error":"#REF!"}},{"$f":"VLOOKUP($B200,#REF!,4,0)","v":{"$error":"#REF!"}},{"$f":"VLOOKUP($B200,'FSA21'!$E$5:$K$183,3,0)","v":45.49},{"$f":"VLOOKUP($B200,'FSA21'!$E$5:$K$183,4,0)","v":51.870000000000005},{"$f":"VLOOKUP($B200,'FSA23'!$E$5:$K$288,3,0)","v":35.6},{"$f":"VLOOKUP($B200,'FSA23'!$E$5:$K$288,4,0)","v":42.089999999999996},{"$f":"VLOOKUP($B200,'FSA23'!$E$5:$K$288,5,0)","v":36.85},{"$f":"VLOOKUP($B200,'FSA23'!$E$5:$K$288,6,0)","v":45.18},{"$f":"VLOOKUP($B200,'FSA23'!$E$5:$K$288,7,0)","v":47.5},41.814,43.056799999999996,43.250160000000001,null,null,null,1.88,0.37,0.51,null,{"$f":"C200-($S200*6)","v":{"$error":"#REF!"}},{"$f":"D200-($S200*5)","v":{"$error":"#REF!"}},45.49,51.870000000000005,35.6,42.089999999999996,36.85,45.18,47.5,41.814,43.056799999999996]
[null,"MontcalmWheatAll",{"$f":"(C202+C203)/2","v":{"$error":"#REF!"}},{"$f":"(D202+D203)/2","v":{"$error":"#REF!"}},{"$f":"(E202+E203)/2","v":83.85},{"$f":"(F202+F203)/2","v":79.484999999999999},{"$f":"VLOOKUP($B201,'FSA23'!$E$5:$K$288,3,0)","v":{"$error":"#N/A"}},{"$f":"VLOOKUP($B201,'FSA23'!$E$5:$K$288,4,0)","v":{"$error":"#N/A"}},{"$f":"VLOOKUP($B201,'FSA23'!$E$5:$K$288,5,0)","v":{"$error":"#N/A"}},{"$f":"VLOOKUP($B201,'FSA23'!$E$5:$K$288,6,0)","v":{"$error":"#N/A"}},{"$f":"VLOOKUP($B201,'FSA23'!$E$5:$K$288,7,0)","v":{"$error":"#N/A"}},{"$f":"AVERAGE(G201:K201)+$T201","v":{"$error":"#N/A"}},{"$error":"#N/A"},{"$error":"#N/A"},null,null,null,1.88,0.37,0.51,null,{"$f":"C201-($T201*6)","v":{"$error":"#REF!"}},{"$f":"D201-($T201*5)","v":{"$error":"#REF!"}},83.85,79.484999999999999,{"$error":"#N/A"},{"$error":"#N/A"},{"$error":"#N/A"},{"$error":"#N/A"},{"$error":"#N/A"},{"$error":"#N/A"},{"$error":"#N/A"}]
[null,"MontcalmWheatIrrigated",{"$f":"VLOOKUP($B202,#REF!,3,0)","v":{"$error":"#REF!"}},{"$f":"VLOOKUP($B202,#REF!,4,0)","v":{"$error":"#REF!"}},{"$f":"VLOOKUP($B202,'FSA21'!$E$5:$K$183,3,0)","v":87.58},{"$f":"VLOOKUP($B202,'FSA21'!$E$5:$K$183,4,0)","v":80.69},{"$f":"VLOOKUP($B202,'FSA23'!$E$5:$K$288,3,0)","v":75.78},{"$f":"VLOOKUP($B202,'FSA23'!$E$5:$K$288,4,0)","v":74.010000000000005},{"$f":"VLOOKUP($B202,'FSA23'!$E$5:$K$288,5,0)","v":75.47},{"$f":"VLOOKUP($B202,'FSA23'!$E$5:$K$288,6,0)","v":54.95},{"$f":"VLOOKUP($B202,'FSA23'!$E$5:$K$288,7,0)","v":63.64},69.280000000000015,67.98,66.774000000000015,null,null,null,1.88,0.37,0.51,null,{"$f":"C202-($T202*6)","v":{"$error":"#REF!"}},{"$f":"D202-($T202*5)","v":{"$error":"#REF!"}},87.58,80.69,75.78,74.010000000000005,75.47,54.95,63.64,69.280000000000015,67.98]
[null,"MontcalmWheatNonirrigated",{"$f":"VLOOKUP($B203,#REF!,3,0)","v":{"$error":"#REF!"}},{"$f":"VLOOKUP($B203,#REF!,4,0)","v":{"$error":"#REF!"}},{"$f":"VLOOKUP($B203,'FSA21'!$E$5:$K$183,3,0)","v":80.11999999999999},{"$f":"VLOOKUP($B203,'FSA21'!$E$5:$K$183,4,0)","v":78.28},{"$f":"VLOOKUP($B203,'FSA23'!$E$5:$K$288,3,0)","v":67.33},{"$f":"VLOOKUP($B203,'FSA23'!$E$5:$K$288,4,0)","v":74.67},{"$f":"VLOOKUP($B203,'FSA23'!$E$5:$K$288,5,0)","v":63.34},{"$f":"VLOOKUP($B203,'FSA23'!$E$5:$K$288,6,0)","v":61.459999999999994},{"$f":"VLOOKUP($B203,'FSA23'!$E$5:$K$288,7,0)","v":69.05},67.680000000000007,67.75,66.366,null,null,null,1.88,0.37,0.51,null,{"$f":"C203-($T203*6)","v":{"$error":"#REF!"}},{"$f":"D203-($T203*5)","v":{"$error":"#REF!"}},80.11999999999999,78.28,67.33,74.67,63.34,61.459999999999994,69.05,67.680000000000007,67.75]
[null,"MontmorencyCornAll",{"$f":"VLOOKUP($B204,#REF!,3,0)","v":{"$error":"#REF!"}},{"$f":"VLOOKUP($B204,#REF!,4,0)","v":{"$error":"#REF!"}},{"$f":"VLOOKUP($B204,'FSA21'!$E$5:$K$183,3,0)","v":134.41999999999999},{"$f":"VLOOKUP($B204,'FSA21'!$E$5:$K$183,4,0)","v":84.649999999999991},{"$f":"VLOOKUP($B204,'FSA23'!$E$5:$K$288,3,0)","v":150.02000000000001},{"$f":"VLOOKUP($B204,'FSA23'!$E$5:$K$288,4,0)","v":89.149999999999991},{"$f":"VLOOKUP($B204,'FSA23'!$E$5:$K$288,5,0)","v":121.68},{"$f":"VLOOKUP($B204,'FSA23'!$E$5:$K$288,6,0)","v":144.60999999999999},{"$f":"VLOOKUP($B204,'FSA23'!$E$5:$K$288,7,0)","v":170.09},{"$f":"AVERAGE(G204:K204)+$R204","v":136.48000000000002},{"$f":"AVERAGE(H204:L204)+$R204","v":133.77199999999999},{"$f":"AVERAGE(I204:M204)+$R204","v":142.69640000000001},null,null,null,1.37,0.4,0.82,null,{"$f":"C204-($R204*6)","v":{"$error":"#REF!"}},{"$f":"D204-($R204*5)","v":{"$error":"#REF!"}},134.41999999999999,84.649999999999991,150.02000000000001,89.149999999999991,121.68,144.60999999999999,170.09,136.48000000000002,133.77199999999999]
[null,"MontmorencySoybeansAll",{"$f":"VLOOKUP($B205,#REF!,3,0)","v":{"$error":"#REF!"}},{"$f":"VLOOKUP($B205,#REF!,4,0)","v":{"$error":"#REF!"}},{"$f":"VLOOKUP($B205,'FSA21'!$E$5:$K$183,3,0)","v":36},{"$f":"VLOOKUP($B205,'FSA21'!$E$5:$K$183,4,0)","v":29.75},{"$f":"VLOOKUP($B205,'FSA23'!$E$5:$K$288,3,0)","v":41.79},{"$f":"VLOOKUP($B205,'FSA23'!$E$5:$K$288,4,0)","v":37},{"$f":"VLOOKUP($B205,'FSA23'!$E$5:$K$288,5,0)","v":30.57},{"$f":"VLOOKUP($B205,'FSA23'!$E$5:$K$288,6,0)","v":44.9},{"$f":"VLOOKUP($B205,'FSA23'!$E$5:$K$288,7,0)","v":48.29},{"$f":"AVERAGE(G205:K205)+$S205","v":40.909999999999997},{"$f":"AVERAGE(H205:L205)+$S205","v":40.733999999999995},{"$f":"AVERAGE(I205:M205)+$S205","v":41.480799999999995},null,null,null,1.37,0.4,0.82,null,{"$f":"C205-($S205*6)","v":{"$error":"#REF!"}},{"$f":"D205-($S205*5)","v":{"$error":"#REF!"}},36,29.75,41.79,37,30.57,44.9,48.29,40.909999999999997,40.733999999999995]
[null,"MontmorencyWheatAll",{"$f":"VLOOKUP($B206,#REF!,3,0)","v":{"$error":"#REF!"}},{"$f":"VLOOKUP($B206,#REF!,4,0)","v":{"$error":"#REF!"}},{"$f":"VLOOKUP($B206,#REF!,5,0)","v":{"$error":"#REF!"}},{"$f":"VLOOKUP($B206,#REF!,6,0)","v":{"$error":"#REF!"}},{"$f":"VLOOKUP($B206,'FSA23'!$E$5:$K$288,3,0)","v":61.16},{"$f":"VLOOKUP($B206,'FSA23'!$E$5:$K$288,4,0)","v":50.05},{"$f":"VLOOKUP($B206,'FSA23'!$E$5:$K$288,5,0)","v":49.72},{"$f":"VLOOKUP($B206,'FSA23'!$E$5:$K$288,6,0)","v":53.75},{"$f":"VLOOKUP($B206,'FSA23'!$E$5:$K$288,7,0)","v":54.29},{"$f":"AVERAGE(G206:K206)+$T206","v":54.614000000000004},{"$f":"AVERAGE(H206:L206)+$T206","v":53.304799999999993},{"$f":"AVERAGE(I206:M206)+$T206","v":53.955759999999991},null,null,null,1.37,0.4,0.82,null,{"$f":"C206-($T206*6)","v":{"$error":"#REF!"}},{"$f":"D206-($T206*5)","v":{"$error":"#REF!"}},{"$error":"#REF!"},{"$error":"#REF!"},61.16,50.05,49.72,53.75,54.29,54.614000000000004,53.304799999999993]
[null,"MuskegonCornIrrigated",{"$f":"VLOOKUP($B207,#REF!,3,0)","v":{"$error":"#REF!"}},{"$f":"VLOOKUP($B207,#REF!,4,0)","v":{"$error":"#REF!"}},{"$f":"VLOOKUP($B207,#REF!,5,0)","v":{"$error":"#REF!"}},{"$f":"VLOOKUP($B207,#REF!,6,0)","v":{"$error":"#REF!"}},{"$f":"VLOOKUP($B207,'FSA23'!$E$5:$K$288,3,0)","v":174.42999999999998},{"$f":"VLOOKUP($B207,'FSA23'!$E$5:$K$288,4,0)","v":140.75},{"$f":"VLOOKUP($B207,'FSA23'!$E$5:$K$288,5,0)","v":125.73},{"$f":"VLOOKUP($B207,'FSA23'!$E$5:$K$288,6,0)","v":164.54999999999998},{"$f":"VLOOKUP($B207,'FSA23'!$E$5:$K$288,7,0)","v":206.85999999999999},{"$f":"AVERAGE(G207:K207)+$R207","v":164.23400000000001},162.19480000000001,166.48376000000002,null,null,null,1.77,0.5,0.66,null,{"$f":"C207-($R207*6)","v":{"$error":"#REF!"}},{"$f":"D207-($R207*5)","v":{"$error":"#REF!"}},{"$error":"#REF!"},{"$error":"#REF!"},174.42999999999998,140.75,125.73,164.54999999999998,206.85999999999999,164.23400000000001,162.19480000000001]
[null,"MuskegonCornNonirrigated",{"$f":"VLOOKUP($B208,#REF!,3,0)","v":{"$error":"#REF!"}},{"$f":"VLOOKUP($B208,#REF!,4,0)","v":{"$error":"#REF!"}},{"$f":"VLOOKUP($B208,'FSA21'!$E$5:$K$183,3,0)","v":144.82},{"$f":"VLOOKUP($B208,'FSA21'!$E$5:$K$183,4,0)","v":161.66},{"$f":"VLOOKUP($B208,'FSA23'!$E$5:$K$288,3,0)","v":146.47999999999999},{"$f":"VLOOKUP($B208,'FSA23'!$E$5:$K$288,4,0)","v":130.71},{"$f":"VLOOKUP($B208,'FSA23'!$E$5:$K$288,5,0)","v":113.15},{"$f":"VLOOKUP($B208,'FSA23'!$E$5:$K$288,6,0)","v":153.22},{"$f":"VLOOKUP($B208,'FSA23'!$E$5:$K$288,7,0)","v":185.45},147.572,147.79040000000001,151.20648000000003,null,null,null,1.77,0.5,0.66,null,{"$f":"C208-($R208*6)","v":{"$error":"#REF!"}},{"$f":"D208-($R208*5)","v":{"$error":"#REF!"}},144.82,161.66,146.47999999999999,130.71,113.15,153.22,185.45,147.572,147.79040000000001]
[null,"MuskegonSoybeansAll",{"$f":"VLOOKUP($B209,#REF!,3,0)","v":{"$error":"#REF!"}},{"$f":"VLOOKUP($B209,#REF!,4,0)","v":{"$error":"#REF!"}},{"$f":"VLOOKUP($B209,'FSA21'!$E$5:$K$183,3,0)","v":49.089999999999996},{"$f":"VLOOKUP($B209,'FSA21'!$E$5:$K$183,4,0)","v":53.52},{"$f":"VLOOKUP($B209,'FSA23'!$E$5:$K$288,3,0)","v":48.71},{"$f":"VLOOKUP($B209,'FSA23'!$E$5:$K$288,4,0)","v":47.400000000000006},{"$f":"VLOOKUP($B209,'FSA23'!$E$5:$K$288,5,0)","v":30.240000000000002},{"$f":"VLOOKUP($B209,'FSA23'!$E$5:$K$288,6,0)","v":41.67},{"$f":"VLOOKUP($B209,'FSA23'!$E$5:$K$288,7,0)","v":53.65},{"$f":"AVERAGE(G209:K209)+$S209","v":44.83400000000001},{"$f":"AVERAGE(H209:L209)+$S209","v":44.058800000000005},{"$f":"AVERAGE(I209:M209)+$S209","v":43.390560000000008},null,null,null,1.77,0.5,0.66,null,{"$f":"C209-($S209*6)","v":{"$error":"#REF!"}},{"$f":"D209-($S209*5)","v":{"$error":"#REF!"}},49.089999999999996,53.52,48.71,47.400000000000006,30.240000000000002,41.67,53.65,44.83400000000001,44.058800000000005]
[null,"MuskegonWheatAll",{"$f":"VLOOKUP($B210,#REF!,3,0)","v":{"$error":"#REF!"}},{"$f":"VLOOKUP($B210,#REF!,4,0)","v":{"$error":"#REF!"}},{"$f":"VLOOKUP($B210,'FSA21'!$E$5:$K$183,3,0)","v":52.93},{"$f":"VLOOKUP($B210,'FSA21'!$E$5:$K$183,4,0)","v":63.66},{"$f":"VLOOKUP($B210,'FSA23'!$E$5:$K$288,3,0)","v":64.59},{"$f":"VLOOKUP($B210,'FSA23'!$E$5:$K$288,4,0)","v":58.24},{"$f":"VLOOKUP($B210,'FSA23'!$E$5:$K$288,5,0)","v":51.31},{"$f":"VLOOKUP($B210,'FSA23'!$E$5:$K$288,6,0)","v":40.46},{"$f":"VLOOKUP($B210,'FSA23'!$E$5:$K$288,7,0)","v":68.92},{"$f":"AVERAGE(G210:K210)+$T210","v":57.364000000000004},{"$f":"AVERAGE(H210:L210)+$T210","v":55.91879999999999},{"$f":"AVERAGE(I210:M210)+$T210","v":55.454560000000001},null,null,null,1.77,0.5,0.66,null,{"$f":"C210-($T210*6)","v":{"$error":"#REF!"}},{"$f":"D210-($T210*5)","v":{"$error":"#REF!"}},52.93,63.66,64.59,58.24,51.31,40.46,68.92,57.364000000000004,55.91879999999999]
[null,"NewaygoCornIrrigated",{"$f":"VLOOKUP($B211,#REF!,3,0)","v":{"$error":"#REF!"}},{"$f":"VLOOKUP($B211,#REF!,4,0)","v":{"$error":"#REF!"}},{"$f":"VLOOKUP($B211,#REF!,5,0)","v":{"$error":"#REF!"}},{"$f":"VLOOKUP($B211,#REF!,6,0)","v":{"$error":"#REF!"}},{"$f":"VLOOKUP($B211,'FSA23'!$E$5:$K$288,3,0)","v":191.67},{"$f":"VLOOKUP($B211,'FSA23'!$E$5:$K$288,4,0)","v":181.20000000000002},{"$f":"VLOOKUP($B211,'FSA23'!$E$5:$K$288,5,0)","v":160.70000000000002},{"$f":"VLOOKUP($B211,'FSA23'!$E$5:$K$288,6,0)","v":185.12},{"$f":"VLOOKUP($B211,'FSA23'!$E$5:$K$288,7,0)","v":194.89},{"$f":"AVERAGE(G211:K211)+$R211","v":184.35599999999999},182.89319999999998,183.23183999999998,null,null,null,1.64,0.34,0.8,null,{"$f":"C211-($R211*6)","v":{"$error":"#REF!"}},{"$f":"D211-($R211*5)","v":{"$error":"#REF!"}},{"$error":"#REF!"},{"$error":"#REF!"},191.67,181.20000000000002,160.70000000000002,185.12,194.89,184.35599999999999,182.89319999999998]
[null,"NewaygoCornNonirrigated",{"$f":"VLOOKUP($B212,#REF!,3,0)","v":{"$error":"#REF!"}},{"$f":"VLOOKUP($B212,#REF!,4,0)","v":{"$error":"#REF!"}},{"$f":"VLOOKUP($B212,'FSA21'!$E$5:$K$183,3,0)","v":130.06},{"$f":"VLOOKUP($B212,'FSA21'!$E$5:$K$183,4,0)","v":164.03},{"$f":"VLOOKUP($B212,'FSA23'!$E$5:$K$288,3,0)","v":139.69},{"$f":"VLOOKUP($B212,'FSA23'!$E$5:$K$288,4,0)","v":104.84},{"$f":"VLOOKUP($B212,'FSA23'!$E$5:$K$288,5,0)","v":127.64},{"$f":"VLOOKUP($B212,'FSA23'!$E$5:$K$288,6,0)","v":159.53},{"$f":"VLOOKUP($B212,'FSA23'!$E$5:$K$288,7,0)","v":180.85},144.15,145.04199999999997,153.08239999999998,null,null,null,1.64,0.34,0.8,null,{"$f":"C212-($R212*6)","v":{"$error":"#REF!"}},{"$f":"D212-($R212*5)","v":{"$error":"#REF!"}},130.06,164.03,139.69,104.84,127.64,159.53,180.85,144.15,145.04199999999997]
[null,"NewaygoSoybeansAll",{"$f":"VLOOKUP($B213,#REF!,3,0)","v":{"$error":"#REF!"}},{"$f":"VLOOKUP($B213,#REF!,4,0)","v":{"$error":"#REF!"}},{"$f":"VLOOKUP($B213,'FSA21'!$E$5:$K$183,3,0)","v":41.74},{"$f":"VLOOKUP($B213,'FSA21'!$E$5:$K$183,4,0)","v":47.58},{"$f":"VLOOKUP($B213,'FSA23'!$E$5:$K$288,3,0)","v":36.19},{"$f":"VLOOKUP($B213,'FSA23'!$E$5:$K$288,4,0)","v":35.369999999999997},{"$f":"VLOOKUP($B213,'FSA23'!$E$5:$K$288,5,0)","v":42.440000000000005},{"$f":"VLOOKUP($B213,'FSA23'!$E$5:$K$288,6,0)","v":40.82},{"$f":"VLOOKUP($B213,'FSA23'!$E$5:$K$288,7,0)","v":52.83},{"$f":"AVERAGE(G213:K213)+$S213","v":41.87},{"$f":"AVERAGE(H213:L213)+$S213","v":43.006},{"$f":"AVERAGE(I213:M213)+$S213","v":44.533200000000008},null,null,null,1.64,0.34,0.8,null,{"$f":"C213-($S213*6)","v":{"$error":"#REF!"}},{"$f":"D213-($S213*5)","v":{"$error":"#REF!"}},41.74,47.58,36.19,35.369999999999997,42.440000000000005,40.82,52.83,41.87,43.006]
[null,"NewaygoWheatAll",{"$f":"VLOOKUP($B214,#REF!,3,0)","v":{"$error":"#REF!"}},{"$f":"VLOOKUP($B214,#REF!,4,0)","v":{"$error":"#REF!"}},{"$f":"VLOOKUP($B214,'FSA21'!$E$5:$K$183,3,0)","v":62.45},{"$f":"VLOOKUP($B214,'FSA21'!$E$5:$K$183,4,0)","v":68.66},{"$f":"VLOOKUP($B214,'FSA23'!$E$5:$K$288,3,0)","v":71.88},{"$f":"VLOOKUP($B214,'FSA23'!$E$5:$K$288,4,0)","v":68.819999999999993},{"$f":"VLOOKUP($B214,'FSA23'!$E$5:$K$288,5,0)","v":49.33},{"$f":"VLOOKUP($B214,'FSA23'!$E$5:$K$288,6,0)","v":57.47},{"$f":"VLOOKUP($B214,'FSA23'!$E$5:$K$288,7,0)","v":65.180000000000007},{"$f":"AVERAGE(G214:K214)+$T214","v":63.335999999999984},{"$f":"AVERAGE(H214:L214)+$T214","v":61.627199999999988},{"$f":"AVERAGE(I214:M214)+$T214","v":60.188639999999992},null,null,null,1.64,0.34,0.8,null,{"$f":"C214-($T214*6)","v":{"$error":"#REF!"}},{"$f":"D214-($T214*5)","v":{"$error":"#REF!"}},62.45,68.66,71.88,68.819999999999993,49.33,57.47,65.180000000000007,63.335999999999984,61.627199999999988]
[null,"OaklandCornAll",{"$f":"VLOOKUP($B215,#REF!,3,0)","v":{"$error":"#REF!"}},{"$f":"VLOOKUP($B215,#REF!,4,0)","v":{"$error":"#REF!"}},{"$f":"VLOOKUP($B215,'FSA21'!$E$5:$K$183,3,0)","v":177.49},{"$f":"VLOOKUP($B215,'FSA21'!$E$5:$K$183,4,0)","v":156.95000000000002},{"$f":"VLOOKUP($B215,'FSA23'!$E$5:$K$288,3,0)","v":153.26999999999998},{"$f":"VLOOKUP($B215,'FSA23'!$E$5:$K$288,4,0)","v":127.55},{"$f":"VLOOKUP($B215,'FSA23'!$E$5:$K$288,5,0)","v":129.16999999999999},{"$f":"VLOOKUP($B215,'FSA23'!$E$5:$K$288,6,0)","v":135.68},{"$f":"VLOOKUP($B215,'FSA23'!$E$5:$K$288,7,0)","v":176.39999999999998},{"$f":"AVERAGE(G215:K215)+$R215","v":146.01400000000001},{"$f":"AVERAGE(H215:L215)+$R215","v":144.56279999999998},{"$f":"AVERAGE(I215:M215)+$R215","v":147.96536},null,null,null,1.6,0.38,0.82,null,{"$f":"C215-($R215*6)","v":{"$error":"#REF!"}},{"$f":"D215-($R215*5)","v":{"$error":"#REF!"}},177.49,156.95000000000002,153.26999999999998,127.55,129.16999999999999,135.68,176.39999999999998,146.01400000000001,144.56279999999998]
[null,"OaklandSoybeansAll",{"$f":"VLOOKUP($B216,#REF!,3,0)","v":{"$error":"#REF!"}},{"$f":"VLOOKUP($B216,#REF!,4,0)","v":{"$error":"#REF!"}},{"$f":"VLOOKUP($B216,'FSA21'!$E$5:$K$183,3,0)","v":40.07},{"$f":"VLOOKUP($B216,'FSA21'!$E$5:$K$183,4,0)","v":35.800000000000004},{"$f":"VLOOKUP($B216,'FSA23'!$E$5:$K$288,3,0)","v":34.370000000000005},{"$f":"VLOOKUP($B216,'FSA23'!$E$5:$K$288,4,0)","v":32.17},{"$f":"VLOOKUP($B216,'FSA23'!$E$5:$K$288,5,0)","v":32.49},{"$f":"VLOOKUP($B216,'FSA23'!$E$5:$K$288,6,0)","v":34.19},{"$f":"VLOOKUP($B216,'FSA23'!$E$5:$K$288,7,0)","v":40.51},{"$f":"AVERAGE(G216:K216)+$S216","v":35.125999999999998},{"$f":"AVERAGE(H216:L216)+$S216","v":35.277200000000001},{"$f":"AVERAGE(I216:M216)+$S216","v":35.89864},null,null,null,1.6,0.38,0.82,null,{"$f":"C216-($S216*6)","v":{"$error":"#REF!"}},{"$f":"D216-($S216*5)","v":{"$error":"#REF!"}},40.07,35.800000000000004,34.370000000000005,32.17,32.49,34.19,40.51,35.125999999999998,35.277200000000001]
[null,"OaklandWheatAll",{"$f":"VLOOKUP($B217,#REF!,3,0)","v":{"$error":"#REF!"}},{"$f":"VLOOKUP($B217,#REF!,4,0)","v":{"$error":"#REF!"}},{"$f":"VLOOKUP($B217,#REF!,5,0)","v":{"$error":"#REF!"}},{"$f":"VLOOKUP($B217,#REF!,6,0)","v":{"$error":"#REF!"}},{"$f":"VLOOKUP($B217,'FSA23'!$E$5:$K$288,3,0)","v":68.14},{"$f":"VLOOKUP($B217,'FSA23'!$E$5:$K$288,4,0)","v":75},{"$f":"VLOOKUP($B217,'FSA23'!$E$5:$K$288,5,0)","v":58.54},{"$f":"VLOOKUP($B217,'FSA23'!$E$5:$K$288,6,0)","v":67.33},{"$f":"VLOOKUP($B217,'FSA23'!$E$5:$K$288,7,0)","v":65.64},{"$f":"AVERAGE(G217:K217)+$T217","v":67.749999999999986},{"$f":"AVERAGE(H217:L217)+$T217","v":67.671999999999997},{"$f":"AVERAGE(I217:M217)+$T217","v":66.206400000000002},null,null,null,1.6,0.38,0.82,null,{"$f":"C217-($T217*6)","v":{"$error":"#REF!"}},{"$f":"D217-($T217*5)","v":{"$error":"#REF!"}},{"$error":"#REF!"},{"$error":"#REF!"},68.14,75,58.54,67.33,65.64,67.749999999999986,67.671999999999997]
[null,"OceanaCornIrrigated",{"$f":"VLOOKUP($B218,#REF!,3,0)","v":{"$error":"#REF!"}},{"$f":"VLOOKUP($B218,#REF!,4,0)","v":{"$error":"#REF!"}},{"$f":"VLOOKUP($B218,'FSA21'!$E$5:$K$183,3,0)","v":150.30000000000001},{"$f":"VLOOKUP($B218,'FSA21'!$E$5:$K$183,4,0)","v":169.45},{"$f":"VLOOKUP($B218,'FSA23'!$E$5:$K$288,3,0)","v":173.51},{"$f":"VLOOKUP($B218,'FSA23'!$E$5:$K$288,4,0)","v":150.03},{"$f":"VLOOKUP($B218,'FSA23'!$E$5:$K$288,5,0)","v":145.16999999999999},{"$f":"VLOOKUP($B218,'FSA23'!$E$5:$K$288,6,0)","v":176.43},{"$f":"VLOOKUP($B218,'FSA23'!$E$5:$K$288,7,0)","v":185.9},{"$f":"AVERAGE(G218:K218)+$R218","v":167.82799999999997},166.69159999999999,170.02392,null,null,null,1.62,0.37,0.74,null,{"$f":"C218-($R218*6)","v":{"$error":"#REF!"}},{"$f":"D218-($R218*5)","v":{"$error":"#REF!"}},150.30000000000001,169.45,173.51,150.03,145.16999999999999,176.43,185.9,167.82799999999997,166.69159999999999]
[null,"OceanaCornNonirrigated",{"$f":"VLOOKUP($B219,#REF!,3,0)","v":{"$error":"#REF!"}},{"$f":"VLOOKUP($B219,#REF!,4,0)","v":{"$error":"#REF!"}},{"$f":"VLOOKUP($B219,'FSA21'!$E$5:$K$183,3,0)","v":110.38000000000001},{"$f":"VLOOKUP($B219,'FSA21'!$E$5:$K$183,4,0)","v":136.14000000000001},{"$f":"VLOOKUP($B219,'FSA23'!$E$5:$K$288,3,0)","v":146.85},{"$f":"VLOOKUP($B219,'FSA23'!$E$5:$K$288,4,0)","v":105.32},{"$f":"VLOOKUP($B219,'FSA23'!$E$5:$K$288,5,0)","v":117.83},{"$f":"VLOOKUP($B219,'FSA23'!$E$5:$K$288,6,0)","v":126.76},{"$f":"VLOOKUP($B219,'FSA23'!$E$5:$K$288,7,0)","v":161.63},133.298,130.58760000000001,135.64112000000003,null,null,null,1.62,0.37,0.74,null,{"$f":"C219-($R219*6)","v":{"$error":"#REF!"}},{"$f":"D219-($R219*5)","v":{"$error":"#REF!"}},110.38000000000001,136.14000000000001,146.85,105.32,117.83,126.76,161.63,133.298,130.58760000000001]
[null,"OceanaSoybeansIrrigated",{"$f":"VLOOKUP($B220,#REF!,3,0)","v":{"$error":"#REF!"}},{"$f":"VLOOKUP($B220,#REF!,4,0)","v":{"$error":"#REF!"}},{"$f":"VLOOKUP($B220,#REF!,5,0)","v":{"$error":"#REF!"}},{"$f":"VLOOKUP($B220,#REF!,6,0)","v":{"$error":"#REF!"}},{"$f":"VLOOKUP($B220,'FSA23'!$E$5:$K$288,3,0)","v":48.46},{"$f":"VLOOKUP($B220,'FSA23'!$E$5:$K$288,4,0)","v":36.369999999999997},{"$f":"VLOOKUP($B220,'FSA23'!$E$5:$K$288,5,0)","v":41.94},{"$f":"VLOOKUP($B220,'FSA23'!$E$5:$K$288,6,0)","v":54.129999999999995},{"$f":"VLOOKUP($B220,'FSA23'!$E$5:$K$288,7,0)","v":48.58},{"$f":"AVERAGE(G220:K220)+$S220","v":46.265999999999991},45.827199999999991,47.718639999999986,null,null,null,1.62,0.37,0.74,null,{"$f":"C220-($S220*6)","v":{"$error":"#REF!"}},{"$f":"D220-($S220*5)","v":{"$error":"#REF!"}},{"$error":"#REF!"},{"$error":"#REF!"},48.46,36.369999999999997,41.94,54.129999999999995,48.58,46.265999999999991,45.827199999999991]
[null,"OceanaSoybeansNonirrigated",{"$f":"VLOOKUP($B221,#REF!,3,0)","v":{"$error":"#REF!"}},{"$f":"VLOOKUP($B221,#REF!,4,0)","v":{"$error":"#REF!"}},{"$f":"VLOOKUP($B221,'FSA21'!$E$5:$K$183,3,0)","v":33.799999999999997},{"$f":"VLOOKUP($B221,'FSA21'!$E$5:$K$183,4,0)","v":46.050000000000004},{"$f":"VLOOKUP($B221,'FSA23'!$E$5:$K$288,3,0)","v":40.549999999999997},{"$f":"VLOOKUP($B221,'FSA23'!$E$5:$K$288,4,0)","v":33.480000000000004},{"$f":"VLOOKUP($B221,'FSA23'!$E$5:$K$288,5,0)","v":28.8},{"$f":"VLOOKUP($B221,'FSA23'!$E$5:$K$288,6,0)","v":39.1},{"$f":"VLOOKUP($B221,'FSA23'!$E$5:$K$288,7,0)","v":44},37.555999999999997,36.957199999999993,37.652639999999998,null,null,null,1.62,0.37,0.74,null,{"$f":"C221-($S221*6)","v":{"$error":"#REF!"}},{"$f":"D221-($S221*5)","v":{"$error":"#REF!"}},33.799999999999997,46.050000000000004,40.549999999999997,33.480000000000004,28.8,39.1,44,37.555999999999997,36.957199999999993]
[null,"OceanaWheatAll",{"$f":"VLOOKUP($B222,#REF!,3,0)","v":{"$error":"#REF!"}},{"$f":"VLOOKUP($B222,#REF!,4,0)","v":{"$error":"#REF!"}},{"$f":"VLOOKUP($B222,'FSA21'!$E$5:$K$183,3,0)","v":66.06},{"$f":"VLOOKUP($B222,'FSA21'!$E$5:$K$183,4,0)","v":63.29},{"$f":"VLOOKUP($B222,'FSA23'!$E$5:$K$288,3,0)","v":77},{"$f":"VLOOKUP($B222,'FSA23'!$E$5:$K$288,4,0)","v":68.5},{"$f":"VLOOKUP($B222,'FSA23'!$E$5:$K$288,5,0)","v":55.2},{"$f":"VLOOKUP($B222,'FSA23'!$E$5:$K$288,6,0)","v":50.14},{"$f":"VLOOKUP($B222,'FSA23'!$E$5:$K$288,7,0)","v":68.349999999999994},{"$f":"AVERAGE(G222:K222)+$T222","v":64.577999999999989},{"$f":"AVERAGE(H222:L222)+$T222","v":62.093599999999995},{"$f":"AVERAGE(I222:M222)+$T222","v":60.812319999999993},null,null,null,1.62,0.37,0.74,null,{"$f":"C222-($T222*6)","v":{"$error":"#REF!"}},{"$f":"D222-($T222*5)","v":{"$error":"#REF!"}},66.06,63.29,77,68.5,55.2,50.14,68.349999999999994,64.577999999999989,62.093599999999995]
[null,"OgemawCornAll",{"$f":"VLOOKUP($B223,#REF!,3,0)","v":{"$error":"#REF!"}},{"$f":"VLOOKUP($B223,#REF!,4,0)","v":{"$error":"#REF!"}},{"$f":"VLOOKUP($B223,'FSA21'!$E$5:$K$183,3,0)","v":152.03},{"$f":"VLOOKUP($B223,'FSA21'!$E$5:$K$183,4,0)","v":148.36000000000001},{"$f":"VLOOKUP($B223,'FSA23'!$E$5:$K$288,3,0)","v":160.11999999999998},{"$f":"VLOOKUP($B223,'FSA23'!$E$5:$K$288,4,0)","v":171.93},{"$f":"VLOOKUP($B223,'FSA23'!$E$5:$K$288,5,0)","v":152.27000000000001},{"$f":"VLOOKUP($B223,'FSA23'!$E$5:$K$288,6,0)","v":152.68},{"$f":"VLOOKUP($B223,'FSA23'!$E$5:$K$288,7,0)","v":196.02999999999997},{"$f":"AVERAGE(G223:K223)+$R223","v":168.346},{"$f":"AVERAGE(H223:L223)+$R223","v":169.99120000000002},{"$f":"AVERAGE(I223:M223)+$R223","v":169.60344000000003},null,null,null,1.74,0.49,1.17,null,{"$f":"C223-($R223*6)","v":{"$error":"#REF!"}},{"$f":"D223-($R223*5)","v":{"$error":"#REF!"}},152.03,148.36000000000001,160.11999999999998,171.93,152.27000000000001,152.68,196.02999999999997,168.346,169.99120000000002]
[null,"OgemawSoybeansAll",{"$f":"VLOOKUP($B224,#REF!,3,0)","v":{"$error":"#REF!"}},{"$f":"VLOOKUP($B224,#REF!,4,0)","v":{"$error":"#REF!"}},{"$f":"VLOOKUP($B224,'FSA21'!$E$5:$K$183,3,0)","v":39.94},{"$f":"VLOOKUP($B224,'FSA21'!$E$5:$K$183,4,0)","v":45.27},{"$f":"VLOOKUP($B224,'FSA23'!$E$5:$K$288,3,0)","v":43.66},{"$f":"VLOOKUP($B224,'FSA23'!$E$5:$K$288,4,0)","v":40.06},{"$f":"VLOOKUP($B224,'FSA23'!$E$5:$K$288,5,0)","v":35},{"$f":"VLOOKUP($B224,'FSA23'!$E$5:$K$288,6,0)","v":33.25},{"$f":"VLOOKUP($B224,'FSA23'!$E$5:$K$288,7,0)","v":46.87},{"$f":"AVERAGE(G224:K224)+$S224","v":40.258000000000003},{"$f":"AVERAGE(H224:L224)+$S224","v":39.577600000000004},{"$f":"AVERAGE(I224:M224)+$S224","v":39.481120000000004},null,null,null,1.74,0.49,1.17,null,{"$f":"C224-($S224*6)","v":{"$error":"#REF!"}},{"$f":"D224-($S224*5)","v":{"$error":"#REF!"}},39.94,45.27,43.66,40.06,35,33.25,46.87,40.258000000000003,39.577600000000004]
[null,"OgemawWheatAll",{"$f":"VLOOKUP($B225,#REF!,3,0)","v":{"$error":"#REF!"}},{"$f":"VLOOKUP($B225,#REF!,4,0)","v":{"$error":"#REF!"}},{"$f":"VLOOKUP($B225,#REF!,5,0)","v":{"$error":"#REF!"}},{"$f":"VLOOKUP($B225,#REF!,6,0)","v":{"$error":"#REF!"}},{"$f":"VLOOKUP($B225,'FSA23'!$E$5:$K$288,3,0)","v":63.7},{"$f":"VLOOKUP($B225,'FSA23'!$E$5:$K$288,4,0)","v":64.55},{"$f":"VLOOKUP($B225,'FSA23'!$E$5:$K$288,5,0)","v":63.8},{"$f":"VLOOKUP($B225,'FSA23'!$E$5:$K$288,6,0)","v":63.05},{"$f":"VLOOKUP($B225,'FSA23'!$E$5:$K$288,7,0)","v":74.53},{"$f":"AVERAGE(G225:K225)+$T225","v":67.096000000000004},{"$f":"AVERAGE(H225:L225)+$T225","v":67.775199999999998},{"$f":"AVERAGE(I225:M225)+$T225","v":68.420239999999993},null,null,null,1.74,0.49,1.17,null,{"$f":"C225-($T225*6)","v":{"$error":"#REF!"}},{"$f":"D225-($T225*5)","v":{"$error":"#REF!"}},{"$error":"#REF!"},{"$error":"#REF!"},63.7,64.55,63.8,63.05,74.53,67.096000000000004,67.775199999999998]
[null,"OntonagonCornAll",{"$f":"VLOOKUP($B226,#REF!,3,0)","v":{"$error":"#REF!"}},{"$f":"VLOOKUP($B226,#REF!,4,0)","v":{"$error":"#REF!"}},{"$f":"VLOOKUP($B226,'FSA21'!$E$5:$K$183,3,0)","v":132},{"$f":"VLOOKUP($B226,'FSA21'!$E$5:$K$183,4,0)","v":87},{"$f":"VLOOKUP($B226,'FSA23'!$E$5:$K$288,3,0)","v":58.4},{"$f":"VLOOKUP($B226,'FSA23'!$E$5:$K$288,4,0)","v":111},{"$f":"VLOOKUP($B226,'FSA23'!$E$5:$K$288,5,0)","v":58.49},{"$f":"VLOOKUP($B226,'FSA23'!$E$5:$K$288,6,0)","v":141.9},{"$f":"VLOOKUP($B226,'FSA23'!$E$5:$K$288,7,0)","v":110.84},{"$f":"AVERAGE(G226:K226)+$R226","v":97.116},{"$f":"AVERAGE(H226:L226)+$R226","v":104.8592},{"$f":"AVERAGE(I226:M226)+$R226","v":103.63104},null,null,null,0.99,null,0.68,null,{"$f":"C226-($R226*6)","v":{"$error":"#REF!"}},{"$f":"D226-($R226*5)","v":{"$error":"#REF!"}},132,87,58.4,111,58.49,141.9,110.84,97.116,104.8592]
[null,"OntonagonWheatAll",{"$f":"VLOOKUP($B227,#REF!,3,0)","v":{"$error":"#REF!"}},{"$f":"VLOOKUP($B227,#REF!,4,0)","v":{"$error":"#REF!"}},{"$f":"VLOOKUP($B227,'FSA21'!$E$5:$K$183,3,0)","v":51},{"$f":"VLOOKUP($B227,'FSA21'!$E$5:$K$183,4,0)","v":55},{"$f":"VLOOKUP($B227,'FSA23'!$E$5:$K$288,3,0)","v":52},{"$f":"VLOOKUP($B227,'FSA23'!$E$5:$K$288,4,0)","v":40},{"$f":"VLOOKUP($B227,'FSA23'!$E$5:$K$288,5,0)","v":53.1},{"$f":"VLOOKUP($B227,'FSA23'!$E$5:$K$288,6,0)","v":50.4},{"$f":"VLOOKUP($B227,'FSA23'!$E$5:$K$288,7,0)","v":61.66},{"$f":"AVERAGE(G227:K227)+$T227","v":52.111999999999995},{"$f":"AVERAGE(H227:L227)+$T227","v":52.134399999999999},{"$f":"AVERAGE(I227:M227)+$T227","v":54.561279999999989},null,null,null,0.99,null,0.68,null,{"$f":"C227-($T227*6)","v":{"$error":"#REF!"}},{"$f":"D227-($T227*5)","v":{"$error":"#REF!"}},51,55,52,40,53.1,50.4,61.66,52.111999999999995,52.134399999999999]
[null,"OsceolaCornAll",{"$f":"VLOOKUP($B228,#REF!,3,0)","v":{"$error":"#REF!"}},{"$f":"VLOOKUP($B228,#REF!,4,0)","v":{"$error":"#REF!"}},{"$f":"VLOOKUP($B228,'FSA21'!$E$5:$K$183,3,0)","v":138.94000000000003},{"$f":"VLOOKUP($B228,'FSA21'!$E$5:$K$183,4,0)","v":130.35},{"$f":"VLOOKUP($B228,'FSA23'!$E$5:$K$288,3,0)","v":166.85},{"$f":"VLOOKUP($B228,'FSA23'!$E$5:$K$288,4,0)","v":120.49},{"$f":"VLOOKUP($B228,'FSA23'!$E$5:$K$288,5,0)","v":142.85999999999999},{"$f":"VLOOKUP($B228,'FSA23'!$E$5:$K$288,6,0)","v":162.84},{"$f":"VLOOKUP($B228,'FSA23'!$E$5:$K$288,7,0)","v":201.24},{"$f":"AVERAGE(G228:K228)+$R228","v":160.536},{"$f":"AVERAGE(H228:L228)+$R228","v":159.27319999999997},{"$f":"AVERAGE(I228:M228)+$R228","v":167.02984000000001},null,null,null,1.68,0.28999999999999998,0.51,null,{"$f":"C228-($R228*6)","v":{"$error":"#REF!"}},{"$f":"D228-($R228*5)","v":{"$error":"#REF!"}},138.94000000000003,130.35,166.85,120.49,142.85999999999999,162.84,201.24,160.536,159.27319999999997]
[null,"OsceolaSoybeansAll",{"$f":"VLOOKUP($B229,#REF!,3,0)","v":{"$error":"#REF!"}},{"$f":"VLOOKUP($B229,#REF!,4,0)","v":{"$error":"#REF!"}},{"$f":"VLOOKUP($B229,'FSA21'!$E$5:$K$183,3,0)","v":40.92},{"$f":"VLOOKUP($B229,'FSA21'!$E$5:$K$183,4,0)","v":38.82},{"$f":"VLOOKUP($B229,'FSA23'!$E$5:$K$288,3,0)","v":33.47},{"$f":"VLOOKUP($B229,'FSA23'!$E$5:$K$288,4,0)","v":29.81},{"$f":"VLOOKUP($B229,'FSA23'!$E$5:$K$288,5,0)","v":24},{"$f":"VLOOKUP($B229,'FSA23'!$E$5:$K$288,6,0)","v":32.92},{"$f":"VLOOKUP($B229,'FSA23'!$E$5:$K$288,7,0)","v":42.86},{"$f":"AVERAGE(G229:K229)+$S229","v":32.902000000000001},{"$f":"AVERAGE(H229:L229)+$S229","v":32.788400000000003},{"$f":"AVERAGE(I229:M229)+$S229","v":33.384080000000004},null,null,null,1.68,0.28999999999999998,0.51,null,{"$f":"C229-($S229*6)","v":{"$error":"#REF!"}},{"$f":"D229-($S229*5)","v":{"$error":"#REF!"}},40.92,38.82,33.47,29.81,24,32.92,42.86,32.902000000000001,32.788400000000003]
[null,"OsceolaWheatAll",{"$f":"VLOOKUP($B230,#REF!,3,0)","v":{"$error":"#REF!"}},{"$f":"VLOOKUP($B230,#REF!,4,0)","v":{"$error":"#REF!"}},{"$f":"VLOOKUP($B230,'FSA21'!$E$5:$K$183,3,0)","v":73.88},{"$f":"VLOOKUP($B230,'FSA21'!$E$5:$K$183,4,0)","v":50.27},{"$f":"VLOOKUP($B230,'FSA23'!$E$5:$K$288,3,0)","v":69},{"$f":"VLOOKUP($B230,'FSA23'!$E$5:$K$288,4,0)","v":57.92},{"$f":"VLOOKUP($B230,'FSA23'!$E$5:$K$288,5,0)","v":53.71},{"$f":"VLOOKUP($B230,'FSA23'!$E$5:$K$288,6,0)","v":64.400000000000006},{"$f":"VLOOKUP($B230,'FSA23'!$E$5:$K$288,7,0)","v":68.39},{"$f":"AVERAGE(G230:K230)+$T230","v":63.194000000000003},{"$f":"AVERAGE(H230:L230)+$T230","v":62.032800000000002},{"$f":"AVERAGE(I230:M230)+$T230","v":62.855360000000005},null,null,null,1.68,0.28999999999999998,0.51,null,{"$f":"C230-($T230*6)","v":{"$error":"#REF!"}},{"$f":"D230-($T230*5)","v":{"$error":"#REF!"}},73.88,50.27,69,57.92,53.71,64.400000000000006,68.39,63.194000000000003,62.032800000000002]
[null,"OscodaCornAll",{"$f":"VLOOKUP($B231,#REF!,3,0)","v":{"$error":"#REF!"}},{"$f":"VLOOKUP($B231,#REF!,4,0)","v":{"$error":"#REF!"}},{"$f":"VLOOKUP($B231,#REF!,5,0)","v":{"$error":"#REF!"}},{"$f":"VLOOKUP($B231,#REF!,6,0)","v":{"$error":"#REF!"}},{"$f":"VLOOKUP($B231,'FSA23'!$E$5:$K$288,3,0)","v":131},{"$f":"VLOOKUP($B231,'FSA23'!$E$5:$K$288,4,0)","v":117},{"$f":"VLOOKUP($B231,'FSA23'!$E$5:$K$288,5,0)","v":110.3},{"$f":"VLOOKUP($B231,'FSA23'!$E$5:$K$288,6,0)","v":147.5},{"$f":"VLOOKUP($B231,'FSA23'!$E$5:$K$288,7,0)","v":188.78},{"$f":"AVERAGE(G231:K231)+$R231","v":140.30599999999998},{"$f":"AVERAGE(H231:L231)+$R231","v":142.16719999999998},{"$f":"AVERAGE(I231:M231)+$R231","v":147.20063999999996},null,null,null,1.39,null,0.59,null,{"$f":"C231-($R231*6)","v":{"$error":"#REF!"}},{"$f":"D231-($R231*5)","v":{"$error":"#REF!"}},{"$error":"#REF!"},{"$error":"#REF!"},131,117,110.3,147.5,188.78,140.30599999999998,142.16719999999998]
[null,"OscodaWheatAll",{"$f":"VLOOKUP($B232,#REF!,3,0)","v":{"$error":"#REF!"}},{"$f":"VLOOKUP($B232,#REF!,4,0)","v":{"$error":"#REF!"}},{"$f":"VLOOKUP($B232,#REF!,5,0)","v":{"$error":"#REF!"}},{"$f":"VLOOKUP($B232,#REF!,6,0)","v":{"$error":"#REF!"}},{"$f":"VLOOKUP($B232,'FSA23'!$E$5:$K$288,3,0)","v":{"$error":"#N/A"}},{"$f":"VLOOKUP($B232,'FSA23'!$E$5:$K$288,4,0)","v":{"$error":"#N/A"}},{"$f":"VLOOKUP($B232,'FSA23'!$E$5:$K$288,5,0)","v":{"$error":"#N/A"}},{"$f":"VLOOKUP($B232,'FSA23'!$E$5:$K$288,6,0)","v":{"$error":"#N/A"}},{"$f":"VLOOKUP($B232,'FSA23'!$E$5:$K$288,7,0)","v":{"$error":"#N/A"}},{"$f":"AVERAGE(G232:K232)+$T232","v":{"$error":"#N/A"}},{"$f":"AVERAGE(H232:L232)+$T232","v":{"$error":"#N/A"}},{"$f":"AVERAGE(I232:M232)+$T232","v":{"$error":"#N/A"}},null,null,null,1.39,null,0.59,null,{"$f":"C232-($T232*6)","v":{"$error":"#REF!"}},{"$f":"D232-($T232*5)","v":{"$error":"#REF!"}},{"$error":"#REF!"},{"$error":"#REF!"},{"$error":"#N/A"},{"$error":"#N/A"},{"$error":"#N/A"},{"$error":"#N/A"},{"$error":"#N/A"},{"$error":"#N/A"},{"$error":"#N/A"}]
[null,"OtsegoCornAll",{"$f":"VLOOKUP($B233,#REF!,3,0)","v":{"$error":"#REF!"}},{"$f":"VLOOKUP($B233,#REF!,4,0)","v":{"$error":"#REF!"}},{"$f":"VLOOKUP($B233,'FSA21'!$E$5:$K$183,3,0)","v":109.88},{"$f":"VLOOKUP($B233,'FSA21'!$E$5:$K$183,4,0)","v":82},{"$f":"VLOOKUP($B233,'FSA23'!$E$5:$K$288,3,0)","v":140.49},{"$f":"VLOOKUP($B233,'FSA23'!$E$5:$K$288,4,0)","v":100.88},{"$f":"VLOOKUP($B233,'FSA23'!$E$5:$K$288,5,0)","v":133.31},{"$f":"VLOOKUP($B233,'FSA23'!$E$5:$K$288,6,0)","v":151.43},{"$f":"VLOOKUP($B233,'FSA23'!$E$5:$K$288,7,0)","v":144.73000000000002},{"$f":"AVERAGE(G233:K233)+$R233","v":135.18800000000002},{"$f":"AVERAGE(H233:L233)+$R233","v":134.1276},{"$f":"AVERAGE(I233:M233)+$R233","v":140.77712000000002},null,null,null,1.02,0.26,0.47,null,{"$f":"C233-($R233*6)","v":{"$error":"#REF!"}},{"$f":"D233-($R233*5)","v":{"$error":"#REF!"}},109.88,82,140.49,100.88,133.31,151.43,144.73000000000002,135.18800000000002,134.1276]
[null,"OtsegoSoybeansAll",{"$f":"VLOOKUP($B234,#REF!,3,0)","v":{"$error":"#REF!"}},{"$f":"VLOOKUP($B234,#REF!,4,0)","v":{"$error":"#REF!"}},{"$f":"VLOOKUP($B234,#REF!,5,0)","v":{"$error":"#REF!"}},{"$f":"VLOOKUP($B234,#REF!,6,0)","v":{"$error":"#REF!"}},{"$f":"VLOOKUP($B234,'FSA23'!$E$5:$K$288,3,0)","v":27.5},{"$f":"VLOOKUP($B234,'FSA23'!$E$5:$K$288,4,0)","v":37},{"$f":"VLOOKUP($B234,'FSA23'!$E$5:$K$288,5,0)","v":33.020000000000003},{"$f":"VLOOKUP($B234,'FSA23'!$E$5:$K$288,6,0)","v":44.9},{"$f":"VLOOKUP($B234,'FSA23'!$E$5:$K$288,7,0)","v":45.8},{"$f":"AVERAGE(G234:K234)+$S234","v":37.904000000000003},{"$f":"AVERAGE(H234:L234)+$S234","v":39.9848},{"$f":"AVERAGE(I234:M234)+$S234","v":40.581759999999996},null,null,null,1.02,0.26,0.47,null,{"$f":"C234-($S234*6)","v":{"$error":"#REF!"}},{"$f":"D234-($S234*5)","v":{"$error":"#REF!"}},{"$error":"#REF!"},{"$error":"#REF!"},27.5,37,33.020000000000003,44.9,45.8,37.904000000000003,39.9848]
[null,"OtsegoWheatAll",{"$f":"VLOOKUP($B235,#REF!,3,0)","v":{"$error":"#REF!"}},{"$f":"VLOOKUP($B235,#REF!,4,0)","v":{"$error":"#REF!"}},{"$f":"VLOOKUP($B235,#REF!,5,0)","v":{"$error":"#REF!"}},{"$f":"VLOOKUP($B235,#REF!,6,0)","v":{"$error":"#REF!"}},{"$f":"VLOOKUP($B235,'FSA23'!$E$5:$K$288,3,0)","v":45.53},{"$f":"VLOOKUP($B235,'FSA23'!$E$5:$K$288,4,0)","v":60},{"$f":"VLOOKUP($B235,'FSA23'!$E$5:$K$288,5,0)","v":47.28},{"$f":"VLOOKUP($B235,'FSA23'!$E$5:$K$288,6,0)","v":51.92},{"$f":"VLOOKUP($B235,'FSA23'!$E$5:$K$288,7,0)","v":61.92},{"$f":"AVERAGE(G235:K235)+$T235","v":53.800000000000004},{"$f":"AVERAGE(H235:L235)+$T235","v":55.454000000000001},{"$f":"AVERAGE(I235:M235)+$T235","v":54.544800000000002},null,null,null,1.02,0.26,0.47,null,{"$f":"C235-($T235*6)","v":{"$error":"#REF!"}},{"$f":"D235-($T235*5)","v":{"$error":"#REF!"}},{"$error":"#REF!"},{"$error":"#REF!"},45.53,60,47.28,51.92,61.92,53.800000000000004,55.454000000000001]
[null,"OttawaCornIrrigated",{"$f":"VLOOKUP($B236,#REF!,3,0)","v":{"$error":"#REF!"}},{"$f":"VLOOKUP($B236,#REF!,4,0)","v":{"$error":"#REF!"}},{"$f":"VLOOKUP($B236,#REF!,5,0)","v":{"$error":"#REF!"}},{"$f":"VLOOKUP($B236,#REF!,6,0)","v":{"$error":"#REF!"}},{"$f":"VLOOKUP($B236,'FSA23'!$E$5:$K$288,3,0)","v":193.4},{"$f":"VLOOKUP($B236,'FSA23'!$E$5:$K$288,4,0)","v":192.84},{"$f":"VLOOKUP($B236,'FSA23'!$E$5:$K$288,5,0)","v":171.57},{"$f":"VLOOKUP($B236,'FSA23'!$E$5:$K$288,6,0)","v":200.45},{"$f":"VLOOKUP($B236,'FSA23'!$E$5:$K$288,7,0)","v":210.64000000000001},{"$f":"AVERAGE(G236:K236)+$R236","v":195.63},196.07599999999996,196.72319999999999,null,null,null,1.85,0.56000000000000005,0.82,null,{"$f":"C236-($R236*6)","v":{"$error":"#REF!"}},{"$f":"D236-($R236*5)","v":{"$error":"#REF!"}},{"$error":"#REF!"},{"$error":"#REF!"},193.4,192.84,171.57,200.45,210.64000000000001,195.63,196.07599999999996]
[null,"OttawaCornNonirrigated",{"$f":"VLOOKUP($B237,#REF!,3,0)","v":{"$error":"#REF!"}},{"$f":"VLOOKUP($B237,#REF!,4,0)","v":{"$error":"#REF!"}},{"$f":"VLOOKUP($B237,'FSA21'!$E$5:$K$183,3,0)","v":167.07},{"$f":"VLOOKUP($B237,'FSA21'!$E$5:$K$183,4,0)","v":188.08},{"$f":"VLOOKUP($B237,'FSA23'!$E$5:$K$288,3,0)","v":172.94},{"$f":"VLOOKUP($B237,'FSA23'!$E$5:$K$288,4,0)","v":145.97999999999999},{"$f":"VLOOKUP($B237,'FSA23'!$E$5:$K$288,5,0)","v":142.5},{"$f":"VLOOKUP($B237,'FSA23'!$E$5:$K$288,6,0)","v":140.76},{"$f":"VLOOKUP($B237,'FSA23'!$E$5:$K$288,7,0)","v":186.65},159.61599999999999,156.9512,159.14543999999998,null,null,null,1.85,0.56000000000000005,0.82,null,{"$f":"C237-($R237*6)","v":{"$error":"#REF!"}},{"$f":"D237-($R237*5)","v":{"$error":"#REF!"}},167.07,188.08,172.94,145.97999999999999,142.5,140.76,186.65,159.61599999999999,156.9512]
[null,"OttawaSoybeansIrrigated",{"$f":"VLOOKUP($B238,#REF!,3,0)","v":{"$error":"#REF!"}},{"$f":"VLOOKUP($B238,#REF!,4,0)","v":{"$error":"#REF!"}},{"$f":"VLOOKUP($B238,#REF!,5,0)","v":{"$error":"#REF!"}},{"$f":"VLOOKUP($B238,#REF!,6,0)","v":{"$error":"#REF!"}},{"$f":"VLOOKUP($B238,'FSA23'!$E$5:$K$288,3,0)","v":53.599999999999994},{"$f":"VLOOKUP($B238,'FSA23'!$E$5:$K$288,4,0)","v":50.82},{"$f":"VLOOKUP($B238,'FSA23'!$E$5:$K$288,5,0)","v":55.910000000000004},{"$f":"VLOOKUP($B238,'FSA23'!$E$5:$K$288,6,0)","v":46.4},{"$f":"VLOOKUP($B238,'FSA23'!$E$5:$K$288,7,0)","v":56.33},{"$f":"AVERAGE(G238:K238)+$S238","v":53.172000000000004},53.086400000000005,53.539679999999997,null,null,null,1.85,0.56000000000000005,0.82,null,{"$f":"C238-($S238*6)","v":{"$error":"#REF!"}},{"$f":"D238-($S238*5)","v":{"$error":"#REF!"}},{"$error":"#REF!"},{"$error":"#REF!"},53.599999999999994,50.82,55.910000000000004,46.4,56.33,53.172000000000004,53.086400000000005]
[null,"OttawaSoybeansNonirrigated",{"$f":"VLOOKUP($B239,#REF!,3,0)","v":{"$error":"#REF!"}},{"$f":"VLOOKUP($B239,#REF!,4,0)","v":{"$error":"#REF!"}},{"$f":"VLOOKUP($B239,'FSA21'!$E$5:$K$183,3,0)","v":52.330000000000005},{"$f":"VLOOKUP($B239,'FSA21'!$E$5:$K$183,4,0)","v":63.300000000000004},{"$f":"VLOOKUP($B239,'FSA23'!$E$5:$K$288,3,0)","v":49.66},{"$f":"VLOOKUP($B239,'FSA23'!$E$5:$K$288,4,0)","v":46.23},{"$f":"VLOOKUP($B239,'FSA23'!$E$5:$K$288,5,0)","v":43.48},{"$f":"VLOOKUP($B239,'FSA23'!$E$5:$K$288,6,0)","v":45.65},{"$f":"VLOOKUP($B239,'FSA23'!$E$5:$K$288,7,0)","v":51.139999999999993},47.791999999999994,47.418399999999998,47.656079999999996,null,null,null,1.85,0.56000000000000005,0.82,null,{"$f":"C239-($S239*6)","v":{"$error":"#REF!"}},{"$f":"D239-($S239*5)","v":{"$error":"#REF!"}},52.330000000000005,63.300000000000004,49.66,46.23,43.48,45.65,51.139999999999993,47.791999999999994,47.418399999999998]
[null,"OttawaWheatAll",{"$f":"VLOOKUP($B240,#REF!,3,0)","v":{"$error":"#REF!"}},{"$f":"VLOOKUP($B240,#REF!,4,0)","v":{"$error":"#REF!"}},{"$f":"VLOOKUP($B240,'FSA21'!$E$5:$K$183,3,0)","v":73.88000000000001},{"$f":"VLOOKUP($B240,'FSA21'!$E$5:$K$183,4,0)","v":90.11},{"$f":"VLOOKUP($B240,'FSA23'!$E$5:$K$288,3,0)","v":59.480000000000004},{"$f":"VLOOKUP($B240,'FSA23'!$E$5:$K$288,4,0)","v":77.740000000000009},{"$f":"VLOOKUP($B240,'FSA23'!$E$5:$K$288,5,0)","v":59.95},{"$f":"VLOOKUP($B240,'FSA23'!$E$5:$K$288,6,0)","v":58.82},{"$f":"VLOOKUP($B240,'FSA23'!$E$5:$K$288,7,0)","v":80.459999999999994},{"$f":"AVERAGE(G240:K240)+$T240","v":68.109999999999985},{"$f":"AVERAGE(H240:L240)+$T240","v":69.835999999999984},{"$f":"AVERAGE(I240:M240)+$T240","v":68.255200000000002},null,null,null,1.85,0.56000000000000005,0.82,null,{"$f":"C240-($T240*6)","v":{"$error":"#REF!"}},{"$f":"D240-($T240*5)","v":{"$error":"#REF!"}},73.88000000000001,90.11,59.480000000000004,77.740000000000009,59.95,58.82,80.459999999999994,68.109999999999985,69.835999999999984]
[null,"Presque IsleCornAll",{"$f":"VLOOKUP($B241,#REF!,3,0)","v":{"$error":"#REF!"}},{"$f":"VLOOKUP($B241,#REF!,4,0)","v":{"$error":"#REF!"}},{"$f":"VLOOKUP($B241,'FSA21'!$E$5:$K$183,3,0)","v":117.96000000000001},{"$f":"VLOOKUP($B241,'FSA21'!$E$5:$K$183,4,0)","v":79.45},{"$f":"VLOOKUP($B241,'FSA23'!$E$5:$K$288,3,0)","v":134.13},{"$f":"VLOOKUP($B241,'FSA23'!$E$5:$K$288,4,0)","v":93.789999999999992},{"$f":"VLOOKUP($B241,'FSA23'!$E$5:$K$288,5,0)","v":92.690000000000012},{"$f":"VLOOKUP($B241,'FSA23'!$E$5:$K$288,6,0)","v":121.76},{"$f":"VLOOKUP($B241,'FSA23'!$E$5:$K$288,7,0)","v":154.88000000000002},{"$f":"AVERAGE(G241:K241)+$R241","v":120.89},{"$f":"AVERAGE(H241:L241)+$R241","v":118.24199999999999},{"$f":"AVERAGE(I241:M241)+$R241","v":123.13239999999999},null,null,null,1.44,0.32,0.56999999999999995,null,{"$f":"C241-($R241*6)","v":{"$error":"#REF!"}},{"$f":"D241-($R241*5)","v":{"$error":"#REF!"}},117.96000000000001,79.45,134.13,93.789999999999992,92.690000000000012,121.76,154.88000000000002,120.89,118.24199999999999]
[null,"Presque IsleSoybeansAll",{"$f":"VLOOKUP($B242,#REF!,3,0)","v":{"$error":"#REF!"}},{"$f":"VLOOKUP($B242,#REF!,4,0)","v":{"$error":"#REF!"}},{"$f":"VLOOKUP($B242,'FSA21'!$E$5:$K$183,3,0)","v":30.76},{"$f":"VLOOKUP($B242,'FSA21'!$E$5:$K$183,4,0)","v":19.2},{"$f":"VLOOKUP($B242,'FSA23'!$E$5:$K$288,3,0)","v":37},{"$f":"VLOOKUP($B242,'FSA23'!$E$5:$K$288,4,0)","v":20.8},{"$f":"VLOOKUP($B242,'FSA23'!$E$5:$K$288,5,0)","v":20.8},{"$f":"VLOOKUP($B242,'FSA23'!$E$5:$K$288,6,0)","v":43.92},{"$f":"VLOOKUP($B242,'FSA23'!$E$5:$K$288,7,0)","v":31.92},{"$f":"AVERAGE(G242:K242)+$S242","v":31.207999999999998},{"$f":"AVERAGE(H242:L242)+$S242","v":30.049600000000005},{"$f":"AVERAGE(I242:M242)+$S242","v":31.899520000000003},null,null,null,1.44,0.32,0.56999999999999995,null,{"$f":"C242-($S242*6)","v":{"$error":"#REF!"}},{"$f":"D242-($S242*5)","v":{"$error":"#REF!"}},30.76,19.2,37,20.8,20.8,43.92,31.92,31.207999999999998,30.049600000000005]
[null,"Presque IsleWheatAll",{"$f":"VLOOKUP($B243,#REF!,3,0)","v":{"$error":"#REF!"}},{"$f":"VLOOKUP($B243,#REF!,4,0)","v":{"$error":"#REF!"}},{"$f":"VLOOKUP($B243,'FSA21'!$E$5:$K$183,3,0)","v":68.72},{"$f":"VLOOKUP($B243,'FSA21'!$E$5:$K$183,4,0)","v":44.97},{"$f":"VLOOKUP($B243,'FSA23'!$E$5:$K$288,3,0)","v":58.88},{"$f":"VLOOKUP($B243,'FSA23'!$E$5:$K$288,4,0)","v":45.6},{"$f":"VLOOKUP($B243,'FSA23'!$E$5:$K$288,5,0)","v":49.92},{"$f":"VLOOKUP($B243,'FSA23'!$E$5:$K$288,6,0)","v":51.839999999999996},{"$f":"VLOOKUP($B243,'FSA23'!$E$5:$K$288,7,0)","v":55.6},{"$f":"AVERAGE(G243:K243)+$T243","v":52.938000000000009},{"$f":"AVERAGE(H243:L243)+$T243","v":51.749600000000008},{"$f":"AVERAGE(I243:M243)+$T243","v":52.979520000000001},null,null,null,1.44,0.32,0.56999999999999995,null,{"$f":"C243-($T243*6)","v":{"$error":"#REF!"}},{"$f":"D243-($T243*5)","v":{"$error":"#REF!"}},68.72,44.97,58.88,45.6,49.92,51.839999999999996,55.6,52.938000000000009,51.749600000000008]
[null,"RoscommonCornAll",{"$f":"VLOOKUP($B244,#REF!,3,0)","v":{"$error":"#REF!"}},{"$f":"VLOOKUP($B244,#REF!,4,0)","v":{"$error":"#REF!"}},{"$f":"VLOOKUP($B244,#REF!,5,0)","v":{"$error":"#REF!"}},{"$f":"VLOOKUP($B244,#REF!,6,0)","v":{"$error":"#REF!"}},{"$f":"VLOOKUP($B244,'FSA23'!$E$5:$K$288,3,0)","v":131},{"$f":"VLOOKUP($B244,'FSA23'!$E$5:$K$288,4,0)","v":117},{"$f":"VLOOKUP($B244,'FSA23'!$E$5:$K$288,5,0)","v":127.65},{"$f":"VLOOKUP($B244,'FSA23'!$E$5:$K$288,6,0)","v":132.87},{"$f":"VLOOKUP($B244,'FSA23'!$E$5:$K$288,7,0)","v":188.78},{"$f":"AVERAGE(G244:K244)+$R244","v":140.84999999999997},{"$f":"AVERAGE(H244:L244)+$R244","v":142.81999999999996},{"$f":"AVERAGE(I244:M244)+$R244","v":147.98399999999995},null,null,null,1.39,null,0.6,null,{"$f":"C244-($R244*6)","v":{"$error":"#REF!"}},{"$f":"D244-($R244*5)","v":{"$error":"#REF!"}},{"$error":"#REF!"},{"$error":"#REF!"},131,117,127.65,132.87,188.78,140.84999999999997,142.81999999999996]
[null,"RoscommonWheatAll",{"$f":"VLOOKUP($B245,#REF!,3,0)","v":{"$error":"#REF!"}},{"$f":"VLOOKUP($B245,#REF!,4,0)","v":{"$error":"#REF!"}},{"$f":"VLOOKUP($B245,#REF!,5,0)","v":{"$error":"#REF!"}},{"$f":"VLOOKUP($B245,#REF!,6,0)","v":{"$error":"#REF!"}},{"$f":"VLOOKUP($B245,'FSA23'!$E$5:$K$288,3,0)","v":{"$error":"#N/A"}},{"$f":"VLOOKUP($B245,'FSA23'!$E$5:$K$288,4,0)","v":{"$error":"#N/A"}},{"$f":"VLOOKUP($B245,'FSA23'!$E$5:$K$288,5,0)","v":{"$error":"#N/A"}},{"$f":"VLOOKUP($B245,'FSA23'!$E$5:$K$288,6,0)","v":{"$error":"#N/A"}},{"$f":"VLOOKUP($B245,'FSA23'!$E$5:$K$288,7,0)","v":{"$error":"#N/A"}},{"$f":"AVERAGE(G245:K245)+$T245","v":{"$error":"#N/A"}},{"$f":"AVERAGE(H245:L245)+$T245","v":{"$error":"#N/A"}},{"$f":"AVERAGE(I245:M245)+$T245","v":{"$error":"#N/A"}},null,null,null,1.39,null,0.6,null,{"$f":"C245-($T245*6)","v":{"$error":"#REF!"}},{"$f":"D245-($T245*5)","v":{"$error":"#REF!"}},{"$error":"#REF!"},{"$error":"#REF!"},{"$error":"#N/A"},{"$error":"#N/A"},{"$error":"#N/A"},{"$error":"#N/A"},{"$error":"#N/A"},{"$error":"#N/A"},{"$error":"#N/A"}]
[null,"SaginawCornAll",{"$f":"VLOOKUP($B246,#REF!,3,0)","v":{"$error":"#REF!"}},{"$f":"VLOOKUP($B246,#REF!,4,0)","v":{"$error":"#REF!"}},{"$f":"VLOOKUP($B246,'FSA21'!$E$5:$K$183,3,0)","v":188.39000000000001},{"$f":"VLOOKUP($B246,'FSA21'!$E$5:$K$183,4,0)","v":183.94},{"$f":"VLOOKUP($B246,'FSA23'!$E$5:$K$288,3,0)","v":177.97000000000003},{"$f":"VLOOKUP($B246,'FSA23'!$E$5:$K$288,4,0)","v":189.44},{"$f":"VLOOKUP($B246,'FSA23'!$E$5:$K$288,5,0)","v":154.72},{"$f":"VLOOKUP($B246,'FSA23'!$E$5:$K$288,6,0)","v":164.78},{"$f":"VLOOKUP($B246,'FSA23'!$E$5:$K$288,7,0)","v":175.66},{"$f":"AVERAGE(G246:K246)+$R246","v":174.39399999999998},{"$f":"AVERAGE(H246:L246)+$R246","v":173.67879999999997},{"$f":"AVERAGE(I246:M246)+$R246","v":170.52655999999999},null,null,null,1.88,0.43,0.9,null,{"$f":"C246-($R246*6)","v":{"$error":"#REF!"}},{"$f":"D246-($R246*5)","v":{"$error":"#REF!"}},188.39000000000001,183.94,177.97000000000003,189.44,154.72,164.78,175.66,174.39399999999998,173.67879999999997]
[null,"SaginawSoybeansIrrigated",{"$f":"VLOOKUP($B247,#REF!,3,0)","v":{"$error":"#REF!"}},{"$f":"VLOOKUP($B247,#REF!,4,0)","v":{"$error":"#REF!"}},{"$f":"VLOOKUP($B247,#REF!,5,0)","v":{"$error":"#REF!"}},{"$f":"VLOOKUP($B247,#REF!,6,0)","v":{"$error":"#REF!"}},{"$f":"VLOOKUP($B247,'FSA23'!$E$5:$K$288,3,0)","v":57.010000000000005},{"$f":"VLOOKUP($B247,'FSA23'!$E$5:$K$288,4,0)","v":68.36},{"$f":"VLOOKUP($B247,'FSA23'!$E$5:$K$288,5,0)","v":44.04},{"$f":"VLOOKUP($B247,'FSA23'!$E$5:$K$288,6,0)","v":63.28},{"$f":"VLOOKUP($B247,'FSA23'!$E$5:$K$288,7,0)","v":58.07},{"$f":"AVERAGE(G247:K247)+$S247","v":58.582000000000001},58.8964,57.003679999999989,null,null,null,1.88,0.43,0.9,null,{"$f":"C247-($S247*6)","v":{"$error":"#REF!"}},{"$f":"D247-($S247*5)","v":{"$error":"#REF!"}},{"$error":"#REF!"},{"$error":"#REF!"},57.010000000000005,68.36,44.04,63.28,58.07,58.582000000000001,58.8964]
[null,"SaginawSoybeansNonirrigated",{"$f":"VLOOKUP($B248,#REF!,3,0)","v":{"$error":"#REF!"}},{"$f":"VLOOKUP($B248,#REF!,4,0)","v":{"$error":"#REF!"}},{"$f":"VLOOKUP($B248,'FSA21'!$E$5:$K$183,3,0)","v":54.940000000000005},{"$f":"VLOOKUP($B248,'FSA21'!$E$5:$K$183,4,0)","v":56.92},{"$f":"VLOOKUP($B248,'FSA23'!$E$5:$K$288,3,0)","v":47.49},{"$f":"VLOOKUP($B248,'FSA23'!$E$5:$K$288,4,0)","v":55.629999999999995},{"$f":"VLOOKUP($B248,'FSA23'!$E$5:$K$288,5,0)","v":41.86},{"$f":"VLOOKUP($B248,'FSA23'!$E$5:$K$288,6,0)","v":51.61},{"$f":"VLOOKUP($B248,'FSA23'!$E$5:$K$288,7,0)","v":50.56},49.860000000000007,50.334000000000003,49.274800000000006,null,null,null,1.88,0.43,0.9,null,{"$f":"C248-($S248*6)","v":{"$error":"#REF!"}},{"$f":"D248-($S248*5)","v":{"$error":"#REF!"}},54.940000000000005,56.92,47.49,55.629999999999995,41.86,51.61,50.56,49.860000000000007,50.334000000000003]
[null,"SaginawWheatAll",{"$f":"VLOOKUP($B249,#REF!,3,0)","v":{"$error":"#REF!"}},{"$f":"VLOOKUP($B249,#REF!,4,0)","v":{"$error":"#REF!"}},{"$f":"VLOOKUP($B249,'FSA21'!$E$5:$K$183,3,0)","v":93.01},{"$f":"VLOOKUP($B249,'FSA21'!$E$5:$K$183,4,0)","v":96.72},{"$f":"VLOOKUP($B249,'FSA23'!$E$5:$K$288,3,0)","v":80.319999999999993},{"$f":"VLOOKUP($B249,'FSA23'!$E$5:$K$288,4,0)","v":90.65},{"$f":"VLOOKUP($B249,'FSA23'!$E$5:$K$288,5,0)","v":76.53},{"$f":"VLOOKUP($B249,'FSA23'!$E$5:$K$288,6,0)","v":71.92},{"$f":"VLOOKUP($B249,'FSA23'!$E$5:$K$288,7,0)","v":83.66},{"$f":"AVERAGE(G249:K249)+$T249","v":81.51600000000002},{"$f":"AVERAGE(H249:L249)+$T249","v":81.755200000000002},{"$f":"AVERAGE(I249:M249)+$T249","v":79.976240000000004},null,null,null,1.88,0.43,0.9,null,{"$f":"C249-($T249*6)","v":{"$error":"#REF!"}},{"$f":"D249-($T249*5)","v":{"$error":"#REF!"}},93.01,96.72,80.319999999999993,90.65,76.53,71.92,83.66,81.51600000000002,81.755200000000002]
[null,"SanilacCornAll",{"$f":"VLOOKUP($B250,#REF!,3,0)","v":{"$error":"#REF!"}},{"$f":"VLOOKUP($B250,#REF!,4,0)","v":{"$error":"#REF!"}},{"$f":"VLOOKUP($B250,'FSA21'!$E$5:$K$183,3,0)","v":202.10999999999999},{"$f":"VLOOKUP($B250,'FSA21'!$E$5:$K$183,4,0)","v":199.99},{"$f":"VLOOKUP($B250,'FSA23'!$E$5:$K$288,3,0)","v":205.75},{"$f":"VLOOKUP($B250,'FSA23'!$E$5:$K$288,4,0)","v":192.48},{"$f":"VLOOKUP($B250,'FSA23'!$E$5:$K$288,5,0)","v":181.39000000000001},{"$f":"VLOOKUP($B250,'FSA23'!$E$5:$K$288,6,0)","v":199.29000000000002},{"$f":"VLOOKUP($B250,'FSA23'!$E$5:$K$288,7,0)","v":220.5},{"$f":"AVERAGE(G250:K250)+$R250","v":202.15200000000002},{"$f":"AVERAGE(H250:L250)+$R250","v":201.43240000000003},{"$f":"AVERAGE(I250:M250)+$R250","v":203.22288000000003},null,null,null,2.27,0.59,1.08,null,{"$f":"C250-($R250*6)","v":{"$error":"#REF!"}},{"$f":"D250-($R250*5)","v":{"$error":"#REF!"}},202.10999999999999,199.99,205.75,192.48,181.39000000000001,199.29000000000002,220.5,202.15200000000002,201.43240000000003]
[null,"SanilacSoybeansAll",{"$f":"VLOOKUP($B251,#REF!,3,0)","v":{"$error":"#REF!"}},{"$f":"VLOOKUP($B251,#REF!,4,0)","v":{"$error":"#REF!"}},{"$f":"VLOOKUP($B251,'FSA21'!$E$5:$K$183,3,0)","v":55.31},{"$f":"VLOOKUP($B251,'FSA21'!$E$5:$K$183,4,0)","v":59.21},{"$f":"VLOOKUP($B251,'FSA23'!$E$5:$K$288,3,0)","v":50.31},{"$f":"VLOOKUP($B251,'FSA23'!$E$5:$K$288,4,0)","v":56.349999999999994},{"$f":"VLOOKUP($B251,'FSA23'!$E$5:$K$288,5,0)","v":42.269999999999996},{"$f":"VLOOKUP($B251,'FSA23'!$E$5:$K$288,6,0)","v":56.34},{"$f":"VLOOKUP($B251,'FSA23'!$E$5:$K$288,7,0)","v":55.360000000000007},{"$f":"AVERAGE(G251:K251)+$S251","v":52.716000000000001},{"$f":"AVERAGE(H251:L251)+$S251","v":53.197200000000002},{"$f":"AVERAGE(I251:M251)+$S251","v":52.56664},null,null,null,2.27,0.59,1.08,null,{"$f":"C251-($S251*6)","v":{"$error":"#REF!"}},{"$f":"D251-($S251*5)","v":{"$error":"#REF!"}},55.31,59.21,50.31,56.349999999999994,42.269999999999996,56.34,55.360000000000007,52.716000000000001,53.197200000000002]
[null,"SanilacWheatAll",{"$f":"VLOOKUP($B252,#REF!,3,0)","v":{"$error":"#REF!"}},{"$f":"VLOOKUP($B252,#REF!,4,0)","v":{"$error":"#REF!"}},{"$f":"VLOOKUP($B252,'FSA21'!$E$5:$K$183,3,0)","v":100.56},{"$f":"VLOOKUP($B252,'FSA21'!$E$5:$K$183,4,0)","v":107.95},{"$f":"VLOOKUP($B252,'FSA23'!$E$5:$K$288,3,0)","v":92.4},{"$f":"VLOOKUP($B252,'FSA23'!$E$5:$K$288,4,0)","v":94.02},{"$f":"VLOOKUP($B252,'FSA23'!$E$5:$K$288,5,0)","v":78.03},{"$f":"VLOOKUP($B252,'FSA23'!$E$5:$K$288,6,0)","v":92.26},{"$f":"VLOOKUP($B252,'FSA23'!$E$5:$K$288,7,0)","v":91.25},{"$f":"AVERAGE(G252:K252)+$T252","v":90.672000000000011},{"$f":"AVERAGE(H252:L252)+$T252","v":90.326400000000007},{"$f":"AVERAGE(I252:M252)+$T252","v":89.587680000000006},null,null,null,2.27,0.59,1.08,null,{"$f":"C252-($T252*6)","v":{"$error":"#REF!"}},{"$f":"D252-($T252*5)","v":{"$error":"#REF!"}},100.56,107.95,92.4,94.02,78.03,92.26,91.25,90.672000000000011,90.326400000000007]
[null,"SchoolcraftCornAll",{"$f":"VLOOKUP($B253,#REF!,3,0)","v":{"$error":"#REF!"}},{"$f":"VLOOKUP($B253,#REF!,4,0)","v":{"$error":"#REF!"}},{"$f":"VLOOKUP($B253,'FSA21'!$E$5:$K$183,3,0)","v":132},{"$f":"VLOOKUP($B253,'FSA21'!$E$5:$K$183,4,0)","v":87},{"$f":"VLOOKUP($B253,'FSA23'!$E$5:$K$288,3,0)","v":61.6},{"$f":"VLOOKUP($B253,'FSA23'!$E$5:$K$288,4,0)","v":111},{"$f":"VLOOKUP($B253,'FSA23'!$E$5:$K$288,5,0)","v":61.6},{"$f":"VLOOKUP($B253,'FSA23'!$E$5:$K$288,6,0)","v":182.9},{"$f":"VLOOKUP($B253,'FSA23'!$E$5:$K$288,7,0)","v":110.84},{"$f":"AVERAGE(G253:K253)+$R253","v":106.66800000000001},{"$f":"AVERAGE(H253:L253)+$R253","v":115.6816},{"$f":"AVERAGE(I253:M253)+$R253","v":116.61792000000001},null,null,null,1.08,0.28000000000000003,0.71,null,{"$f":"C253-($R253*6)","v":{"$error":"#REF!"}},{"$f":"D253-($R253*5)","v":{"$error":"#REF!"}},132,87,61.6,111,61.6,182.9,110.84,106.66800000000001,115.6816]
[null,"SchoolcraftSoybeansAll",{"$f":"VLOOKUP($B254,#REF!,3,0)","v":{"$error":"#REF!"}},{"$f":"VLOOKUP($B254,#REF!,4,0)","v":{"$error":"#REF!"}},{"$f":"VLOOKUP($B254,#REF!,5,0)","v":{"$error":"#REF!"}},{"$f":"VLOOKUP($B254,#REF!,6,0)","v":{"$error":"#REF!"}},{"$f":"VLOOKUP($B254,'FSA23'!$E$5:$K$288,3,0)","v":{"$error":"#N/A"}},{"$f":"VLOOKUP($B254,'FSA23'!$E$5:$K$288,4,0)","v":{"$error":"#N/A"}},{"$f":"VLOOKUP($B254,'FSA23'!$E$5:$K$288,5,0)","v":{"$error":"#N/A"}},{"$f":"VLOOKUP($B254,'FSA23'!$E$5:$K$288,6,0)","v":{"$error":"#N/A"}},{"$f":"VLOOKUP($B254,'FSA23'!$E$5:$K$288,7,0)","v":{"$error":"#N/A"}},{"$f":"AVERAGE(G254:K254)+$S254","v":{"$error":"#N/A"}},{"$f":"AVERAGE(H254:L254)+$S254","v":{"$error":"#N/A"}},{"$f":"AVERAGE(I254:M254)+$S254","v":{"$error":"#N/A"}},null,null,null,1.08,0.28000000000000003,0.71,null,{"$f":"C254-($S254*6)","v":{"$error":"#REF!"}},{"$f":"D254-($S254*5)","v":{"$error":"#REF!"}},{"$error":"#REF!"},{"$error":"#REF!"},{"$error":"#N/A"},{"$error":"#N/A"},{"$error":"#N/A"},{"$error":"#N/A"},{"$error":"#N/A"},{"$error":"#N/A"},{"$error":"#N/A"}]
[null,"SchoolcraftWheatAll",{"$f":"VLOOKUP($B255,#REF!,3,0)","v":{"$error":"#REF!"}},{"$f":"VLOOKUP($B255,#REF!,4,0)","v":{"$error":"#REF!"}},{"$f":"VLOOKUP($B255,#REF!,5,0)","v":{"$error":"#REF!"}},{"$f":"VLOOKUP($B255,#REF!,6,0)","v":{"$error":"#REF!"}},{"$f":"VLOOKUP($B255,'FSA23'!$E$5:$K$288,3,0)","v":53.6},{"$f":"VLOOKUP($B255,'FSA23'!$E$5:$K$288,4,0)","v":40},{"$f":"VLOOKUP($B255,'FSA23'!$E$5:$K$288,5,0)","v":53.6},{"$f":"VLOOKUP($B255,'FSA23'!$E$5:$K$288,6,0)","v":53.6},{"$f":"VLOOKUP($B255,'FSA23'!$E$5:$K$288,7,0)","v":61.66},{"$f":"AVERAGE(G255:K255)+$T255","v":53.201999999999998},{"$f":"AVERAGE(H255:L255)+$T255","v":53.122400000000006},{"$f":"AVERAGE(I255:M255)+$T255","v":55.746880000000012},null,null,null,1.08,0.28000000000000003,0.71,null,{"$f":"C255-($T255*6)","v":{"$error":"#REF!"}},{"$f":"D255-($T255*5)","v":{"$error":"#REF!"}},{"$error":"#REF!"},{"$error":"#REF!"},53.6,40,53.6,53.6,61.66,53.201999999999998,53.122400000000006]
[null,"ShiawasseeCornAll",{"$f":"VLOOKUP($B256,#REF!,3,0)","v":{"$error":"#REF!"}},{"$f":"VLOOKUP($B256,#REF!,4,0)","v":{"$error":"#REF!"}},{"$f":"VLOOKUP($B256,'FSA21'!$E$5:$K$183,3,0)","v":184.3},{"$f":"VLOOKUP($B256,'FSA21'!$E$5:$K$183,4,0)","v":161.38},{"$f":"VLOOKUP($B256,'FSA23'!$E$5:$K$288,3,0)","v":165.59},{"$f":"VLOOKUP($B256,'FSA23'!$E$5:$K$288,4,0)","v":160.91999999999999},{"$f":"VLOOKUP($B256,'FSA23'!$E$5:$K$288,5,0)","v":159.34},{"$f":"VLOOKUP($B256,'FSA23'!$E$5:$K$288,6,0)","v":176.13},{"$f":"VLOOKUP($B256,'FSA23'!$E$5:$K$288,7,0)","v":176.62},{"$f":"AVERAGE(G256:K256)+$R256","v":169.65},{"$f":"AVERAGE(H256:L256)+$R256","v":170.46199999999999},{"$f":"AVERAGE(I256:M256)+$R256","v":172.37040000000002},null,null,null,1.93,0.45,0.82,null,{"$f":"C256-($R256*6)","v":{"$error":"#REF!"}},{"$f":"D256-($R256*5)","v":{"$error":"#REF!"}},184.3,161.38,165.59,160.91999999999999,159.34,176.13,176.62,169.65,170.46199999999999]
[null,"ShiawasseeSoybeansIrrigated",{"$f":"VLOOKUP($B257,#REF!,3,0)","v":{"$error":"#REF!"}},{"$f":"VLOOKUP($B257,#REF!,4,0)","v":{"$error":"#REF!"}},{"$f":"VLOOKUP($B257,#REF!,5,0)","v":{"$error":"#REF!"}},{"$f":"VLOOKUP($B257,#REF!,6,0)","v":{"$error":"#REF!"}},{"$f":"VLOOKUP($B257,'FSA23'!$E$5:$K$288,3,0)","v":40.340000000000003},{"$f":"VLOOKUP($B257,'FSA23'!$E$5:$K$288,4,0)","v":52.230000000000004},{"$f":"VLOOKUP($B257,'FSA23'!$E$5:$K$288,5,0)","v":42.66},{"$f":"VLOOKUP($B257,'FSA23'!$E$5:$K$288,6,0)","v":49.79},{"$f":"VLOOKUP($B257,'FSA23'!$E$5:$K$288,7,0)","v":59.53},{"$f":"AVERAGE(G257:K257)+$S257","v":49.360000000000007},51.164000000000009,50.950800000000008,null,null,null,1.93,0.45,0.82,null,{"$f":"C257-($S257*6)","v":{"$error":"#REF!"}},{"$f":"D257-($S257*5)","v":{"$error":"#REF!"}},{"$error":"#REF!"},{"$error":"#REF!"},40.340000000000003,52.230000000000004,42.66,49.79,59.53,49.360000000000007,51.164000000000009]
[null,"ShiawasseeSoybeansNonirrigated",{"$f":"VLOOKUP($B258,#REF!,3,0)","v":{"$error":"#REF!"}},{"$f":"VLOOKUP($B258,#REF!,4,0)","v":{"$error":"#REF!"}},{"$f":"VLOOKUP($B258,'FSA21'!$E$5:$K$183,3,0)","v":53.6},{"$f":"VLOOKUP($B258,'FSA21'!$E$5:$K$183,4,0)","v":52.8},{"$f":"VLOOKUP($B258,'FSA23'!$E$5:$K$288,3,0)","v":42.480000000000004},{"$f":"VLOOKUP($B258,'FSA23'!$E$5:$K$288,4,0)","v":49.86},{"$f":"VLOOKUP($B258,'FSA23'!$E$5:$K$288,5,0)","v":36.659999999999997},{"$f":"VLOOKUP($B258,'FSA23'!$E$5:$K$288,6,0)","v":52.97},{"$f":"VLOOKUP($B258,'FSA23'!$E$5:$K$288,7,0)","v":53.21},47.486000000000004,48.487200000000009,48.212640000000007,null,null,null,1.93,0.45,0.82,null,{"$f":"C258-($S258*6)","v":{"$error":"#REF!"}},{"$f":"D258-($S258*5)","v":{"$error":"#REF!"}},53.6,52.8,42.480000000000004,49.86,36.659999999999997,52.97,53.21,47.486000000000004,48.487200000000009]
[null,"ShiawasseeWheatAll",{"$f":"VLOOKUP($B259,#REF!,3,0)","v":{"$error":"#REF!"}},{"$f":"VLOOKUP($B259,#REF!,4,0)","v":{"$error":"#REF!"}},{"$f":"VLOOKUP($B259,'FSA21'!$E$5:$K$183,3,0)","v":89.01},{"$f":"VLOOKUP($B259,'FSA21'!$E$5:$K$183,4,0)","v":82.74},{"$f":"VLOOKUP($B259,'FSA23'!$E$5:$K$288,3,0)","v":71.31},{"$f":"VLOOKUP($B259,'FSA23'!$E$5:$K$288,4,0)","v":91.87},{"$f":"VLOOKUP($B259,'FSA23'!$E$5:$K$288,5,0)","v":64.569999999999993},{"$f":"VLOOKUP($B259,'FSA23'!$E$5:$K$288,6,0)","v":74.56},{"$f":"VLOOKUP($B259,'FSA23'!$E$5:$K$288,7,0)","v":80.319999999999993},{"$f":"AVERAGE(G259:K259)+$T259","v":77.345999999999989},{"$f":"AVERAGE(H259:L259)+$T259","v":78.55319999999999},{"$f":"AVERAGE(I259:M259)+$T259","v":75.889839999999992},null,null,null,1.93,0.45,0.82,null,{"$f":"C259-($T259*6)","v":{"$error":"#REF!"}},{"$f":"D259-($T259*5)","v":{"$error":"#REF!"}},{"$f":"E259","v":89.01},{"$f":"F259","v":82.74},{"$f":"G259","v":71.31},{"$f":"H259","v":91.87},{"$f":"I259","v":64.569999999999993},{"$f":"J259","v":74.56},{"$f":"K259","v":80.319999999999993},{"$f":"L259","v":77.345999999999989},{"$f":"M259","v":78.55319999999999}]
[null,"St. ClairCornAll",{"$f":"VLOOKUP($B260,#REF!,3,0)","v":{"$error":"#REF!"}},{"$f":"VLOOKUP($B260,#REF!,4,0)","v":{"$error":"#REF!"}},{"$f":"VLOOKUP($B260,'FSA21'!$E$5:$K$183,3,0)","v":172.66000000000003},{"$f":"VLOOKUP($B260,'FSA21'!$E$5:$K$183,4,0)","v":173.89999999999998},{"$f":"VLOOKUP($B260,'FSA23'!$E$5:$K$288,3,0)","v":178.18},{"$f":"VLOOKUP($B260,'FSA23'!$E$5:$K$288,4,0)","v":188.82},{"$f":"VLOOKUP($B260,'FSA23'!$E$5:$K$288,5,0)","v":160.55999999999997},{"$f":"VLOOKUP($B260,'FSA23'!$E$5:$K$288,6,0)","v":176.05},{"$f":"VLOOKUP($B260,'FSA23'!$E$5:$K$288,7,0)","v":167.95000000000002},{"$f":"AVERAGE(G260:K260)+$R260","v":176.16199999999998},{"$f":"AVERAGE(H260:L260)+$R260","v":175.75840000000002},{"$f":"AVERAGE(I260:M260)+$R260","v":173.14608000000001},null,null,null,1.85,0.46,0.95,null,{"$f":"C260-($R260*6)","v":{"$error":"#REF!"}},{"$f":"D260-($R260*5)","v":{"$error":"#REF!"}},172.66000000000003,173.89999999999998,178.18,188.82,160.55999999999997,176.05,167.95000000000002,176.16199999999998,175.75840000000002]
[null,"St. ClairSoybeansAll",{"$f":"VLOOKUP($B261,#REF!,3,0)","v":{"$error":"#REF!"}},{"$f":"VLOOKUP($B261,#REF!,4,0)","v":{"$error":"#REF!"}},{"$f":"VLOOKUP($B261,'FSA21'!$E$5:$K$183,3,0)","v":45.32},{"$f":"VLOOKUP($B261,'FSA21'!$E$5:$K$183,4,0)","v":50.83},{"$f":"VLOOKUP($B261,'FSA23'!$E$5:$K$288,3,0)","v":40.92},{"$f":"VLOOKUP($B261,'FSA23'!$E$5:$K$288,4,0)","v":48.099999999999994},{"$f":"VLOOKUP($B261,'FSA23'!$E$5:$K$288,5,0)","v":34.090000000000003},{"$f":"VLOOKUP($B261,'FSA23'!$E$5:$K$288,6,0)","v":48.879999999999995},{"$f":"VLOOKUP($B261,'FSA23'!$E$5:$K$288,7,0)","v":39.369999999999997},{"$f":"AVERAGE(G261:K261)+$S261","v":42.732000000000006},{"$f":"AVERAGE(H261:L261)+$S261","v":43.0944},{"$f":"AVERAGE(I261:M261)+$S261","v":42.09328},null,null,null,1.85,0.46,0.95,null,{"$f":"C261-($S261*6)","v":{"$error":"#REF!"}},{"$f":"D261-($S261*5)","v":{"$error":"#REF!"}},45.32,50.83,40.92,48.099999999999994,34.090000000000003,48.879999999999995,39.369999999999997,42.732000000000006,43.0944]
[null,"St. ClairWheatAll",{"$f":"VLOOKUP($B262,#REF!,3,0)","v":{"$error":"#REF!"}},{"$f":"VLOOKUP($B262,#REF!,4,0)","v":{"$error":"#REF!"}},{"$f":"VLOOKUP($B262,'FSA21'!$E$5:$K$183,3,0)","v":69.540000000000006},{"$f":"VLOOKUP($B262,'FSA21'!$E$5:$K$183,4,0)","v":78.58},{"$f":"VLOOKUP($B262,'FSA23'!$E$5:$K$288,3,0)","v":71.47},{"$f":"VLOOKUP($B262,'FSA23'!$E$5:$K$288,4,0)","v":85.17},{"$f":"VLOOKUP($B262,'FSA23'!$E$5:$K$288,5,0)","v":56.6},{"$f":"VLOOKUP($B262,'FSA23'!$E$5:$K$288,6,0)","v":72.53},{"$f":"VLOOKUP($B262,'FSA23'!$E$5:$K$288,7,0)","v":78.52},{"$f":"AVERAGE(G262:K262)+$T262","v":73.807999999999993},{"$f":"AVERAGE(H262:L262)+$T262","v":74.275599999999997},{"$f":"AVERAGE(I262:M262)+$T262","v":72.096719999999991},null,null,null,1.85,0.46,0.95,null,{"$f":"C262-($T262*6)","v":{"$error":"#REF!"}},{"$f":"D262-($T262*5)","v":{"$error":"#REF!"}},69.540000000000006,78.58,71.47,85.17,56.6,72.53,78.52,73.807999999999993,74.275599999999997]
[null,"St. JosephCornIrrigated",{"$f":"VLOOKUP($B263,#REF!,3,0)","v":{"$error":"#REF!"}},{"$f":"VLOOKUP($B263,#REF!,4,0)","v":{"$error":"#REF!"}},{"$f":"VLOOKUP($B263,#REF!,5,0)","v":{"$error":"#REF!"}},{"$f":"VLOOKUP($B263,#REF!,6,0)","v":{"$error":"#REF!"}},{"$f":"VLOOKUP($B263,'FSA23'!$E$5:$K$288,3,0)","v":151.1},{"$f":"VLOOKUP($B263,'FSA23'!$E$5:$K$288,4,0)","v":150.25},{"$f":"VLOOKUP($B263,'FSA23'!$E$5:$K$288,5,0)","v":151.6},{"$f":"VLOOKUP($B263,'FSA23'!$E$5:$K$288,6,0)","v":189.75},{"$f":"VLOOKUP($B263,'FSA23'!$E$5:$K$288,7,0)","v":198.88},{"$f":"AVERAGE(G263:K263)+$R263","v":169.86600000000001},173.61920000000001,178.29304000000002,null,null,null,1.55,0.48,0.57999999999999996,null,{"$f":"C263-($R263*6)","v":{"$error":"#REF!"}},{"$f":"D263-($R263*5)","v":{"$error":"#REF!"}},{"$error":"#REF!"},{"$error":"#REF!"},151.1,150.25,151.6,189.75,198.88,169.86600000000001,173.61920000000001]
[null,"St. JosephCornNonirrigated",{"$f":"VLOOKUP($B264,#REF!,3,0)","v":{"$error":"#REF!"}},{"$f":"VLOOKUP($B264,#REF!,4,0)","v":{"$error":"#REF!"}},{"$f":"VLOOKUP($B264,#REF!,5,0)","v":{"$error":"#REF!"}},{"$f":"VLOOKUP($B264,#REF!,6,0)","v":{"$error":"#REF!"}},{"$f":"VLOOKUP($B264,'FSA23'!$E$5:$K$288,3,0)","v":107.72},{"$f":"VLOOKUP($B264,'FSA23'!$E$5:$K$288,4,0)","v":158.6},{"$f":"VLOOKUP($B264,'FSA23'!$E$5:$K$288,5,0)","v":127.18},{"$f":"VLOOKUP($B264,'FSA23'!$E$5:$K$288,6,0)","v":123.46},{"$f":"VLOOKUP($B264,'FSA23'!$E$5:$K$288,7,0)","v":163.35000000000002},137.61200000000002,143.59040000000002,140.58848000000003,null,null,null,1.55,0.48,0.57999999999999996,null,{"$f":"C264-($R264*6)","v":{"$error":"#REF!"}},{"$f":"D264-($R264*5)","v":{"$error":"#REF!"}},{"$error":"#REF!"},{"$error":"#REF!"},107.72,158.6,127.18,123.46,163.35000000000002,137.61200000000002,143.59040000000002]
[null,"St. JosephSoybeansIrrigated",{"$f":"VLOOKUP($B265,#REF!,3,0)","v":{"$error":"#REF!"}},{"$f":"VLOOKUP($B265,#REF!,4,0)","v":{"$error":"#REF!"}},{"$f":"VLOOKUP($B265,'FSA21'!$E$5:$K$183,3,0)","v":59},{"$f":"VLOOKUP($B265,'FSA21'!$E$5:$K$183,4,0)","v":56.92},{"$f":"VLOOKUP($B265,'FSA23'!$E$5:$K$288,3,0)","v":51.44},{"$f":"VLOOKUP($B265,'FSA23'!$E$5:$K$288,4,0)","v":55.6},{"$f":"VLOOKUP($B265,'FSA23'!$E$5:$K$288,5,0)","v":48.18},{"$f":"VLOOKUP($B265,'FSA23'!$E$5:$K$288,6,0)","v":56.02},{"$f":"VLOOKUP($B265,'FSA23'!$E$5:$K$288,7,0)","v":60.31},{"$f":"AVERAGE(G265:K265)+$S265","v":54.79},55.46,55.431999999999995,null,null,null,1.55,0.48,0.57999999999999996,null,{"$f":"C265-($S265*6)","v":{"$error":"#REF!"}},{"$f":"D265-($S265*5)","v":{"$error":"#REF!"}},59,56.92,51.44,55.6,48.18,56.02,60.31,54.79,55.46]
[null,"St. JosephSoybeansNonirrigated",{"$f":"VLOOKUP($B266,#REF!,3,0)","v":{"$error":"#REF!"}},{"$f":"VLOOKUP($B266,#REF!,4,0)","v":{"$error":"#REF!"}},{"$f":"VLOOKUP($B266,'FSA21'!$E$5:$K$183,3,0)","v":44.14},{"$f":"VLOOKUP($B266,'FSA21'!$E$5:$K$183,4,0)","v":44.2},{"$f":"VLOOKUP($B266,'FSA23'!$E$5:$K$288,3,0)","v":33.65},{"$f":"VLOOKUP($B266,'FSA23'!$E$5:$K$288,4,0)","v":49.3},{"$f":"VLOOKUP($B266,'FSA23'!$E$5:$K$288,5,0)","v":42.74},{"$f":"VLOOKUP($B266,'FSA23'!$E$5:$K$288,6,0)","v":33.39},{"$f":"VLOOKUP($B266,'FSA23'!$E$5:$K$288,7,0)","v":43.02},40.9,42.349999999999994,40.96,null,null,null,1.55,0.48,0.57999999999999996,null,{"$f":"C266-($S266*6)","v":{"$error":"#REF!"}},{"$f":"D266-($S266*5)","v":{"$error":"#REF!"}},44.14,44.2,33.65,49.3,42.74,33.39,43.02,40.9,42.349999999999994]
[null,"St. JosephWheatAll",{"$f":"VLOOKUP($B267,#REF!,3,0)","v":{"$error":"#REF!"}},{"$f":"VLOOKUP($B267,#REF!,4,0)","v":{"$error":"#REF!"}},{"$f":"VLOOKUP($B267,#REF!,5,0)","v":{"$error":"#REF!"}},{"$f":"VLOOKUP($B267,#REF!,6,0)","v":{"$error":"#REF!"}},{"$f":"VLOOKUP($B267,'FSA23'!$E$5:$K$288,3,0)","v":87.710000000000008},{"$f":"VLOOKUP($B267,'FSA23'!$E$5:$K$288,4,0)","v":63.2},{"$f":"VLOOKUP($B267,'FSA23'!$E$5:$K$288,5,0)","v":66.820000000000007},{"$f":"VLOOKUP($B267,'FSA23'!$E$5:$K$288,6,0)","v":70.45},{"$f":"VLOOKUP($B267,'FSA23'!$E$5:$K$288,7,0)","v":63.1},{"$f":"AVERAGE(G267:K267)+$T267","v":70.835999999999999},{"$f":"AVERAGE(H267:L267)+$T267","v":67.461200000000005},{"$f":"AVERAGE(I267:M267)+$T267","v":68.31344},null,null,null,1.55,0.48,0.57999999999999996,null,{"$f":"C267-($T267*6)","v":{"$error":"#REF!"}},{"$f":"D267-($T267*5)","v":{"$error":"#REF!"}},{"$error":"#REF!"},{"$error":"#REF!"},87.710000000000008,63.2,66.820000000000007,70.45,63.1,70.835999999999999,67.461200000000005]
[null,"TuscolaCornIrrigated",{"$f":"VLOOKUP($B268,#REF!,3,0)","v":{"$error":"#REF!"}},{"$f":"VLOOKUP($B268,#REF!,4,0)","v":{"$error":"#REF!"}},{"$f":"VLOOKUP($B268,#REF!,5,0)","v":{"$error":"#REF!"}},{"$f":"VLOOKUP($B268,#REF!,6,0)","v":{"$error":"#REF!"}},{"$f":"VLOOKUP($B268,'FSA23'!$E$5:$K$288,3,0)","v":193.22},{"$f":"VLOOKUP($B268,'FSA23'!$E$5:$K$288,4,0)","v":218.46},{"$f":"VLOOKUP($B268,'FSA23'!$E$5:$K$288,5,0)","v":186.85999999999999},{"$f":"VLOOKUP($B268,'FSA23'!$E$5:$K$288,6,0)","v":198.85},{"$f":"VLOOKUP($B268,'FSA23'!$E$5:$K$288,7,0)","v":226.06},{"$f":"AVERAGE(G268:K268)+$R268","v":206.73},209.43199999999999,207.62639999999999,null,null,null,2.04,0.49,0.96,null,{"$f":"C268-($R268*6)","v":{"$error":"#REF!"}},{"$f":"D268-($R268*5)","v":{"$error":"#REF!"}},{"$error":"#REF!"},{"$error":"#REF!"},193.22,218.46,186.85999999999999,198.85,226.06,206.73,209.43199999999999]
[null,"TuscolaCornNonirrigated",{"$f":"VLOOKUP($B269,#REF!,3,0)","v":{"$error":"#REF!"}},{"$f":"VLOOKUP($B269,#REF!,4,0)","v":{"$error":"#REF!"}},{"$f":"VLOOKUP($B269,'FSA21'!$E$5:$K$183,3,0)","v":200.63},{"$f":"VLOOKUP($B269,'FSA21'!$E$5:$K$183,4,0)","v":188.63000000000002},{"$f":"VLOOKUP($B269,'FSA23'!$E$5:$K$288,3,0)","v":182.25},{"$f":"VLOOKUP($B269,'FSA23'!$E$5:$K$288,4,0)","v":180.55},{"$f":"VLOOKUP($B269,'FSA23'!$E$5:$K$288,5,0)","v":172.38},{"$f":"VLOOKUP($B269,'FSA23'!$E$5:$K$288,6,0)","v":179.86},{"$f":"VLOOKUP($B269,'FSA23'!$E$5:$K$288,7,0)","v":210.68},187.184,188.17079999999999,189.69496000000001,null,null,null,2.04,0.49,0.96,null,{"$f":"C269-($R269*6)","v":{"$error":"#REF!"}},{"$f":"D269-($R269*5)","v":{"$error":"#REF!"}},200.63,188.63000000000002,182.25,180.55,172.38,179.86,210.68,187.184,188.17079999999999]
[null,"TuscolaSoybeansIrrigated",{"$f":"VLOOKUP($B270,#REF!,3,0)","v":{"$error":"#REF!"}},{"$f":"VLOOKUP($B270,#REF!,4,0)","v":{"$error":"#REF!"}},{"$f":"VLOOKUP($B270,#REF!,5,0)","v":{"$error":"#REF!"}},{"$f":"VLOOKUP($B270,#REF!,6,0)","v":{"$error":"#REF!"}},{"$f":"VLOOKUP($B270,'FSA23'!$E$5:$K$288,3,0)","v":44.12},{"$f":"VLOOKUP($B270,'FSA23'!$E$5:$K$288,4,0)","v":66.53},{"$f":"VLOOKUP($B270,'FSA23'!$E$5:$K$288,5,0)","v":57.45},{"$f":"VLOOKUP($B270,'FSA23'!$E$5:$K$288,6,0)","v":55.49},{"$f":"VLOOKUP($B270,'FSA23'!$E$5:$K$288,7,0)","v":59.21},{"$f":"AVERAGE(G270:K270)+$S270","v":57.050000000000004},59.636000000000003,58.257200000000005,null,null,null,2.04,0.49,0.96,null,{"$f":"C270-($S270*6)","v":{"$error":"#REF!"}},{"$f":"D270-($S270*5)","v":{"$error":"#REF!"}},{"$error":"#REF!"},{"$error":"#REF!"},44.12,66.53,57.45,55.49,59.21,57.050000000000004,59.636000000000003]
[null,"TuscolaSoybeansNonirrigated",{"$f":"VLOOKUP($B271,#REF!,3,0)","v":{"$error":"#REF!"}},{"$f":"VLOOKUP($B271,#REF!,4,0)","v":{"$error":"#REF!"}},{"$f":"VLOOKUP($B271,'FSA21'!$E$5:$K$183,3,0)","v":57.4},{"$f":"VLOOKUP($B271,'FSA21'!$E$5:$K$183,4,0)","v":58.53},{"$f":"VLOOKUP($B271,'FSA23'!$E$5:$K$288,3,0)","v":48.489999999999995},{"$f":"VLOOKUP($B271,'FSA23'!$E$5:$K$288,4,0)","v":58},{"$f":"VLOOKUP($B271,'FSA23'!$E$5:$K$288,5,0)","v":43.84},{"$f":"VLOOKUP($B271,'FSA23'!$E$5:$K$288,6,0)","v":52.21},{"$f":"VLOOKUP($B271,'FSA23'!$E$5:$K$288,7,0)","v":57.18},52.433999999999997,53.222799999999999,52.267360000000004,null,null,null,2.04,0.49,0.96,null,{"$f":"C271-($S271*6)","v":{"$error":"#REF!"}},{"$f":"D271-($S271*5)","v":{"$error":"#REF!"}},57.4,58.53,48.489999999999995,58,43.84,52.21,57.18,52.433999999999997,53.222799999999999]
[null,"TuscolaWheatAll",{"$f":"VLOOKUP($B272,#REF!,3,0)","v":{"$error":"#REF!"}},{"$f":"VLOOKUP($B272,#REF!,4,0)","v":{"$error":"#REF!"}},{"$f":"VLOOKUP($B272,'FSA21'!$E$5:$K$183,3,0)","v":99.78},{"$f":"VLOOKUP($B272,'FSA21'!$E$5:$K$183,4,0)","v":97.48},{"$f":"VLOOKUP($B272,'FSA23'!$E$5:$K$288,3,0)","v":91.15},{"$f":"VLOOKUP($B272,'FSA23'!$E$5:$K$288,4,0)","v":87.09},{"$f":"VLOOKUP($B272,'FSA23'!$E$5:$K$288,5,0)","v":80.55},{"$f":"VLOOKUP($B272,'FSA23'!$E$5:$K$288,6,0)","v":84.62},{"$f":"VLOOKUP($B272,'FSA23'!$E$5:$K$288,7,0)","v":83.3},{"$f":"AVERAGE(G272:K272)+$T272","v":86.302000000000007},{"$f":"AVERAGE(H272:L272)+$T272","v":85.332399999999993},{"$f":"AVERAGE(I272:M272)+$T272","v":84.980879999999999},null,null,null,2.04,0.49,0.96,null,{"$f":"C272-($T272*6)","v":{"$error":"#REF!"}},{"$f":"D272-($T272*5)","v":{"$error":"#REF!"}},99.78,97.48,91.15,87.09,80.55,84.62,83.3,86.302000000000007,85.332399999999993]
[null,"Van BurenCornIrrigated",{"$f":"VLOOKUP($B273,#REF!,3,0)","v":{"$error":"#REF!"}},{"$f":"VLOOKUP($B273,#REF!,4,0)","v":{"$error":"#REF!"}},{"$f":"VLOOKUP($B273,'FSA21'!$E$5:$K$183,3,0)","v":209.43},{"$f":"VLOOKUP($B273,'FSA21'!$E$5:$K$183,4,0)","v":228.93},{"$f":"VLOOKUP($B273,'FSA23'!$E$5:$K$288,3,0)","v":213.5},{"$f":"VLOOKUP($B273,'FSA23'!$E$5:$K$288,4,0)","v":215.55},{"$f":"VLOOKUP($B273,'FSA23'!$E$5:$K$288,5,0)","v":198.11999999999998},{"$f":"VLOOKUP($B273,'FSA23'!$E$5:$K$288,6,0)","v":196.91},{"$f":"VLOOKUP($B273,'FSA23'!$E$5:$K$288,7,0)","v":192.23},{"$f":"AVERAGE(G273:K273)+$R273","v":205.322},203.68639999999999,201.31367999999998,null,null,null,2.06,0.48,0.5,null,{"$f":"C273-($R273*6)","v":{"$error":"#REF!"}},{"$f":"D273-($R273*5)","v":{"$error":"#REF!"}},209.43,228.93,213.5,215.55,198.11999999999998,196.91,192.23,205.322,203.68639999999999]
[null,"Van BurenCornNonirrigated",{"$f":"VLOOKUP($B274,#REF!,3,0)","v":{"$error":"#REF!"}},{"$f":"VLOOKUP($B274,#REF!,4,0)","v":{"$error":"#REF!"}},{"$f":"VLOOKUP($B274,'FSA21'!$E$5:$K$183,3,0)","v":170.43},{"$f":"VLOOKUP($B274,'FSA21'!$E$5:$K$183,4,0)","v":161.92000000000002},{"$f":"VLOOKUP($B274,'FSA23'!$E$5:$K$288,3,0)","v":166.57},{"$f":"VLOOKUP($B274,'FSA23'!$E$5:$K$288,4,0)","v":149.55000000000001},{"$f":"VLOOKUP($B274,'FSA23'!$E$5:$K$288,5,0)","v":128.44999999999999},{"$f":"VLOOKUP($B274,'FSA23'!$E$5:$K$288,6,0)","v":130.47},{"$f":"VLOOKUP($B274,'FSA23'!$E$5:$K$288,7,0)","v":151.08000000000001},147.28399999999999,143.42680000000001,142.20216000000002,null,null,null,2.06,0.48,0.5,null,{"$f":"C274-($R274*6)","v":{"$error":"#REF!"}},{"$f":"D274-($R274*5)","v":{"$error":"#REF!"}},170.43,161.92000000000002,166.57,149.55000000000001,128.44999999999999,130.47,151.08000000000001,147.28399999999999,143.42680000000001]
[null,"Van BurenSoybeansIrrigated",{"$f":"VLOOKUP($B275,#REF!,3,0)","v":{"$error":"#REF!"}},{"$f":"VLOOKUP($B275,#REF!,4,0)","v":{"$error":"#REF!"}},{"$f":"VLOOKUP($B275,#REF!,5,0)","v":{"$error":"#REF!"}},{"$f":"VLOOKUP($B275,#REF!,6,0)","v":{"$error":"#REF!"}},{"$f":"VLOOKUP($B275,'FSA23'!$E$5:$K$288,3,0)","v":53.28},{"$f":"VLOOKUP($B275,'FSA23'!$E$5:$K$288,4,0)","v":62.879999999999995},{"$f":"VLOOKUP($B275,'FSA23'!$E$5:$K$288,5,0)","v":54.38},{"$f":"VLOOKUP($B275,'FSA23'!$E$5:$K$288,6,0)","v":60.96},{"$f":"VLOOKUP($B275,'FSA23'!$E$5:$K$288,7,0)","v":61.56},{"$f":"AVERAGE(G275:K275)+$S275","v":59.091999999999999},60.254399999999997,59.729279999999996,null,null,null,2.06,0.48,0.5,null,{"$f":"C275-($S275*6)","v":{"$error":"#REF!"}},{"$f":"D275-($S275*5)","v":{"$error":"#REF!"}},{"$error":"#REF!"},{"$error":"#REF!"},53.28,62.879999999999995,54.38,60.96,61.56,59.091999999999999,60.254399999999997]
[null,"Van BurenSoybeansNonirrigated",{"$f":"VLOOKUP($B276,#REF!,3,0)","v":{"$error":"#REF!"}},{"$f":"VLOOKUP($B276,#REF!,4,0)","v":{"$error":"#REF!"}},{"$f":"VLOOKUP($B276,'FSA21'!$E$5:$K$183,3,0)","v":48.36},{"$f":"VLOOKUP($B276,'FSA21'!$E$5:$K$183,4,0)","v":47.86},{"$f":"VLOOKUP($B276,'FSA23'!$E$5:$K$288,3,0)","v":40.57},{"$f":"VLOOKUP($B276,'FSA23'!$E$5:$K$288,4,0)","v":42.29},{"$f":"VLOOKUP($B276,'FSA23'!$E$5:$K$288,5,0)","v":34.989999999999995},{"$f":"VLOOKUP($B276,'FSA23'!$E$5:$K$288,6,0)","v":41.58},{"$f":"VLOOKUP($B276,'FSA23'!$E$5:$K$288,7,0)","v":39.57},40.279999999999994,40.222000000000001,39.808399999999999,null,null,null,2.06,0.48,0.5,null,{"$f":"C276-($S276*6)","v":{"$error":"#REF!"}},{"$f":"D276-($S276*5)","v":{"$error":"#REF!"}},48.36,47.86,40.57,42.29,34.989999999999995,41.58,39.57,40.279999999999994,40.222000000000001]
[null,"Van BurenWheatAll",{"$f":"VLOOKUP($B277,#REF!,3,0)","v":{"$error":"#REF!"}},{"$f":"VLOOKUP($B277,#REF!,4,0)","v":{"$error":"#REF!"}},{"$f":"VLOOKUP($B277,#REF!,5,0)","v":{"$error":"#REF!"}},{"$f":"VLOOKUP($B277,#REF!,6,0)","v":{"$error":"#REF!"}},{"$f":"VLOOKUP($B277,'FSA23'!$E$5:$K$288,3,0)","v":69.3},{"$f":"VLOOKUP($B277,'FSA23'!$E$5:$K$288,4,0)","v":64.75},{"$f":"VLOOKUP($B277,'FSA23'!$E$5:$K$288,5,0)","v":63.050000000000004},{"$f":"VLOOKUP($B277,'FSA23'!$E$5:$K$288,6,0)","v":66.710000000000008},{"$f":"VLOOKUP($B277,'FSA23'!$E$5:$K$288,7,0)","v":42.7},{"$f":"AVERAGE(G277:K277)+$T277","v":61.802000000000007},{"$f":"AVERAGE(H277:L277)+$T277","v":60.302400000000013},{"$f":"AVERAGE(I277:M277)+$T277","v":59.412880000000015},null,null,null,2.06,0.48,0.5,null,{"$f":"C277-($T277*6)","v":{"$error":"#REF!"}},{"$f":"D277-($T277*5)","v":{"$error":"#REF!"}},{"$error":"#REF!"},{"$error":"#REF!"},69.3,64.75,63.050000000000004,66.710000000000008,42.7,61.802000000000007,60.302400000000013]
[null,"WashtenawCornIrrigated",{"$f":"VLOOKUP($B278,#REF!,3,0)","v":{"$error":"#REF!"}},{"$f":"VLOOKUP($B278,#REF!,4,0)","v":{"$error":"#REF!"}},{"$f":"VLOOKUP($B278,#REF!,5,0)","v":{"$error":"#REF!"}},{"$f":"VLOOKUP($B278,#REF!,6,0)","v":{"$error":"#REF!"}},{"$f":"VLOOKUP($B278,'FSA23'!$E$5:$K$288,3,0)","v":229.9},{"$f":"VLOOKUP($B278,'FSA23'!$E$5:$K$288,4,0)","v":217.81},{"$f":"VLOOKUP($B278,'FSA23'!$E$5:$K$288,5,0)","v":225.41},{"$f":"VLOOKUP($B278,'FSA23'!$E$5:$K$288,6,0)","v":178.44},{"$f":"VLOOKUP($B278,'FSA23'!$E$5:$K$288,7,0)","v":224.52},{"$f":"AVERAGE(G278:K278)+$R278","v":216.83599999999998},214.22320000000002,213.50584000000001,null,null,null,1.62,0.45,0.8,null,{"$f":"C278-($R278*6)","v":{"$error":"#REF!"}},{"$f":"D278-($R278*5)","v":{"$error":"#REF!"}},{"$error":"#REF!"},{"$error":"#REF!"},229.9,217.81,225.41,178.44,224.52,216.83599999999998,214.22320000000002]
[null,"WashtenawCornNonirrigated",{"$f":"VLOOKUP($B279,#REF!,3,0)","v":{"$error":"#REF!"}},{"$f":"VLOOKUP($B279,#REF!,4,0)","v":{"$error":"#REF!"}},{"$f":"VLOOKUP($B279,'FSA21'!$E$5:$K$183,3,0)","v":165.09},{"$f":"VLOOKUP($B279,'FSA21'!$E$5:$K$183,4,0)","v":144.53},{"$f":"VLOOKUP($B279,'FSA23'!$E$5:$K$288,3,0)","v":158.84},{"$f":"VLOOKUP($B279,'FSA23'!$E$5:$K$288,4,0)","v":140.28},{"$f":"VLOOKUP($B279,'FSA23'!$E$5:$K$288,5,0)","v":157.49},{"$f":"VLOOKUP($B279,'FSA23'!$E$5:$K$288,6,0)","v":151.41},{"$f":"VLOOKUP($B279,'FSA23'!$E$5:$K$288,7,0)","v":178.34},158.892,158.9024,162.62688,null,null,null,1.62,0.45,0.8,null,{"$f":"C279-($R279*6)","v":{"$error":"#REF!"}},{"$f":"D279-($R279*5)","v":{"$error":"#REF!"}},165.09,144.53,158.84,140.28,157.49,151.41,178.34,158.892,158.9024]
[null,"WashtenawSoybeansIrrigated",{"$f":"VLOOKUP($B280,#REF!,3,0)","v":{"$error":"#REF!"}},{"$f":"VLOOKUP($B280,#REF!,4,0)","v":{"$error":"#REF!"}},{"$f":"VLOOKUP($B280,#REF!,5,0)","v":{"$error":"#REF!"}},{"$f":"VLOOKUP($B280,#REF!,6,0)","v":{"$error":"#REF!"}},{"$f":"VLOOKUP($B280,'FSA23'!$E$5:$K$288,3,0)","v":67.510000000000005},{"$f":"VLOOKUP($B280,'FSA23'!$E$5:$K$288,4,0)","v":64.62},{"$f":"VLOOKUP($B280,'FSA23'!$E$5:$K$288,5,0)","v":56.3},{"$f":"VLOOKUP($B280,'FSA23'!$E$5:$K$288,6,0)","v":54.370000000000005},{"$f":"VLOOKUP($B280,'FSA23'!$E$5:$K$288,7,0)","v":65.930000000000007},{"$f":"AVERAGE(G280:K280)+$S280","v":62.196000000000005},61.133200000000016,60.435840000000013,null,null,null,1.62,0.45,0.8,null,{"$f":"C280-($S280*6)","v":{"$error":"#REF!"}},{"$f":"D280-($S280*5)","v":{"$error":"#REF!"}},{"$error":"#REF!"},{"$error":"#REF!"},67.510000000000005,64.62,56.3,54.370000000000005,65.930000000000007,62.196000000000005,61.133200000000016]
[null,"WashtenawSoybeansNonirrigated",{"$f":"VLOOKUP($B281,#REF!,3,0)","v":{"$error":"#REF!"}},{"$f":"VLOOKUP($B281,#REF!,4,0)","v":{"$error":"#REF!"}},{"$f":"VLOOKUP($B281,'FSA21'!$E$5:$K$183,3,0)","v":48},{"$f":"VLOOKUP($B281,'FSA21'!$E$5:$K$183,4,0)","v":51.199999999999996},{"$f":"VLOOKUP($B281,'FSA23'!$E$5:$K$288,3,0)","v":40.580000000000005},{"$f":"VLOOKUP($B281,'FSA23'!$E$5:$K$288,4,0)","v":43.53},{"$f":"VLOOKUP($B281,'FSA23'!$E$5:$K$288,5,0)","v":46.3},{"$f":"VLOOKUP($B281,'FSA23'!$E$5:$K$288,6,0)","v":41.47},{"$f":"VLOOKUP($B281,'FSA23'!$E$5:$K$288,7,0)","v":47.25},44.27600000000001,45.015200000000007,45.312240000000003,null,null,null,1.62,0.45,0.8,null,{"$f":"C281-($S281*6)","v":{"$error":"#REF!"}},{"$f":"D281-($S281*5)","v":{"$error":"#REF!"}},48,51.199999999999996,40.580000000000005,43.53,46.3,41.47,47.25,44.27600000000001,45.015200000000007]
[null,"WashtenawWheatAll",{"$f":"VLOOKUP($B282,#REF!,3,0)","v":{"$error":"#REF!"}},{"$f":"VLOOKUP($B282,#REF!,4,0)","v":{"$error":"#REF!"}},{"$f":"VLOOKUP($B282,'FSA21'!$E$5:$K$183,3,0)","v":72.33},{"$f":"VLOOKUP($B282,'FSA21'!$E$5:$K$183,4,0)","v":89.94},{"$f":"VLOOKUP($B282,'FSA23'!$E$5:$K$288,3,0)","v":83.54},{"$f":"VLOOKUP($B282,'FSA23'!$E$5:$K$288,4,0)","v":71.989999999999995},{"$f":"VLOOKUP($B282,'FSA23'!$E$5:$K$288,5,0)","v":62.94},{"$f":"VLOOKUP($B282,'FSA23'!$E$5:$K$288,6,0)","v":66.099999999999994},{"$f":"VLOOKUP($B282,'FSA23'!$E$5:$K$288,7,0)","v":73.16},{"$f":"AVERAGE(G282:K282)+$T282","v":72.346000000000004},{"$f":"AVERAGE(H282:L282)+$T282","v":70.107199999999992},{"$f":"AVERAGE(I282:M282)+$T282","v":69.730639999999994},null,null,null,1.62,0.45,0.8,null,{"$f":"C282-($T282*6)","v":{"$error":"#REF!"}},{"$f":"D282-($T282*5)","v":{"$error":"#REF!"}},72.33,89.94,83.54,71.989999999999995,62.94,66.099999999999994,73.16,72.346000000000004,70.107199999999992]
[null,"WayneCornAll",{"$f":"VLOOKUP($B283,#REF!,3,0)","v":{"$error":"#REF!"}},{"$f":"VLOOKUP($B283,#REF!,4,0)","v":{"$error":"#REF!"}},{"$f":"VLOOKUP($B283,'FSA21'!$E$5:$K$183,3,0)","v":111.36},{"$f":"VLOOKUP($B283,'FSA21'!$E$5:$K$183,4,0)","v":115.78999999999999},{"$f":"VLOOKUP($B283,'FSA23'!$E$5:$K$288,3,0)","v":144.68},{"$f":"VLOOKUP($B283,'FSA23'!$E$5:$K$288,4,0)","v":123.07000000000001},{"$f":"VLOOKUP($B283,'FSA23'!$E$5:$K$288,5,0)","v":135.12},{"$f":"VLOOKUP($B283,'FSA23'!$E$5:$K$288,6,0)","v":97.95},{"$f":"VLOOKUP($B283,'FSA23'!$E$5:$K$288,7,0)","v":115.61},{"$f":"AVERAGE(G283:K283)+$R283","v":124.61599999999999},{"$f":"AVERAGE(H283:L283)+$R283","v":120.6032},{"$f":"AVERAGE(I283:M283)+$R283","v":120.10983999999999},null,null,null,1.33,0.27,0.63,null,{"$f":"C283-($R283*6)","v":{"$error":"#REF!"}},{"$f":"D283-($R283*5)","v":{"$error":"#REF!"}},111.36,115.78999999999999,144.68,123.07000000000001,135.12,97.95,115.61,124.61599999999999,120.6032]
[null,"WayneSoybeansAll",{"$f":"VLOOKUP($B284,#REF!,3,0)","v":{"$error":"#REF!"}},{"$f":"VLOOKUP($B284,#REF!,4,0)","v":{"$error":"#REF!"}},{"$f":"VLOOKUP($B284,#REF!,5,0)","v":{"$error":"#REF!"}},{"$f":"VLOOKUP($B284,#REF!,6,0)","v":{"$error":"#REF!"}},{"$f":"VLOOKUP($B284,'FSA23'!$E$5:$K$288,3,0)","v":27.720000000000002},{"$f":"VLOOKUP($B284,'FSA23'!$E$5:$K$288,4,0)","v":36.520000000000003},{"$f":"VLOOKUP($B284,'FSA23'!$E$5:$K$288,5,0)","v":42.300000000000004},{"$f":"VLOOKUP($B284,'FSA23'!$E$5:$K$288,6,0)","v":35.229999999999997},{"$f":"VLOOKUP($B284,'FSA23'!$E$5:$K$288,7,0)","v":40.75},{"$f":"AVERAGE(G284:K284)+$S284","v":36.774000000000008},{"$f":"AVERAGE(H284:L284)+$S284","v":38.584800000000008},{"$f":"AVERAGE(I284:M284)+$S284","v":38.997760000000007},null,null,null,1.33,0.27,0.63,null,{"$f":"C284-($S284*6)","v":{"$error":"#REF!"}},{"$f":"D284-($S284*5)","v":{"$error":"#REF!"}},{"$error":"#REF!"},{"$error":"#REF!"},27.720000000000002,36.520000000000003,42.300000000000004,35.229999999999997,40.75,36.774000000000008,38.584800000000008]
[null,"WayneWheatAll",{"$f":"VLOOKUP($B285,#REF!,3,0)","v":{"$error":"#REF!"}},{"$f":"VLOOKUP($B285,#REF!,4,0)","v":{"$error":"#REF!"}},{"$f":"VLOOKUP($B285,#REF!,5,0)","v":{"$error":"#REF!"}},{"$f":"VLOOKUP($B285,#REF!,6,0)","v":{"$error":"#REF!"}},{"$f":"VLOOKUP($B285,'FSA23'!$E$5:$K$288,3,0)","v":77},{"$f":"VLOOKUP($B285,'FSA23'!$E$5:$K$288,4,0)","v":75},{"$f":"VLOOKUP($B285,'FSA23'!$E$5:$K$288,5,0)","v":52},{"$f":"VLOOKUP($B285,'FSA23'!$E$5:$K$288,6,0)","v":67.319999999999993},{"$f":"VLOOKUP($B285,'FSA23'!$E$5:$K$288,7,0)","v":68.03},{"$f":"AVERAGE(G285:K285)+$T285","v":68.5},{"$f":"AVERAGE(H285:L285)+$T285","v":66.8},{"$f":"AVERAGE(I285:M285)+$T285","v":65.16},null,null,null,1.33,0.27,0.63,null,{"$f":"C285-($T285*6)","v":{"$error":"#REF!"}},{"$f":"D285-($T285*5)","v":{"$error":"#REF!"}},{"$error":"#REF!"},{"$error":"#REF!"},77,75,52,67.319999999999993,68.03,68.5,66.8]
[null,"WexfordCornIrrigated",{"$f":"VLOOKUP($B286,#REF!,3,0)","v":{"$error":"#REF!"}},{"$f":"VLOOKUP($B286,#REF!,4,0)","v":{"$error":"#REF!"}},{"$f":"VLOOKUP($B286,#REF!,5,0)","v":{"$error":"#REF!"}},{"$f":"VLOOKUP($B286,#REF!,6,0)","v":{"$error":"#REF!"}},{"$f":"VLOOKUP($B286,'FSA23'!$E$5:$K$288,3,0)","v":190.14},{"$f":"VLOOKUP($B286,'FSA23'!$E$5:$K$288,4,0)","v":115.95},{"$f":"VLOOKUP($B286,'FSA23'!$E$5:$K$288,5,0)","v":132.35999999999999},{"$f":"VLOOKUP($B286,'FSA23'!$E$5:$K$288,6,0)","v":182.17},{"$f":"VLOOKUP($B286,'FSA23'!$E$5:$K$288,7,0)","v":196.87},{"$f":"AVERAGE(G286:K286)+$R286","v":164.58799999999999},159.4776,168.18312,null,null,null,1.0900000000000001,0.3,0.34,null,{"$f":"C286-($R286*6)","v":{"$error":"#REF!"}},{"$f":"D286-($R286*5)","v":{"$error":"#REF!"}},{"$error":"#REF!"},{"$error":"#REF!"},190.14,115.95,132.35999999999999,182.17,196.87,164.58799999999999,159.4776]
[null,"WexfordCornNonirrigated",{"$f":"VLOOKUP($B287,#REF!,3,0)","v":{"$error":"#REF!"}},{"$f":"VLOOKUP($B287,#REF!,4,0)","v":{"$error":"#REF!"}},{"$f":"VLOOKUP($B287,#REF!,5,0)","v":{"$error":"#REF!"}},{"$f":"VLOOKUP($B287,#REF!,6,0)","v":{"$error":"#REF!"}},{"$f":"VLOOKUP($B287,'FSA23'!$E$5:$K$288,3,0)","v":163.41999999999999},{"$f":"VLOOKUP($B287,'FSA23'!$E$5:$K$288,4,0)","v":158.94999999999999},{"$f":"VLOOKUP($B287,'FSA23'!$E$5:$K$288,5,0)","v":124.73},{"$f":"VLOOKUP($B287,'FSA23'!$E$5:$K$288,6,0)","v":126.27},{"$f":"VLOOKUP($B287,'FSA23'!$E$5:$K$288,7,0)","v":160.54},147.87199999999999,144.76239999999999,141.92487999999997,null,null,null,1.0900000000000001,0.3,0.34,null,{"$f":"C287-($R287*6)","v":{"$error":"#REF!"}},{"$f":"D287-($R287*5)","v":{"$error":"#REF!"}},{"$error":"#REF!"},{"$error":"#REF!"},163.41999999999999,158.94999999999999,124.73,126.27,160.54,147.87199999999999,144.76239999999999]
[null,"WexfordSoybeansAll",{"$f":"VLOOKUP($B288,#REF!,3,0)","v":{"$error":"#REF!"}},{"$f":"VLOOKUP($B288,#REF!,4,0)","v":{"$error":"#REF!"}},{"$f":"VLOOKUP($B288,'FSA21'!$E$5:$K$183,3,0)","v":36},{"$f":"VLOOKUP($B288,'FSA21'!$E$5:$K$183,4,0)","v":36},{"$f":"VLOOKUP($B288,'FSA23'!$E$5:$K$288,3,0)","v":37},{"$f":"VLOOKUP($B288,'FSA23'!$E$5:$K$288,4,0)","v":37},{"$f":"VLOOKUP($B288,'FSA23'!$E$5:$K$288,5,0)","v":34.4},{"$f":"VLOOKUP($B288,'FSA23'!$E$5:$K$288,6,0)","v":37.799999999999997},{"$f":"VLOOKUP($B288,'FSA23'!$E$5:$K$288,7,0)","v":40.92},{"$f":"AVERAGE(G288:K288)+$S288","v":37.723999999999997},{"$f":"AVERAGE(H288:L288)+$S288","v":37.868799999999993},{"$f":"AVERAGE(I288:M288)+$S288","v":38.042559999999995},null,null,null,1.0900000000000001,0.3,0.34,null,{"$f":"C288-($S288*6)","v":{"$error":"#REF!"}},{"$f":"D288-($S288*5)","v":{"$error":"#REF!"}},36,36,37,37,34.4,37.799999999999997,40.92,37.723999999999997,37.868799999999993]
[null,"WexfordWheatAll",{"$f":"VLOOKUP($B289,#REF!,3,0)","v":{"$error":"#REF!"}},{"$f":"VLOOKUP($B289,#REF!,4,0)","v":{"$error":"#REF!"}},{"$f":"VLOOKUP($B289,'FSA21'!$E$5:$K$183,3,0)","v":47.85},{"$f":"VLOOKUP($B289,'FSA21'!$E$5:$K$183,4,0)","v":55},{"$f":"VLOOKUP($B289,'FSA23'!$E$5:$K$288,3,0)","v":52},{"$f":"VLOOKUP($B289,'FSA23'!$E$5:$K$288,4,0)","v":40},{"$f":"VLOOKUP($B289,'FSA23'!$E$5:$K$288,5,0)","v":53.1},{"$f":"VLOOKUP($B289,'FSA23'!$E$5:$K$288,6,0)","v":51.1},{"$f":"VLOOKUP($B289,'FSA23'!$E$5:$K$288,7,0)","v":58.17},{"$f":"AVERAGE(G289:K289)+$T289","v":51.214000000000006},{"$f":"AVERAGE(H289:L289)+$T289","v":51.056800000000003},{"$f":"AVERAGE(I289:M289)+$T289","v":53.268160000000009},null,null,null,1.0900000000000001,0.3,0.34,null,{"$f":"C289-($T289*6)","v":{"$error":"#REF!"}},{"$f":"D289-($T289*5)","v":{"$error":"#REF!"}},47.85,55,52,40,53.1,51.1,58.17,51.214000000000006,51.056800000000003]

{"sheet":"FSA21","index":5,"n_rows":183,"n_cols":17,"rows_kept":183,"cut":false,"hidden":true,"merged":[]}
["ARC-CO TREND ADJUSTED YIELDS, BENCHMARK YIELDS AND GUARANTEE REVENUES FOR PROGRAM YEAR 2021",null,null,null,null,null,null,null,null,null,null,null,"Program Year 2021 Benchmark Yields and  Revenues"]
[null,null,null,null,null,null,null,null,null,null,null,null,"A","B","C","D","E"]
[null,null,null,null,1,2,3,4,5,6,7,8,9,null,"(A * B)","(86% of C)","(10% of C)"]
["ST_Cty","State Name","County Name","Crop Name","Helper Column 1","ARC-CO Yield Designation","2015 trend adjusted (county yield or 80% of T)","2016 trend adjusted (county yield or 80% of T)","2017 trend adjusted (county yield or 80% of T)","2018 trend adjusted (county yield or 80% of T)","2019 trend adjusted (county yield or 80% of T)",null,"2021 Bench Mark \n(2015-19 olympic avg)","2021 Bench Mark Price \n(2015-19 olympic avg)","2021 Benchmark Revenue","2021 Guarantee Revenue","2021 Maximum Payment Rate"]
["26001","Michigan","Alcona","Corn",{"$f":"C5&D5&F5","v":"AlconaCornAll"},"All",158.44,121.72,133.22999999999999,124.92999999999999,92.08,null,126.63,3.7,468.53,402.94,46.85]
["26003","Michigan","Alger","Corn",{"$f":"C6&D6&F6","v":"AlgerCornAll"},"All",132,87,58.4,111,58.49,null,85.5,3.7,316.35000000000002,272.06,31.64]
["26005","Michigan","Allegan","Corn","AlleganCornNonirrigated","Nonirrigated",163.88,179.81,185.76,158.29,157.16,null,167.33,3.7,619.12,532.44000000000005,61.91]
["26007","Michigan","Alpena","Corn","AlpenaCornAll","All",143.15,103.08000000000001,147.75,114.22,118.84,null,125.4,3.7,463.98,399.02,46.4]
["26009","Michigan","Antrim","Corn","AntrimCornAll","All",106.61,103.42,139.67000000000002,114.3,94,null,108.11,3.7,400.01,344.01,40]
["26011","Michigan","Arenac","Corn","ArenacCornAll","All",168.85999999999999,152.06,172.76,171.88,139.13999999999999,null,164.27,3.7,607.79999999999995,522.71,60.78]
["26015","Michigan","Barry","Corn","BarryCornNonirrigated","Nonirrigated",165.53,149.48000000000002,173.73,149.52000000000001,139.64000000000001,null,154.84,3.7,572.91,492.7,57.29]
["26017","Michigan","Bay","Corn","BayCornNonirrigated","Nonirrigated",190.4,176.64,175.75,189.8,161.99,null,180.73,3.7,668.7,575.08000000000004,66.87]
["26019","Michigan","Benzie","Corn","BenzieCornAll","All",88.3,104.63,131.12,114.15,93.77,null,104.18,3.7,385.47,331.5,38.549999999999997]
["26021","Michigan","Berrien","Corn","BerrienCornNonirrigated","Nonirrigated",182.83999999999997,170.77,179.19,168.27,148.70000000000002,null,172.74,3.7,639.14,549.66,63.91]
["26023","Michigan","Branch","Corn","BranchCornNonirrigated","Nonirrigated",164.8,167.23,162.84,155.73000000000002,154.39000000000001,null,161.12,3.7,596.14,512.67999999999995,59.61]
["26025","Michigan","Calhoun","Corn","CalhounCornNonirrigated","Nonirrigated",163.65,143.11999999999998,143.46,146.78,133.64000000000001,null,144.44999999999999,3.7,534.47,459.64,53.45]
["26027","Michigan","Cass","Corn","CassCornIrrigated","Irrigated",210,198.11,220.58999999999997,158.94,188.41,null,198.84,3.7,735.71,632.71,73.569999999999993]
["26027","Michigan","Cass","Corn","CassCornNonirrigated","Nonirrigated",158.70000000000002,127.63000000000001,160.81,150.91999999999999,133.37,null,147.66,3.7,546.34,469.85,54.63]
["26031","Michigan","Cheboygan","Corn","CheboyganCornAll","All",100.88,97,131,117,110.3,null,109.39,3.7,404.74,348.08,40.47]
["26035","Michigan","Clare","Corn","ClareCornAll","All",136.53,124.91,137.61000000000001,143.81,111.52000000000001,null,133.02000000000001,3.7,492.17,423.27,49.22]
["26037","Michigan","Clinton","Corn","ClintonCornNonirrigated","Nonirrigated",183.07,162.77000000000001,157.41999999999999,148.35,152.29000000000002,null,157.49,3.7,582.71,501.13,58.27]
["26041","Michigan","Delta","Corn","DeltaCornAll","All",141.1,120.83,57.44,155.38999999999999,57.76,null,106.56,3.7,394.27,339.07,39.43]
["26043","Michigan","Dickinson","Corn","DickinsonCornAll","All",170.29,66.09,80.84,157.62,61.6,null,101.52,3.7,375.62,323.02999999999997,37.56]
["26045","Michigan","Eaton","Corn","EatonCornAll","All",174.34,153.32,181.59,158.43,137.44,null,162.03,3.7,599.51,515.58000000000004,59.95]
["26047","Michigan","Emmet","Corn","EmmetCornAll","All",119.32,112.77,124.88,114.66,83.24,null,115.58,3.7,427.65,367.78,42.77]
["26049","Michigan","Genesee","Corn","GeneseeCornAll","All",184.69,160.07999999999998,175.39000000000001,167.13,142.03,null,167.53,3.7,619.86,533.08000000000004,61.99]
["26051","Michigan","Gladwin","Corn","GladwinCornAll","All",156.41,153.67000000000002,149.5,170.65,134.77000000000001,null,153.19,3.7,566.79999999999995,487.45,56.68]
["26055","Michigan","Grand Traverse","Corn","Grand TraverseCornAll","All",108.46,82.96,131.52000000000001,86.93,103.78,null,99.72,3.7,368.96,317.31,36.9]
["26057","Michigan","Gratiot","Corn","GratiotCornNonirrigated","Nonirrigated",182.32999999999998,177.81,163.29000000000002,173.18,150.38,null,171.43,3.7,634.29,545.49,63.43]
["26059","Michigan","Hillsdale","Corn","HillsdaleCornNonirrigated","Nonirrigated",163.82999999999998,171.19,168.5,160.82000000000002,159.97,null,164.38,3.7,608.21,523.05999999999995,60.82]
["26061","Michigan","Houghton","Corn","HoughtonCornAll","All",132,87,58.4,111,58.49,null,85.5,3.7,316.35000000000002,272.06,31.64]
["26063","Michigan","Huron","Corn","HuronCornNonirrigated","Nonirrigated",209.8,174.16,202.5,176.03,176.4,null,184.98,3.7,684.43,588.61,68.44]
["26065","Michigan","Ingham","Corn","InghamCornAll","All",181.76,164.21,168.14,155.28,156.57000000000002,null,162.97,3.7,602.99,518.57000000000005,60.3]
["26067","Michigan","Ionia","Corn","IoniaCornNonirrigated","Nonirrigated",193.97,180.78,173.03,169.38,160,null,174.4,3.7,645.28,554.94000000000005,64.53]
["26069","Michigan","Iosco","Corn","IoscoCornAll","All",151.62,142.41,172.88,162.26999999999998,140.43,null,152.1,3.7,562.77,483.98,56.28]
["26073","Michigan","Isabella","Corn","IsabellaCornNonirrigated","Nonirrigated",165.01,164.57,160.81,150.44,141.86999999999998,null,158.61000000000001,3.7,586.86,504.7,58.69]
["26075","Michigan","Jackson","Corn",{"$f":"C37&D37&F37","v":"JacksonCornNonirrigated"},"Nonirrigated",154.06,123,132.03,134.88,154.94,null,140.32,3.7,519.17999999999995,446.49,51.92]
["26077","Michigan","Kalamazoo","Corn","KalamazooCornIrrigated","Irrigated",211.35,214.5,218.15,158.91,191.07,null,205.64,3.7,760.87,654.35,76.09]
["26077","Michigan","Kalamazoo","Corn","KalamazooCornNonirrigated","Nonirrigated",169.75,161.79000000000002,149.77000000000001,151.13,141.39999999999998,null,154.22999999999999,3.7,570.65,490.76,57.07]
["26081","Michigan","Kent","Corn","KentCornNonirrigated","Nonirrigated",173.25,170.51999999999998,156.14000000000001,148.57999999999998,148.49,null,158.41,3.7,586.12,504.06,58.61]
["26087","Michigan","Lapeer","Corn","LapeerCornAll","All",189.99,180.01000000000002,188.85999999999999,179.19000000000003,146.75,null,182.69,3.7,675.95,581.32000000000005,67.599999999999994]
["26089","Michigan","Leelanau","Corn","LeelanauCornAll","All",80.900000000000006,66.650000000000006,115.99000000000001,98.27,105.72,null,94.96,3.7,351.35,302.16000000000003,35.14]
["26091","Michigan","Lenawee","Corn","LenaweeCornNonirrigated","Nonirrigated",179.44,183.47,187.1,165.35,173.53,null,178.81,3.7,661.6,568.98,66.16]
["26093","Michigan","Livingston","Corn","LivingstonCornAll","All",183.10999999999999,154.99,163.94,135.9,164.77,null,161.22999999999999,3.7,596.54999999999995,513.03,59.66]
["26099","Michigan","Macomb","Corn","MacombCornAll","All",169.57999999999998,187.86,185.06,185.3,155.21,null,179.98,3.7,665.93,572.70000000000005,66.59]
["26101","Michigan","Manistee","Corn","ManisteeCornAll","All",139.55000000000001,152.82000000000002,123.06,144.44999999999999,104.88,null,135.69,3.7,502.05,431.76,50.21]
["26103","Michigan","Marquette","Corn","MarquetteCornAll","All",132,87,58.4,111,58.49,null,85.5,3.7,316.35000000000002,272.06,31.64]
["26105","Michigan","Mason","Corn","MasonCornNonirrigated","Nonirrigated",145.77000000000001,153.33000000000001,173.53,135.03,137.08000000000001,null,145.38999999999999,3.7,537.94000000000005,462.63,53.79]
["26107","Michigan","Mecosta","Corn","MecostaCornIrrigated","Irrigated",177.31,179.58,193.67000000000002,158.55000000000001,168.36999999999998,null,175.09,3.7,647.83000000000004,557.13,64.78]
["26107","Michigan","Mecosta","Corn","MecostaCornNonirrigated","Nonirrigated",123.89,138.88000000000002,131.76,120.43,116.9,null,125.36,3.7,463.83,398.89,46.38]
["26109","Michigan","Menominee","Corn","MenomineeCornAll","All",149.66,134.42000000000002,67.64,153.22,65.02,null,117.24,3.7,433.79,373.06,43.38]
["26111","Michigan","Midland","Corn","MidlandCornNonirrigated","Nonirrigated",174.45,172.68,163.10999999999999,167.88000000000002,148.66999999999999,null,167.89,3.7,621.19000000000005,534.22,62.12]
["26113","Michigan","Missaukee","Corn","MissaukeeCornNonirrigated","Nonirrigated",158.52000000000001,139.39999999999998,156.88999999999999,125.51,147.26000000000002,null,147.85,3.7,547.04999999999995,470.46,54.71]
["26115","Michigan","Monroe","Corn","MonroeCornNonirrigated","Nonirrigated",155.4,183.18,198.4,176.55,185.32999999999998,null,181.69,3.7,672.25,578.14,67.23]
["26117","Michigan","Montcalm","Corn","MontcalmCornNonirrigated","Nonirrigated",156.31,158.59,138.97999999999999,136.07,126.3,null,143.79,3.7,532.02,457.54,53.2]
["26119","Michigan","Montmorency","Corn","MontmorencyCornAll","All",134.41999999999999,84.649999999999991,146.28,85.509999999999991,118.14,null,112.69,3.7,416.95,358.58,41.7]
["26121","Michigan","Muskegon","Corn","MuskegonCornNonirrigated","Nonirrigated",144.82,161.66,145.9,129.68,111.67,null,140.13,3.7,518.48,445.89,51.85]
["26123","Michigan","Newaygo","Corn","NewaygoCornNonirrigated","Nonirrigated",130.06,164.03,139.15,103.84,126.17999999999999,null,131.80000000000001,3.7,487.66,419.39,48.77]
["26125","Michigan","Oakland","Corn","OaklandCornAll","All",177.49,156.95000000000002,151.10999999999999,125.13,126.49,null,144.85,3.7,535.95000000000005,460.92,53.6]
["26127","Michigan","Oceana","Corn","OceanaCornIrrigated","Irrigated",150.30000000000001,169.45,167.65,144.65,140.26999999999998,null,154.19999999999999,3.7,570.54,490.66,57.05]
["26127","Michigan","Oceana","Corn","OceanaCornNonirrigated","Nonirrigated",110.38000000000001,136.14000000000001,141.53,100.39999999999999,113.31,null,119.94,3.7,443.78,381.65,44.38]
["26129","Michigan","Ogemaw","Corn","OgemawCornAll","All",152.03,148.36000000000001,155.72,167.72,148.25,null,152.04,3.7,562.54999999999995,483.79,56.26]
["26131","Michigan","Ontonagon","Corn","OntonagonCornAll","All",132,87,58.4,111,58.49,null,85.5,3.7,316.35000000000002,272.06,31.64]
["26133","Michigan","Osceola","Corn","OsceolaCornAll","All",138.94000000000003,130.35,166.25,119.43,141.34,null,136.88,3.7,506.46,435.56,50.65]
["26137","Michigan","Otsego","Corn","OtsegoCornAll","All",109.88,82,137.03,97.53,130.07,null,112.49,3.7,416.21,357.94,41.62]
["26139","Michigan","Ottawa","Corn","OttawaCornNonirrigated","Nonirrigated",167.07,188.08,172.26,144.76,140.73999999999998,null,161.36000000000001,3.7,597.03,513.45000000000005,59.7]
["26141","Michigan","Presque Isle","Corn","Presque IsleCornAll","All",117.96000000000001,79.45,128.88999999999999,88.97999999999999,88.31,null,98.42,3.7,364.15,313.17,36.42]
["26145","Michigan","Saginaw","Corn","SaginawCornAll","All",188.39000000000001,183.94,173.85000000000002,185.38,150.72,null,181.06,3.7,669.92,576.13,66.989999999999995]
["26151","Michigan","Sanilac","Corn",{"$f":"C69&D69&F69","v":"SanilacCornAll"},"All",202.10999999999999,199.99,200.25,187.32,176.57000000000002,null,195.85,3.7,724.65,623.20000000000005,72.47]
["26153","Michigan","Schoolcraft","Corn","SchoolcraftCornAll","All",132,87,61.6,111,61.6,null,86.53,3.7,320.16000000000003,275.33999999999997,32.020000000000003]
["26155","Michigan","Shiawassee","Corn","ShiawasseeCornAll","All",184.3,161.38,161.31,156.76,155.30000000000001,null,159.82,3.7,591.33000000000004,508.54,59.13]
["26147","Michigan","St. Clair","Corn","St. ClairCornAll","All",172.66000000000003,173.89999999999998,171.56,182.73999999999998,155.01999999999998,null,172.71,3.7,639.03,549.57000000000005,63.9]
["26157","Michigan","Tuscola","Corn","TuscolaCornNonirrigated","Nonirrigated",200.63,188.63000000000002,177.69,176.13000000000002,168.1,null,180.82,3.7,669.03,575.37,66.900000000000006]
["26159","Michigan","Van Buren","Corn","Van BurenCornIrrigated","Irrigated",209.43,228.93,210.23999999999998,212.15,194.57999999999998,null,210.61,3.7,779.26,670.16,77.930000000000007]
["26159","Michigan","Van Buren","Corn","Van BurenCornNonirrigated","Nonirrigated",170.43,161.92000000000002,164.10999999999999,146.83000000000001,125.47,null,157.62,3.7,583.19000000000005,501.54,58.32]
["26161","Michigan","Washtenaw","Corn","WashtenawCornNonirrigated","Nonirrigated",165.09,144.53,155.88000000000002,137.20000000000002,154.29000000000002,null,151.57,3.7,560.80999999999995,482.3,56.08]
["26163","Michigan","Wayne","Corn","WayneCornAll","All",111.36,115.78999999999999,144.04,121.95,133.52000000000001,null,123.75,3.7,457.88,393.78,45.79]
["26001","Michigan","Alcona","Soybeans","AlconaSoybeansAll","All",35.93,40,37,35.03,35.229999999999997,null,36.049999999999997,8.9499999999999993,322.64999999999998,277.48,32.270000000000003]
["26005","Michigan","Allegan","Soybeans","AlleganSoybeansNonirrigated","Nonirrigated",48.24,54.699999999999996,49.69,51.38,38.75,null,49.77,8.9499999999999993,445.44,383.08,44.54]
["26007","Michigan","Alpena","Soybeans","AlpenaSoybeansAll","All",39.099999999999994,28.77,35.31,37.9,26.520000000000003,null,33.99,8.9499999999999993,304.20999999999998,261.62,30.42]
["26011","Michigan","Arenac","Soybeans","ArenacSoybeansAll","All",50.68,48.31,43.79,48.150000000000006,33.5,null,46.75,8.9499999999999993,418.41,359.83,41.84]
["26015","Michigan","Barry","Soybeans","BarrySoybeansNonirrigated","Nonirrigated",49.19,51.78,45.42,48.04,48.139999999999993,null,48.46,8.9499999999999993,433.72,373,43.37]
["26017","Michigan","Bay","Soybeans","BaySoybeansNonirrigated","Nonirrigated",58.300000000000004,58.74,49.58,58.919999999999995,38.39,null,55.54,8.9499999999999993,497.08,427.49,49.71]
["26021","Michigan","Berrien","Soybeans","BerrienSoybeansNonirrigated","Nonirrigated",52.34,53.69,43.23,52.86,40.1,null,49.48,8.9499999999999993,442.85,380.85,44.29]
["26023","Michigan","Branch","Soybeans","BranchSoybeansNonirrigated","Nonirrigated",47.980000000000004,53.57,41.12,47.660000000000004,44.24,null,46.63,8.9499999999999993,417.34,358.91,41.73]
["26025","Michigan","Calhoun","Soybeans","CalhounSoybeansNonirrigated","Nonirrigated",47.68,49.35,35.4,44.59,37.129999999999995,null,43.13,8.9499999999999993,386.01,331.97,38.6]
["26027","Michigan","Cass","Soybeans","CassSoybeansIrrigated","Irrigated",62.550000000000004,67.02,59.06,51.62,61.64,null,61.08,8.9499999999999993,546.66999999999996,470.14,54.67]
["26027","Michigan","Cass","Soybeans","CassSoybeansNonirrigated","Nonirrigated",47.23,44.61,43.39,50.5,42.68,null,45.08,8.9499999999999993,403.47,346.98,40.35]
["26035","Michigan","Clare","Soybeans","ClareSoybeansAll","All",33.28,39.47,34.130000000000003,33.950000000000003,26.43,null,33.79,8.9499999999999993,302.42,260.08,30.24]
["26041","Michigan","Delta","Soybeans","DeltaSoybeansAll","All",36,35,37,37,34.4,null,36,8.9499999999999993,322.2,277.08999999999997,32.22]
["26045","Michigan","Eaton","Soybeans","EatonSoybeansNonirrigated","Nonirrigated",49.42,53.45,44.269999999999996,50.550000000000004,36.28,null,48.08,8.9499999999999993,430.32,370.08,43.03]
["26049","Michigan","Genesee","Soybeans","GeneseeSoybeansAll","All",50.75,45.64,42.43,49.059999999999995,38.229999999999997,null,45.71,8.9499999999999993,409.1,351.83,40.909999999999997]
["26051","Michigan","Gladwin","Soybeans","GladwinSoybeansAll","All",44.910000000000004,44.82,40.479999999999997,42.37,32.840000000000003,null,42.56,8.9499999999999993,380.91,327.58,38.090000000000003]
["26055","Michigan","Grand Traverse","Soybeans","Grand TraverseSoybeansAll","All",27.09,30.48,34.869999999999997,27.75,34.4,null,30.88,8.9499999999999993,276.38,237.69,27.64]
["26057","Michigan","Gratiot","Soybeans","GratiotSoybeansNonirrigated","Nonirrigated",56.12,57.1,44.169999999999995,53.75,40.160000000000004,null,51.35,8.9499999999999993,459.58,395.24,45.96]
["26059","Michigan","Hillsdale","Soybeans","HillsdaleSoybeansNonirrigated","Nonirrigated",48.32,57.190000000000005,45.199999999999996,48.1,43.71,null,47.21,8.9499999999999993,422.53,363.38,42.25]
["26065","Michigan","Ingham","Soybeans","InghamSoybeansNonirrigated","Nonirrigated",53.52,55.36,49.339999999999996,53.08,40.699999999999996,null,51.98,8.9499999999999993,465.22,400.09,46.52]
["26067","Michigan","Ionia","Soybeans","IoniaSoybeansNonirrigated","Nonirrigated",57.059999999999995,58.739999999999995,45.46,55.13,47,null,53.06,8.9499999999999993,474.89,408.41,47.49]
["26069","Michigan","Iosco","Soybeans","IoscoSoybeansAll","All",40.85,43.17,37.64,46.53,31.64,null,40.549999999999997,8.9499999999999993,362.92,312.11,36.29]
["26073","Michigan","Isabella","Soybeans","IsabellaSoybeansNonirrigated","Nonirrigated",48.24,50.99,40.629999999999995,41.96,35.56,null,43.61,8.9499999999999993,390.31,335.67,39.03]
["26075","Michigan","Jackson","Soybeans",{"$f":"C101&D101&F101","v":"JacksonSoybeansNonirrigated"},"Nonirrigated",43.68,48.190000000000005,34.69,42.77,43.370000000000005,null,43.27,8.9499999999999993,387.27,333.05,38.729999999999997]
["26077","Michigan","Kalamazoo","Soybeans","KalamazooSoybeansNonirrigated","Nonirrigated",48.58,50.89,38.19,47.12,41.73,null,45.81,8.9499999999999993,410,352.6,41]
["26079","Michigan","Kalkaska","Soybeans","KalkaskaSoybeansAll","All",36,36,37,37,34.4,null,36.33,8.9499999999999993,325.14999999999998,279.63,32.520000000000003]
["26081","Michigan","Kent","Soybeans","KentSoybeansNonirrigated","Nonirrigated",50.8,53.97,42.19,45.360000000000007,43.96,null,46.71,8.9499999999999993,418.05,359.52,41.81]
["26087","Michigan","Lapeer","Soybeans","LapeerSoybeansAll","All",51.8,53.489999999999995,41.78,46.75,35.18,null,46.78,8.9499999999999993,418.68,360.06,41.87]
["26091","Michigan","Lenawee","Soybeans","LenaweeSoybeansNonirrigated","Nonirrigated",52.69,59.82,50.39,52.81,50.62,null,52.04,8.9499999999999993,465.76,400.55,46.58]
["26093","Michigan","Livingston","Soybeans","LivingstonSoybeansAll","All",49.160000000000004,52.34,40.43,47.2,46.050000000000004,null,47.47,8.9499999999999993,424.86,365.38,42.49]
["26099","Michigan","Macomb","Soybeans","MacombSoybeansAll","All",44.11,52.730000000000004,43.14,46.73,36.67,null,44.66,8.9499999999999993,399.71,343.75,39.97]
["26105","Michigan","Mason","Soybeans","MasonSoybeansAll","All",46.86,48.38,48.27,46.419999999999995,42.11,null,47.18,8.9499999999999993,422.26,363.14,42.23]
["26109","Michigan","Menominee","Soybeans","MenomineeSoybeansAll","All",27.57,22.13,24.18,37.72,17.600000000000001,null,24.63,8.9499999999999993,220.44,189.58,22.04]
["26111","Michigan","Midland","Soybeans","MidlandSoybeansAll","All",51.68,50.97,41.79,46.28,38.54,null,46.35,8.9499999999999993,414.83,356.75,41.48]
["26113","Michigan","Missaukee","Soybeans","MissaukeeSoybeansAll","All",36,36,37,37,34.4,null,36.33,8.9499999999999993,325.14999999999998,279.63,32.520000000000003]
["26115","Michigan","Monroe","Soybeans","MonroeSoybeansAll","All",48.449999999999996,54.949999999999996,51.129999999999995,48.07,49.83,null,49.8,8.9499999999999993,445.71,383.31,44.57]
["26117","Michigan","Montcalm","Soybeans","MontcalmSoybeansNonirrigated","Nonirrigated",45.49,51.870000000000005,35.08,41.51,36.21,null,41.07,8.9499999999999993,367.58,316.12,36.76]
["26119","Michigan","Montmorency","Soybeans","MontmorencySoybeansAll","All",36,29.75,41.79,37,30.57,null,34.520000000000003,8.9499999999999993,308.95,265.7,30.9]
["26121","Michigan","Muskegon","Soybeans","MuskegonSoybeansAll","All",49.089999999999996,53.52,47.730000000000004,46.42,29.26,null,47.75,8.9499999999999993,427.36,367.53,42.74]
["26123","Michigan","Newaygo","Soybeans","NewaygoSoybeansAll","All",41.74,47.58,35.43,34.57,41.6,null,39.590000000000003,8.9499999999999993,354.33,304.72000000000003,35.43]
["26125","Michigan","Oakland","Soybeans","OaklandSoybeansAll","All",40.07,35.800000000000004,33.97,31.69,31.93,null,33.9,8.9499999999999993,303.41000000000003,260.93,30.34]
["26127","Michigan","Oceana","Soybeans","OceanaSoybeansNonirrigated","Nonirrigated",33.799999999999997,46.050000000000004,40.03,32.89,28.14,null,35.57,8.9499999999999993,318.35000000000002,273.77999999999997,31.84]
["26129","Michigan","Ogemaw","Soybeans","OgemawSoybeansAll","All",39.94,45.27,43.66,40.06,35,null,41.22,8.9499999999999993,368.92,317.27,36.89]
["26133","Michigan","Osceola","Soybeans","OsceolaSoybeansAll","All",40.92,38.82,33.47,29.81,24,null,34.03,8.9499999999999993,304.57,261.93,30.46]
["26139","Michigan","Ottawa","Soybeans","OttawaSoybeansNonirrigated","Nonirrigated",52.330000000000005,63.300000000000004,48.34,44.949999999999996,42.239999999999995,null,48.54,8.9499999999999993,434.43,373.61,43.44]
["26141","Michigan","Presque Isle","Soybeans","Presque IsleSoybeansAll","All",30.76,19.2,37,20.8,20.8,null,24.12,8.9499999999999993,215.87,185.65,21.59]
["26145","Michigan","Saginaw","Soybeans","SaginawSoybeansNonirrigated","Nonirrigated",54.940000000000005,56.92,46.59,54.699999999999996,40.9,null,52.08,8.9499999999999993,466.12,400.86,46.61]
["26151","Michigan","Sanilac","Soybeans","SanilacSoybeansAll","All",55.31,59.21,49.25,55.3,41.23,null,53.29,8.9499999999999993,476.95,410.18,47.7]
["26155","Michigan","Shiawassee","Soybeans","ShiawasseeSoybeansNonirrigated","Nonirrigated",53.6,52.8,41.680000000000007,49.04,35.82,null,47.84,8.9499999999999993,428.17,368.23,42.82]
["26147","Michigan","St. Clair","Soybeans","St. ClairSoybeansAll","All",45.32,50.83,40.18,47.339999999999996,33.31,null,44.28,8.9499999999999993,396.31,340.83,39.630000000000003]
["26149","Michigan","St. Joseph","Soybeans","St. JosephSoybeansIrrigated","Irrigated",59,56.92,50.24,54.44,47.06,null,53.87,8.9499999999999993,482.14,414.64,48.21]
["26149","Michigan","St. Joseph","Soybeans","St. JosephSoybeansNonirrigated","Nonirrigated",44.14,44.2,32.57,48.26,41.74,null,43.36,8.9499999999999993,388.07,333.74,38.81]
["26157","Michigan","Tuscola","Soybeans","TuscolaSoybeansNonirrigated","Nonirrigated",57.4,58.53,47.349999999999994,56.87,42.72,null,53.87,8.9499999999999993,482.14,414.64,48.21]
["26159","Michigan","Van Buren","Soybeans","Van BurenSoybeansNonirrigated","Nonirrigated",48.36,47.86,39.989999999999995,41.63,34.25,null,43.16,8.9499999999999993,386.28,332.2,38.630000000000003]
["26161","Michigan","Washtenaw","Soybeans","WashtenawSoybeansNonirrigated","Nonirrigated",48,51.199999999999996,39.6,42.57,45.36,null,45.31,8.9499999999999993,405.52,348.75,40.549999999999997]
["26165","Michigan","Wexford","Soybeans",{"$f":"C133&D133&F133","v":"WexfordSoybeansAll"},"All",36,36,37,37,34.4,null,36.33,8.9499999999999993,325.14999999999998,279.63,32.520000000000003]
["26005","Michigan","Allegan","Wheat","AlleganWheatAll","All",57.099999999999994,70.12,65.8,78.16,55.33,null,64.34,5.5,353.87,304.33,35.39]
["26011","Michigan","Arenac","Wheat","ArenacWheatAll","All",89.95,85.08,68.709999999999994,77.86,58.199999999999996,null,77.22,5.5,424.71,365.25,42.47]
["26015","Michigan","Barry","Wheat","BarryWheatAll","All",71.430000000000007,91.94,66.42,76.949999999999989,59.129999999999995,null,71.599999999999994,5.5,393.8,338.67,39.380000000000003]
["26017","Michigan","Bay","Wheat","BayWheatAll","All",99.5,98.15,84.13,84.22,75.580000000000013,null,88.83,5.5,488.57,420.17,48.86]
["26021","Michigan","Berrien","Wheat","BerrienWheatAll","All",76.400000000000006,86.67,68.8,75.52,70.540000000000006,null,74.150000000000006,5.5,407.83,350.73,40.78]
["26023","Michigan","Branch","Wheat","BranchWheatAll","All",65,80.78,79.489999999999995,64.429999999999993,70.710000000000008,null,71.73,5.5,394.52,339.29,39.450000000000003]
["26025","Michigan","Calhoun","Wheat","CalhounWheatAll","All",58.47,77.11,69.739999999999995,64.88,63.44,null,66.02,5.5,363.11,312.27,36.31]
["26035","Michigan","Clare","Wheat","ClareWheatAll","All",67.89,71.8,47.8,65.209999999999994,50.72,null,61.27,5.5,336.99,289.81,33.700000000000003]
["26037","Michigan","Clinton","Wheat","ClintonWheatAll","All",93.98,96.4,76.849999999999994,91.91,73.550000000000011,null,87.58,5.5,481.69,414.25,48.17]
["26041","Michigan","Delta","Wheat","DeltaWheatAll","All",51,55,52,40,53.1,null,52.03,5.5,286.17,246.11,28.62]
["26045","Michigan","Eaton","Wheat","EatonWheatAll","All",75.13000000000001,85.58,76.039999999999992,77.41,61.29,null,76.19,5.5,419.05,360.38,41.91]
["26049","Michigan","Genesee","Wheat","GeneseeWheatAll","All",81.92,83.9,71.28,77.929999999999993,64.3,null,77.040000000000006,5.5,423.72,364.4,42.37]
["26051","Michigan","Gladwin","Wheat","GladwinWheatAll","All",92.53,84.08,61.660000000000004,75.930000000000007,58.08,null,73.89,5.5,406.4,349.5,40.64]
["26055","Michigan","Grand Traverse","Wheat","Grand TraverseWheatAll","All",45.69,47.42,55.54,38.43,46.42,null,46.51,5.5,255.81,220,25.58]
["26057","Michigan","Gratiot","Wheat","GratiotWheatAll","All",92.42,90.49,78.739999999999995,91.72,69.12,null,86.98,5.5,478.39,411.42,47.84]
["26059","Michigan","Hillsdale","Wheat","HillsdaleWheatAll","All",73,87.39,84.7,74.11,59.36,null,77.27,5.5,424.99,365.49,42.5]
["26063","Michigan","Huron","Wheat","HuronWheatAll","All",114.12,110.57,98.78,85.71,91.710000000000008,null,100.35,5.5,551.92999999999995,474.66,55.19]
["26065","Michigan","Ingham","Wheat","InghamWheatAll","All",78,98.72,74.33,83.71,72.210000000000008,null,78.680000000000007,5.5,432.74,372.16,43.27]
["26067","Michigan","Ionia","Wheat","IoniaWheatAll","All",87.44,97.57,79.77,87.11,71,null,84.77,5.5,466.24,400.97,46.62]
["26073","Michigan","Isabella","Wheat","IsabellaWheatAll","All",87.460000000000008,81.45,76.149999999999991,80.86,59.61,null,79.489999999999995,5.5,437.2,375.99,43.72]
["26075","Michigan","Jackson","Wheat","JacksonWheatAll","All",75.16,81.900000000000006,76.27,63.63,68.87,null,73.430000000000007,5.5,403.87,347.33,40.39]
["26077","Michigan","Kalamazoo","Wheat","KalamazooWheatAll","All",73.89,74.63,72.319999999999993,67.47,62.41,null,71.23,5.5,391.77,336.92,39.18]
["26079","Michigan","Kalkaska","Wheat","KalkaskaWheatAll","All",72.099999999999994,67.540000000000006,52,71.56,53.1,null,64.069999999999993,5.5,352.39,303.06,35.24]
["26081","Michigan","Kent","Wheat","KentWheatAll","All",68.320000000000007,83.91,60.54,77.02,67.900000000000006,null,71.08,5.5,390.94,336.21,39.090000000000003]
["26087","Michigan","Lapeer","Wheat","LapeerWheatAll","All",79.900000000000006,91.66,76.14,80.02,58.05,null,78.69,5.5,432.8,372.21,43.28]
["26089","Michigan","Leelanau","Wheat","LeelanauWheatAll","All",51,55,52,40,53.1,null,52.03,5.5,286.17,246.11,28.62]
["26091","Michigan","Lenawee","Wheat","LenaweeWheatAll","All",65.8,100.4,88.09,81.14,62.199999999999996,null,78.34,5.5,430.87,370.55,43.09]
["26093","Michigan","Livingston","Wheat","LivingstonWheatAll","All",78.41,84.02,79.72,72.309999999999988,56.43,null,76.81,5.5,422.46,363.32,42.25]
["26099","Michigan","Macomb","Wheat","MacombWheatAll","All",71.22,85.67,69.459999999999994,72.53,65.660000000000011,null,71.069999999999993,5.5,390.89,336.17,39.090000000000003]
["26101","Michigan","Manistee","Wheat","ManisteeWheatAll","All",51,55,52,40,53.1,null,52.03,5.5,286.17,246.11,28.62]
["26105","Michigan","Mason","Wheat","MasonWheatAll","All",59.92,73.52,58.839999999999996,57.46,59.81,null,59.52,5.5,327.36,281.52999999999997,32.74]
["26107","Michigan","Mecosta","Wheat",{"$f":"C165&D165&F165","v":"MecostaWheatAll"},"All",76.25,78.239999999999995,61.35,59.08,50.33,null,65.56,5.5,360.58,310.10000000000002,36.06]
["26111","Michigan","Midland","Wheat","MidlandWheatAll","All",97.38000000000001,87.85,70.989999999999995,90.08,64.600000000000009,null,82.97,5.5,456.34,392.45,45.63]
["26115","Michigan","Monroe","Wheat","MonroeWheatAll","All",67.010000000000005,90.61,88.039999999999992,80.94,62.199999999999996,null,78.66,5.5,432.63,372.06,43.26]
["26117","Michigan","Montcalm","Wheat","MontcalmWheatIrrigated","Irrigated",87.58,80.69,74.44,72.66,74.11,null,76.41,5.5,420.26,361.42,42.03]
["26117","Michigan","Montcalm","Wheat","MontcalmWheatNonirrigated","Nonirrigated",80.11999999999999,78.28,66.05,73.38000000000001,62.040000000000006,null,72.569999999999993,5.5,399.14,343.26,39.909999999999997]
["26121","Michigan","Muskegon","Wheat","MuskegonWheatAll","All",52.93,63.66,63.79,57.43,50.49,null,58.01,5.5,319.06,274.39,31.91]
["26123","Michigan","Newaygo","Wheat","NewaygoWheatAll","All",62.45,68.66,71.88,68.819999999999993,49.33,null,66.64,5.5,366.52,315.20999999999998,36.65]
["26127","Michigan","Oceana","Wheat","OceanaWheatAll","All",66.06,63.29,76.040000000000006,67.53,54.220000000000006,null,65.63,5.5,360.97,310.43,36.1]
["26131","Michigan","Ontonagon","Wheat","OntonagonWheatAll","All",51,55,52,40,53.1,null,52.03,5.5,286.17,246.11,28.62]
["26133","Michigan","Osceola","Wheat","OsceolaWheatAll","All",73.88,50.27,69,57.92,53.71,null,60.21,5.5,331.16,284.8,33.119999999999997]
["26139","Michigan","Ottawa","Wheat","OttawaWheatAll","All",73.88000000000001,90.11,57.9,76.19,58.43,null,69.5,5.5,382.25,328.74,38.229999999999997]
["26141","Michigan","Presque Isle","Wheat","Presque IsleWheatAll","All",68.72,44.97,58,44.7,49,null,50.66,5.5,278.63,239.62,27.86]
["26145","Michigan","Saginaw","Wheat","SaginawWheatAll","All",93.01,96.72,78.61999999999999,89,74.930000000000007,null,86.88,5.5,477.84,410.94,47.78]
["26151","Michigan","Sanilac","Wheat","SanilacWheatAll","All",100.56,107.95,90.7,92.36999999999999,76.430000000000007,null,94.54,5.5,519.97,447.17,52]
["26155","Michigan","Shiawassee","Wheat","ShiawasseeWheatAll","All",89.01,82.74,69.61,90.22,62.97,null,80.45,5.5,442.48,380.53,44.25]
["26147","Michigan","St. Clair","Wheat","St. ClairWheatAll","All",69.540000000000006,78.58,69.77,83.52,55,null,72.63,5.5,399.47,343.54,39.950000000000003]
["26157","Michigan","Tuscola","Wheat","TuscolaWheatAll","All",99.78,97.48,89.45,85.44,78.95,null,90.79,5.5,499.35,429.44,49.94]
["26161","Michigan","Washtenaw","Wheat","WashtenawWheatAll","All",72.33,89.94,81.84,70.339999999999989,61.339999999999996,null,74.84,5.5,411.62,353.99,41.16]
["26165","Michigan","Wexford","Wheat","WexfordWheatAll","All",47.85,55,52,40,53.1,null,50.98,5.5,280.39,241.14,28.04]

{"sheet":"FSA22","index":6,"n_rows":286,"n_cols":17,"rows_kept":286,"cut":false,"hidden":true,"merged":[]}
["ARC-CO TREND ADJUSTED YIELDS, BENCHMARK YIELDS AND GUARANTEE REVENUES FOR PROGRAM YEAR 2022",null,null,null,null,null,null,null,null,null,null,null,"Program Year 2022 Benchmark Yields and  Revenues"]
[null,null,null,null,null,null,null,null,null,null,null,null,"A","B","C","D","E"]
[null,null,null,null,1,2,3,4,5,6,7,8,9,null,"(A * B)","(86% of C)","(10% of C)"]
["ST_Cty","State Name","County Name","Crop Name","Helper Column","ARC-CO Yield Designation","2016 trend adjusted (county yield or 80% of T)","2017 trend adjusted (county yield or 80% of T)","2018 trend adjusted (county yield or 80% of T)","2019 trend adjusted (county yield or 80% of T)","2020 trend adjusted (county yield or 80% of T)",null,"2022 Bench Mark \n(2016-20 olympic avg)","2022 Bench Mark Price \n(2016-2020 olympic avg)","2022 Benchmark Revenue","2022 Guarantee Revenue","2022 Maximum Payment Rate"]
["26001","Michigan","Alcona","Corn",{"$f":"C5&D5&F5","v":"AlconaCornAll"},"All",121.9,133.65,125.58999999999999,92.98,144,null,127.05,3.7,470.09,404.28,47.01]
["26003","Michigan","Alger","Corn",{"$f":"C6&D6&F6","v":"AlgerCornAll"},"All",87,58.4,111,58.49,183.9,null,85.5,3.7,316.35000000000002,272.06,31.64]
["26005","Michigan","Allegan","Corn","AlleganCornIrrigated","Irrigated",226.20999999999998,229.76999999999998,208.89,197.01,210.73,null,215.28,3.7,796.54,685.02,79.650000000000006]
["26005","Michigan","Allegan","Corn","AlleganCornNonirrigated","Nonirrigated",180.04000000000002,186.28,159.1,158.26,170.07000000000002,null,169.74,3.7,628.04,540.11,62.8]
["26007","Michigan","Alpena","Corn","AlpenaCornAll","All",103.23,148.13,114.83,119.68,164.39,null,127.55,3.7,471.94,405.87,47.19]
["26009","Michigan","Antrim","Corn","AntrimCornAll","All",103.56,139.97,114.76,94.61999999999999,146.66,null,119.43,3.7,441.89,380.03,44.19]
["26011","Michigan","Arenac","Corn","ArenacCornAll","All",152.80000000000001,173.67999999999998,172.98,140.41999999999999,150.84,null,158.87,3.7,587.82000000000005,505.53,58.78]
["26013","Michigan","Baraga","Corn","BaragaCornAll","All",87,84,111,84,140.19999999999999,null,94,3.7,347.8,299.11,34.78]
["26015","Michigan","Barry","Corn","BarryCornIrrigated","Irrigated",190.31,205.53,192.5,179.51,212.28,null,196.11,3.7,725.61,624.02,72.56]
["26015","Michigan","Barry","Corn","BarryCornNonirrigated","Nonirrigated",149.68,174.19,150.24,140.62,163.53,null,154.47999999999999,3.7,571.58000000000004,491.56,57.16]
["26017","Michigan","Bay","Corn","BayCornIrrigated","Irrigated",204.01999999999998,188.09,203.51000000000002,179.77,193.53,null,195.04,3.7,721.65,620.62,72.17]
["26017","Michigan","Bay","Corn","BayCornNonirrigated","Nonirrigated",178.39,177.52,191.59,163.80000000000001,166.28,null,174.06,3.7,644.02,553.86,64.400000000000006]
["26019","Michigan","Benzie","Corn","BenzieCornAll","All",106.64,132.97,115.84,95.3,108.62,null,110.37,3.7,408.37,351.2,40.840000000000003]
["26021","Michigan","Berrien","Corn","BerrienCornIrrigated","Irrigated",212.73999999999998,240.72,213.29000000000002,193.24,208.39000000000001,null,211.47,3.7,782.44,672.9,78.239999999999995]
["26021","Michigan","Berrien","Corn","BerrienCornNonirrigated","Nonirrigated",173.78,182,170.88,151.11000000000001,159.86000000000001,null,168.17,3.7,622.23,535.12,62.22]
["26023","Michigan","Branch","Corn","BranchCornIrrigated","Irrigated",198.15,202.65,190.88,197.12,202.16,null,199.14,3.7,736.82,633.66999999999996,73.680000000000007]
["26023","Michigan","Branch","Corn","BranchCornNonirrigated","Nonirrigated",169.15,164.71,157.55000000000001,156.16,155.34,null,159.47,3.7,590.04,507.43,59]
["26025","Michigan","Calhoun","Corn","CalhounCornIrrigated","Irrigated",197.93,198.98,189.4,160.16999999999999,184.73,null,190.69,3.7,705.55,606.77,70.56]
["26025","Michigan","Calhoun","Corn","CalhounCornNonirrigated","Nonirrigated",143.5,144.05000000000001,147.58000000000001,134.65,133.93,null,140.72999999999999,3.7,520.70000000000005,447.8,52.07]
["26027","Michigan","Cass","Corn","CassCornIrrigated","Irrigated",199.67000000000002,222.22,160.63999999999999,190.17999999999998,208.97,null,199.61,3.7,738.56,635.16,73.86]
["26027","Michigan","Cass","Corn","CassCornNonirrigated","Nonirrigated",128.91,162.15,152.32,134.83000000000001,138.24,null,141.80000000000001,3.7,524.66,451.21,52.47]
["26029","Michigan","Charlevoix","Corn","CharlevoixCornAll","All",109.97,120.45,116.16,119.97,143.58000000000001,null,118.86,3.7,439.78,378.21,43.98]
["26031","Michigan","Cheboygan","Corn","CheboyganCornAll","All",97,131,117,110.3,129.9,null,119.07,3.7,440.56,378.88,44.06]
["26033","Michigan","Chippewa","Corn","ChippewaCornAll","All",87,84,111,93.6,182.7,null,97.2,3.7,359.64,309.29000000000002,35.96]
["26035","Michigan","Clare","Corn","ClareCornAll","All",125.08999999999999,138.05000000000001,144.51,112.48,163.82000000000002,null,135.88,3.7,502.76,432.37,50.28]
["26037","Michigan","Clinton","Corn","ClintonCornIrrigated","Irrigated",188.51999999999998,196.01000000000002,205.22,199.32,201.69,null,199.01,3.7,736.34,633.25,73.63]
["26037","Michigan","Clinton","Corn","ClintonCornNonirrigated","Nonirrigated",162.94,157.85,149.04,153.24,157.44,null,156.18,3.7,577.87,496.97,57.79]
["26041","Michigan","Delta","Corn","DeltaCornAll","All",123.01,59.449999999999996,157.22999999999999,59.43,187.5,null,113.23,3.7,418.95,360.3,41.9]
["26043","Michigan","Dickinson","Corn","DickinsonCornAll","All",66.09,80.84,157.62,61.6,180.08,null,101.52,3.7,375.62,323.02999999999997,37.56]
["26045","Michigan","Eaton","Corn","EatonCornAll","All",156.6,184.61,161.19,139.94,159.30000000000001,null,159.03,3.7,588.41,506.03,58.84]
["26047","Michigan","Emmet","Corn","EmmetCornAll","All",112.91,125.2,115.16,83.92,130.98000000000002,null,117.76,3.7,435.71,374.71,43.57]
["26049","Michigan","Genesee","Corn","GeneseeCornAll","All",161.13,176.58,168.46,143.5,153.38999999999999,null,160.99,3.7,595.66,512.27,59.57]
["26051","Michigan","Gladwin","Corn","GladwinCornAll","All",156.63,152.26000000000002,173.21,137.13,154.91999999999999,null,154.6,3.7,572.02,491.94,57.2]
["26055","Michigan","Grand Traverse","Corn","Grand TraverseCornAll","All",83.539999999999992,132.18,87.67,104.6,105.67999999999999,null,99.32,3.7,367.48,316.02999999999997,36.75]
["26057","Michigan","Gratiot","Corn","GratiotCornIrrigated","Irrigated",188.29,185.76999999999998,195.83,184.07000000000002,200.35,null,189.96,3.7,702.85,604.45000000000005,70.290000000000006]
["26057","Michigan","Gratiot","Corn","GratiotCornNonirrigated","Nonirrigated",177.97000000000003,163.73000000000002,173.9,151.38,169.28,null,168.97,3.7,625.19000000000005,537.66,62.52]
["26059","Michigan","Hillsdale","Corn","HillsdaleCornIrrigated","Irrigated",194.38000000000002,202.01999999999998,185.9,196.62,211.82,null,197.67,3.7,731.38,628.99,73.14]
["26059","Michigan","Hillsdale","Corn","HillsdaleCornNonirrigated","Nonirrigated",173.02,170.29,162.57000000000002,161.67999999999998,153.16,null,164.85,3.7,609.95000000000005,524.55999999999995,61]
["26061","Michigan","Houghton","Corn","HoughtonCornAll","All",87,58.4,111,58.49,138.6,null,85.5,3.7,316.35000000000002,272.06,31.64]
["26063","Michigan","Huron","Corn","HuronCornIrrigated","Irrigated",241.15,206.61999999999998,205.42000000000002,205.04000000000002,215.95000000000002,null,209.33,3.7,774.52,666.09,77.45]
["26063","Michigan","Huron","Corn","HuronCornNonirrigated","Nonirrigated",174.95,203.45,177.14000000000001,177.67000000000002,197.35,null,184.05,3.7,680.99,585.65,68.099999999999994]
["26065","Michigan","Ingham","Corn","InghamCornAll","All",167.32,171.02,157.93,158.99,160.97999999999999,null,162.43,3.7,600.99,516.85,60.1]
["26067","Michigan","Ionia","Corn","IoniaCornIrrigated","Irrigated",222.95,208.07,217.12,193.7,218.01,null,214.4,3.7,793.28,682.22,79.33]
["26067","Michigan","Ionia","Corn","IoniaCornNonirrigated","Nonirrigated",181.65,174.04999999999998,170.54999999999998,161.32000000000002,160.76000000000002,null,168.64,3.7,623.97,536.61,62.4]
["26069","Michigan","Iosco","Corn","IoscoCornAll","All",142.59,173.31,162.94999999999999,141.35999999999999,152.21,null,152.58000000000001,3.7,564.54999999999995,485.51,56.46]
["26071","Michigan","Iron","Corn","IronCornAll","All",87,84,111,84,154.83000000000001,null,94,3.7,347.8,299.11,34.78]
["26073","Michigan","Isabella","Corn","IsabellaCornIrrigated","Irrigated",164.74,181.4,186.33,171.51999999999998,174.66000000000003,null,175.86,3.7,650.67999999999995,559.58000000000004,65.069999999999993]
["26073","Michigan","Isabella","Corn","IsabellaCornNonirrigated","Nonirrigated",166.93,163.08000000000001,152.61999999999998,143.95999999999998,132.32,null,153.22,3.7,566.91,487.54,56.69]
["26075","Michigan","Jackson","Corn","JacksonCornIrrigated","Irrigated",206.12,230.11999999999998,209.16,204.39,216.20999999999998,null,210.5,3.7,778.85,669.81,77.89]
["26075","Michigan","Jackson","Corn","JacksonCornNonirrigated","Nonirrigated",123.45,132.68,135.73000000000002,155.98999999999998,136.30000000000001,null,134.9,3.7,499.13,429.25,49.91]
["26077","Michigan","Kalamazoo","Corn","KalamazooCornIrrigated","Irrigated",215.09,218.97,159.96,192.35,215.41,null,207.62,3.7,768.19,660.64,76.819999999999993]
["26077","Michigan","Kalamazoo","Corn","KalamazooCornNonirrigated","Nonirrigated",162.30000000000001,150.48000000000002,152.04,142.51,139.35000000000002,null,148.34,3.7,548.86,472.02,54.89]
["26079","Michigan","Kalkaska","Corn","KalkaskaCornAll","All",68,129,111,62.4,104.2,null,94.4,3.7,349.28,300.38,34.93]
["26081","Michigan","Kent","Corn","KentCornIrrigated","Irrigated",199,203.8,168.71,179.76999999999998,198.17000000000002,null,192.31,3.7,711.55,611.92999999999995,71.16]
["26081","Michigan","Kent","Corn","KentCornNonirrigated","Nonirrigated",170.76,156.66,149.38,149.57,167.51,null,157.91,3.7,584.27,502.47,58.43]
["26085","Michigan","Lake","Corn","LakeCornAll","All",152.08000000000001,140,78.17,138.51,154.4,null,143.53,3.7,531.05999999999995,456.71,53.11]
["26087","Michigan","Lapeer","Corn","LapeerCornAll","All",183.55,192.11999999999998,182.17000000000002,149.44999999999999,175.41,null,180.38,3.7,667.41,573.97,66.739999999999995]
["26089","Michigan","Leelanau","Corn","LeelanauCornAll","All",67.599999999999994,116.95,99.24,106.7,132.46,null,107.63,3.7,398.23,342.48,39.82]
["26091","Michigan","Lenawee","Corn","LenaweeCornIrrigated","Irrigated",204.54,230.84,209.51000000000002,214.74,214.41,null,212.89,3.7,787.69,677.41,78.77]
["26091","Michigan","Lenawee","Corn","LenaweeCornNonirrigated","Nonirrigated",183.88,187.73000000000002,166.2,174.6,167.87,null,175.45,3.7,649.16999999999996,558.29,64.92]
["26093","Michigan","Livingston","Corn","LivingstonCornAll","All",157.03,165.95,137.88,166.72,168.42,null,163.22999999999999,3.7,603.95000000000005,519.4,60.4]
["26095","Michigan","Luce","Corn","LuceCornAll","All",87,61.6,111,61.6,182.4,null,86.53,3.7,320.16000000000003,275.33999999999997,32.020000000000003]
["26097","Michigan","Mackinac","Corn","MackinacCornAll","All",87,61.6,111,61.6,182.9,null,86.53,3.7,320.16000000000003,275.33999999999997,32.020000000000003]
["26099","Michigan","Macomb","Corn","MacombCornAll","All",191.29,188.22,188.19,157.83000000000001,167.74,null,181.38,3.7,671.11,577.15,67.11]
["26101","Michigan","Manistee","Corn","ManisteeCornAll","All",155,125.07000000000001,146.29,106.55,118.17999999999999,null,129.85,3.7,480.45,413.19,48.05]
["26103","Michigan","Marquette","Corn",{"$f":"C70&D70&F70","v":"MarquetteCornAll"},"All",87,58.4,111,58.49,184,null,85.5,3.7,316.35000000000002,272.06,31.64]
["26105","Michigan","Mason","Corn","MasonCornIrrigated","Irrigated",190.28,204.64000000000001,183.23999999999998,175.71,196.53,null,190.02,3.7,703.07,604.64,70.31]
["26105","Michigan","Mason","Corn","MasonCornNonirrigated","Nonirrigated",155.88999999999999,175.89000000000001,137.19,139.04000000000002,159.75,null,151.56,3.7,560.77,482.26,56.08]
["26107","Michigan","Mecosta","Corn","MecostaCornIrrigated","Irrigated",180.59,194.82000000000002,159.84,169.79999999999998,185.76,null,178.72,3.7,661.26,568.67999999999995,66.13]
["26107","Michigan","Mecosta","Corn","MecostaCornNonirrigated","Nonirrigated",139.85000000000002,132.87,121.68,118.29,95.34,null,124.28,3.7,459.84,395.46,45.98]
["26109","Michigan","Menominee","Corn","MenomineeCornAll","All",134.79,68.099999999999994,153.77000000000001,65.66,192.13,null,118.89,3.7,439.89,378.31,43.99]
["26111","Michigan","Midland","Corn","MidlandCornIrrigated","Irrigated",193.23999999999998,181.35,193.45,185.45000000000002,178.63,null,186.68,3.7,690.72,594.02,69.069999999999993]
["26111","Michigan","Midland","Corn","MidlandCornNonirrigated","Nonirrigated",175.74,165.97,170.54000000000002,151.13,163.14000000000001,null,166.55,3.7,616.24,529.97,61.62]
["26113","Michigan","Missaukee","Corn","MissaukeeCornIrrigated","Irrigated",181.81,200.85000000000002,197.27,185.01000000000002,214.23,null,194.38,3.7,719.21,618.52,71.92]
["26113","Michigan","Missaukee","Corn","MissaukeeCornNonirrigated","Nonirrigated",139.54999999999998,157.22999999999999,126.04,147.98000000000002,150.85,null,146.13,3.7,540.67999999999995,464.98,54.07]
["26115","Michigan","Monroe","Corn","MonroeCornIrrigated","Irrigated",215.08,227.35,177.20999999999998,223.04000000000002,223.60000000000002,null,220.57,3.7,816.11,701.85,81.61]
["26115","Michigan","Monroe","Corn","MonroeCornNonirrigated","Nonirrigated",185.49,200.62,178.68,187.37,147.59,null,183.85,3.7,680.25,585.02,68.03]
["26117","Michigan","Montcalm","Corn","MontcalmCornIrrigated","Irrigated",201.87,193.10999999999999,199.06,182.92000000000002,194.98,null,195.72,3.7,724.16,622.78,72.42]
["26117","Michigan","Montcalm","Corn","MontcalmCornNonirrigated","Nonirrigated",159.64000000000001,140.13,137.32,127.65,132.43,null,136.63,3.7,505.53,434.76,50.55]
["26119","Michigan","Montmorency","Corn","MontmorencyCornAll","All",86.46,148.05000000000001,87.24,119.83,142.82,null,116.63,3.7,431.53,371.12,43.15]
["26121","Michigan","Muskegon","Corn","MuskegonCornIrrigated","Irrigated",189.52,174.26999999999998,140.38,125.15,163.76,null,159.47,3.7,590.04,507.43,59]
["26121","Michigan","Muskegon","Corn","MuskegonCornNonirrigated","Nonirrigated",161.86000000000001,146.34,130.36000000000001,112.59,152.45000000000002,null,143.05000000000001,3.7,529.29,455.19,52.93]
["26123","Michigan","Newaygo","Corn","NewaygoCornIrrigated","Irrigated",200.39000000000001,191.51,180.83,160.12,184.33,null,185.56,3.7,686.57,590.45000000000005,68.66]
["26123","Michigan","Newaygo","Corn","NewaygoCornNonirrigated","Nonirrigated",164.18,139.55000000000001,104.49,127.08,158.76000000000002,null,141.80000000000001,3.7,524.66,451.21,52.47]
["26125","Michigan","Oakland","Corn","OaklandCornAll","All",157.13,151.57,125.87,127.50999999999999,134.04,null,137.71,3.7,509.53,438.2,50.95]
["26127","Michigan","Oceana","Corn","OceanaCornIrrigated","Irrigated",172.26,170.24,147.02000000000001,142.41999999999999,173.94,null,163.16999999999999,3.7,603.73,519.21,60.37]
["26127","Michigan","Oceana","Corn","OceanaCornNonirrigated","Nonirrigated",138.86000000000001,144.04,102.69999999999999,115.4,124.52000000000001,null,126.26,3.7,467.16,401.76,46.72]
["26129","Michigan","Ogemaw","Corn","OgemawCornAll","All",150.89000000000001,158.1,169.95000000000002,150.33000000000001,150.78,null,153.26,3.7,567.05999999999995,487.67,56.71]
["26131","Michigan","Ontonagon","Corn","OntonagonCornAll","All",87,58.4,111,58.49,141.9,null,85.5,3.7,316.35000000000002,272.06,31.64]
["26133","Michigan","Osceola","Corn","OsceolaCornAll","All",130.53,166.68,120.11,142.26999999999998,162.04000000000002,null,144.94999999999999,3.7,536.32000000000005,461.24,53.63]
["26135","Michigan","Oscoda","Corn","OscodaCornAll","All",117,131,117,110.3,147.5,null,121.67,3.7,450.18,387.15,45.02]
["26137","Michigan","Otsego","Corn","OtsegoCornAll","All",83.46,138.48000000000002,98.97,131.5,149.72,null,122.98,3.7,455.03,391.33,45.5]
["26139","Michigan","Ottawa","Corn","OttawaCornIrrigated","Irrigated",204.66,193.23,192.42000000000002,170.89999999999998,199.53,null,195.06,3.7,721.72,620.67999999999995,72.17]
["26139","Michigan","Ottawa","Corn","OttawaCornNonirrigated","Nonirrigated",188.3,172.76999999999998,145.56,141.82999999999998,139.84,null,153.38999999999999,3.7,567.54,488.08,56.75]
["26141","Michigan","Presque Isle","Corn","Presque IsleCornAll","All",81.97999999999999,131.22,91.11,90.240000000000009,119.54,null,100.3,3.7,371.11,319.14999999999998,37.11]
["26145","Michigan","Saginaw","Corn","SaginawCornAll","All",186.18,176.03,187.5,152.78,162.84,null,175.02,3.7,647.57000000000005,556.91,64.760000000000005]
["26151","Michigan","Sanilac","Corn","SanilacCornAll","All",203.28,203.28,190.09,179.08,197.06,null,196.81,3.7,728.2,626.25,72.819999999999993]
["26153","Michigan","Schoolcraft","Corn","SchoolcraftCornAll","All",87,61.6,111,61.6,182.9,null,86.53,3.7,320.16000000000003,275.33999999999997,32.020000000000003]
["26155","Michigan","Shiawassee","Corn","ShiawasseeCornAll","All",164,163.79,159.1,157.5,174.27,null,162.30000000000001,3.7,600.51,516.44000000000005,60.05]
["26147","Michigan","St. Clair","Corn","St. ClairCornAll","All",177.08999999999997,174.5,185.42999999999998,157.45999999999998,173.24,null,174.94,3.7,647.28,556.66,64.73]
["26149","Michigan","St. Joseph","Corn","St. JosephCornIrrigated","Irrigated",156.69999999999999,150.25,149.30000000000001,150.54999999999998,188.6,null,152.5,3.7,564.25,485.26,56.43]
["26149","Michigan","St. Joseph","Corn","St. JosephCornNonirrigated","Nonirrigated",110.26,107.05,157.84,126.33,122.52,null,119.7,3.7,442.89,380.89,44.29]
["26157","Michigan","Tuscola","Corn","TuscolaCornIrrigated","Irrigated",197.82,190.96,216.25,184.7,196.73999999999998,null,195.17,3.7,722.13,621.03,72.209999999999994]
["26157","Michigan","Tuscola","Corn","TuscolaCornNonirrigated","Nonirrigated",191.03,180,178.35000000000002,170.23,177.76000000000002,null,178.7,3.7,661.19,568.62,66.12]
["26159","Michigan","Van Buren","Corn","Van BurenCornIrrigated","Irrigated",230.26000000000002,211.69,213.72,196.26999999999998,195.04000000000002,null,207.23,3.7,766.75,659.41,76.680000000000007]
["26159","Michigan","Van Buren","Corn","Van BurenCornNonirrigated","Nonirrigated",163.21,165.51999999999998,148.36000000000001,127.12,129,null,146.86000000000001,3.7,543.38,467.31,54.34]
["26161","Michigan","Washtenaw","Corn","WashtenawCornIrrigated","Irrigated",217.45,228,215.94,223.57,176.63,null,218.99,3.7,810.26,696.82,81.03]
["26161","Michigan","Washtenaw","Corn","WashtenawCornNonirrigated","Nonirrigated",145.59,157.07000000000002,138.52000000000001,155.74,149.66999999999999,null,150.33000000000001,3.7,556.22,478.35,55.62]
["26163","Michigan","Wayne","Corn","WayneCornAll","All",115.99,144.5,122.67,134.5,97.11,null,124.39,3.7,460.24,395.81,46.02]
["26165","Michigan","Wexford","Corn","WexfordCornIrrigated","Irrigated",121.72,188.6,114.48,130.96,180.84,null,144.51,3.7,534.69000000000005,459.83,53.47]
["26165","Michigan","Wexford","Corn","WexfordCornNonirrigated","Nonirrigated",105.19,161.83000000000001,157.44,123.3,124.92,null,135.22,3.7,500.31,430.27,50.03]
["26001","Michigan","Alcona","Soybeans","AlconaSoybeansAll","All",40,37,35.03,35.229999999999997,38.200000000000003,null,36.81,9.1199999999999992,335.71,288.70999999999998,33.57]
["26005","Michigan","Allegan","Soybeans","AlleganSoybeansIrrigated","Irrigated",63.52,59,64.259999999999991,62.67,64.899999999999991,null,63.48,9.1199999999999992,578.94000000000005,497.89,57.89]
["26005","Michigan","Allegan","Soybeans","AlleganSoybeansNonirrigated","Nonirrigated",55.41,50.37,52.03,39.369999999999997,46.699999999999996,null,49.7,9.1199999999999992,453.26,389.8,45.33]
["26007","Michigan","Alpena","Soybeans","AlpenaSoybeansAll","All",28.83,35.409999999999997,38.04,26.700000000000003,46.620000000000005,null,34.090000000000003,9.1199999999999992,310.89999999999998,267.37,31.09]
["26009","Michigan","Antrim","Soybeans","AntrimSoybeansAll","All",36,37,37,34.4,35.6,null,36.200000000000003,9.1199999999999992,330.14,283.92,33.01]
["26011","Michigan","Arenac","Soybeans","ArenacSoybeansAll","All",48.35,43.910000000000004,48.35,33.78,42.71,null,44.99,9.1199999999999992,410.31,352.87,41.03]
["26015","Michigan","Barry","Soybeans","BarrySoybeansIrrigated","Irrigated",64.28,58.86,61.74,47.6,58.38,null,59.66,9.1199999999999992,544.1,467.93,54.41]
["26015","Michigan","Barry","Soybeans","BarrySoybeansNonirrigated","Nonirrigated",52.33,45.96,48.57,48.66,44.61,null,47.73,9.1199999999999992,435.3,374.36,43.53]
["26017","Michigan","Bay","Soybeans","BaySoybeansIrrigated","Irrigated",64.42,42.27,54.050000000000004,51.28,62.230000000000004,null,55.85,9.1199999999999992,509.35,438.04,50.94]
["26017","Michigan","Bay","Soybeans","BaySoybeansNonirrigated","Nonirrigated",59.46,50.27,59.58,39.020000000000003,52.06,null,53.93,9.1199999999999992,491.84,422.98,49.18]
["26021","Michigan","Berrien","Soybeans","BerrienSoybeansIrrigated","Irrigated",69.570000000000007,57.339999999999996,68.260000000000005,55.2,65.77,null,63.79,9.1199999999999992,581.76,500.31,58.18]
["26021","Michigan","Berrien","Soybeans","BerrienSoybeansNonirrigated","Nonirrigated",53.84,43.44,53.129999999999995,40.43,43.89,null,46.82,9.1199999999999992,427,367.22,42.7]
["26023","Michigan","Branch","Soybeans","BranchSoybeansIrrigated","Irrigated",59.7,53.56,59.99,55.82,59,null,58.17,9.1199999999999992,530.51,456.24,53.05]
["26023","Michigan","Branch","Soybeans","BranchSoybeansNonirrigated","Nonirrigated",53.78,41.37,47.95,44.57,45.89,null,46.14,9.1199999999999992,420.8,361.89,42.08]
["26025","Michigan","Calhoun","Soybeans","CalhounSoybeansIrrigated","Irrigated",63.81,54.949999999999996,64.899999999999991,51.16,58.92,null,59.23,9.1199999999999992,540.17999999999995,464.55,54.02]
["26025","Michigan","Calhoun","Soybeans","CalhounSoybeansNonirrigated","Nonirrigated",49.5,35.6,44.84,37.43,40.83,null,41.03,9.1199999999999992,374.19,321.8,37.42]
["26027","Michigan","Cass","Soybeans","CassSoybeansIrrigated","Irrigated",67.08,59.199999999999996,51.84,61.940000000000005,64.44,null,61.86,9.1199999999999992,564.16,485.18,56.42]
["26027","Michigan","Cass","Soybeans","CassSoybeansNonirrigated","Nonirrigated",44.69,43.54,50.72,42.97,40.28,null,43.73,9.1199999999999992,398.82,342.99,39.880000000000003]
["26029","Michigan","Charlevoix","Soybeans",{"$f":"C134&D134&F134","v":"CharlevoixSoybeansAll"},"All",44,40.799999999999997,40.799999999999997,40.799999999999997,40.799999999999997,null,40.799999999999997,9.1199999999999992,372.1,320.01,37.21]
["26031","Michigan","Cheboygan","Soybeans","CheboyganSoybeansAll","All",44.8,40.799999999999997,40.799999999999997,40.799999999999997,40.799999999999997,null,40.799999999999997,9.1199999999999992,372.1,320.01,37.21]
["26035","Michigan","Clare","Soybeans","ClareSoybeansAll","All",39.47,34.130000000000003,33.950000000000003,26.43,30.79,null,32.96,9.1199999999999992,300.60000000000002,258.52,30.06]
["26037","Michigan","Clinton","Soybeans","ClintonSoybeansIrrigated","Irrigated",65.88,52.53,48.72,47.54,48.56,null,49.94,9.1199999999999992,455.45,391.69,45.55]
["26037","Michigan","Clinton","Soybeans","ClintonSoybeansNonirrigated","Nonirrigated",57.86,42.75,43.32,40.54,48.56,null,44.88,9.1199999999999992,409.31,352.01,40.93]
["26041","Michigan","Delta","Soybeans","DeltaSoybeansAll","All",35,37,37,34.4,40.1,null,36.33,9.1199999999999992,331.33,284.94,33.130000000000003]
["26045","Michigan","Eaton","Soybeans","EatonSoybeansIrrigated","Irrigated",51.82,53.8,64.13000000000001,47.63,53.93,null,53.18,9.1199999999999992,485,417.1,48.5]
["26045","Michigan","Eaton","Soybeans","EatonSoybeansNonirrigated","Nonirrigated",54.260000000000005,45.019999999999996,51.24,36.910000000000004,49.74,null,48.67,9.1199999999999992,443.87,381.73,44.39]
["26047","Michigan","Emmet","Soybeans","EmmetSoybeansAll","All",41.6,40.799999999999997,40.799999999999997,40.799999999999997,40.799999999999997,null,40.799999999999997,9.1199999999999992,372.1,320.01,37.21]
["26049","Michigan","Genesee","Soybeans","GeneseeSoybeansAll","All",45.69,42.55,49.25,38.49,45.839999999999996,null,44.69,9.1199999999999992,407.57,350.51,40.76]
["26051","Michigan","Gladwin","Soybeans","GladwinSoybeansAll","All",45.12,40.799999999999997,42.71,33.200000000000003,41.519999999999996,null,41.68,9.1199999999999992,380.12,326.89999999999998,38.01]
["26055","Michigan","Grand Traverse","Soybeans","Grand TraverseSoybeansAll","All",30.48,34.869999999999997,27.75,34.4,35.9,null,33.25,9.1199999999999992,303.24,260.79000000000002,30.32]
["26057","Michigan","Gratiot","Soybeans","GratiotSoybeansIrrigated","Irrigated",59.96,50.8,56.78,47.17,50.52,null,52.7,9.1199999999999992,480.62,413.33,48.06]
["26057","Michigan","Gratiot","Soybeans","GratiotSoybeansNonirrigated","Nonirrigated",57.96,44.959999999999994,54.47,40.81,51.64,null,50.36,9.1199999999999992,459.28,394.98,45.93]
["26059","Michigan","Hillsdale","Soybeans","HillsdaleSoybeansIrrigated","Irrigated",59.33,51.870000000000005,56.75,54.92,58.29,null,56.65,9.1199999999999992,516.65,444.32,51.67]
["26059","Michigan","Hillsdale","Soybeans","HillsdaleSoybeansNonirrigated","Nonirrigated",57.33,45.39,48.34,44,48.56,null,47.43,9.1199999999999992,432.56,372,43.26]
["26063","Michigan","Huron","Soybeans","HuronSoybeansIrrigated","Irrigated",56.3,50.13,58.800000000000004,46.05,60.5,null,55.08,9.1199999999999992,502.33,432,50.23]
["26063","Michigan","Huron","Soybeans","HuronSoybeansNonirrigated","Nonirrigated",60.379999999999995,56.47,49,46.94,51.33,null,52.27,9.1199999999999992,476.7,409.96,47.67]
["26065","Michigan","Ingham","Soybeans","InghamSoybeansIrrigated","Irrigated",48.01,41.690000000000005,49.489999999999995,47.660000000000004,49.339999999999996,null,48.34,9.1199999999999992,440.86,379.14,44.09]
["26065","Michigan","Ingham","Soybeans","InghamSoybeansNonirrigated","Nonirrigated",56.23,50.14,53.809999999999995,41.36,49.48,null,51.14,9.1199999999999992,466.4,401.1,46.64]
["26067","Michigan","Ionia","Soybeans","IoniaSoybeansIrrigated","Irrigated",63.4,59.17,61.33,60.24,64.38,null,61.66,9.1199999999999992,562.34,483.61,56.23]
["26067","Michigan","Ionia","Soybeans","IoniaSoybeansNonirrigated","Nonirrigated",59.62,46.269999999999996,55.87,47.67,47.49,null,50.34,9.1199999999999992,459.1,394.83,45.91]
["26069","Michigan","Iosco","Soybeans","IoscoSoybeansAll","All",43.79,38.21,47.05,32.11,32.46,null,38.15,9.1199999999999992,347.93,299.22000000000003,34.79]
["26073","Michigan","Isabella","Soybeans","IsabellaSoybeansIrrigated","Irrigated",55.06,47.54,49.71,43.730000000000004,51.790000000000006,null,49.68,9.1199999999999992,453.08,389.65,45.31]
["26073","Michigan","Isabella","Soybeans","IsabellaSoybeansNonirrigated","Nonirrigated",51.85,41.419999999999995,42.68,36.21,38.980000000000004,null,41.03,9.1199999999999992,374.19,321.8,37.42]
["26075","Michigan","Jackson","Soybeans","JacksonSoybeansIrrigated","Irrigated",52.64,59.26,57.629999999999995,58.88,54.97,null,57.16,9.1199999999999992,521.29999999999995,448.32,52.13]
["26075","Michigan","Jackson","Soybeans","JacksonSoybeansNonirrigated","Nonirrigated",48.21,34.78,42.93,43.6,39.730000000000004,null,42.09,9.1199999999999992,383.86,330.12,38.39]
["26077","Michigan","Kalamazoo","Soybeans","KalamazooSoybeansIrrigated","Irrigated",66.320000000000007,57.09,68.63000000000001,58.78,66.589999999999989,null,63.9,9.1199999999999992,582.77,501.18,58.28]
["26077","Michigan","Kalamazoo","Soybeans","KalamazooSoybeansNonirrigated","Nonirrigated",51.51,38.79,47.699999999999996,42.29,37.96,null,42.93,9.1199999999999992,391.52,336.71,39.15]
["26079","Michigan","Kalkaska","Soybeans","KalkaskaSoybeansAll","All",36,37,37,34.4,35.200000000000003,null,36.07,9.1199999999999992,328.96,282.91000000000003,32.9]
["26081","Michigan","Kent","Soybeans","KentSoybeansIrrigated","Irrigated",60.42,47.85,65.95,46.910000000000004,59.52,null,55.93,9.1199999999999992,510.08,438.67,51.01]
["26081","Michigan","Kent","Soybeans","KentSoybeansNonirrigated","Nonirrigated",54.74,42.92,46.050000000000004,44.61,47.04,null,45.9,9.1199999999999992,418.61,360,41.86]
["26087","Michigan","Lapeer","Soybeans","LapeerSoybeansAll","All",53.949999999999996,42.239999999999995,47.21,35.64,49.32,null,46.26,9.1199999999999992,421.89,362.83,42.19]
["26089","Michigan","Leelanau","Soybeans","LeelanauSoybeansAll","All",44,45.13,40.799999999999997,40.799999999999997,40.799999999999997,null,41.87,9.1199999999999992,381.85,328.39,38.19]
["26091","Michigan","Lenawee","Soybeans","LenaweeSoybeansIrrigated","Irrigated",63.11,57.330000000000005,61.26,67.86,72.38000000000001,null,64.08,9.1199999999999992,584.41,502.59,58.44]
["26091","Michigan","Lenawee","Soybeans","LenaweeSoybeansNonirrigated","Nonirrigated",60.61,51.120000000000005,53.480000000000004,51.23,49.669999999999995,null,51.94,9.1199999999999992,473.69,407.37,47.37]
["26093","Michigan","Livingston","Soybeans","LivingstonSoybeansAll","All",53.02,41.07,47.800000000000004,46.61,46.54,null,46.98,9.1199999999999992,428.46,368.48,42.85]
["26095","Michigan","Luce","Soybeans","LuceSoybeansAll","All",35,37,37,34.4,40.1,null,36.33,9.1199999999999992,331.33,284.94,33.130000000000003]
["26099","Michigan","Macomb","Soybeans","MacombSoybeansAll","All",53.11,43.53,47.129999999999995,37.08,41.769999999999996,null,44.14,9.1199999999999992,402.56,346.2,40.26]
["26101","Michigan","Manistee","Soybeans","ManisteeSoybeansAll","All",36,37,36.700000000000003,34.4,37.6,null,36.57,9.1199999999999992,333.52,286.83,33.35]
["26105","Michigan","Mason","Soybeans","MasonSoybeansAll","All",49.03,48.89,47.01,42.67,48.17,null,48.02,9.1199999999999992,437.94,376.63,43.79]
["26107","Michigan","Mecosta","Soybeans","MecostaSoybeansIrrigated","Irrigated",51,55.54,54.02,34.4,56.39,null,53.52,9.1199999999999992,488.1,419.77,48.81]
["26107","Michigan","Mecosta","Soybeans","MecostaSoybeansNonirrigated","Nonirrigated",36.299999999999997,33.32,26.47,23.2,30.08,null,29.96,9.1199999999999992,273.24,234.99,27.32]
["26109","Michigan","Menominee","Soybeans","MenomineeSoybeansAll","All",22.13,24.18,37.72,17.600000000000001,38.25,null,28.01,9.1199999999999992,255.45,219.69,25.55]
["26111","Michigan","Midland","Soybeans","MidlandSoybeansAll","All",51.78,42.54,46.97,39.17,44.59,null,44.7,9.1199999999999992,407.66,350.59,40.770000000000003]
["26113","Michigan","Missaukee","Soybeans","MissaukeeSoybeansAll","All",36,37,37,34.4,35.4,null,36.130000000000003,9.1199999999999992,329.51,283.38,32.950000000000003]
["26115","Michigan","Monroe","Soybeans","MonroeSoybeansAll","All",55.739999999999995,51.86,48.74,50.44,43.989999999999995,null,50.35,9.1199999999999992,459.19,394.9,45.92]
["26117","Michigan","Montcalm","Soybeans","MontcalmSoybeansIrrigated","Irrigated",63.43,52.03,55.7,52.42,56.46,null,54.86,9.1199999999999992,500.32,430.28,50.03]
["26117","Michigan","Montcalm","Soybeans","MontcalmSoybeansNonirrigated","Nonirrigated",51.89,35.17,41.669999999999995,36.44,44.78,null,40.96,9.1199999999999992,373.56,321.26,37.36]
["26119","Michigan","Montmorency","Soybeans","MontmorencySoybeansAll","All",29.75,41.79,37,30.57,44.9,null,36.450000000000003,9.1199999999999992,332.42,285.88,33.24]
["26121","Michigan","Muskegon","Soybeans","MuskegonSoybeansAll","All",54.01,48.220000000000006,46.910000000000004,29.75,41.18,null,45.44,9.1199999999999992,414.41,356.39,41.44]
["26123","Michigan","Newaygo","Soybeans","NewaygoSoybeansAll","All",47.78,35.68,34.869999999999997,41.95,40.339999999999996,null,39.32,9.1199999999999992,358.6,308.39999999999998,35.86]
["26125","Michigan","Oakland","Soybeans","OaklandSoybeansAll","All",35.82,34.06,31.85,32.160000000000004,33.85,null,33.36,9.1199999999999992,304.24,261.64999999999998,30.42]
["26127","Michigan","Oceana","Soybeans","OceanaSoybeansIrrigated","Irrigated",48.790000000000006,48.1,36,41.559999999999995,53.74,null,46.15,9.1199999999999992,420.89,361.97,42.09]
["26127","Michigan","Oceana","Soybeans","OceanaSoybeansNonirrigated","Nonirrigated",46.160000000000004,40.199999999999996,33.119999999999997,28.43,38.72,null,37.35,9.1199999999999992,340.63,292.94,34.06]
["26129","Michigan","Ogemaw","Soybeans","OgemawSoybeansAll","All",45.27,43.66,40.06,35,33.25,null,39.57,9.1199999999999992,360.88,310.36,36.090000000000003]
["26133","Michigan","Osceola","Soybeans","OsceolaSoybeansAll","All",38.82,33.47,29.81,24,32.92,null,32.07,9.1199999999999992,292.48,251.53,29.25]
["26137","Michigan","Otsego","Soybeans","OtsegoSoybeansAll","All",25,27.5,37,33.020000000000003,44.9,null,32.51,9.1199999999999992,296.49,254.98,29.65]
["26139","Michigan","Ottawa","Soybeans","OttawaSoybeansIrrigated","Irrigated",67.179999999999993,52.97,50.2,55.300000000000004,45.8,null,52.82,9.1199999999999992,481.72,414.28,48.17]
["26139","Michigan","Ottawa","Soybeans","OttawaSoybeansNonirrigated","Nonirrigated",64.02,49.03,45.61,42.87,45.05,null,46.56,9.1199999999999992,424.63,365.18,42.46]
["26141","Michigan","Presque Isle","Soybeans","Presque IsleSoybeansAll","All",19.2,37,20.8,20.8,43.92,null,26.2,9.1199999999999992,238.94,205.49,23.89]
["26145","Michigan","Saginaw","Soybeans","SaginawSoybeansIrrigated","Irrigated",58.21,56.5,67.850000000000009,43.53,62.77,null,59.16,9.1199999999999992,539.54,464,53.95]
["26145","Michigan","Saginaw","Soybeans","SaginawSoybeansNonirrigated","Nonirrigated",57.28,46.98,55.12,41.35,51.1,null,51.07,9.1199999999999992,465.76,400.55,46.58]
["26151","Michigan","Sanilac","Soybeans","SanilacSoybeansAll","All",59.71,49.75,55.8,41.73,55.81,null,53.79,9.1199999999999992,490.56,421.88,49.06]
["26155","Michigan","Shiawassee","Soybeans",{"$f":"C198&D198&F198","v":"ShiawasseeSoybeansIrrigated"},"Irrigated",54.92,39.85,51.75,42.19,49.33,null,47.76,9.1199999999999992,435.57,374.59,43.56]
["26155","Michigan","Shiawassee","Soybeans","ShiawasseeSoybeansNonirrigated","Nonirrigated",53.08,41.99,49.379999999999995,36.19,52.51,null,47.96,9.1199999999999992,437.4,376.16,43.74]
["26147","Michigan","St. Clair","Soybeans","St. ClairSoybeansAll","All",51.14,40.51,47.69,33.68,48.47,null,45.56,9.1199999999999992,415.51,357.34,41.55]
["26149","Michigan","St. Joseph","Soybeans","St. JosephSoybeansIrrigated","Irrigated",57.580000000000005,50.87,55.04,47.63,55.480000000000004,null,53.8,9.1199999999999992,490.66,421.97,49.07]
["26149","Michigan","St. Joseph","Soybeans","St. JosephSoybeansNonirrigated","Nonirrigated",44.800000000000004,33.14,48.8,42.25,32.909999999999997,null,40.06,9.1199999999999992,365.35,314.2,36.54]
["26157","Michigan","Tuscola","Soybeans","TuscolaSoybeansIrrigated","Irrigated",62.5,43.52,65.94,56.87,54.92,null,58.1,9.1199999999999992,529.87,455.69,52.99]
["26157","Michigan","Tuscola","Soybeans","TuscolaSoybeansNonirrigated","Nonirrigated",59.07,47.89,57.41,43.26,51.64,null,52.31,9.1199999999999992,477.07,410.28,47.71]
["26159","Michigan","Van Buren","Soybeans","Van BurenSoybeansIrrigated","Irrigated",66.92,52.82,62.42,53.92,60.5,null,58.95,9.1199999999999992,537.62,462.35,53.76]
["26159","Michigan","Van Buren","Soybeans","Van BurenSoybeansNonirrigated","Nonirrigated",47.910000000000004,40.119999999999997,41.839999999999996,34.54,41.129999999999995,null,41.03,9.1199999999999992,374.19,321.8,37.42]
["26161","Michigan","Washtenaw","Soybeans","WashtenawSoybeansIrrigated","Irrigated",61.410000000000004,67.010000000000005,64.13,55.82,53.900000000000006,null,60.45,9.1199999999999992,551.29999999999995,474.12,55.13]
["26161","Michigan","Washtenaw","Soybeans","WashtenawSoybeansNonirrigated","Nonirrigated",51.69,40.080000000000005,43.04,45.82,41,null,43.29,9.1199999999999992,394.8,339.53,39.479999999999997]
["26163","Michigan","Wayne","Soybeans","WayneSoybeansAll","All",33.409999999999997,27.67,36.42,42.15,35.03,null,34.950000000000003,9.1199999999999992,318.74,274.12,31.87]
["26165","Michigan","Wexford","Soybeans","WexfordSoybeansAll","All",36,37,37,34.4,37.799999999999997,null,36.67,9.1199999999999992,334.43,287.61,33.44]
["26001","Michigan","Alcona","Wheat","AlconaWheatAll","All",77.83,48.75,47.25,56.89,57.89,null,54.51,5.5,299.81,257.83999999999997,29.98]
["26003","Michigan","Alger","Wheat","AlgerWheatAll","All",55.2,53.6,40,53.1,50.4,null,52.37,5.5,288.04000000000002,247.71,28.8]
["26005","Michigan","Allegan","Wheat","AlleganWheatAll","All",71.12,66.75,79.06,56.18,63.62,null,67.16,5.5,369.38,317.67,36.94]
["26007","Michigan","Alpena","Wheat","AlpenaWheatAll","All",47.75,63.480000000000004,47.08,56.71,51.54,null,52,5.5,286,245.96,28.6]
["26009","Michigan","Antrim","Wheat","AntrimWheatAll","All",55,52,52.21,53.1,48,null,52.44,5.5,288.42,248.04,28.84]
["26011","Michigan","Arenac","Wheat","ArenacWheatAll","All",86.2,69.759999999999991,78.84,59.11,63.54,null,70.709999999999994,5.5,388.91,334.46,38.89]
["26015","Michigan","Barry","Wheat","BarryWheatAll","All",92.82,67.27,77.77,59.919999999999995,73.179999999999993,null,72.739999999999995,5.5,400.07,344.06,40.01]
["26017","Michigan","Bay","Wheat","BayWheatAll","All",99.27000000000001,85.179999999999993,85.2,76.490000000000009,80.470000000000013,null,83.62,5.5,459.91,395.52,45.99]
["26019","Michigan","Benzie","Wheat","BenzieWheatAll","All",55,54.32,76,53.1,45.04,null,54.14,5.5,297.77,256.08,29.78]
["26021","Michigan","Berrien","Wheat","BerrienWheatAll","All",87.61,69.7,76.38,71.36,64.69,null,72.48,5.5,398.64,342.83,39.86]
["26023","Michigan","Branch","Wheat","BranchWheatAll","All",81.48,80.19,65.13,71.41,66.7,null,72.77,5.5,400.24,344.21,40.020000000000003]
["26025","Michigan","Calhoun","Wheat","CalhounWheatAll","All",77.69,70.34,65.5,64.08,54.72,null,66.64,5.5,366.52,315.20999999999998,36.65]
["26027","Michigan","Cass","Wheat","CassWheatAll","All",56.339999999999996,67.680000000000007,64.36,62.620000000000005,67.220000000000013,null,64.73,5.5,356.02,306.18,35.6]
["26029","Michigan","Charlevoix","Wheat","CharlevoixWheatAll","All",55.2,55.2,40,55.2,55.2,null,55.2,5.5,303.60000000000002,261.10000000000002,30.36]
["26031","Michigan","Cheboygan","Wheat","CheboyganWheatAll","All",79.56,52,47,52,52,null,52,5.5,286,245.96,28.6]
["26033","Michigan","Chippewa","Wheat","ChippewaWheatAll","All",55,52,40,53.1,50.4,null,51.83,5.5,285.07,245.16,28.51]
["26035","Michigan","Clare","Wheat","ClareWheatAll","All",71.8,47.8,65.209999999999994,50.72,55,null,56.98,5.5,313.39,269.52,31.34]
["26037","Michigan","Clinton","Wheat","ClintonWheatAll","All",97.52000000000001,77.899999999999991,92.89,74.460000000000008,77.95,null,82.91,5.5,456.01,392.17,45.6]
["26041","Michigan","Delta","Wheat","DeltaWheatAll","All",55,52,40,53.1,50.4,null,51.83,5.5,285.07,245.16,28.51]
["26045","Michigan","Eaton","Wheat","EatonWheatAll","All",86.34,76.789999999999992,78.150000000000006,62.02,74.040000000000006,null,76.33,5.5,419.82,361.05,41.98]
["26047","Michigan","Emmet","Wheat","EmmetWheatAll","All",55.2,55.2,40,55.2,55.2,null,55.2,5.5,303.60000000000002,261.10000000000002,30.36]
["26049","Michigan","Genesee","Wheat","GeneseeWheatAll","All",84.9,72.23,78.83,65.150000000000006,61.67,null,72.069999999999993,5.5,396.39,340.9,39.64]
["26051","Michigan","Gladwin","Wheat","GladwinWheatAll","All",84.6,62.2,76.490000000000009,58.66,58.04,null,65.78,5.5,361.79,311.14,36.18]
["26055","Michigan","Grand Traverse","Wheat","Grand TraverseWheatAll","All",47.629999999999995,55.779999999999994,38.699999999999996,46.72,44.8,null,46.38,5.5,255.09,219.38,25.51]
["26057","Michigan","Gratiot","Wheat","GratiotWheatAll","All",91.61,79.789999999999992,92.7,70.03,68.790000000000006,null,80.48,5.5,442.64,380.67,44.26]
["26059","Michigan","Hillsdale","Wheat","HillsdaleWheatAll","All",88.51,85.75,75.09,60.27,64.55,null,75.13,5.5,413.22,355.37,41.32]
["26063","Michigan","Huron","Wheat","HuronWheatAll","All",111.69,99.83,86.69,92.62,95.23,null,95.89,5.5,527.4,453.56,52.74]
["26065","Michigan","Ingham","Wheat","InghamWheatAll","All",99.84,75.38,84.69,73.12,75.12,null,78.400000000000006,5.5,431.2,370.83,43.12]
["26067","Michigan","Ionia","Wheat","IoniaWheatAll","All",98.69,80.819999999999993,88.09,71.91,71.5,null,80.27,5.5,441.49,379.68,44.15]
["26069","Michigan","Iosco","Wheat","IoscoWheatAll","All",87.69,76.66,62.68,57.07,56.11,null,65.47,5.5,360.09,309.68,36.01]
["26071","Michigan","Iron","Wheat","IronWheatAll","All",55.2,53.6,40,53.1,50.4,null,52.37,5.5,288.04000000000002,247.71,28.8]
["26073","Michigan","Isabella","Wheat","IsabellaWheatAll","All",82.570000000000007,77.199999999999989,81.84,60.52,59.25,null,73.19,5.5,402.55,346.19,40.26]
["26075","Michigan","Jackson","Wheat","JacksonWheatAll","All",82.72,77.069999999999993,64.41,69.63,69.53,null,72.08,5.5,396.44,340.94,39.64]
["26077","Michigan","Kalamazoo","Wheat","KalamazooWheatAll","All",75.449999999999989,73.11999999999999,68.25,63.17,67.819999999999993,null,69.73,5.5,383.52,329.83,38.35]
["26079","Michigan","Kalkaska","Wheat","KalkaskaWheatAll","All",67.540000000000006,52,71.56,53.1,48.63,null,57.55,5.5,316.52999999999997,272.22000000000003,31.65]
["26081","Michigan","Kent","Wheat","KentWheatAll","All",84.55,61.190000000000005,77.680000000000007,68.569999999999993,55.27,null,69.150000000000006,5.5,380.33,327.08,38.03]
["26085","Michigan","Lake","Wheat","LakeWheatAll","All",77.78,65,66,51.6,52.97,null,61.32,5.5,337.26,290.04000000000002,33.729999999999997]
["26087","Michigan","Lapeer","Wheat","LapeerWheatAll","All",92.78,77.19,81,58.96,67.37,null,75.19,5.5,413.55,355.65,41.36]
["26089","Michigan","Leelanau","Wheat","LeelanauWheatAll","All",55,52,40,53.1,44.08,null,49.73,5.5,273.52,235.23,27.35]
["26091","Michigan","Lenawee","Wheat","LenaweeWheatAll","All",101.52000000000001,89.14,82.12,63.11,71.900000000000006,null,81.05,5.5,445.78,383.37,44.58]
["26093","Michigan","Livingston","Wheat","LivingstonWheatAll","All",85.14,80.77,73.289999999999992,57.34,72.12,null,75.39,5.5,414.65,356.6,41.47]
["26095","Michigan","Luce","Wheat","LuceWheatAll","All",55.2,53.6,40,53.1,50.4,null,52.37,5.5,288.04000000000002,247.71,28.8]
["26097","Michigan","Mackinac","Wheat","MackinacWheatAll","All",55,52,40,53.1,50.4,null,51.83,5.5,285.07,245.16,28.51]
["26099","Michigan","Macomb","Wheat","MacombWheatAll","All",86.67,70.41,73.430000000000007,66.510000000000005,67.91,null,70.58,5.5,388.19,333.84,38.82]
["26101","Michigan","Manistee","Wheat","ManisteeWheatAll","All",55,52,40,53.1,46,null,50.37,5.5,277.04000000000002,238.25,27.7]
["26103","Michigan","Marquette","Wheat","MarquetteWheatAll","All",59.74,54.32,48.06,53.1,50.4,null,52.61,5.5,289.36,248.85,28.94]
["26105","Michigan","Mason","Wheat","MasonWheatAll","All",73.91,59.25,57.89,60.26,53.82,null,59.13,5.5,325.22000000000003,279.69,32.520000000000003]
["26107","Michigan","Mecosta","Wheat","MecostaWheatAll","All",78.739999999999995,61.86,59.6,50.86,49.550000000000004,null,57.44,5.5,315.92,271.69,31.59]
["26109","Michigan","Menominee","Wheat","MenomineeWheatAll","All",55.2,53.6,40,53.6,53.6,null,53.6,5.5,294.8,253.53,29.48]
["26111","Michigan","Midland","Wheat","MidlandWheatAll","All",88.97,72.039999999999992,91.06,65.510000000000005,64.740000000000009,null,75.510000000000005,5.5,415.31,357.17,41.53]
["26113","Michigan","Missaukee","Wheat","MissaukeeWheatAll","All",57.82,54.35,56.27,54.51,50.839999999999996,null,55.04,5.5,302.72000000000003,260.33999999999997,30.27]
["26115","Michigan","Monroe","Wheat",{"$f":"C262&D262&F262","v":"MonroeWheatAll"},"All",91.73,89.089999999999989,81.92,63.11,70.17,null,80.39,5.5,442.15,380.25,44.22]
["26117","Michigan","Montcalm","Wheat","MontcalmWheatIrrigated","Irrigated",81.39,75.14,73.36,74.809999999999988,54.28,null,74.44,5.5,409.42,352.1,40.94]
["26117","Michigan","Montcalm","Wheat","MontcalmWheatNonirrigated","Nonirrigated",78.95,66.72,74.050000000000011,62.71,60.82,null,67.83,5.5,373.07,320.83999999999997,37.31]
["26119","Michigan","Montmorency","Wheat","MontmorencyWheatAll","All",62.43,60.6,49.48,49.14,53.160000000000004,null,54.41,5.5,299.26,257.36,29.93]
["26121","Michigan","Muskegon","Wheat","MuskegonWheatAll","All",63.849999999999994,64.02,57.7,50.800000000000004,39.980000000000004,null,57.45,5.5,315.98,271.74,31.6]
["26123","Michigan","Newaygo","Wheat","NewaygoWheatAll","All",68.66,71.88,68.819999999999993,49.33,57.47,null,64.98,5.5,357.39,307.36,35.74]
["26125","Michigan","Oakland","Wheat","OaklandWheatAll","All",73.400000000000006,68.14,75,58.54,67.33,null,69.62,5.5,382.91,329.3,38.29]
["26127","Michigan","Oceana","Wheat","OceanaWheatAll","All",63.620000000000005,76.400000000000006,67.92,54.64,49.6,null,62.06,5.5,341.33,293.54000000000002,34.130000000000003]
["26129","Michigan","Ogemaw","Wheat","OgemawWheatAll","All",84.050000000000011,63.050000000000004,63.879999999999995,63.11,62.339999999999996,null,63.35,5.5,348.43,299.64999999999998,34.840000000000003]
["26131","Michigan","Ontonagon","Wheat","OntonagonWheatAll","All",55,52,40,53.1,50.4,null,51.83,5.5,285.07,245.16,28.51]
["26133","Michigan","Osceola","Wheat","OsceolaWheatAll","All",50.27,69,57.92,53.71,64.400000000000006,null,58.68,5.5,322.74,277.56,32.270000000000003]
["26137","Michigan","Otsego","Wheat","OtsegoWheatAll","All",73,45.53,60,47.28,51.92,null,53.07,5.5,291.89,251.03,29.19]
["26139","Michigan","Ottawa","Wheat","OttawaWheatAll","All",90.99,58.75,77.010000000000005,59.22,58.09,null,64.989999999999995,5.5,357.45,307.41000000000003,35.75]
["26141","Michigan","Presque Isle","Wheat","Presque IsleWheatAll","All",45.35,58.4,45.120000000000005,49.44,51.36,null,48.72,5.5,267.95999999999998,230.45,26.8]
["26145","Michigan","Saginaw","Wheat","SaginawWheatAll","All",97.84,79.669999999999987,89.98,75.84,71.210000000000008,null,81.83,5.5,450.07,387.06,45.01]
["26151","Michigan","Sanilac","Wheat","SanilacWheatAll","All",109.07000000000001,91.75,93.35,77.34,91.550000000000011,null,92.22,5.5,507.21,436.2,50.72]
["26153","Michigan","Schoolcraft","Wheat","SchoolcraftWheatAll","All",55.2,53.6,40,53.6,53.6,null,53.6,5.5,294.8,253.53,29.48]
["26155","Michigan","Shiawassee","Wheat","ShiawasseeWheatAll","All",83.86,70.66,91.2,63.88,73.850000000000009,null,76.12,5.5,418.66,360.05,41.87]
["26147","Michigan","St. Clair","Wheat","St. ClairWheatAll","All",79.7,70.819999999999993,84.5,55.910000000000004,71.820000000000007,null,74.11,5.5,407.61,350.54,40.76]
["26149","Michigan","St. Joseph","Wheat","St. JosephWheatAll","All",85.44,87.070000000000007,62.56,66.180000000000007,69.81,null,73.81,5.5,405.96,349.13,40.6]
["26157","Michigan","Tuscola","Wheat","TuscolaWheatAll","All",98.600000000000009,90.5,86.42,79.86,83.910000000000011,null,86.94,5.5,478.17,411.23,47.82]
["26159","Michigan","Van Buren","Wheat","Van BurenWheatAll","All",70,68.75,64.2,62.5,66.16,null,66.37,5.5,365.04,313.93,36.5]
["26161","Michigan","Washtenaw","Wheat","WashtenawWheatAll","All",91.06,82.89,71.319999999999993,62.25,65.39,null,73.2,5.5,402.6,346.24,40.26]
["26163","Michigan","Wayne","Wheat","WayneWheatAll","All",88,77,75,52,67.319999999999993,null,73.11,5.5,402.11,345.81,40.21]
["26165","Michigan","Wexford","Wheat","WexfordWheatAll","All",55,52,40,53.1,51.1,null,52.07,5.5,286.39,246.3,28.64]

{"sheet":"IRRIGATION","index":7,"n_rows":35,"n_cols":12,"rows_kept":35,"cut":false,"hidden":true,"merged":[[0,4,0,5],[0,8,0,9],[1,4,1,10],[14,4,14,10],[26,4,26,10]]}
[null,null,null,null,{"$f":"'2023 Farm Bill Calculator'!C4","v":"EATON"},null,"County",null,"FSA Farm Number:",null,{"$f":"'2023 Farm Bill Calculator'!G5","v":1234}]
[null,null,null,null,"Corn - Acres and Yields for this Farm #",null,null,null,null,null,null,{"$f":"K1","v":1234}]
[null,null,null,"Year","Irrigated Acres","Irrigated Yield","DryLand Acres","Dryland Yield","Total Acres","Total Production","Weighted Yield","Percent Irrigated"]
[]
[null,null,null,2016,null,null,null,null,{"$f":"E5+G5","v":0},{"$f":"E5*F5+G5*H5","v":0},{"$f":"IFERROR($J$5/$I$5,\"\")","v":""},{"$f":"IFERROR(E5/($E$5+$G$5),\"\")","v":""}]
[null,null,null,2017,null,null,null,null,{"$f":"E6+G6","v":0},{"$f":"E6*F6+G6*H6","v":0},{"$f":"IFERROR($J$6/$I$6,\"\")","v":""},{"$f":"IFERROR(E6/($E$6+$G$6),\"\")","v":""}]
[null,null,null,2018,null,null,null,null,{"$f":"E7+G7","v":0},{"$f":"E7*F7+G7*H7","v":0},{"$f":"IFERROR($J$7/$I$7,\"\")","v":""},{"$f":"IFERROR(E7/($E$7+$G$7),\"\")","v":""}]
[null,null,null,2019,null,null,null,null,{"$f":"E8+G8","v":0},{"$f":"E8*F8+G8*H8","v":0},{"$f":"IFERROR($J$8/$I$8,\"\")","v":""},{"$f":"IFERROR(E8/($E$8+$G$8),\"\")","v":""}]
[null,null,null,2020,null,null,null,null,{"$f":"E9+G9","v":0},{"$f":"E9*F9+G9*H9","v":0},{"$f":"IFERROR($J$9/$I$9,\"\")","v":""},{"$f":"IFERROR(E9/($E$9+$G$9),\"\")","v":""}]
[null,null,null,null,null,null,null,null,null,{"$f":"E2","v":"Corn - Acres and Yields for this Farm #"},{"$f":"IFERROR(AVERAGE(K5:K9),0)","v":0},{"$f":"IFERROR(AVERAGE(L5:L9),0)","v":0}]
[]
[]
[]
[]
[null,null,null,null,"Soybeans - Acres and Yield for this Farm #",null,null,null,null,null,null,{"$f":"K1","v":1234}]
[null,null,null,"Year","Irrigated Acres","Irrigated Yield","DryLand Acres","Dryland Yield","Total Acres","Total Production","Weighted Yield","Percent Irrigated"]
[]
[null,null,null,2016,null,null,null,null,{"$f":"E18+G18","v":0},{"$f":"E18*F18+G18*H18","v":0},{"$f":"IFERROR($J$18/$I$18,\"\")","v":""},{"$f":"IFERROR(E18/($E$18+$G$18),\"\")","v":""}]
[null,null,null,2017,null,null,null,null,{"$f":"E19+G19","v":0},{"$f":"E19*F19+G19*H19","v":0},{"$f":"IFERROR($J$19/$I$19,\"\")","v":""},{"$f":"IFERROR(E19/($E$19+$G$19),\"\")","v":""}]
[null,null,null,2018,null,null,null,null,{"$f":"E20+G20","v":0},{"$f":"E20*F20+G20*H20","v":0},{"$f":"IFERROR($J$20/$I$20,\"\")","v":""},{"$f":"IFERROR(E20/($E$20+$G$20),\"\")","v":""}]
[null,null,null,2019,null,null,null,null,{"$f":"E21+G21","v":0},{"$f":"E21*F21+G21*H21","v":0},{"$f":"IFERROR($J$21/$I$21,\"\")","v":""},{"$f":"IFERROR(E21/($E$21+$G$21),\"\")","v":""}]
[null,null,null,2020,null,null,null,null,{"$f":"E22+G22","v":0},{"$f":"E22*F22+G22*H22","v":0},{"$f":"IFERROR($J$22/$I$22,\"\")","v":""},{"$f":"IFERROR(E22/($E$22+$G$22),\"\")","v":""}]
[null,null,null,null,null,null,null,null,{"$f":"IRRIGATION!K30","v":""},{"$f":"E15","v":"Soybeans - Acres and Yield for this Farm #"},{"$f":"IFERROR(AVERAGE(K18:K22),0)","v":0},{"$f":"IFERROR(AVERAGE(L18:L22),0)","v":0}]
[]
[]
[]
[null,null,null,null,"Wheat - Acres and Yield for this Farm #",null,null,null,null,null,null,{"$f":"K1","v":1234}]
[null,null,null,null,"Irrigated Acres","Irrigated Yield","DryLand Acres","Dryland Yield","Total Acres","Total Production","Weighted Yield","Percent Irrigated"]
[]
[null,null,null,2016,null,null,null,null,{"$f":"E30+G30","v":0},{"$f":"E30*F30+G30*H30","v":0},{"$f":"IFERROR($J$30/$I$30,\"\")","v":""},{"$f":"IFERROR(E30/(E30+G30),\"\")","v":""}]
[null,null,null,2017,null,null,null,null,{"$f":"E31+G31","v":0},{"$f":"E31*F31+G31*H31","v":0},{"$f":"IFERROR($J$31/$I$31,\"\")","v":""},{"$f":"IFERROR(E31/(E31+G31),\"\")","v":""}]
[null,null,null,2018,null,null,null,null,{"$f":"E32+G32","v":0},{"$f":"E32*F32+G32*H32","v":0},{"$f":"IFERROR($J$32/$I$32,\"\")","v":""},{"$f":"IFERROR(E32/(E32+G32),\"\")","v":""}]
[null,null,null,2019,null,null,null,null,{"$f":"E33+G33","v":0},{"$f":"E33*F33+G33*H33","v":0},{"$f":"IFERROR($J$33/$I$33,\"\")","v":""},{"$f":"IFERROR(E33/(E33+G33),\"\")","v":""}]
[null,null,null,2020,null,null,null,null,{"$f":"E34+G34","v":0},{"$f":"E34*F34+G34*H34","v":0},{"$f":"IFERROR($J$34/$I$34,\"\")","v":""},{"$f":"IFERROR(E34/(E34+G34),\"\")","v":""}]
[null,null,null,null,null,null,null,null,null,{"$f":"E27","v":"Wheat - Acres and Yield for this Farm #"},{"$f":"IFERROR(AVERAGE(K30:K34),0)","v":0},{"$f":"IFERROR(AVERAGE(L30:L34),0)","v":0}]

{"sheet":"1 Farm 2019 Prevent Plant","index":8,"n_rows":43,"n_cols":57,"rows_kept":43,"cut":false,"hidden":true,"merged":[[3,3,3,7],[15,3,15,8],[1,1,1,29]]}
[]
[null,"Enter the FSA considered planted acres as Prevent Planted acres with a zero yield.  In order to qualify for ARC-IC as 100% Prevent Plant, 100 % of the farm's covered commodities must be FSA approved for Prevented Planting."]
[null,"Farm Name:",{"$f":"'2023 Farm Bill Calculator'!G4","v":"Smith"}]
[null,"Farm Number:",{"$f":"'2023 Farm Bill Calculator'!G5","v":1234},"2019 Prevent Planted, 1 FSA Farm Number"]
[null,null,null,"Corn 2019",null,"Soys 2019",null,"Wheat 2019"]
[null,null,"2019 Prevent Planted Acres"]
[null,null,null,"Note: If you have planted acres, that yield will be used."]
[null,null,"2019 Actually Planted Acres"]
[null,null,"Planted Acres Yield bu/ac"]
[null,null,"Total Crop Production",null,null,null,null,{"$f":"H8*H9","v":0}]
[null,null,"Total Acres",{"$f":"D8+D6","v":0},null,{"$f":"F8+F6","v":0},null,{"$f":"H8+H6","v":0}]
[null,null,"Yield USED for ARC-IC bu/ac",{"$f":"IFERROR(D10/D8,0)","v":0},null,{"$f":"IFERROR(F10/F8,0)","v":0},null,{"$f":"IFERROR(H10/H8,0)","v":0}]
[]
[]
[null,null,null,null,null,null,null,null,null,null,{"$f":"$D$12","v":0},{"$f":"$D$11","v":0},{"$f":"$F$12","v":0},{"$f":"$F$11","v":0},{"$f":"$H$12","v":0},{"$f":"$H$11","v":0}]
[]
[]
[]
[]
[]
[]
[]
[]
[]
[]
[]
[]
[]
[]
[]
[]
[]
[]
[]
[]
[]
[]
[]
[]
[]
[]
[]
[null,null,null,null,null,null,null,null,null,null,null,null,null,null,null,null,null,null,null,2020,{"$f":"IF(U34*V34>1,U34*V34,\"\")","v":""},null,{"$f":"IF(W34*X34>1,W34*X34,\"\")","v":""},null,{"$f":"IF(Y34*Z34>1,Y34*Z34,\"\")","v":""},null,null,null,{"$f":"IF(AC34*AD34>1,AC34*AD34,\"\")","v":""},null,{"$f":"IF(AE34*AF34>1,AE34*AF34,\"\")","v":""},null,{"$f":"IF(AG34*AH34>1,AG34*AH34,\"\")","v":""},null,null,null,{"$f":"IF(AK34*AL34>1,AK34*AL34,\"\")","v":""},null,{"$f":"IF(AM34*AN34>1,AM34*AN34,\"\")","v":""},null,{"$f":"IF(AO34*AP34>1,AO34*AP34,\"\")","v":""},null,null,null,{"$f":"IF(AS34*AT34>1,AS34*AT34,\"\")","v":""},null,{"$f":"IF(AU34*AV34>1,AU34*AV34,\"\")","v":""},null,{"$f":"IF(AW34*AX34>1,AW34*AX34,\"\")","v":""},null,null,null,{"$f":"IF(BA34*BB34>1,BA34*BB34,\"\")","v":""},null,{"$f":"IF(BC34*BD34>1,BC34*BD34,\"\")","v":""},null,{"$f":"IF(BE34*BF34>1,BE34*BF34,\"\")","v":""}]

{"sheet":"Multiple ARC-IC Farms","index":9,"n_rows":159,"n_cols":408,"rows_kept":159,"cut":false,"hidden":true,"merged":[[44,0,44,1],[2,50,2,51],[6,49,8,49],[10,49,10,54],[50,2,50,7],[6,1,8,1],[32,0,32,1],[30,0,30,1],[31,0,31,1],[40,0,40,1],[41,0,41,1],[2,26,2,27],[10,17,10,22],[10,25,10,30],[2,2,2,3],[2,10,2,11],[2,18,2,19],[10,1,10,6],[10,9,10,14],[6,9,8,9],[6,17,8,17],[6,25,8,25],[46,0,46,3],[42,0,42,1],[43,0,43,1],[6,33,8,33],[2,34,2,35],[10,33,10,38],[2,90,2,91],[6,89,8,89],[10,89,10,94],[2,98,2,99],[6,97,8,97],[10,97,10,102],[2,74,2,75],[6,73,8,73],[10,73,10,78],[2,82,2,83],[6,81,8,81],[10,81,10,86],[2,58,2,59],[6,57,8,57],[10,57,10,62],[2,66,2,67],[6,65,8,65],[10,65,10,70],[2,42,2,43],[6,41,8,41],[10,41,10,46],[6,121,8,121],[10,121,10,126],[2,130,2,131],[6,129,8,129],[10,129,10,134],[2,106,2,107],[6,105,8,105],[10,105,10,110],[2,114,2,115],[6,113,8,113],[10,113,10,118],[2,138,2,139],[6,137,8,137],[10,137,10,142],[2,146,2,147],[6,145,8,145],[10,145,10,150],[10,161,10,166],[10,169,10,174],[2,122,2,123],[2,154,2,155],[6,153,8,153],[10,153,10,158],[2,162,2,163],[2,170,2,171],[6,161,8,161],[6,169,8,169],[6,177,8,177],[6,185,8,185],[6,257,8,257],[2,218,2,219],[2,226,2,227],[2,234,2,235],[2,242,2,243],[2,250,2,251],[2,178,2,179],[2,186,2,187],[2,194,2,195],[2,202,2,203],[2,210,2,211],[6,193,8,193],[6,201,8,201],[6,209,8,209],[6,217,8,217],[6,225,8,225],[6,233,8,233],[6,241,8,241],[10,177,10,182],[10,185,10,190],[10,193,10,198],[10,201,10,206],[10,209,10,214],[10,217,10,222],[10,225,10,230],[10,233,10,238],[10,241,10,246],[10,249,10,254],[10,257,10,262],[10,265,10,270],[2,258,2,259],[2,266,2,267],[2,274,2,275],[6,369,8,369],[6,297,8,297],[6,305,8,305],[6,313,8,313],[2,338,2,339],[2,346,2,347],[10,273,10,278],[2,282,2,283],[2,290,2,291],[2,298,2,299],[2,306,2,307],[6,265,8,265],[6,273,8,273],[6,249,8,249],[6,377,8,377],[6,385,8,385],[2,354,2,355],[2,362,2,363],[2,370,2,371],[2,378,2,379],[2,386,2,387],[2,314,2,315],[2,322,2,323],[2,330,2,331],[6,321,8,321],[6,329,8,329],[6,337,8,337],[6,345,8,345],[6,353,8,353],[6,361,8,361],[1,0,1,15],[0,0,0,15],[10,393,10,398],[10,401,10,406],[6,393,8,393],[6,401,8,401],[10,281,10,286],[10,289,10,294],[10,297,10,302],[10,305,10,310],[10,313,10,318],[10,321,10,326],[10,329,10,334],[10,337,10,342],[10,345,10,350],[10,353,10,358],[10,361,10,366],[10,369,10,374],[10,377,10,382],[10,385,10,390],[2,394,2,395],[2,402,2,403],[6,281,8,281],[6,289,8,289]]}
["This worksheet is designed to help analyse using ARC-IC, where ARC-IC enrolled farms are combined into one unit, for calculation of benefits. "]
[]
[{"$f":"'2023 Farm Bill Calculator'!C4","v":"EATON"},"Farm 1","FSA FARM NUMBER:",null,null,null,null,null,null,"Farm 2","FSA FARM NUMBER:",null,null,null,null,null,null,"Farm 3","FSA FARM NUMBER:",null,null,null,null,null,null,"Farm 4","FSA FARM NUMBER:",null,null,null,null,null,null,"Farm 5","FSA FARM NUMBER:",null,null,null,null,null,null,"Farm 6","FSA FARM NUMBER:",null,null,null,null,null,null,"Farm 7","FSA FARM NUMBER:",null,null,null,null,null,null,"Farm 8","FSA FARM NUMBER:",null,null,null,null,null,null,"Farm 9","FSA FARM NUMBER:",null,null,null,null,null,null,"Farm 10","FSA FARM NUMBER:",null,null,null,null,null,null,"Farm 11","FSA FARM NUMBER:",null,null,null,null,null,null,"Farm 12","FSA FARM NUMBER:",null,null,null,null,null,null,"Farm 13","FSA FARM NUMBER:",null,null,null,null,null,null,"Farm 14","FSA FARM NUMBER:",null,null,null,null,null,null,"Farm 15","FSA FARM NUMBER:",null,null,null,null,null,null,"Farm 16","FSA FARM NUMBER:",null,null,null,null,null,null,"Farm 17","FSA FARM NUMBER:",null,null,null,null,null,null,"Farm 18","FSA FARM NUMBER:",null,null,null,null,null,null,"Farm 19","FSA FARM NUMBER:",null,null,null,null,null,null,"Farm 20","FSA FARM NUMBER:",null,null,null,null,null,null,"Farm 21","FSA FARM NUMBER:",null,null,null,null,null,null,"Farm 22","FSA FARM NUMBER:",null,null,null,null,null,null,"Farm 23","FSA FARM NUMBER:",null,null,null,null,null,null,"Farm 24","FSA FARM NUMBER:",null,null,null,null,null,null,"Farm 25","FSA FARM NUMBER:",null,null,null,null,null,null,"Farm 26","FSA FARM NUMBER:",null,null,null,null,null,null,"Farm 27","FSA FARM NUMBER:",null,null,null,null,null,null,"Farm 28","FSA FARM NUMBER:",null,null,null,null,null,null,"Farm 29","FSA FARM NUMBER:",null,null,null,null,null,null,"Farm 30","FSA FARM NUMBER:",null,null,null,null,null,null,"Farm 31","FSA FARM NUMBER:",null,null,null,null,null,null,"Farm 32","FSA FARM NUMBER:",null,null,null,null,null,null,"Farm 33","FSA FARM NUMBER:",null,null,null,null,null,null,"Farm 34","FSA FARM NUMBER:",null,null,null,null,null,null,"Farm 35","FSA FARM NUMBER:",null,null,null,null,null,null,"Farm 36","FSA FARM NUMBER:",null,null,null,null,null,null,"Farm 37","FSA FARM NUMBER:",null,null,null,null,null,null,"Farm 38","FSA FARM NUMBER:",null,null,null,null,null,null,"Farm 39","FSA FARM NUMBER:",null,null,null,null,null,null,"Farm 40","FSA FARM NUMBER:",null,null,null,null,null,null,"Farm 41","FSA FARM NUMBER:",null,null,null,null,null,null,"Farm 42","FSA FARM NUMBER:",null,null,null,null,null,null,"Farm 43","FSA FARM NUMBER:",null,null,null,null,null,null,"Farm 44","FSA FARM NUMBER:",null,null,null,null,null,null,"Farm 45","FSA FARM NUMBER:",null,null,null,null,null,null,"Farm 46","FSA FARM NUMBER:",null,null,null,null,null,null,"Farm 47","FSA FARM NUMBER:",null,null,null,null,null,null,"Farm 48","FSA FARM NUMBER:",null,null,null,null,null,null,"Farm 49","FSA FARM NUMBER:",null,null,null,null,null,null,"Farm 50","FSA FARM NUMBER:",null,null,null,null,null,null,"Farm 51","FSA FARM NUMBER:"]
[null,"Commodity","Corn",null,"Soybeans",null,"Wheat","Total Base Acres",null,"Commodity","Corn",null,"Soybeans",null,"Wheat","Total Base Acres",null,"Commodity","Corn",null,"Soybeans",null,"Wheat","Total Base Acres",null,"Commodity","Corn",null,"Soybeans",null,"Wheat","Total Base Acres",null,"Commodity","Corn",null,"Soybeans",null,"Wheat","Total Base Acres",null,"Commodity","Corn",null,"Soybeans",null,"Wheat","Total Base Acres",null,"Commodity","Corn",null,"Soybeans",null,"Wheat","Total Base Acres",null,"Commodity","Corn",null,"Soybeans",null,"Wheat","Total Base Acres",null,"Commodity","Corn",null,"Soybeans",null,"Wheat","Total Base Acres",null,"Commodity","Corn",null,"Soybeans",null,"Wheat","Total Base Acres",null,"Commodity","Corn",null,"Soybeans",null,"Wheat","Total Base Acres",null,"Commodity","Corn",null,"Soybeans",null,"Wheat","Total Base Acres",null,"Commodity","Corn",null,"Soybeans",null,"Wheat","Total Base Acres",null,"Commodity","Corn",null,"Soybeans",null,"Wheat","Total Base Acres",null,"Commodity","Corn",null,"Soybeans",null,"Wheat","Total Base Acres",null,"Commodity","Corn",null,"Soybeans",null,"Wheat","Total Base Acres",null,"Commodity","Corn",null,"Soybeans",null,"Wheat","Total Base Acres",null,"Commodity","Corn",null,"Soybeans",null,"Wheat","Total Base Acres",null,"Commodity","Corn",null,"Soybeans",null,"Wheat","Total Base Acres",null,"Commodity","Corn",null,"Soybeans",null,"Wheat","Total Base Acres",null,"Commodity","Corn",null,"Soybeans",null,"Wheat","Total Base Acres",null,"Commodity","Corn",null,"Soybeans",null,"Wheat","Total Base Acres",null,"Commodity","Corn",null,"Soybeans",null,"Wheat","Total Base Acres",null,"Commodity","Corn",null,"Soybeans",null,"Wheat","Total Base Acres",null,"Commodity","Corn",null,"Soybeans",null,"Wheat","Total Base Acres",null,"Commodity","Corn",null,"Soybeans",null,"Wheat","Total Base Acres",null,"Commodity","Corn",null,"Soybeans",null,"Wheat","Total Base Acres",null,"Commodity","Corn",null,"Soybeans",null,"Wheat","Total Base Acres",null,"Commodity","Corn",null,"Soybeans",null,"Wheat","Total Base Acres",null,"Commodity","Corn",null,"Soybeans",null,"Wheat","Total Base Acres",null,"Commodity","Corn",null,"Soybeans",null,"Wheat","Total Base Acres",null,"Commodity","Corn",null,"Soybeans",null,"Wheat","Total Base Acres",null,"Commodity","Corn",null,"Soybeans",null,"Wheat","Total Base Acres",null,"Commodity","Corn",null,"Soybeans",null,"Wheat","Total Base Acres",null,"Commodity","Corn",null,"Soybeans",null,"Wheat","Total Base Acres",null,"Commodity","Corn",null,"Soybeans",null,"Wheat","Total Base Acres",null,"Commodity","Corn",null,"Soybeans",null,"Wheat","Total Base Acres",null,"Commodity","Corn",null,"Soybeans",null,"Wheat","Total Base Acres",null,"Commodity","Corn",null,"Soybeans",null,"Wheat","Total Base Acres",null,"Commodity","Corn",null,"Soybeans",null,"Wheat","Total Base Acres",null,"Commodity","Corn",null,"Soybeans",null,"Wheat","Total Base Acres",null,"Commodity","Corn",null,"Soybeans",null,"Wheat","Total Base Acres",null,"Commodity","Corn",null,"Soybeans",null,"Wheat","Total Base Acres",null,"Commodity","Corn",null,"Soybeans",null,"Wheat","Total Base Acres",null,"Commodity","Corn",null,"Soybeans",null,"Wheat","Total Base Acres",null,"Commodity","Corn",null,"Soybeans",null,"Wheat","Total Base Acres",null,"Commodity","Corn",null,"Soybeans",null,"Wheat","Total Base Acres",null,"Commodity","Corn",null,"Soybeans",null,"Wheat","Total Base Acres",null,"Commodity","Corn",null,"Soybeans",null,"Wheat","Total Base Acres",null,"Commodity","Corn",null,"Soybeans",null,"Wheat","Total Base Acres",null,"Commodity","Corn",null,"Soybeans",null,"Wheat","Total Base Acres"]
[null,"Base Acres",null,null,null,null,null,{"$f":"SUM(C5:G5)","v":0},null,"Base Acres",null,null,null,null,null,{"$f":"SUM(K5:O5)","v":0},null,"Base Acres",null,null,null,null,null,{"$f":"SUM(S5:W5)","v":0},null,"Base Acres",null,null,null,null,null,{"$f":"SUM(AA5:AE5)","v":0},null,"Base Acres",null,null,null,null,null,{"$f":"SUM(AI5:AM5)","v":0},null,"Base Acres",null,null,null,null,null,{"$f":"SUM(AQ5:AU5)","v":0},null,"Base Acres",null,null,null,null,null,{"$f":"SUM(AY5:BC5)","v":0},null,"Base Acres",null,null,null,null,null,{"$f":"SUM(BG5:BK5)","v":0},null,"Base Acres",null,null,null,null,null,{"$f":"SUM(BO5:BS5)","v":0},null,"Base Acres",null,null,null,null,null,{"$f":"SUM(BW5:CA5)","v":0},null,"Base Acres",null,null,null,null,null,{"$f":"SUM(CE5:CI5)","v":0},null,"Base Acres",null,null,null,null,null,{"$f":"SUM(CM5:CQ5)","v":0},null,"Base Acres",null,null,null,null,null,{"$f":"SUM(CU5:CY5)","v":0},null,"Base Acres",null,null,null,null,null,{"$f":"SUM(DC5:DG5)","v":0},null,"Base Acres",null,null,null,null,null,{"$f":"SUM(DK5:DO5)","v":0},null,"Base Acres",null,null,null,null,null,{"$f":"SUM(DS5:DW5)","v":0},null,"Base Acres",null,null,null,null,null,{"$f":"SUM(EA5:EE5)","v":0},null,"Base Acres",null,null,null,null,null,{"$f":"SUM(EI5:EM5)","v":0},null,"Base Acres",null,null,null,null,null,{"$f":"SUM(EQ5:EU5)","v":0},null,"Base Acres",null,null,null,null,null,{"$f":"SUM(EY5:FC5)","v":0},null,"Base Acres",null,null,null,null,null,{"$f":"SUM(FG5:FK5)","v":0},null,"Base Acres",null,null,null,null,null,{"$f":"SUM(FO5:FS5)","v":0},null,"Base Acres",null,null,null,null,null,{"$f":"SUM(FW5:GA5)","v":0},null,"Base Acres",null,null,null,null,null,{"$f":"SUM(GE5:GI5)","v":0},null,"Base Acres",null,null,null,null,null,{"$f":"SUM(GM5:GQ5)","v":0},null,"Base Acres",null,null,null,null,null,{"$f":"SUM(GU5:GY5)","v":0},null,"Base Acres",null,null,null,null,null,{"$f":"SUM(HC5:HG5)","v":0},null,"Base Acres",null,null,null,null,null,{"$f":"SUM(HK5:HO5)","v":0},null,"Base Acres",null,null,null,null,null,{"$f":"SUM(HS5:HW5)","v":0},null,"Base Acres",null,null,null,null,null,{"$f":"SUM(IA5:IE5)","v":0},null,"Base Acres",null,null,null,null,null,{"$f":"SUM(II5:IM5)","v":0},null,"Base Acres",null,null,null,null,null,{"$f":"SUM(IQ5:IU5)","v":0},null,"Base Acres",null,null,null,null,null,{"$f":"SUM(IY5:JC5)","v":0},null,"Base Acres",null,null,null,null,null,{"$f":"SUM(JG5:JK5)","v":0},null,"Base Acres",null,null,null,null,null,{"$f":"SUM(JO5:JS5)","v":0},null,"Base Acres",null,null,null,null,null,{"$f":"SUM(JW5:KA5)","v":0},null,"Base Acres",null,null,null,null,null,{"$f":"SUM(KE5:KI5)","v":0},null,"Base Acres",null,null,null,null,null,{"$f":"SUM(KM5:KQ5)","v":0},null,"Base Acres",null,null,null,null,null,{"$f":"SUM(KU5:KY5)","v":0},null,"Base Acres",null,null,null,null,null,{"$f":"SUM(LC5:LG5)","v":0},null,"Base Acres",null,null,null,null,null,{"$f":"SUM(LK5:LO5)","v":0},null,"Base Acres",null,null,null,null,null,{"$f":"SUM(LS5:LW5)","v":0},null,"Base Acres",null,null,null,null,null,{"$f":"SUM(MA5:ME5)","v":0},null,"Base Acres",null,null,null,null,null,{"$f":"SUM(MI5:MM5)","v":0},null,"Base Acres",null,null,null,null,null,{"$f":"SUM(MQ5:MU5)","v":0},null,"Base Acres",null,null,null,null,null,{"$f":"SUM(MY5:NC5)","v":0},null,"Base Acres",null,null,null,null,null,{"$f":"SUM(NG5:NK5)","v":0},null,"Base Acres",null,null,null,null,null,{"$f":"SUM(NO5:NS5)","v":0},null,"Base Acres",null,null,null,null,null,{"$f":"SUM(NW5:OA5)","v":0},null,"Base Acres",null,null,null,null,null,{"$f":"SUM(OE5:OI5)","v":0},null,"Base Acres",null,null,null,null,null,{"$f":"SUM(OM5:OQ5)","v":0}]
[null,"PLC Yield",null,null,null,null,null,null,null,"PLC Yield",null,null,null,null,null,null,null,"PLC Yield",null,null,null,null,null,null,null,"PLC Yield",null,null,null,null,null,null,null,"PLC Yield",null,null,null,null,null,null,null,"PLC Yield",null,null,null,null,null,null,null,"PLC Yield",null,null,null,null,null,null,null,"PLC Yield",null,null,null,null,null,null,null,"PLC Yield",null,null,null,null,null,null,null,"PLC Yield",null,null,null,null,null,null,null,"PLC Yield",null,null,null,null,null,null,null,"PLC Yield",null,null,null,null,null,null,null,"PLC Yield",null,null,null,null,null,null,null,"PLC Yield",null,null,null,null,null,null,null,"PLC Yield",null,null,null,null,null,null,null,"PLC Yield",null,null,null,null,null,null,null,"PLC Yield",null,null,null,null,null,null,null,"PLC Yield",null,null,null,null,null,null,null,"PLC Yield",null,null,null,null,null,null,null,"PLC Yield",null,null,null,null,null,null,null,"PLC Yield",null,null,null,null,null,null,null,"PLC Yield",null,null,null,null,null,null,null,"PLC Yield",null,null,null,null,null,null,null,"PLC Yield",null,null,null,null,null,null,null,"PLC Yield",null,null,null,null,null,null,null,"PLC Yield",null,null,null,null,null,null,null,"PLC Yield",null,null,null,null,null,null,null,"PLC Yield",null,null,null,null,null,null,null,"PLC Yield",null,null,null,null,null,null,null,"PLC Yield",null,null,null,null,null,null,null,"PLC Yield",null,null,null,null,null,null,null,"PLC Yield",null,null,null,null,null,null,null,"PLC Yield",null,null,null,null,null,null,null,"PLC Yield",null,null,null,null,null,null,null,"PLC Yield",null,null,null,null,null,null,null,"PLC Yield",null,null,null,null,null,null,null,"PLC Yield",null,null,null,null,null,null,null,"PLC Yield",null,null,null,null,null,null,null,"PLC Yield",null,null,null,null,null,null,null,"PLC Yield",null,null,null,null,null,null,null,"PLC Yield",null,null,null,null,null,null,null,"PLC Yield",null,null,null,null,null,null,null,"PLC Yield",null,null,null,null,null,null,null,"PLC Yield",null,null,null,null,null,null,null,"PLC Yield",null,null,null,null,null,null,null,"PLC Yield",null,null,null,null,null,null,null,"PLC Yield",null,null,null,null,null,null,null,"PLC Yield",null,null,null,null,null,null,null,"PLC Yield",null,null,null,null,null,null,null,"PLC Yield",null,null,null,null,null,null,null,"PLC Yield"]
[null,"15-19 Historical Irrigated Percentage",0,null,0,null,0,null,null,"15-19 Historical Irrigated Percentage",0,null,0,null,0,null,null,"15-19 Historical Irrigated Percentage",0,null,0,null,0,null,null,"15-19 Historical Irrigated Percentage",0,null,0,null,0,null,null,"15-19 Historical Irrigated Percentage",0,null,0,null,0,null,null,"15-19 Historical Irrigated Percentage",0,null,0,null,0,null,null,"15-19 Historical Irrigated Percentage",0,null,0,null,0,null,null,"15-19 Historical Irrigated Percentage",0,null,0,null,0,null,null,"15-19 Historical Irrigated Percentage",0,null,0,null,0,null,null,"15-19 Historical Irrigated Percentage",0,null,0,null,0,null,null,"15-19 Historical Irrigated Percentage",0,null,0,null,0,null,null,"15-19 Historical Irrigated Percentage",0,null,0,null,0,null,null,"15-19 Historical Irrigated Percentage",0,null,0,null,0,null,null,"15-19 Historical Irrigated Percentage",0,null,0,null,0,null,null,"15-19 Historical Irrigated Percentage",0,null,0,null,0,null,null,"15-19 Historical Irrigated Percentage",0,null,0,null,0,null,null,"15-19 Historical Irrigated Percentage",0,null,0,null,0,null,null,"15-19 Historical Irrigated Percentage",0,null,0,null,0,null,null,"15-19 Historical Irrigated Percentage",0,null,0,null,0,null,null,"15-19 Historical Irrigated Percentage",0,null,0,null,0,null,null,"15-19 Historical Irrigated Percentage",0,null,0,null,0,null,null,"15-19 Historical Irrigated Percentage",0,null,0,null,0,null,null,"15-19 Historical Irrigated Percentage",0,null,0,null,0,null,null,"15-19 Historical Irrigated Percentage",0,null,0,null,0,null,null,"15-19 Historical Irrigated Percentage",0,null,0,null,0,null,null,"15-19 Historical Irrigated Percentage",0,null,0,null,0,null,null,"15-19 Historical Irrigated Percentage",0,null,0,null,0,null,null,"15-19 Historical Irrigated Percentage",0,null,0,null,0,null,null,"15-19 Historical Irrigated Percentage",0,null,0,null,0,null,null,"15-19 Historical Irrigated Percentage",0,null,0,null,0,null,null,"15-19 Historical Irrigated Percentage",0,null,0,null,0,null,null,"15-19 Historical Irrigated Percentage",0,null,0,null,0,null,null,"15-19 Historical Irrigated Percentage",0,null,0,null,0,null,null,"15-19 Historical Irrigated Percentage",0,null,0,null,0,null,null,"15-19 Historical Irrigated Percentage",0,null,0,null,0,null,null,"15-19 Historical Irrigated Percentage",0,null,0,null,0,null,null,"15-19 Historical Irrigated Percentage",0,null,0,null,0,null,null,"15-19 Historical Irrigated Percentage",0,null,0,null,0,null,null,"15-19 Historical Irrigated Percentage",0,null,0,null,0,null,null,"15-19 Historical Irrigated Percentage",0,null,0,null,0,null,null,"15-19 Historical Irrigated Percentage",0,null,0,null,0,null,null,"15-19 Historical Irrigated Percentage",0,null,0,null,0,null,null,"15-19 Historical Irrigated Percentage",0,null,0,null,0,null,null,"15-19 Historical Irrigated Percentage",0,null,0,null,0,null,null,"15-19 Historical Irrigated Percentage",0,null,0,null,0,null,null,"15-19 Historical Irrigated Percentage",0,null,0,null,0,null,null,"15-19 Historical Irrigated Percentage",0,null,0,null,0,null,null,"15-19 Historical Irrigated Percentage",0,null,0,null,0,null,null,"15-19 Historical Irrigated Percentage",0,null,0,null,0,null,null,"15-19 Historical Irrigated Percentage",0,null,0,null,0,null,null,"15-19 Historical Irrigated Percentage",0,null,0,null,0]
[]
[]
[null,{"$f":"B3","v":"Farm 1"},null,null,null,null,null,null,null,"Farm 2",null,null,null,null,null,null,null,"Farm 3",null,null,null,null,null,null,null,"Farm 4",null,null,null,null,null,null,null,"Farm 5",null,null,null,null,null,null,null,"Farm 6",null,null,null,null,null,null,null,"Farm 7",null,null,null,null,null,null,null,{"$f":"BF3","v":"Farm 8"},null,null,null,null,null,null,null,{"$f":"BN3","v":"Farm 9"},null,null,null,null,null,null,null,{"$f":"BV3","v":"Farm 10"},null,null,null,null,null,null,null,{"$f":"CD3","v":"Farm 11"},null,null,null,null,null,null,null,{"$f":"CL3","v":"Farm 12"},null,null,null,null,null,null,null,{"$f":"CT3","v":"Farm 13"},null,null,null,null,null,null,null,{"$f":"DB3","v":"Farm 14"},null,null,null,null,null,null,null,{"$f":"DJ3","v":"Farm 15"},null,null,null,null,null,null,null,{"$f":"DR3","v":"Farm 16"},null,null,null,null,null,null,null,{"$f":"DZ3","v":"Farm 17"},null,null,null,null,null,null,null,{"$f":"EH3","v":"Farm 18"},null,null,null,null,null,null,null,{"$f":"EP3","v":"Farm 19"},null,null,null,null,null,null,null,{"$f":"EX3","v":"Farm 20"},null,null,null,null,null,null,null,{"$f":"FF3","v":"Farm 21"},null,null,null,null,null,null,null,{"$f":"FN3","v":"Farm 22"},null,null,null,null,null,null,null,{"$f":"FV3","v":"Farm 23"},null,null,null,null,null,null,null,{"$f":"GD3","v":"Farm 24"},null,null,null,null,null,null,null,{"$f":"GL3","v":"Farm 25"},null,null,null,null,null,null,null,{"$f":"GT3","v":"Farm 26"},null,null,null,null,null,null,null,{"$f":"HB3","v":"Farm 27"},null,null,null,null,null,null,null,{"$f":"HJ3","v":"Farm 28"},null,null,null,null,null,null,null,{"$f":"HR3","v":"Farm 29"},null,null,null,null,null,null,null,{"$f":"HZ3","v":"Farm 30"},null,null,null,null,null,null,null,{"$f":"IH3","v":"Farm 31"},null,null,null,null,null,null,null,{"$f":"IP3","v":"Farm 32"},null,null,null,null,null,null,null,{"$f":"IX3","v":"Farm 33"},null,null,null,null,null,null,null,{"$f":"JF3","v":"Farm 34"},null,null,null,null,null,null,null,{"$f":"JN3","v":"Farm 35"},null,null,null,null,null,null,null,{"$f":"JV3","v":"Farm 36"},null,null,null,null,null,null,null,{"$f":"KD3","v":"Farm 37"},null,null,null,null,null,null,null,{"$f":"KL3","v":"Farm 38"},null,null,null,null,null,null,null,{"$f":"KT3","v":"Farm 39"},null,null,null,null,null,null,null,{"$f":"LB3","v":"Farm 40"},null,null,null,null,null,null,null,{"$f":"LJ3","v":"Farm 41"},null,null,null,null,null,null,null,{"$f":"LR3","v":"Farm 42"},null,null,null,null,null,null,null,{"$f":"LZ3","v":"Farm 43"},null,null,null,null,null,null,null,{"$f":"MH3","v":"Farm 44"},null,null,null,null,null,null,null,{"$f":"MP3","v":"Farm 45"},null,null,null,null,null,null,null,{"$f":"MX3","v":"Farm 46"},null,null,null,null,null,null,null,{"$f":"NF3","v":"Farm 47"},null,null,null,null,null,null,null,{"$f":"NN3","v":"Farm 48"},null,null,null,null,null,null,null,{"$f":"NV3","v":"Farm 49"},null,null,null,null,null,null,null,{"$f":"OD3","v":"Farm 50"},null,null,null,null,null,null,null,{"$f":"OL3","v":"Farm 51"}]
[null,"Historical and Projected Farm Yields and Acreages",null,null,null,null,null,null,null,"Historical and Projected Farm Yields and Acreages",null,null,null,null,null,null,null,"Historical and Projected Farm Yields and Acreages",null,null,null,null,null,null,null,"Historical and Projected Farm Yields and Acreages",null,null,null,null,null,null,null,"Historical and Projected Farm Yields and Acreages",null,null,null,null,null,null,null,"Historical and Projected Farm Yields and Acreages",null,null,null,null,null,null,null,"Historical and Projected Farm Yields and Acreages",null,null,null,null,null,null,null,"Historical and Projected Farm Yields and Acreages",null,null,null,null,null,null,null,"Historical and Projected Farm Yields and Acreages",null,null,null,null,null,null,null,"Historical and Projected Farm Yields and Acreages",null,null,null,null,null,null,null,"Historical and Projected Farm Yields and Acreages",null,null,null,null,null,null,null,"Historical and Projected Farm Yields and Acreages",null,null,null,null,null,null,null,"Historical and Projected Farm Yields and Acreages",null,null,null,null,null,null,null,"Historical and Projected Farm Yields and Acreages",null,null,null,null,null,null,null,"Historical and Projected Farm Yields and Acreages",null,null,null,null,null,null,null,"Historical and Projected Farm Yields and Acreages",null,null,null,null,null,null,null,"Historical and Projected Farm Yields and Acreages",null,null,null,null,null,null,null,"Historical and Projected Farm Yields and Acreages",null,null,null,null,null,null,null,"Historical and Projected Farm Yields and Acreages",null,null,null,null,null,null,null,"Historical and Projected Farm Yields and Acreages",null,null,null,null,null,null,null,"Historical and Projected Farm Yields and Acreages",null,null,null,null,null,null,null,"Historical and Projected Farm Yields and Acreages",null,null,null,null,null,null,null,"Historical and Projected Farm Yields and Acreages",null,null,null,null,null,null,null,"Historical and Projected Farm Yields and Acreages",null,null,null,null,null,null,null,"Historical and Projected Farm Yields and Acreages",null,null,null,null,null,null,null,"Historical and Projected Farm Yields and Acreages",null,null,null,null,null,null,null,"Historical and Projected Farm Yields and Acreages",null,null,null,null,null,null,null,"Historical and Projected Farm Yields and Acreages",null,null,null,null,null,null,null,"Historical and Projected Farm Yields and Acreages",null,null,null,null,null,null,null,"Historical and Projected Farm Yields and Acreages",null,null,null,null,null,null,null,"Historical and Projected Farm Yields and Acreages",null,null,null,null,null,null,null,"Historical and Projected Farm Yields and Acreages",null,null,null,null,null,null,null,"Historical and Projected Farm Yields and Acreages",null,null,null,null,null,null,null,"Historical and Projected Farm Yields and Acreages",null,null,null,null,null,null,null,"Historical and Projected Farm Yields and Acreages",null,null,null,null,null,null,null,"Historical and Projected Farm Yields and Acreages",null,null,null,null,null,null,null,"Historical and Projected Farm Yields and Acreages",null,null,null,null,null,null,null,"Historical and Projected Farm Yields and Acreages",null,null,null,null,null,null,null,"Historical and Projected Farm Yields and Acreages",null,null,null,null,null,null,null,"Historical and Projected Farm Yields and Acreages",null,null,null,null,null,null,null,"Historical and Projected Farm Yields and Acreages",null,null,null,null,null,null,null,"Historical and Projected Farm Yields and Acreages",null,null,null,null,null,null,null,"Historical and Projected Farm Yields and Acreages",null,null,null,null,null,null,null,"Historical and Projected Farm Yields and Acreages",null,null,null,null,null,null,null,"Historical and Projected Farm Yields and Acreages",null,null,null,null,null,null,null,"Historical and Projected Farm Yields and Acreages",null,null,null,null,null,null,null,"Historical and Projected Farm Yields and Acreages",null,null,null,null,null,null,null,"Historical and Projected Farm Yields and Acreages",null,null,null,null,null,null,null,"Historical and Projected Farm Yields and Acreages",null,null,null,null,null,null,null,"Historical and Projected Farm Yields and Acreages",null,null,null,null,null,null,null,"Historical and Projected Farm Yields and Acreages"]
[null,null,"Corn ","Planted","Soybean","Planted","Wheat","Planted",null,null,"Corn ","Planted","Soybean","Planted","Wheat","Planted",null,null,"Corn ","Planted","Soybean","Planted","Wheat","Planted",null,null,"Corn ","Planted","Soybean","Planted","Wheat","Planted",null,null,"Corn ","Planted","Soybean","Planted","Wheat","Planted",null,null,"Corn ","Planted","Soybean","Planted","Wheat","Planted",null,null,"Corn ","Planted","Soybean","Planted","Wheat","Planted",null,null,"Corn ","Planted","Soybean","Planted","Wheat","Planted",null,null,"Corn ","Planted","Soybean","Planted","Wheat","Planted",null,null,"Corn ","Planted","Soybean","Planted","Wheat","Planted",null,null,"Corn ","Planted","Soybean","Planted","Wheat","Planted",null,null,"Corn ","Planted","Soybean","Planted","Wheat","Planted",null,null,"Corn ","Planted","Soybean","Planted","Wheat","Planted",null,null,"Corn ","Planted","Soybean","Planted","Wheat","Planted",null,null,"Corn ","Planted","Soybean","Planted","Wheat","Planted",null,null,"Corn ","Planted","Soybean","Planted","Wheat","Planted",null,null,"Corn ","Planted","Soybean","Planted","Wheat","Planted",null,null,"Corn ","Planted","Soybean","Planted","Wheat","Planted",null,null,"Corn ","Planted","Soybean","Planted","Wheat","Planted",null,null,"Corn ","Planted","Soybean","Planted","Wheat","Planted",null,null,"Corn ","Planted","Soybean","Planted","Wheat","Planted",null,null,"Corn ","Planted","Soybean","Planted","Wheat","Planted",null,null,"Corn ","Planted","Soybean","Planted","Wheat","Planted",null,null,"Corn ","Planted","Soybean","Planted","Wheat","Planted",null,null,"Corn ","Planted","Soybean","Planted","Wheat","Planted",null,null,"Corn ","Planted","Soybean","Planted","Wheat","Planted",null,null,"Corn ","Planted","Soybean","Planted","Wheat","Planted",null,null,"Corn ","Planted","Soybean","Planted","Wheat","Planted",null,null,"Corn ","Planted","Soybean","Planted","Wheat","Planted",null,null,"Corn ","Planted","Soybean","Planted","Wheat","Planted",null,null,"Corn ","Planted","Soybean","Planted","Wheat","Planted",null,null,"Corn ","Planted","Soybean","Planted","Wheat","Planted",null,null,"Corn ","Planted","Soybean","Planted","Wheat","Planted",null,null,"Corn ","Planted","Soybean","Planted","Wheat","Planted",null,null,"Corn ","Planted","Soybean","Planted","Wheat","Planted",null,null,"Corn ","Planted","Soybean","Planted","Wheat","Planted",null,null,"Corn ","Planted","Soybean","Planted","Wheat","Planted",null,null,"Corn ","Planted","Soybean","Planted","Wheat","Planted",null,null,"Corn ","Planted","Soybean","Planted","Wheat","Planted",null,null,"Corn ","Planted","Soybean","Planted","Wheat","Planted",null,null,"Corn ","Planted","Soybean","Planted","Wheat","Planted",null,null,"Corn ","Planted","Soybean","Planted","Wheat","Planted",null,null,"Corn ","Planted","Soybean","Planted","Wheat","Planted",null,null,"Corn ","Planted","Soybean","Planted","Wheat","Planted",null,null,"Corn ","Planted","Soybean","Planted","Wheat","Planted",null,null,"Corn ","Planted","Soybean","Planted","Wheat","Planted",null,null,"Corn ","Planted","Soybean","Planted","Wheat","Planted",null,null,"Corn ","Planted","Soybean","Planted","Wheat","Planted",null,null,"Corn ","Planted","Soybean","Planted","Wheat","Planted",null,null,"Corn ","Planted","Soybean","Planted","Wheat","Planted",null,null,"Corn ","Planted","Soybean","Planted","Wheat","Planted"]
[null,null,"Farm Yield","Acres","Farm Yield","Acres","Farm Yield","Acres",null,null,"Farm Yield","Acres","Farm Yield","Acres","Farm Yield","Acres",null,null,"Farm Yield","Acres","Farm Yield","Acres","Farm Yield","Acres",null,null,"Farm Yield","Acres","Farm Yield","Acres","Farm Yield","Acres",null,null,"Farm Yield","Acres","Farm Yield","Acres","Farm Yield","Acres",null,null,"Farm Yield","Acres","Farm Yield","Acres","Farm Yield","Acres",null,null,"Farm Yield","Acres","Farm Yield","Acres","Farm Yield","Acres",null,null,"Farm Yield","Acres","Farm Yield","Acres","Farm Yield","Acres",null,null,"Farm Yield","Acres","Farm Yield","Acres","Farm Yield","Acres",null,null,"Farm Yield","Acres","Farm Yield","Acres","Farm Yield","Acres",null,null,"Farm Yield","Acres","Farm Yield","Acres","Farm Yield","Acres",null,null,"Farm Yield","Acres","Farm Yield","Acres","Farm Yield","Acres",null,null,"Farm Yield","Acres","Farm Yield","Acres","Farm Yield","Acres",null,null,"Farm Yield","Acres","Farm Yield","Acres","Farm Yield","Acres",null,null,"Farm Yield","Acres","Farm Yield","Acres","Farm Yield","Acres",null,null,"Farm Yield","Acres","Farm Yield","Acres","Farm Yield","Acres",null,null,"Farm Yield","Acres","Farm Yield","Acres","Farm Yield","Acres",null,null,"Farm Yield","Acres","Farm Yield","Acres","Farm Yield","Acres",null,null,"Farm Yield","Acres","Farm Yield","Acres","Farm Yield","Acres",null,null,"Farm Yield","Acres","Farm Yield","Acres","Farm Yield","Acres",null,null,"Farm Yield","Acres","Farm Yield","Acres","Farm Yield","Acres",null,null,"Farm Yield","Acres","Farm Yield","Acres","Farm Yield","Acres",null,null,"Farm Yield","Acres","Farm Yield","Acres","Farm Yield","Acres",null,null,"Farm Yield","Acres","Farm Yield","Acres","Farm Yield","Acres",null,null,"Farm Yield","Acres","Farm Yield","Acres","Farm Yield","Acres",null,null,"Farm Yield","Acres","Farm Yield","Acres","Farm Yield","Acres",null,null,"Farm Yield","Acres","Farm Yield","Acres","Farm Yield","Acres",null,null,"Farm Yield","Acres","Farm Yield","Acres","Farm Yield","Acres",null,null,"Farm Yield","Acres","Farm Yield","Acres","Farm Yield","Acres",null,null,"Farm Yield","Acres","Farm Yield","Acres","Farm Yield","Acres",null,null,"Farm Yield","Acres","Farm Yield","Acres","Farm Yield","Acres",null,null,"Farm Yield","Acres","Farm Yield","Acres","Farm Yield","Acres",null,null,"Farm Yield","Acres","Farm Yield","Acres","Farm Yield","Acres",null,null,"Farm Yield","Acres","Farm Yield","Acres","Farm Yield","Acres",null,null,"Farm Yield","Acres","Farm Yield","Acres","Farm Yield","Acres",null,null,"Farm Yield","Acres","Farm Yield","Acres","Farm Yield","Acres",null,null,"Farm Yield","Acres","Farm Yield","Acres","Farm Yield","Acres",null,null,"Farm Yield","Acres","Farm Yield","Acres","Farm Yield","Acres",null,null,"Farm Yield","Acres","Farm Yield","Acres","Farm Yield","Acres",null,null,"Farm Yield","Acres","Farm Yield","Acres","Farm Yield","Acres",null,null,"Farm Yield","Acres","Farm Yield","Acres","Farm Yield","Acres",null,null,"Farm Yield","Acres","Farm Yield","Acres","Farm Yield","Acres",null,null,"Farm Yield","Acres","Farm Yield","Acres","Farm Yield","Acres",null,null,"Farm Yield","Acres","Farm Yield","Acres","Farm Yield","Acres",null,null,"Farm Yield","Acres","Farm Yield","Acres","Farm Yield","Acres",null,null,"Farm Yield","Acres","Farm Yield","Acres","Farm Yield","Acres",null,null,"Farm Yield","Acres","Farm Yield","Acres","Farm Yield","Acres",null,null,"Farm Yield","Acres","Farm Yield","Acres","Farm Yield","Acres",null,null,"Farm Yield","Acres","Farm Yield","Acres","Farm Yield","Acres",null,null,"Farm Yield","Acres","Farm Yield","Acres","Farm Yield","Acres",null,null,"Farm Yield","Acres","Farm Yield","Acres","Farm Yield","Acres"]
[null,null,null,null,null,null,null,null,null,null,null,null,null,null,null,null,null,2014,null,null,null,null,null,null,null,2014,null,null,null,null,null,null,null,2014,null,null,null,null,null,null,null,2014,null,null,null,null,null,null,null,2014,null,null,null,null,null,null,null,2014,null,null,null,null,null,null,null,2014,null,null,null,null,null,null,null,2014,null,null,null,null,null,null,null,2014,null,null,null,null,null,null,null,2014,null,null,null,null,null,null,null,2014,null,null,null,null,null,null,null,2014,null,null,null,null,null,null,null,2014,null,null,null,null,null,null,null,2014,null,null,null,null,null,null,null,2014,null,null,null,null,null,null,null,2014,null,null,null,null,null,null,null,2014,null,null,null,null,null,null,null,2014,null,null,null,null,null,null,null,2014,null,null,null,null,null,null,null,2014,null,null,null,null,null,null,null,2014,null,null,null,null,null,null,null,2014,null,null,null,null,null,null,null,2014,null,null,null,null,null,null,null,2014,null,null,null,null,null,null,null,2014,null,null,null,null,null,null,null,2014,null,null,null,null,null,null,null,2014,null,null,null,null,null,null,null,2014,null,null,null,null,null,null,null,2014,null,null,null,null,null,null,null,2014,null,null,null,null,null,null,null,2014,null,null,null,null,null,null,null,2014,null,null,null,null,null,null,null,2014,null,null,null,null,null,null,null,2014,null,null,null,null,null,null,null,2014,null,null,null,null,null,null,null,2014,null,null,null,null,null,null,null,2014,null,null,null,null,null,null,null,2014,null,null,null,null,null,null,null,2014,null,null,null,null,null,null,null,2014,null,null,null,null,null,null,null,2014,null,null,null,null,null,null,null,2014,null,null,null,null,null,null,null,2014,null,null,null,null,null,null,null,2014,null,null,null,null,null,null,null,2014,null,null,null,null,null,null,null,2014,null,null,null,null,null,null,null,2014,null,null,null,null,null,null,null,2014,null,null,null,null,null,null,null,2014]
[null,2016,null,null,null,null,null,null,null,2016,null,null,null,null,null,null,null,2016,null,null,null,null,null,null,null,2016,null,null,null,null,null,null,null,2016,null,null,null,null,null,null,null,2016,null,null,null,null,null,null,null,2016,null,null,null,null,null,null,null,2016,null,null,null,null,null,null,null,2016,null,null,null,null,null,null,null,2016,null,null,null,null,null,null,null,2016,null,null,null,null,null,null,null,2016,null,null,null,null,null,null,null,2016,null,null,null,null,null,null,null,2016,null,null,null,null,null,null,null,2016,null,null,null,null,null,null,null,2016,null,null,null,null,null,null,null,2016,null,null,null,null,null,null,null,2016,null,null,null,null,null,null,null,2016,null,null,null,null,null,null,null,2016,null,null,null,null,null,null,null,2016,null,null,null,null,null,null,null,2016,null,null,null,null,null,null,null,2016,null,null,null,null,null,null,null,2016,null,null,null,null,null,null,null,2016,null,null,null,null,null,null,null,2016,null,null,null,null,null,null,null,2016,null,null,null,null,null,null,null,2016,null,null,null,null,null,null,null,2016,null,null,null,null,null,null,null,2016,null,null,null,null,null,null,null,2016,null,null,null,null,null,null,null,2016,null,null,null,null,null,null,null,2016,null,null,null,null,null,null,null,2016,null,null,null,null,null,null,null,2016,null,null,null,null,null,null,null,2016,null,null,null,null,null,null,null,2016,null,null,null,null,null,null,null,2016,null,null,null,null,null,null,null,2016,null,null,null,null,null,null,null,2016,null,null,null,null,null,null,null,2016,null,null,null,null,null,null,null,2016,null,null,null,null,null,null,null,2016,null,null,null,null,null,null,null,2016,null,null,null,null,null,null,null,2016,null,null,null,null,null,null,null,2016,null,null,null,null,null,null,null,2016,null,null,null,null,null,null,null,2016,null,null,null,null,null,null,null,2016,null,null,null,null,null,null,null,2016,null,null,null,null,null,null,null,2016]
[null,2017,null,null,null,null,null,null,null,2017,null,null,null,null,null,null,null,2017,null,null,null,null,null,null,null,2017,null,null,null,null,null,null,null,2017,null,null,null,null,null,null,null,2017,null,null,null,null,null,null,null,2017,null,null,null,null,null,null,null,2017,null,null,null,null,null,null,null,2017,null,null,null,null,null,null,null,2017,null,null,null,null,null,null,null,2017,null,null,null,null,null,null,null,2017,null,null,null,null,null,null,null,2017,null,null,null,null,null,null,null,2017,null,null,null,null,null,null,null,2017,null,null,null,null,null,null,null,2017,null,null,null,null,null,null,null,2017,null,null,null,null,null,null,null,2017,null,null,null,null,null,null,null,2017,null,null,null,null,null,null,null,2017,null,null,null,null,null,null,null,2017,null,null,null,null,null,null,null,2017,null,null,null,null,null,null,null,2017,null,null,null,null,null,null,null,2017,null,null,null,null,null,null,null,2017,null,null,null,null,null,null,null,2017,null,null,null,null,null,null,null,2017,null,null,null,null,null,null,null,2017,null,null,null,null,null,null,null,2017,null,null,null,null,null,null,null,2017,null,null,null,null,null,null,null,2017,null,null,null,null,null,null,null,2017,null,null,null,null,null,null,null,2017,null,null,null,null,null,null,null,2017,null,null,null,null,null,null,null,2017,null,null,null,null,null,null,null,2017,null,null,null,null,null,null,null,2017,null,null,null,null,null,null,null,2017,null,null,null,null,null,null,null,2017,null,null,null,null,null,null,null,2017,null,null,null,null,null,null,null,2017,null,null,null,null,null,null,null,2017,null,null,null,null,null,null,null,2017,null,null,null,null,null,null,null,2017,null,null,null,null,null,null,null,2017,null,null,null,null,null,null,null,2017,null,null,null,null,null,null,null,2017,null,null,null,null,null,null,null,2017,null,null,null,null,null,null,null,2017,null,null,null,null,null,null,null,2017,null,null,null,null,null,null,null,2017]
[null,2018,null,null,null,null,null,null,null,2018,null,null,null,null,null,null,null,2018,null,null,null,null,null,null,null,2018,null,null,null,null,null,null,null,2018,null,null,null,null,null,null,null,2018,null,null,null,null,null,null,null,2018,null,null,null,null,null,null,null,2018,null,null,null,null,null,null,null,2018,null,null,null,null,null,null,null,2018,null,null,null,null,null,null,null,2018,null,null,null,null,null,null,null,2018,null,null,null,null,null,null,null,2018,null,null,null,null,null,null,null,2018,null,null,null,null,null,null,null,2018,null,null,null,null,null,null,null,2018,null,null,null,null,null,null,null,2018,null,null,null,null,null,null,null,2018,null,null,null,null,null,null,null,2018,null,null,null,null,null,null,null,2018,null,null,null,null,null,null,null,2018,null,null,null,null,null,null,null,2018,null,null,null,null,null,null,null,2018,null,null,null,null,null,null,null,2018,null,null,null,null,null,null,null,2018,null,null,null,null,null,null,null,2018,null,null,null,null,null,null,null,2018,null,null,null,null,null,null,null,2018,null,null,null,null,null,null,null,2018,null,null,null,null,null,null,null,2018,null,null,null,null,null,null,null,2018,null,null,null,null,null,null,null,2018,null,null,null,null,null,null,null,2018,null,null,null,null,null,null,null,2018,null,null,null,null,null,null,null,2018,null,null,null,null,null,null,null,2018,null,null,null,null,null,null,null,2018,null,null,null,null,null,null,null,2018,null,null,null,null,null,null,null,2018,null,null,null,null,null,null,null,2018,null,null,null,null,null,null,null,2018,null,null,null,null,null,null,null,2018,null,null,null,null,null,null,null,2018,null,null,null,null,null,null,null,2018,null,null,null,null,null,null,null,2018,null,null,null,null,null,null,null,2018,null,null,null,null,null,null,null,2018,null,null,null,null,null,null,null,2018,null,null,null,null,null,null,null,2018,null,null,null,null,null,null,null,2018,null,null,null,null,null,null,null,2018]
[null,2019,200,100,null,null,null,null,null,2019,null,null,null,null,null,null,null,2019,null,null,null,null,null,null,null,2019,null,null,null,null,null,null,null,2019,null,null,null,null,null,null,null,2019,null,null,null,null,null,null,null,2019,null,null,null,null,null,null,null,2019,null,null,null,null,null,null,null,2019,null,null,null,null,null,null,null,2019,null,null,null,null,null,null,null,2019,null,null,null,null,null,null,null,2019,null,null,null,null,null,null,null,2019,null,null,null,null,null,null,null,2019,null,null,null,null,null,null,null,2019,null,null,null,null,null,null,null,2019,null,null,null,null,null,null,null,2019,null,null,null,null,null,null,null,2019,null,null,null,null,null,null,null,2019,null,null,null,null,null,null,null,2019,null,null,null,null,null,null,null,2019,null,null,null,null,null,null,null,2019,null,null,null,null,null,null,null,2019,null,null,null,null,null,null,null,2019,null,null,null,null,null,null,null,2019,null,null,null,null,null,null,null,2019,null,null,null,null,null,null,null,2019,null,null,null,null,null,null,null,2019,null,null,null,null,null,null,null,2019,null,null,null,null,null,null,null,2019,null,null,null,null,null,null,null,2019,null,null,null,null,null,null,null,2019,null,null,null,null,null,null,null,2019,null,null,null,null,null,null,null,2019,null,null,null,null,null,null,null,2019,null,null,null,null,null,null,null,2019,null,null,null,null,null,null,null,2019,null,null,null,null,null,null,null,2019,null,null,null,null,null,null,null,2019,null,null,null,null,null,null,null,2019,null,null,null,null,null,null,null,2019,null,null,null,null,null,null,null,2019,null,null,null,null,null,null,null,2019,null,null,null,null,null,null,null,2019,null,null,null,null,null,null,null,2019,null,null,null,null,null,null,null,2019,null,null,null,null,null,null,null,2019,null,null,null,null,null,null,null,2019,null,null,null,null,null,null,null,2019,null,null,null,null,null,null,null,2019,null,null,null,null,null,null,null,2019]
[null,2020,null,null,null,null,null,null,null,2020,null,null,null,null,null,null,null,2020,null,null,null,null,null,null,null,2020,null,null,null,null,null,null,null,2020,null,null,null,null,null,null,null,2020,null,null,null,null,null,null,null,2020,null,null,null,null,null,null,null,2020,null,null,null,null,null,null,null,2020,null,null,null,null,null,null,null,2020,null,null,null,null,null,null,null,2020,null,null,null,null,null,null,null,2020,null,null,null,null,null,null,null,2020,null,null,null,null,null,null,null,2020,null,null,null,null,null,null,null,2020,null,null,null,null,null,null,null,2020,null,null,null,null,null,null,null,2020,null,null,null,null,null,null,null,2020,null,null,null,null,null,null,null,2020,null,null,null,null,null,null,null,2020,null,null,null,null,null,null,null,2020,null,null,null,null,null,null,null,2020,null,null,null,null,null,null,null,2020,null,null,null,null,null,null,null,2020,null,null,null,null,null,null,null,2020,null,null,null,null,null,null,null,2020,null,null,null,null,null,null,null,2020,null,null,null,null,null,null,null,2020,null,null,null,null,null,null,null,2020,null,null,null,null,null,null,null,2020,null,null,null,null,null,null,null,2020,null,null,null,null,null,null,null,2020,null,null,null,null,null,null,null,2020,null,null,null,null,null,null,null,2020,null,null,null,null,null,null,null,2020,null,null,null,null,null,null,null,2020,null,null,null,null,null,null,null,2020,null,null,null,null,null,null,null,2020,null,null,null,null,null,null,null,2020,null,null,null,null,null,null,null,2020,null,null,null,null,null,null,null,2020,null,null,null,null,null,null,null,2020,null,null,null,null,null,null,null,2020,null,null,null,null,null,null,null,2020,null,null,null,null,null,null,null,2020,null,null,null,null,null,null,null,2020,null,null,null,null,null,null,null,2020,null,null,null,null,null,null,null,2020,null,null,null,null,null,null,null,2020,null,null,null,null,null,null,null,2020,null,null,null,null,null,null,null,2020]
[null,2021,200,100,null,null,null,null,null,2021,null,null,null,null,null,null,null,2021,null,null,null,null,null,null,null,2021,null,null,null,null,null,null,null,2021,null,null,null,null,null,null,null,2021,null,null,null,null,null,null,null,2021,null,null,null,null,null,null,null,2021,null,null,null,null,null,null,null,2021,null,null,null,null,null,null,null,2021,null,null,null,null,null,null,null,2021,null,null,null,null,null,null,null,2021,null,null,null,null,null,null,null,2021,null,null,null,null,null,null,null,2021,null,null,null,null,null,null,null,2021,null,null,null,null,null,null,null,2021,null,null,null,null,null,null,null,2021,null,null,null,null,null,null,null,2021,null,null,null,null,null,null,null,2021,null,null,null,null,null,null,null,2021,null,null,null,null,null,null,null,2021,null,null,null,null,null,null,null,2021,null,null,null,null,null,null,null,2021,null,null,null,null,null,null,null,2021,null,null,null,null,null,null,null,2021,null,null,null,null,null,null,null,2021,null,null,null,null,null,null,null,2021,null,null,null,null,null,null,null,2021,null,null,null,null,null,null,null,2021,null,null,null,null,null,null,null,2021,null,null,null,null,null,null,null,2021,null,null,null,null,null,null,null,2021,null,null,null,null,null,null,null,2021,null,null,null,null,null,null,null,2021,null,null,null,null,null,null,null,2021,null,null,null,null,null,null,null,2021,null,null,null,null,null,null,null,2021,null,null,null,null,null,null,null,2021,null,null,null,null,null,null,null,2021,null,null,null,null,null,null,null,2021,null,null,null,null,null,null,null,2021,null,null,null,null,null,null,null,2021,null,null,null,null,null,null,null,2021,null,null,null,null,null,null,null,2021,null,null,null,null,null,null,null,2021,null,null,null,null,null,null,null,2021,null,null,null,null,null,null,null,2021,null,null,null,null,null,null,null,2021,null,null,null,null,null,null,null,2021,null,null,null,null,null,null,null,2021,null,null,null,null,null,null,null,2021]
[null,2022,200,100,null,null,null,null,null,2022,null,null,null,null,null,null,null,2022,null,null,null,null,null,null,null,2022,null,null,null,null,null,null,null,2022,null,null,null,null,null,null,null,2022,null,null,null,null,null,null,null,2022,null,null,null,null,null,null,null,2022,null,null,null,null,null,null,null,2022,null,null,null,null,null,null,null,2022,null,null,null,null,null,null,null,2022,null,null,null,null,null,null,null,2022,null,null,null,null,null,null,null,2022,null,null,null,null,null,null,null,2022,null,null,null,null,null,null,null,2022,null,null,null,null,null,null,null,2022,null,null,null,null,null,null,null,2022,null,null,null,null,null,null,null,2022,null,null,null,null,null,null,null,2022,null,null,null,null,null,null,null,2022,null,null,null,null,null,null,null,2022,null,null,null,null,null,null,null,2022,null,null,null,null,null,null,null,2022,null,null,null,null,null,null,null,2022,null,null,null,null,null,null,null,2022,null,null,null,null,null,null,null,2022,null,null,null,null,null,null,null,2022,null,null,null,null,null,null,null,2022,null,null,null,null,null,null,null,2022,null,null,null,null,null,null,null,2022,null,null,null,null,null,null,null,2022,null,null,null,null,null,null,null,2022,null,null,null,null,null,null,null,2022,null,null,null,null,null,null,null,2022,null,null,null,null,null,null,null,2022,null,null,null,null,null,null,null,2022,null,null,null,null,null,null,null,2022,null,null,null,null,null,null,null,2022,null,null,null,null,null,null,null,2022,null,null,null,null,null,null,null,2022,null,null,null,null,null,null,null,2022,null,null,null,null,null,null,null,2022,null,null,null,null,null,null,null,2022,null,null,null,null,null,null,null,2022,null,null,null,null,null,null,null,2022,null,null,null,null,null,null,null,2022,null,null,null,null,null,null,null,2022,null,null,null,null,null,null,null,2022,null,null,null,null,null,null,null,2022,null,null,null,null,null,null,null,2022,null,null,null,null,null,null,null,2022]
[]
[]
[null,null,"Farm Revenue","Percent Acres","Farm Revenue","Percent Acres","Farm Revenue","Percent Acres",null,null,"Farm Revenue","Percent Acres","Farm Revenue","Percent Acres","Farm Revenue","Percent Acres",null,null,"Farm Revenue","Percent Acres","Farm Revenue","Percent Acres","Farm Revenue","Percent Acres",null,null,"Farm Revenue","Percent Acres","Farm Revenue","Percent Acres","Farm Revenue","Percent Acres",null,null,"Farm Revenue","Percent Acres","Farm Revenue","Percent Acres","Farm Revenue","Percent Acres",null,null,"Farm Revenue","Percent Acres","Farm Revenue","Percent Acres","Farm Revenue","Percent Acres",null,null,"Farm Revenue","Percent Acres","Farm Revenue","Percent Acres","Farm Revenue","Percent Acres",null,null,"Farm Revenue","Percent Acres","Farm Revenue","Percent Acres","Farm Revenue","Percent Acres",null,null,"Farm Revenue","Percent Acres","Farm Revenue","Percent Acres","Farm Revenue","Percent Acres",null,null,"Farm Revenue","Percent Acres","Farm Revenue","Percent Acres","Farm Revenue","Percent Acres",null,null,"Farm Revenue","Percent Acres","Farm Revenue","Percent Acres","Farm Revenue","Percent Acres",null,null,"Farm Revenue","Percent Acres","Farm Revenue","Percent Acres","Farm Revenue","Percent Acres",null,null,"Farm Revenue","Percent Acres","Farm Revenue","Percent Acres","Farm Revenue","Percent Acres",null,null,"Farm Revenue","Percent Acres","Farm Revenue","Percent Acres","Farm Revenue","Percent Acres",null,null,"Farm Revenue","Percent Acres","Farm Revenue","Percent Acres","Farm Revenue","Percent Acres",null,null,"Farm Revenue","Percent Acres","Farm Revenue","Percent Acres","Farm Revenue","Percent Acres",null,null,"Farm Revenue","Percent Acres","Farm Revenue","Percent Acres","Farm Revenue","Percent Acres",null,null,"Farm Revenue","Percent Acres","Farm Revenue","Percent Acres","Farm Revenue","Percent Acres",null,null,"Farm Revenue","Percent Acres","Farm Revenue","Percent Acres","Farm Revenue","Percent Acres",null,null,"Farm Revenue","Percent Acres","Farm Revenue","Percent Acres","Farm Revenue","Percent Acres",null,null,"Farm Revenue","Percent Acres","Farm Revenue","Percent Acres","Farm Revenue","Percent Acres",null,null,"Farm Revenue","Percent Acres","Farm Revenue","Percent Acres","Farm Revenue","Percent Acres",null,null,"Farm Revenue","Percent Acres","Farm Revenue","Percent Acres","Farm Revenue","Percent Acres",null,null,"Farm Revenue","Percent Acres","Farm Revenue","Percent Acres","Farm Revenue","Percent Acres",null,null,"Farm Revenue","Percent Acres","Farm Revenue","Percent Acres","Farm Revenue","Percent Acres",null,null,"Farm Revenue","Percent Acres","Farm Revenue","Percent Acres","Farm Revenue","Percent Acres",null,null,"Farm Revenue","Percent Acres","Farm Revenue","Percent Acres","Farm Revenue","Percent Acres",null,null,"Farm Revenue","Percent Acres","Farm Revenue","Percent Acres","Farm Revenue","Percent Acres",null,null,"Farm Revenue","Percent Acres","Farm Revenue","Percent Acres","Farm Revenue","Percent Acres",null,null,"Farm Revenue","Percent Acres","Farm Revenue","Percent Acres","Farm Revenue","Percent Acres",null,null,"Farm Revenue","Percent Acres","Farm Revenue","Percent Acres","Farm Revenue","Percent Acres",null,null,"Farm Revenue","Percent Acres","Farm Revenue","Percent Acres","Farm Revenue","Percent Acres",null,null,"Farm Revenue","Percent Acres","Farm Revenue","Percent Acres","Farm Revenue","Percent Acres",null,null,"Farm Revenue","Percent Acres","Farm Revenue","Percent Acres","Farm Revenue","Percent Acres",null,null,"Farm Revenue","Percent Acres","Farm Revenue","Percent Acres","Farm Revenue","Percent Acres",null,null,"Farm Revenue","Percent Acres","Farm Revenue","Percent Acres","Farm Revenue","Percent Acres",null,null,"Farm Revenue","Percent Acres","Farm Revenue","Percent Acres","Farm Revenue","Percent Acres",null,null,"Farm Revenue","Percent Acres","Farm Revenue","Percent Acres","Farm Revenue","Percent Acres",null,null,"Farm Revenue","Percent Acres","Farm Revenue","Percent Acres","Farm Revenue","Percent Acres",null,null,"Farm Revenue","Percent Acres","Farm Revenue","Percent Acres","Farm Revenue","Percent Acres",null,null,"Farm Revenue","Percent Acres","Farm Revenue","Percent Acres","Farm Revenue","Percent Acres",null,null,"Farm Revenue","Percent Acres","Farm Revenue","Percent Acres","Farm Revenue","Percent Acres",null,null,"Farm Revenue","Percent Acres","Farm Revenue","Percent Acres","Farm Revenue","Percent Acres",null,null,"Farm Revenue","Percent Acres","Farm Revenue","Percent Acres","Farm Revenue","Percent Acres",null,null,"Farm Revenue","Percent Acres","Farm Revenue","Percent Acres","Farm Revenue","Percent Acres",null,null,"Farm Revenue","Percent Acres","Farm Revenue","Percent Acres","Farm Revenue","Percent Acres",null,null,"Farm Revenue","Percent Acres","Farm Revenue","Percent Acres","Farm Revenue","Percent Acres",null,null,"Farm Revenue","Percent Acres","Farm Revenue","Percent Acres","Farm Revenue","Percent Acres",null,null,"Farm Revenue","Percent Acres","Farm Revenue","Percent Acres","Farm Revenue","Percent Acres",null,null,"Farm Revenue","Percent Acres","Farm Revenue","Percent Acres","Farm Revenue","Percent Acres",null,null,"Farm Revenue","Percent Acres","Farm Revenue","Percent Acres","Farm Revenue","Percent Acres"]
[null,null,null,{"$f":"D20/$C$48","v":1},null,{"$f":"F20/$C$48","v":0},null,{"$f":"H20/$C$48","v":0},null,null,null,{"$f":"L20/$C$48","v":0},null,{"$f":"N20/$C$48","v":0},null,{"$f":"P20/$C$48","v":0},null,null,null,{"$f":"T20/$C$48","v":0},null,{"$f":"V20/$C$48","v":0},null,{"$f":"X20/$C$48","v":0},null,null,null,{"$f":"AB20/$C$48","v":0},null,{"$f":"AD20/$C$48","v":0},null,{"$f":"AF20/$C$48","v":0},null,null,null,{"$f":"AJ20/$C$48","v":0},null,{"$f":"AL20/$C$48","v":0},null,{"$f":"AN20/$C$48","v":0},null,null,null,{"$f":"AR20/$C$48","v":0},null,{"$f":"AT20/$C$48","v":0},null,{"$f":"AV20/$C$48","v":0},null,null,null,{"$f":"AZ20/$C$48","v":0},null,{"$f":"BB20/$C$48","v":0},null,{"$f":"BD20/$C$48","v":0},null,null,null,{"$f":"BH20/$C$48","v":0},null,{"$f":"BJ20/$C$48","v":0},null,{"$f":"BL20/$C$48","v":0},null,null,null,{"$f":"BP20/$C$48","v":0},null,{"$f":"BR20/$C$48","v":0},null,{"$f":"BT20/$C$48","v":0},null,null,null,{"$f":"BX20/$C$48","v":0},null,{"$f":"BZ20/$C$48","v":0},null,{"$f":"CB20/$C$48","v":0},null,null,null,{"$f":"CF20/$C$48","v":0},null,{"$f":"CH20/$C$48","v":0},null,{"$f":"CJ20/$C$48","v":0},null,null,null,{"$f":"CN20/$C$48","v":0},null,{"$f":"CP20/$C$48","v":0},null,{"$f":"CR20/$C$48","v":0},null,null,null,{"$f":"CV20/$C$48","v":0},null,{"$f":"CX20/$C$48","v":0},null,{"$f":"CZ20/$C$48","v":0},null,null,null,{"$f":"DD20/$C$48","v":0},null,{"$f":"DF20/$C$48","v":0},null,{"$f":"DH20/$C$48","v":0},null,null,null,{"$f":"DL20/$C$48","v":0},null,{"$f":"DN20/$C$48","v":0},null,{"$f":"DP20/$C$48","v":0},null,null,null,{"$f":"DT20/$C$48","v":0},null,{"$f":"DV20/$C$48","v":0},null,{"$f":"DX20/$C$48","v":0},null,null,null,{"$f":"EB20/$C$48","v":0},null,{"$f":"ED20/$C$48","v":0},null,{"$f":"EF20/$C$48","v":0},null,null,null,{"$f":"EJ20/$C$48","v":0},null,{"$f":"EL20/$C$48","v":0},null,{"$f":"EN20/$C$48","v":0},null,null,null,{"$f":"ER20/$C$48","v":0},null,{"$f":"ET20/$C$48","v":0},null,{"$f":"EV20/$C$48","v":0},null,null,null,{"$f":"EZ20/$C$48","v":0},null,{"$f":"FB20/$C$48","v":0},null,{"$f":"FD20/$C$48","v":0},null,null,null,{"$f":"FH20/$C$48","v":0},null,{"$f":"FJ20/$C$48","v":0},null,{"$f":"FL20/$C$48","v":0},null,null,null,{"$f":"FP20/$C$48","v":0},null,{"$f":"FR20/$C$48","v":0},null,{"$f":"FT20/$C$48","v":0},null,null,null,{"$f":"FX20/$C$48","v":0},null,{"$f":"FZ20/$C$48","v":0},null,{"$f":"GB20/$C$48","v":0},null,null,null,{"$f":"GF20/$C$48","v":0},null,{"$f":"GH20/$C$48","v":0},null,{"$f":"GJ20/$C$48","v":0},null,null,null,{"$f":"GN20/$C$48","v":0},null,{"$f":"GP20/$C$48","v":0},null,{"$f":"GR20/$C$48","v":0},null,null,null,{"$f":"GV20/$C$48","v":0},null,{"$f":"GX20/$C$48","v":0},null,{"$f":"GZ20/$C$48","v":0},null,null,null,{"$f":"HD20/$C$48","v":0},null,{"$f":"HF20/$C$48","v":0},null,{"$f":"HH20/$C$48","v":0},null,null,null,{"$f":"HL20/$C$48","v":0},null,{"$f":"HN20/$C$48","v":0},null,{"$f":"HP20/$C$48","v":0},null,null,null,{"$f":"HT20/$C$48","v":0},null,{"$f":"HV20/$C$48","v":0},null,{"$f":"HX20/$C$48","v":0},null,null,null,{"$f":"IB20/$C$48","v":0},null,{"$f":"ID20/$C$48","v":0},null,{"$f":"IF20/$C$48","v":0},null,null,null,{"$f":"IJ20/$C$48","v":0},null,{"$f":"IL20/$C$48","v":0},null,{"$f":"IN20/$C$48","v":0},null,null,null,{"$f":"IR20/$C$48","v":0},null,{"$f":"IT20/$C$48","v":0},null,{"$f":"IV20/$C$48","v":0},null,null,null,{"$f":"IZ20/$C$48","v":0},null,{"$f":"JB20/$C$48","v":0},null,{"$f":"JD20/$C$48","v":0},null,null,null,{"$f":"JH20/$C$48","v":0},null,{"$f":"JJ20/$C$48","v":0},null,{"$f":"JL20/$C$48","v":0},null,null,null,{"$f":"JP20/$C$48","v":0},null,{"$f":"JR20/$C$48","v":0},null,{"$f":"JT20/$C$48","v":0},null,null,null,{"$f":"JX20/$C$48","v":0},null,{"$f":"JZ20/$C$48","v":0},null,{"$f":"KB20/$C$48","v":0},null,null,null,{"$f":"KF20/$C$48","v":0},null,{"$f":"KH20/$C$48","v":0},null,{"$f":"KJ20/$C$48","v":0},null,null,null,{"$f":"KN20/$C$48","v":0},null,{"$f":"KP20/$C$48","v":0},null,{"$f":"KR20/$C$48","v":0},null,null,null,{"$f":"KV20/$C$48","v":0},null,{"$f":"KX20/$C$48","v":0},null,{"$f":"KZ20/$C$48","v":0},null,null,null,{"$f":"LD20/$C$48","v":0},null,{"$f":"LF20/$C$48","v":0},null,{"$f":"LH20/$C$48","v":0},null,null,null,{"$f":"LL20/$C$48","v":0},null,{"$f":"LN20/$C$48","v":0},null,{"$f":"LP20/$C$48","v":0},null,null,null,{"$f":"LT20/$C$48","v":0},null,{"$f":"LV20/$C$48","v":0},null,{"$f":"LX20/$C$48","v":0},null,null,null,{"$f":"MB20/$C$48","v":0},null,{"$f":"MD20/$C$48","v":0},null,{"$f":"MF20/$C$48","v":0},null,null,null,{"$f":"MJ20/$C$48","v":0},null,{"$f":"ML20/$C$48","v":0},null,{"$f":"MN20/$C$48","v":0},null,null,null,{"$f":"MR20/$C$48","v":0},null,{"$f":"MT20/$C$48","v":0},null,{"$f":"MV20/$C$48","v":0},null,null,null,{"$f":"MZ20/$C$48","v":0},null,{"$f":"NB20/$C$48","v":0},null,{"$f":"ND20/$C$48","v":0},null,null,null,{"$f":"NH20/$C$48","v":0},null,{"$f":"NJ20/$C$48","v":0},null,{"$f":"NL20/$C$48","v":0},null,null,null,{"$f":"NP20/$C$48","v":0},null,{"$f":"NR20/$C$48","v":0},null,{"$f":"NT20/$C$48","v":0},null,null,null,{"$f":"NX20/$C$48","v":0},null,{"$f":"NZ20/$C$48","v":0},null,{"$f":"OB20/$C$48","v":0},null,null,null,{"$f":"OF20/$C$48","v":0},null,{"$f":"OH20/$C$48","v":0},null,{"$f":"OJ20/$C$48","v":0},null,null,null,{"$f":"ON20/$C$48","v":0},null,{"$f":"OP20/$C$48","v":0},null,{"$f":"OR20/$C$48","v":0}]
[null,2013,{"$f":"MAX(C14,C35)*'Background Calculations'!$N$51","v":0},null,{"$f":"MAX(E14,E35)*'Background Calculations'!$N$52","v":0},null,{"$f":"MAX(G14,G35)*'Background Calculations'!$N$53","v":0},null,null,2013,{"$f":"MAX(K14,K35)*'Background Calculations'!$N$51","v":0},null,{"$f":"MAX(M14,M35)*'Background Calculations'!$N$52","v":0},null,{"$f":"MAX(O14,O35)*'Background Calculations'!$N$53","v":0},null,null,2013,{"$f":"MAX(S14,S35)*'Background Calculations'!$N$51","v":0},null,{"$f":"MAX(U14,U35)*'Background Calculations'!$N$52","v":0},null,{"$f":"MAX(W14,W35)*'Background Calculations'!$N$53","v":0},null,null,2013,{"$f":"MAX(AA14,AA35)*'Background Calculations'!$N$51","v":0},null,{"$f":"MAX(AC14,AC35)*'Background Calculations'!$N$52","v":0},null,{"$f":"MAX(AE14,AE35)*'Background Calculations'!$N$53","v":0},null,null,2013,{"$f":"MAX(AI14,AI35)*'Background Calculations'!$N$51","v":0},null,{"$f":"MAX(AK14,AK35)*'Background Calculations'!$N$52","v":0},null,{"$f":"MAX(AM14,AM35)*'Background Calculations'!$N$53","v":0},null,null,2013,{"$f":"MAX(AQ14,AQ35)*'Background Calculations'!$N$51","v":0},null,{"$f":"MAX(AS14,AS35)*'Background Calculations'!$N$52","v":0},null,{"$f":"MAX(AU14,AU35)*'Background Calculations'!$N$53","v":0},null,null,2013,{"$f":"MAX(AY14,AY35)*'Background Calculations'!$N$51","v":0},null,{"$f":"MAX(BA14,BA35)*'Background Calculations'!$N$52","v":0},null,{"$f":"MAX(BC14,BC35)*'Background Calculations'!$N$53","v":0},null,null,2013,{"$f":"MAX(BG14,BG35)*'Background Calculations'!$N$51","v":0},null,{"$f":"MAX(BI14,BI35)*'Background Calculations'!$N$52","v":0},null,{"$f":"MAX(BK14,BK35)*'Background Calculations'!$N$53","v":0},null,null,2013,{"$f":"MAX(BO14,BO35)*'Background Calculations'!$N$51","v":0},null,{"$f":"MAX(BQ14,BQ35)*'Background Calculations'!$N$52","v":0},null,{"$f":"MAX(BS14,BS35)*'Background Calculations'!$N$53","v":0},null,null,2013,{"$f":"MAX(BW14,BW35)*'Background Calculations'!$N$51","v":0},null,{"$f":"MAX(BY14,BY35)*'Background Calculations'!$N$52","v":0},null,{"$f":"MAX(CA14,CA35)*'Background Calculations'!$N$53","v":0},null,null,2013,{"$f":"MAX(CE14,CE35)*'Background Calculations'!$N$51","v":0},null,{"$f":"MAX(CG14,CG35)*'Background Calculations'!$N$52","v":0},null,{"$f":"MAX(CI14,CI35)*'Background Calculations'!$N$53","v":0},null,null,2013,{"$f":"MAX(CM14,CM35)*'Background Calculations'!$N$51","v":0},null,{"$f":"MAX(CO14,CO35)*'Background Calculations'!$N$52","v":0},null,{"$f":"MAX(CQ14,CQ35)*'Background Calculations'!$N$53","v":0},null,null,2013,{"$f":"MAX(CU14,CU35)*'Background Calculations'!$N$51","v":0},null,{"$f":"MAX(CW14,CW35)*'Background Calculations'!$N$52","v":0},null,{"$f":"MAX(CY14,CY35)*'Background Calculations'!$N$53","v":0},null,null,2013,{"$f":"MAX(DC14,DC35)*'Background Calculations'!$N$51","v":0},null,{"$f":"MAX(DE14,DE35)*'Background Calculations'!$N$52","v":0},null,{"$f":"MAX(DG14,DG35)*'Background Calculations'!$N$53","v":0},null,null,2013,{"$f":"MAX(DK14,DK35)*'Background Calculations'!$N$51","v":0},null,{"$f":"MAX(DM14,DM35)*'Background Calculations'!$N$52","v":0},null,{"$f":"MAX(DO14,DO35)*'Background Calculations'!$N$53","v":0},null,null,2013,{"$f":"MAX(DS14,DS35)*'Background Calculations'!$N$51","v":0},null,{"$f":"MAX(DU14,DU35)*'Background Calculations'!$N$52","v":0},null,{"$f":"MAX(DW14,DW35)*'Background Calculations'!$N$53","v":0},null,null,2013,{"$f":"MAX(EA14,EA35)*'Background Calculations'!$N$51","v":0},null,{"$f":"MAX(EC14,EC35)*'Background Calculations'!$N$52","v":0},null,{"$f":"MAX(EE14,EE35)*'Background Calculations'!$N$53","v":0},null,null,2013,{"$f":"MAX(EI14,EI35)*'Background Calculations'!$N$51","v":0},null,{"$f":"MAX(EK14,EK35)*'Background Calculations'!$N$52","v":0},null,{"$f":"MAX(EM14,EM35)*'Background Calculations'!$N$53","v":0},null,null,2013,{"$f":"MAX(EQ14,EQ35)*'Background Calculations'!$N$51","v":0},null,{"$f":"MAX(ES14,ES35)*'Background Calculations'!$N$52","v":0},null,{"$f":"MAX(EU14,EU35)*'Background Calculations'!$N$53","v":0},null,null,2013,{"$f":"MAX(EY14,EY35)*'Background Calculations'!$N$51","v":0},null,{"$f":"MAX(FA14,FA35)*'Background Calculations'!$N$52","v":0},null,{"$f":"MAX(FC14,FC35)*'Background Calculations'!$N$53","v":0},null,null,2013,{"$f":"MAX(FG14,FG35)*'Background Calculations'!$N$51","v":0},null,{"$f":"MAX(FI14,FI35)*'Background Calculations'!$N$52","v":0},null,{"$f":"MAX(FK14,FK35)*'Background Calculations'!$N$53","v":0},null,null,2013,{"$f":"MAX(FO14,FO35)*'Background Calculations'!$N$51","v":0},null,{"$f":"MAX(FQ14,FQ35)*'Background Calculations'!$N$52","v":0},null,{"$f":"MAX(FS14,FS35)*'Background Calculations'!$N$53","v":0},null,null,2013,{"$f":"MAX(FW14,FW35)*'Background Calculations'!$N$51","v":0},null,{"$f":"MAX(FY14,FY35)*'Background Calculations'!$N$52","v":0},null,{"$f":"MAX(GA14,GA35)*'Background Calculations'!$N$53","v":0},null,null,2013,{"$f":"MAX(GE14,GE35)*'Background Calculations'!$N$51","v":0},null,{"$f":"MAX(GG14,GG35)*'Background Calculations'!$N$52","v":0},null,{"$f":"MAX(GI14,GI35)*'Background Calculations'!$N$53","v":0},null,null,2013,{"$f":"MAX(GM14,GM35)*'Background Calculations'!$N$51","v":0},null,{"$f":"MAX(GO14,GO35)*'Background Calculations'!$N$52","v":0},null,{"$f":"MAX(GQ14,GQ35)*'Background Calculations'!$N$53","v":0},null,null,2013,{"$f":"MAX(GU14,GU35)*'Background Calculations'!$N$51","v":0},null,{"$f":"MAX(GW14,GW35)*'Background Calculations'!$N$52","v":0},null,{"$f":"MAX(GY14,GY35)*'Background Calculations'!$N$53","v":0},null,null,2013,{"$f":"MAX(HC14,HC35)*'Background Calculations'!$N$51","v":0},null,{"$f":"MAX(HE14,HE35)*'Background Calculations'!$N$52","v":0},null,{"$f":"MAX(HG14,HG35)*'Background Calculations'!$N$53","v":0},null,null,2013,{"$f":"MAX(HK14,HK35)*'Background Calculations'!$N$51","v":0},null,{"$f":"MAX(HM14,HM35)*'Background Calculations'!$N$52","v":0},null,{"$f":"MAX(HO14,HO35)*'Background Calculations'!$N$53","v":0},null,null,2013,{"$f":"MAX(HS14,HS35)*'Background Calculations'!$N$51","v":0},null,{"$f":"MAX(HU14,HU35)*'Background Calculations'!$N$52","v":0},null,{"$f":"MAX(HW14,HW35)*'Background Calculations'!$N$53","v":0},null,null,2013,{"$f":"MAX(IA14,IA35)*'Background Calculations'!$N$51","v":0},null,{"$f":"MAX(IC14,IC35)*'Background Calculations'!$N$52","v":0},null,{"$f":"MAX(IE14,IE35)*'Background Calculations'!$N$53","v":0},null,null,2013,{"$f":"MAX(II14,II35)*'Background Calculations'!$N$51","v":0},null,{"$f":"MAX(IK14,IK35)*'Background Calculations'!$N$52","v":0},null,{"$f":"MAX(IM14,IM35)*'Background Calculations'!$N$53","v":0},null,null,2013,{"$f":"MAX(IQ14,IQ35)*'Background Calculations'!$N$51","v":0},null,{"$f":"MAX(IS14,IS35)*'Background Calculations'!$N$52","v":0},null,{"$f":"MAX(IU14,IU35)*'Background Calculations'!$N$53","v":0},null,null,2013,{"$f":"MAX(IY14,IY35)*'Background Calculations'!$N$51","v":0},null,{"$f":"MAX(JA14,JA35)*'Background Calculations'!$N$52","v":0},null,{"$f":"MAX(JC14,JC35)*'Background Calculations'!$N$53","v":0},null,null,2013,{"$f":"MAX(JG14,JG35)*'Background Calculations'!$N$51","v":0},null,{"$f":"MAX(JI14,JI35)*'Background Calculations'!$N$52","v":0},null,{"$f":"MAX(JK14,JK35)*'Background Calculations'!$N$53","v":0},null,null,2013,{"$f":"MAX(JO14,JO35)*'Background Calculations'!$N$51","v":0},null,{"$f":"MAX(JQ14,JQ35)*'Background Calculations'!$N$52","v":0},null,{"$f":"MAX(JS14,JS35)*'Background Calculations'!$N$53","v":0},null,null,2013,{"$f":"MAX(JW14,JW35)*'Background Calculations'!$N$51","v":0},null,{"$f":"MAX(JY14,JY35)*'Background Calculations'!$N$52","v":0},null,{"$f":"MAX(KA14,KA35)*'Background Calculations'!$N$53","v":0},null,null,2013,{"$f":"MAX(KE14,KE35)*'Background Calculations'!$N$51","v":0},null,{"$f":"MAX(KG14,KG35)*'Background Calculations'!$N$52","v":0},null,{"$f":"MAX(KI14,KI35)*'Background Calculations'!$N$53","v":0},null,null,2013,{"$f":"MAX(KM14,KM35)*'Background Calculations'!$N$51","v":0},null,{"$f":"MAX(KO14,KO35)*'Background Calculations'!$N$52","v":0},null,{"$f":"MAX(KQ14,KQ35)*'Background Calculations'!$N$53","v":0},null,null,2013,{"$f":"MAX(KU14,KU35)*'Background Calculations'!$N$51","v":0},null,{"$f":"MAX(KW14,KW35)*'Background Calculations'!$N$52","v":0},null,{"$f":"MAX(KY14,KY35)*'Background Calculations'!$N$53","v":0},null,null,2013,{"$f":"MAX(LC14,LC35)*'Background Calculations'!$N$51","v":0},null,{"$f":"MAX(LE14,LE35)*'Background Calculations'!$N$52","v":0},null,{"$f":"MAX(LG14,LG35)*'Background Calculations'!$N$53","v":0},null,null,2013,{"$f":"MAX(LK14,LK35)*'Background Calculations'!$N$51","v":0},null,{"$f":"MAX(LM14,LM35)*'Background Calculations'!$N$52","v":0},null,{"$f":"MAX(LO14,LO35)*'Background Calculations'!$N$53","v":0},null,null,2013,{"$f":"MAX(LS14,LS35)*'Background Calculations'!$N$51","v":0},null,{"$f":"MAX(LU14,LU35)*'Background Calculations'!$N$52","v":0},null,{"$f":"MAX(LW14,LW35)*'Background Calculations'!$N$53","v":0},null,null,2013,{"$f":"MAX(MA14,MA35)*'Background Calculations'!$N$51","v":0},null,{"$f":"MAX(MC14,MC35)*'Background Calculations'!$N$52","v":0},null,{"$f":"MAX(ME14,ME35)*'Background Calculations'!$N$53","v":0},null,null,2013,{"$f":"MAX(MI14,MI35)*'Background Calculations'!$N$51","v":0},null,{"$f":"MAX(MK14,MK35)*'Background Calculations'!$N$52","v":0},null,{"$f":"MAX(MM14,MM35)*'Background Calculations'!$N$53","v":0},null,null,2013,{"$f":"MAX(MQ14,MQ35)*'Background Calculations'!$N$51","v":0},null,{"$f":"MAX(MS14,MS35)*'Background Calculations'!$N$52","v":0},null,{"$f":"MAX(MU14,MU35)*'Background Calculations'!$N$53","v":0},null,null,2013,{"$f":"MAX(MY14,MY35)*'Background Calculations'!$N$51","v":0},null,{"$f":"MAX(NA14,NA35)*'Background Calculations'!$N$52","v":0},null,{"$f":"MAX(NC14,NC35)*'Background Calculations'!$N$53","v":0},null,null,2013,{"$f":"MAX(NG14,NG35)*'Background Calculations'!$N$51","v":0},null,{"$f":"MAX(NI14,NI35)*'Background Calculations'!$N$52","v":0},null,{"$f":"MAX(NK14,NK35)*'Background Calculations'!$N$53","v":0},null,null,2013,{"$f":"MAX(NO14,NO35)*'Background Calculations'!$N$51","v":0},null,{"$f":"MAX(NQ14,NQ35)*'Background Calculations'!$N$52","v":0},null,{"$f":"MAX(NS14,NS35)*'Background Calculations'!$N$53","v":0},null,null,2013,{"$f":"MAX(NW14,NW35)*'Background Calculations'!$N$51","v":0},null,{"$f":"MAX(NY14,NY35)*'Background Calculations'!$N$52","v":0},null,{"$f":"MAX(OA14,OA35)*'Background Calculations'!$N$53","v":0},null,null,2013,{"$f":"MAX(OE14,OE35)*'Background Calculations'!$N$51","v":0},null,{"$f":"MAX(OG14,OG35)*'Background Calculations'!$N$52","v":0},null,{"$f":"MAX(OI14,OI35)*'Background Calculations'!$N$53","v":0},null,null,2013,{"$f":"MAX(OM14,OM35)*'Background Calculations'!$N$51","v":0},null,{"$f":"MAX(OO14,OO35)*'Background Calculations'!$N$52","v":0},null,{"$f":"MAX(OQ14,OQ35)*'Background Calculations'!$N$53","v":0}]
[null,2014,{"$f":"MAX(C15,C36)*'Background Calculations'!$O$51","v":0},null,{"$f":"MAX(E15,E36)*'Background Calculations'!$O$52","v":0},null,{"$f":"MAX(G15,G36)*'Background Calculations'!$O$53","v":0},null,null,2014,{"$f":"MAX(K15,K36)*'Background Calculations'!$O$51","v":0},null,{"$f":"MAX(M15,M36)*'Background Calculations'!$O$52","v":0},null,{"$f":"MAX(O15,O36)*'Background Calculations'!$O$53","v":0},null,null,2014,{"$f":"MAX(S15,S36)*'Background Calculations'!$O$51","v":0},null,{"$f":"MAX(U15,U36)*'Background Calculations'!$O$52","v":0},null,{"$f":"MAX(W15,W36)*'Background Calculations'!$O$53","v":0},null,null,2014,{"$f":"MAX(AA15,AA36)*'Background Calculations'!$O$51","v":0},null,{"$f":"MAX(AC15,AC36)*'Background Calculations'!$O$52","v":0},null,{"$f":"MAX(AE15,AE36)*'Background Calculations'!$O$53","v":0},null,null,2014,{"$f":"MAX(AI15,AI36)*'Background Calculations'!$O$51","v":0},null,{"$f":"MAX(AK15,AK36)*'Background Calculations'!$O$52","v":0},null,{"$f":"MAX(AM15,AM36)*'Background Calculations'!$O$53","v":0},null,null,2014,{"$f":"MAX(AQ15,AQ36)*'Background Calculations'!$O$51","v":0},null,{"$f":"MAX(AS15,AS36)*'Background Calculations'!$O$52","v":0},null,{"$f":"MAX(AU15,AU36)*'Background Calculations'!$O$53","v":0},null,null,2014,{"$f":"MAX(AY15,AY36)*'Background Calculations'!$O$51","v":0},null,{"$f":"MAX(BA15,BA36)*'Background Calculations'!$O$52","v":0},null,{"$f":"MAX(BC15,BC36)*'Background Calculations'!$O$53","v":0},null,null,2014,{"$f":"MAX(BG15,BG36)*'Background Calculations'!$O$51","v":0},null,{"$f":"MAX(BI15,BI36)*'Background Calculations'!$O$52","v":0},null,{"$f":"MAX(BK15,BK36)*'Background Calculations'!$O$53","v":0},null,null,2014,{"$f":"MAX(BO15,BO36)*'Background Calculations'!$O$51","v":0},null,{"$f":"MAX(BQ15,BQ36)*'Background Calculations'!$O$52","v":0},null,{"$f":"MAX(BS15,BS36)*'Background Calculations'!$O$53","v":0},null,null,2014,{"$f":"MAX(BW15,BW36)*'Background Calculations'!$O$51","v":0},null,{"$f":"MAX(BY15,BY36)*'Background Calculations'!$O$52","v":0},null,{"$f":"MAX(CA15,CA36)*'Background Calculations'!$O$53","v":0},null,null,2014,{"$f":"MAX(CE15,CE36)*'Background Calculations'!$O$51","v":0},null,{"$f":"MAX(CG15,CG36)*'Background Calculations'!$O$52","v":0},null,{"$f":"MAX(CI15,CI36)*'Background Calculations'!$O$53","v":0},null,null,2014,{"$f":"MAX(CM15,CM36)*'Background Calculations'!$O$51","v":0},null,{"$f":"MAX(CO15,CO36)*'Background Calculations'!$O$52","v":0},null,{"$f":"MAX(CQ15,CQ36)*'Background Calculations'!$O$53","v":0},null,null,2014,{"$f":"MAX(CU15,CU36)*'Background Calculations'!$O$51","v":0},null,{"$f":"MAX(CW15,CW36)*'Background Calculations'!$O$52","v":0},null,{"$f":"MAX(CY15,CY36)*'Background Calculations'!$O$53","v":0},null,null,2014,{"$f":"MAX(DC15,DC36)*'Background Calculations'!$O$51","v":0},null,{"$f":"MAX(DE15,DE36)*'Background Calculations'!$O$52","v":0},null,{"$f":"MAX(DG15,DG36)*'Background Calculations'!$O$53","v":0},null,null,2014,{"$f":"MAX(DK15,DK36)*'Background Calculations'!$O$51","v":0},null,{"$f":"MAX(DM15,DM36)*'Background Calculations'!$O$52","v":0},null,{"$f":"MAX(DO15,DO36)*'Background Calculations'!$O$53","v":0},null,null,2014,{"$f":"MAX(DS15,DS36)*'Background Calculations'!$O$51","v":0},null,{"$f":"MAX(DU15,DU36)*'Background Calculations'!$O$52","v":0},null,{"$f":"MAX(DW15,DW36)*'Background Calculations'!$O$53","v":0},null,null,2014,{"$f":"MAX(EA15,EA36)*'Background Calculations'!$O$51","v":0},null,{"$f":"MAX(EC15,EC36)*'Background Calculations'!$O$52","v":0},null,{"$f":"MAX(EE15,EE36)*'Background Calculations'!$O$53","v":0},null,null,2014,{"$f":"MAX(EI15,EI36)*'Background Calculations'!$O$51","v":0},null,{"$f":"MAX(EK15,EK36)*'Background Calculations'!$O$52","v":0},null,{"$f":"MAX(EM15,EM36)*'Background Calculations'!$O$53","v":0},null,null,2014,{"$f":"MAX(EQ15,EQ36)*'Background Calculations'!$O$51","v":0},null,{"$f":"MAX(ES15,ES36)*'Background Calculations'!$O$52","v":0},null,{"$f":"MAX(EU15,EU36)*'Background Calculations'!$O$53","v":0},null,null,2014,{"$f":"MAX(EY15,EY36)*'Background Calculations'!$O$51","v":0},null,{"$f":"MAX(FA15,FA36)*'Background Calculations'!$O$52","v":0},null,{"$f":"MAX(FC15,FC36)*'Background Calculations'!$O$53","v":0},null,null,2014,{"$f":"MAX(FG15,FG36)*'Background Calculations'!$O$51","v":0},null,{"$f":"MAX(FI15,FI36)*'Background Calculations'!$O$52","v":0},null,{"$f":"MAX(FK15,FK36)*'Background Calculations'!$O$53","v":0},null,null,2014,{"$f":"MAX(FO15,FO36)*'Background Calculations'!$O$51","v":0},null,{"$f":"MAX(FQ15,FQ36)*'Background Calculations'!$O$52","v":0},null,{"$f":"MAX(FS15,FS36)*'Background Calculations'!$O$53","v":0},null,null,2014,{"$f":"MAX(FW15,FW36)*'Background Calculations'!$O$51","v":0},null,{"$f":"MAX(FY15,FY36)*'Background Calculations'!$O$52","v":0},null,{"$f":"MAX(GA15,GA36)*'Background Calculations'!$O$53","v":0},null,null,2014,{"$f":"MAX(GE15,GE36)*'Background Calculations'!$O$51","v":0},null,{"$f":"MAX(GG15,GG36)*'Background Calculations'!$O$52","v":0},null,{"$f":"MAX(GI15,GI36)*'Background Calculations'!$O$53","v":0},null,null,2014,{"$f":"MAX(GM15,GM36)*'Background Calculations'!$O$51","v":0},null,{"$f":"MAX(GO15,GO36)*'Background Calculations'!$O$52","v":0},null,{"$f":"MAX(GQ15,GQ36)*'Background Calculations'!$O$53","v":0},null,null,2014,{"$f":"MAX(GU15,GU36)*'Background Calculations'!$O$51","v":0},null,{"$f":"MAX(GW15,GW36)*'Background Calculations'!$O$52","v":0},null,{"$f":"MAX(GY15,GY36)*'Background Calculations'!$O$53","v":0},null,null,2014,{"$f":"MAX(HC15,HC36)*'Background Calculations'!$O$51","v":0},null,{"$f":"MAX(HE15,HE36)*'Background Calculations'!$O$52","v":0},null,{"$f":"MAX(HG15,HG36)*'Background Calculations'!$O$53","v":0},null,null,2014,{"$f":"MAX(HK15,HK36)*'Background Calculations'!$O$51","v":0},null,{"$f":"MAX(HM15,HM36)*'Background Calculations'!$O$52","v":0},null,{"$f":"MAX(HO15,HO36)*'Background Calculations'!$O$53","v":0},null,null,2014,{"$f":"MAX(HS15,HS36)*'Background Calculations'!$O$51","v":0},null,{"$f":"MAX(HU15,HU36)*'Background Calculations'!$O$52","v":0},null,{"$f":"MAX(HW15,HW36)*'Background Calculations'!$O$53","v":0},null,null,2014,{"$f":"MAX(IA15,IA36)*'Background Calculations'!$O$51","v":0},null,{"$f":"MAX(IC15,IC36)*'Background Calculations'!$O$52","v":0},null,{"$f":"MAX(IE15,IE36)*'Background Calculations'!$O$53","v":0},null,null,2014,{"$f":"MAX(II15,II36)*'Background Calculations'!$O$51","v":0},null,{"$f":"MAX(IK15,IK36)*'Background Calculations'!$O$52","v":0},null,{"$f":"MAX(IM15,IM36)*'Background Calculations'!$O$53","v":0},null,null,2014,{"$f":"MAX(IQ15,IQ36)*'Background Calculations'!$O$51","v":0},null,{"$f":"MAX(IS15,IS36)*'Background Calculations'!$O$52","v":0},null,{"$f":"MAX(IU15,IU36)*'Background Calculations'!$O$53","v":0},null,null,2014,{"$f":"MAX(IY15,IY36)*'Background Calculations'!$O$51","v":0},null,{"$f":"MAX(JA15,JA36)*'Background Calculations'!$O$52","v":0},null,{"$f":"MAX(JC15,JC36)*'Background Calculations'!$O$53","v":0},null,null,2014,{"$f":"MAX(JG15,JG36)*'Background Calculations'!$O$51","v":0},null,{"$f":"MAX(JI15,JI36)*'Background Calculations'!$O$52","v":0},null,{"$f":"MAX(JK15,JK36)*'Background Calculations'!$O$53","v":0},null,null,2014,{"$f":"MAX(JO15,JO36)*'Background Calculations'!$O$51","v":0},null,{"$f":"MAX(JQ15,JQ36)*'Background Calculations'!$O$52","v":0},null,{"$f":"MAX(JS15,JS36)*'Background Calculations'!$O$53","v":0},null,null,2014,{"$f":"MAX(JW15,JW36)*'Background Calculations'!$O$51","v":0},null,{"$f":"MAX(JY15,JY36)*'Background Calculations'!$O$52","v":0},null,{"$f":"MAX(KA15,KA36)*'Background Calculations'!$O$53","v":0},null,null,2014,{"$f":"MAX(KE15,KE36)*'Background Calculations'!$O$51","v":0},null,{"$f":"MAX(KG15,KG36)*'Background Calculations'!$O$52","v":0},null,{"$f":"MAX(KI15,KI36)*'Background Calculations'!$O$53","v":0},null,null,2014,{"$f":"MAX(KM15,KM36)*'Background Calculations'!$O$51","v":0},null,{"$f":"MAX(KO15,KO36)*'Background Calculations'!$O$52","v":0},null,{"$f":"MAX(KQ15,KQ36)*'Background Calculations'!$O$53","v":0},null,null,2014,{"$f":"MAX(KU15,KU36)*'Background Calculations'!$O$51","v":0},null,{"$f":"MAX(KW15,KW36)*'Background Calculations'!$O$52","v":0},null,{"$f":"MAX(KY15,KY36)*'Background Calculations'!$O$53","v":0},null,null,2014,{"$f":"MAX(LC15,LC36)*'Background Calculations'!$O$51","v":0},null,{"$f":"MAX(LE15,LE36)*'Background Calculations'!$O$52","v":0},null,{"$f":"MAX(LG15,LG36)*'Background Calculations'!$O$53","v":0},null,null,2014,{"$f":"MAX(LK15,LK36)*'Background Calculations'!$O$51","v":0},null,{"$f":"MAX(LM15,LM36)*'Background Calculations'!$O$52","v":0},null,{"$f":"MAX(LO15,LO36)*'Background Calculations'!$O$53","v":0},null,null,2014,{"$f":"MAX(LS15,LS36)*'Background Calculations'!$O$51","v":0},null,{"$f":"MAX(LU15,LU36)*'Background Calculations'!$O$52","v":0},null,{"$f":"MAX(LW15,LW36)*'Background Calculations'!$O$53","v":0},null,null,2014,{"$f":"MAX(MA15,MA36)*'Background Calculations'!$O$51","v":0},null,{"$f":"MAX(MC15,MC36)*'Background Calculations'!$O$52","v":0},null,{"$f":"MAX(ME15,ME36)*'Background Calculations'!$O$53","v":0},null,null,2014,{"$f":"MAX(MI15,MI36)*'Background Calculations'!$O$51","v":0},null,{"$f":"MAX(MK15,MK36)*'Background Calculations'!$O$52","v":0},null,{"$f":"MAX(MM15,MM36)*'Background Calculations'!$O$53","v":0},null,null,2014,{"$f":"MAX(MQ15,MQ36)*'Background Calculations'!$O$51","v":0},null,{"$f":"MAX(MS15,MS36)*'Background Calculations'!$O$52","v":0},null,{"$f":"MAX(MU15,MU36)*'Background Calculations'!$O$53","v":0},null,null,2014,{"$f":"MAX(MY15,MY36)*'Background Calculations'!$O$51","v":0},null,{"$f":"MAX(NA15,NA36)*'Background Calculations'!$O$52","v":0},null,{"$f":"MAX(NC15,NC36)*'Background Calculations'!$O$53","v":0},null,null,2014,{"$f":"MAX(NG15,NG36)*'Background Calculations'!$O$51","v":0},null,{"$f":"MAX(NI15,NI36)*'Background Calculations'!$O$52","v":0},null,{"$f":"MAX(NK15,NK36)*'Background Calculations'!$O$53","v":0},null,null,2014,{"$f":"MAX(NO15,NO36)*'Background Calculations'!$O$51","v":0},null,{"$f":"MAX(NQ15,NQ36)*'Background Calculations'!$O$52","v":0},null,{"$f":"MAX(NS15,NS36)*'Background Calculations'!$O$53","v":0},null,null,2014,{"$f":"MAX(NW15,NW36)*'Background Calculations'!$O$51","v":0},null,{"$f":"MAX(NY15,NY36)*'Background Calculations'!$O$52","v":0},null,{"$f":"MAX(OA15,OA36)*'Background Calculations'!$O$53","v":0},null,null,2014,{"$f":"MAX(OE15,OE36)*'Background Calculations'!$O$51","v":0},null,{"$f":"MAX(OG15,OG36)*'Background Calculations'!$O$52","v":0},null,{"$f":"MAX(OI15,OI36)*'Background Calculations'!$O$53","v":0},null,null,2014,{"$f":"MAX(OM15,OM36)*'Background Calculations'!$O$51","v":0},null,{"$f":"MAX(OO15,OO36)*'Background Calculations'!$O$52","v":0},null,{"$f":"MAX(OQ15,OQ36)*'Background Calculations'!$O$53","v":0}]
[null,2015,{"$f":"MAX(C16,C37)*'Background Calculations'!$P$51","v":0},null,{"$f":"MAX(E16,E37)*'Background Calculations'!$P$52","v":0},null,{"$f":"MAX(G16,G37)*'Background Calculations'!$P$53","v":0},null,null,2015,{"$f":"MAX(K16,K37)*'Background Calculations'!$P$51","v":0},null,{"$f":"MAX(M16,M37)*'Background Calculations'!$P$52","v":0},null,{"$f":"MAX(O16,O37)*'Background Calculations'!$P$53","v":0},null,null,2015,{"$f":"MAX(S16,S37)*'Background Calculations'!$P$51","v":0},null,{"$f":"MAX(U16,U37)*'Background Calculations'!$P$52","v":0},null,{"$f":"MAX(W16,W37)*'Background Calculations'!$P$53","v":0},null,null,2015,{"$f":"MAX(AA16,AA37)*'Background Calculations'!$P$51","v":0},null,{"$f":"MAX(AC16,AC37)*'Background Calculations'!$P$52","v":0},null,{"$f":"MAX(AE16,AE37)*'Background Calculations'!$P$53","v":0},null,null,2015,{"$f":"MAX(AI16,AI37)*'Background Calculations'!$P$51","v":0},null,{"$f":"MAX(AK16,AK37)*'Background Calculations'!$P$52","v":0},null,{"$f":"MAX(AM16,AM37)*'Background Calculations'!$P$53","v":0},null,null,2015,{"$f":"MAX(AQ16,AQ37)*'Background Calculations'!$P$51","v":0},null,{"$f":"MAX(AS16,AS37)*'Background Calculations'!$P$52","v":0},null,{"$f":"MAX(AU16,AU37)*'Background Calculations'!$P$53","v":0},null,null,2015,{"$f":"MAX(AY16,AY37)*'Background Calculations'!$P$51","v":0},null,{"$f":"MAX(BA16,BA37)*'Background Calculations'!$P$52","v":0},null,{"$f":"MAX(BC16,BC37)*'Background Calculations'!$P$53","v":0},null,null,2015,{"$f":"MAX(BG16,BG37)*'Background Calculations'!$P$51","v":0},null,{"$f":"MAX(BI16,BI37)*'Background Calculations'!$P$52","v":0},null,{"$f":"MAX(BK16,BK37)*'Background Calculations'!$P$53","v":0},null,null,2015,{"$f":"MAX(BO16,BO37)*'Background Calculations'!$P$51","v":0},null,{"$f":"MAX(BQ16,BQ37)*'Background Calculations'!$P$52","v":0},null,{"$f":"MAX(BS16,BS37)*'Background Calculations'!$P$53","v":0},null,null,2015,{"$f":"MAX(BW16,BW37)*'Background Calculations'!$P$51","v":0},null,{"$f":"MAX(BY16,BY37)*'Background Calculations'!$P$52","v":0},null,{"$f":"MAX(CA16,CA37)*'Background Calculations'!$P$53","v":0},null,null,2015,{"$f":"MAX(CE16,CE37)*'Background Calculations'!$P$51","v":0},null,{"$f":"MAX(CG16,CG37)*'Background Calculations'!$P$52","v":0},null,{"$f":"MAX(CI16,CI37)*'Background Calculations'!$P$53","v":0},null,null,2015,{"$f":"MAX(CM16,CM37)*'Background Calculations'!$P$51","v":0},null,{"$f":"MAX(CO16,CO37)*'Background Calculations'!$P$52","v":0},null,{"$f":"MAX(CQ16,CQ37)*'Background Calculations'!$P$53","v":0},null,null,2015,{"$f":"MAX(CU16,CU37)*'Background Calculations'!$P$51","v":0},null,{"$f":"MAX(CW16,CW37)*'Background Calculations'!$P$52","v":0},null,{"$f":"MAX(CY16,CY37)*'Background Calculations'!$P$53","v":0},null,null,2015,{"$f":"MAX(DC16,DC37)*'Background Calculations'!$P$51","v":0},null,{"$f":"MAX(DE16,DE37)*'Background Calculations'!$P$52","v":0},null,{"$f":"MAX(DG16,DG37)*'Background Calculations'!$P$53","v":0},null,null,2015,{"$f":"MAX(DK16,DK37)*'Background Calculations'!$P$51","v":0},null,{"$f":"MAX(DM16,DM37)*'Background Calculations'!$P$52","v":0},null,{"$f":"MAX(DO16,DO37)*'Background Calculations'!$P$53","v":0},null,null,2015,{"$f":"MAX(DS16,DS37)*'Background Calculations'!$P$51","v":0},null,{"$f":"MAX(DU16,DU37)*'Background Calculations'!$P$52","v":0},null,{"$f":"MAX(DW16,DW37)*'Background Calculations'!$P$53","v":0},null,null,2015,{"$f":"MAX(EA16,EA37)*'Background Calculations'!$P$51","v":0},null,{"$f":"MAX(EC16,EC37)*'Background Calculations'!$P$52","v":0},null,{"$f":"MAX(EE16,EE37)*'Background Calculations'!$P$53","v":0},null,null,2015,{"$f":"MAX(EI16,EI37)*'Background Calculations'!$P$51","v":0},null,{"$f":"MAX(EK16,EK37)*'Background Calculations'!$P$52","v":0},null,{"$f":"MAX(EM16,EM37)*'Background Calculations'!$P$53","v":0},null,null,2015,{"$f":"MAX(EQ16,EQ37)*'Background Calculations'!$P$51","v":0},null,{"$f":"MAX(ES16,ES37)*'Background Calculations'!$P$52","v":0},null,{"$f":"MAX(EU16,EU37)*'Background Calculations'!$P$53","v":0},null,null,2015,{"$f":"MAX(EY16,EY37)*'Background Calculations'!$P$51","v":0},null,{"$f":"MAX(FA16,FA37)*'Background Calculations'!$P$52","v":0},null,{"$f":"MAX(FC16,FC37)*'Background Calculations'!$P$53","v":0},null,null,2015,{"$f":"MAX(FG16,FG37)*'Background Calculations'!$P$51","v":0},null,{"$f":"MAX(FI16,FI37)*'Background Calculations'!$P$52","v":0},null,{"$f":"MAX(FK16,FK37)*'Background Calculations'!$P$53","v":0},null,null,2015,{"$f":"MAX(FO16,FO37)*'Background Calculations'!$P$51","v":0},null,{"$f":"MAX(FQ16,FQ37)*'Background Calculations'!$P$52","v":0},null,{"$f":"MAX(FS16,FS37)*'Background Calculations'!$P$53","v":0},null,null,2015,{"$f":"MAX(FW16,FW37)*'Background Calculations'!$P$51","v":0},null,{"$f":"MAX(FY16,FY37)*'Background Calculations'!$P$52","v":0},null,{"$f":"MAX(GA16,GA37)*'Background Calculations'!$P$53","v":0},null,null,2015,{"$f":"MAX(GE16,GE37)*'Background Calculations'!$P$51","v":0},null,{"$f":"MAX(GG16,GG37)*'Background Calculations'!$P$52","v":0},null,{"$f":"MAX(GI16,GI37)*'Background Calculations'!$P$53","v":0},null,null,2015,{"$f":"MAX(GM16,GM37)*'Background Calculations'!$P$51","v":0},null,{"$f":"MAX(GO16,GO37)*'Background Calculations'!$P$52","v":0},null,{"$f":"MAX(GQ16,GQ37)*'Background Calculations'!$P$53","v":0},null,null,2015,{"$f":"MAX(GU16,GU37)*'Background Calculations'!$P$51","v":0},null,{"$f":"MAX(GW16,GW37)*'Background Calculations'!$P$52","v":0},null,{"$f":"MAX(GY16,GY37)*'Background Calculations'!$P$53","v":0},null,null,2015,{"$f":"MAX(HC16,HC37)*'Background Calculations'!$P$51","v":0},null,{"$f":"MAX(HE16,HE37)*'Background Calculations'!$P$52","v":0},null,{"$f":"MAX(HG16,HG37)*'Background Calculations'!$P$53","v":0},null,null,2015,{"$f":"MAX(HK16,HK37)*'Background Calculations'!$P$51","v":0},null,{"$f":"MAX(HM16,HM37)*'Background Calculations'!$P$52","v":0},null,{"$f":"MAX(HO16,HO37)*'Background Calculations'!$P$53","v":0},null,null,2015,{"$f":"MAX(HS16,HS37)*'Background Calculations'!$P$51","v":0},null,{"$f":"MAX(HU16,HU37)*'Background Calculations'!$P$52","v":0},null,{"$f":"MAX(HW16,HW37)*'Background Calculations'!$P$53","v":0},null,null,2015,{"$f":"MAX(IA16,IA37)*'Background Calculations'!$P$51","v":0},null,{"$f":"MAX(IC16,IC37)*'Background Calculations'!$P$52","v":0},null,{"$f":"MAX(IE16,IE37)*'Background Calculations'!$P$53","v":0},null,null,2015,{"$f":"MAX(II16,II37)*'Background Calculations'!$P$51","v":0},null,{"$f":"MAX(IK16,IK37)*'Background Calculations'!$P$52","v":0},null,{"$f":"MAX(IM16,IM37)*'Background Calculations'!$P$53","v":0},null,null,2015,{"$f":"MAX(IQ16,IQ37)*'Background Calculations'!$P$51","v":0},null,{"$f":"MAX(IS16,IS37)*'Background Calculations'!$P$52","v":0},null,{"$f":"MAX(IU16,IU37)*'Background Calculations'!$P$53","v":0},null,null,2015,{"$f":"MAX(IY16,IY37)*'Background Calculations'!$P$51","v":0},null,{"$f":"MAX(JA16,JA37)*'Background Calculations'!$P$52","v":0},null,{"$f":"MAX(JC16,JC37)*'Background Calculations'!$P$53","v":0},null,null,2015,{"$f":"MAX(JG16,JG37)*'Background Calculations'!$P$51","v":0},null,{"$f":"MAX(JI16,JI37)*'Background Calculations'!$P$52","v":0},null,{"$f":"MAX(JK16,JK37)*'Background Calculations'!$P$53","v":0},null,null,2015,{"$f":"MAX(JO16,JO37)*'Background Calculations'!$P$51","v":0},null,{"$f":"MAX(JQ16,JQ37)*'Background Calculations'!$P$52","v":0},null,{"$f":"MAX(JS16,JS37)*'Background Calculations'!$P$53","v":0},null,null,2015,{"$f":"MAX(JW16,JW37)*'Background Calculations'!$P$51","v":0},null,{"$f":"MAX(JY16,JY37)*'Background Calculations'!$P$52","v":0},null,{"$f":"MAX(KA16,KA37)*'Background Calculations'!$P$53","v":0},null,null,2015,{"$f":"MAX(KE16,KE37)*'Background Calculations'!$P$51","v":0},null,{"$f":"MAX(KG16,KG37)*'Background Calculations'!$P$52","v":0},null,{"$f":"MAX(KI16,KI37)*'Background Calculations'!$P$53","v":0},null,null,2015,{"$f":"MAX(KM16,KM37)*'Background Calculations'!$P$51","v":0},null,{"$f":"MAX(KO16,KO37)*'Background Calculations'!$P$52","v":0},null,{"$f":"MAX(KQ16,KQ37)*'Background Calculations'!$P$53","v":0},null,null,2015,{"$f":"MAX(KU16,KU37)*'Background Calculations'!$P$51","v":0},null,{"$f":"MAX(KW16,KW37)*'Background Calculations'!$P$52","v":0},null,{"$f":"MAX(KY16,KY37)*'Background Calculations'!$P$53","v":0},null,null,2015,{"$f":"MAX(LC16,LC37)*'Background Calculations'!$P$51","v":0},null,{"$f":"MAX(LE16,LE37)*'Background Calculations'!$P$52","v":0},null,{"$f":"MAX(LG16,LG37)*'Background Calculations'!$P$53","v":0},null,null,2015,{"$f":"MAX(LK16,LK37)*'Background Calculations'!$P$51","v":0},null,{"$f":"MAX(LM16,LM37)*'Background Calculations'!$P$52","v":0},null,{"$f":"MAX(LO16,LO37)*'Background Calculations'!$P$53","v":0},null,null,2015,{"$f":"MAX(LS16,LS37)*'Background Calculations'!$P$51","v":0},null,{"$f":"MAX(LU16,LU37)*'Background Calculations'!$P$52","v":0},null,{"$f":"MAX(LW16,LW37)*'Background Calculations'!$P$53","v":0},null,null,2015,{"$f":"MAX(MA16,MA37)*'Background Calculations'!$P$51","v":0},null,{"$f":"MAX(MC16,MC37)*'Background Calculations'!$P$52","v":0},null,{"$f":"MAX(ME16,ME37)*'Background Calculations'!$P$53","v":0},null,null,2015,{"$f":"MAX(MI16,MI37)*'Background Calculations'!$P$51","v":0},null,{"$f":"MAX(MK16,MK37)*'Background Calculations'!$P$52","v":0},null,{"$f":"MAX(MM16,MM37)*'Background Calculations'!$P$53","v":0},null,null,2015,{"$f":"MAX(MQ16,MQ37)*'Background Calculations'!$P$51","v":0},null,{"$f":"MAX(MS16,MS37)*'Background Calculations'!$P$52","v":0},null,{"$f":"MAX(MU16,MU37)*'Background Calculations'!$P$53","v":0},null,null,2015,{"$f":"MAX(MY16,MY37)*'Background Calculations'!$P$51","v":0},null,{"$f":"MAX(NA16,NA37)*'Background Calculations'!$P$52","v":0},null,{"$f":"MAX(NC16,NC37)*'Background Calculations'!$P$53","v":0},null,null,2015,{"$f":"MAX(NG16,NG37)*'Background Calculations'!$P$51","v":0},null,{"$f":"MAX(NI16,NI37)*'Background Calculations'!$P$52","v":0},null,{"$f":"MAX(NK16,NK37)*'Background Calculations'!$P$53","v":0},null,null,2015,{"$f":"MAX(NO16,NO37)*'Background Calculations'!$P$51","v":0},null,{"$f":"MAX(NQ16,NQ37)*'Background Calculations'!$P$52","v":0},null,{"$f":"MAX(NS16,NS37)*'Background Calculations'!$P$53","v":0},null,null,2015,{"$f":"MAX(NW16,NW37)*'Background Calculations'!$P$51","v":0},null,{"$f":"MAX(NY16,NY37)*'Background Calculations'!$P$52","v":0},null,{"$f":"MAX(OA16,OA37)*'Background Calculations'!$P$53","v":0},null,null,2015,{"$f":"MAX(OE16,OE37)*'Background Calculations'!$P$51","v":0},null,{"$f":"MAX(OG16,OG37)*'Background Calculations'!$P$52","v":0},null,{"$f":"MAX(OI16,OI37)*'Background Calculations'!$P$53","v":0},null,null,2015,{"$f":"MAX(OM16,OM37)*'Background Calculations'!$P$51","v":0},null,{"$f":"MAX(OO16,OO37)*'Background Calculations'!$P$52","v":0},null,{"$f":"MAX(OQ16,OQ37)*'Background Calculations'!$P$53","v":0}]
[null,2016,{"$f":"MAX(C17,C38)*'Background Calculations'!$Q$51","v":0},null,{"$f":"MAX(E17,E38)*'Background Calculations'!$Q$52","v":0},null,{"$f":"MAX(G17,G38)*'Background Calculations'!$Q$53","v":0},null,null,2016,{"$f":"MAX(K17,K38)*'Background Calculations'!$Q$51","v":0},null,{"$f":"MAX(M17,M38)*'Background Calculations'!$Q$52","v":0},null,{"$f":"MAX(O17,O38)*'Background Calculations'!$Q$53","v":0},null,null,2016,{"$f":"MAX(S17,S38)*'Background Calculations'!$Q$51","v":0},null,{"$f":"MAX(U17,U38)*'Background Calculations'!$Q$52","v":0},null,{"$f":"MAX(W17,W38)*'Background Calculations'!$Q$53","v":0},null,null,2016,{"$f":"MAX(AA17,AA38)*'Background Calculations'!$Q$51","v":0},null,{"$f":"MAX(AC17,AC38)*'Background Calculations'!$Q$52","v":0},null,{"$f":"MAX(AE17,AE38)*'Background Calculations'!$Q$53","v":0},null,null,2016,{"$f":"MAX(AI17,AI38)*'Background Calculations'!$Q$51","v":0},null,{"$f":"MAX(AK17,AK38)*'Background Calculations'!$Q$52","v":0},null,{"$f":"MAX(AM17,AM38)*'Background Calculations'!$Q$53","v":0},null,null,2016,{"$f":"MAX(AQ17,AQ38)*'Background Calculations'!$Q$51","v":0},null,{"$f":"MAX(AS17,AS38)*'Background Calculations'!$Q$52","v":0},null,{"$f":"MAX(AU17,AU38)*'Background Calculations'!$Q$53","v":0},null,null,2016,{"$f":"MAX(AY17,AY38)*'Background Calculations'!$Q$51","v":0},null,{"$f":"MAX(BA17,BA38)*'Background Calculations'!$Q$52","v":0},null,{"$f":"MAX(BC17,BC38)*'Background Calculations'!$Q$53","v":0},null,null,2016,{"$f":"MAX(BG17,BG38)*'Background Calculations'!$Q$51","v":0},null,{"$f":"MAX(BI17,BI38)*'Background Calculations'!$Q$52","v":0},null,{"$f":"MAX(BK17,BK38)*'Background Calculations'!$Q$53","v":0},null,null,2016,{"$f":"MAX(BO17,BO38)*'Background Calculations'!$Q$51","v":0},null,{"$f":"MAX(BQ17,BQ38)*'Background Calculations'!$Q$52","v":0},null,{"$f":"MAX(BS17,BS38)*'Background Calculations'!$Q$53","v":0},null,null,2016,{"$f":"MAX(BW17,BW38)*'Background Calculations'!$Q$51","v":0},null,{"$f":"MAX(BY17,BY38)*'Background Calculations'!$Q$52","v":0},null,{"$f":"MAX(CA17,CA38)*'Background Calculations'!$Q$53","v":0},null,null,2016,{"$f":"MAX(CE17,CE38)*'Background Calculations'!$Q$51","v":0},null,{"$f":"MAX(CG17,CG38)*'Background Calculations'!$Q$52","v":0},null,{"$f":"MAX(CI17,CI38)*'Background Calculations'!$Q$53","v":0},null,null,2016,{"$f":"MAX(CM17,CM38)*'Background Calculations'!$Q$51","v":0},null,{"$f":"MAX(CO17,CO38)*'Background Calculations'!$Q$52","v":0},null,{"$f":"MAX(CQ17,CQ38)*'Background Calculations'!$Q$53","v":0},null,null,2016,{"$f":"MAX(CU17,CU38)*'Background Calculations'!$Q$51","v":0},null,{"$f":"MAX(CW17,CW38)*'Background Calculations'!$Q$52","v":0},null,{"$f":"MAX(CY17,CY38)*'Background Calculations'!$Q$53","v":0},null,null,2016,{"$f":"MAX(DC17,DC38)*'Background Calculations'!$Q$51","v":0},null,{"$f":"MAX(DE17,DE38)*'Background Calculations'!$Q$52","v":0},null,{"$f":"MAX(DG17,DG38)*'Background Calculations'!$Q$53","v":0},null,null,2016,{"$f":"MAX(DK17,DK38)*'Background Calculations'!$Q$51","v":0},null,{"$f":"MAX(DM17,DM38)*'Background Calculations'!$Q$52","v":0},null,{"$f":"MAX(DO17,DO38)*'Background Calculations'!$Q$53","v":0},null,null,2016,{"$f":"MAX(DS17,DS38)*'Background Calculations'!$Q$51","v":0},null,{"$f":"MAX(DU17,DU38)*'Background Calculations'!$Q$52","v":0},null,{"$f":"MAX(DW17,DW38)*'Background Calculations'!$Q$53","v":0},null,null,2016,{"$f":"MAX(EA17,EA38)*'Background Calculations'!$Q$51","v":0},null,{"$f":"MAX(EC17,EC38)*'Background Calculations'!$Q$52","v":0},null,{"$f":"MAX(EE17,EE38)*'Background Calculations'!$Q$53","v":0},null,null,2016,{"$f":"MAX(EI17,EI38)*'Background Calculations'!$Q$51","v":0},null,{"$f":"MAX(EK17,EK38)*'Background Calculations'!$Q$52","v":0},null,{"$f":"MAX(EM17,EM38)*'Background Calculations'!$Q$53","v":0},null,null,2016,{"$f":"MAX(EQ17,EQ38)*'Background Calculations'!$Q$51","v":0},null,{"$f":"MAX(ES17,ES38)*'Background Calculations'!$Q$52","v":0},null,{"$f":"MAX(EU17,EU38)*'Background Calculations'!$Q$53","v":0},null,null,2016,{"$f":"MAX(EY17,EY38)*'Background Calculations'!$Q$51","v":0},null,{"$f":"MAX(FA17,FA38)*'Background Calculations'!$Q$52","v":0},null,{"$f":"MAX(FC17,FC38)*'Background Calculations'!$Q$53","v":0},null,null,2016,{"$f":"MAX(FG17,FG38)*'Background Calculations'!$Q$51","v":0},null,{"$f":"MAX(FI17,FI38)*'Background Calculations'!$Q$52","v":0},null,{"$f":"MAX(FK17,FK38)*'Background Calculations'!$Q$53","v":0},null,null,2016,{"$f":"MAX(FO17,FO38)*'Background Calculations'!$Q$51","v":0},null,{"$f":"MAX(FQ17,FQ38)*'Background Calculations'!$Q$52","v":0},null,{"$f":"MAX(FS17,FS38)*'Background Calculations'!$Q$53","v":0},null,null,2016,{"$f":"MAX(FW17,FW38)*'Background Calculations'!$Q$51","v":0},null,{"$f":"MAX(FY17,FY38)*'Background Calculations'!$Q$52","v":0},null,{"$f":"MAX(GA17,GA38)*'Background Calculations'!$Q$53","v":0},null,null,2016,{"$f":"MAX(GE17,GE38)*'Background Calculations'!$Q$51","v":0},null,{"$f":"MAX(GG17,GG38)*'Background Calculations'!$Q$52","v":0},null,{"$f":"MAX(GI17,GI38)*'Background Calculations'!$Q$53","v":0},null,null,2016,{"$f":"MAX(GM17,GM38)*'Background Calculations'!$Q$51","v":0},null,{"$f":"MAX(GO17,GO38)*'Background Calculations'!$Q$52","v":0},null,{"$f":"MAX(GQ17,GQ38)*'Background Calculations'!$Q$53","v":0},null,null,2016,{"$f":"MAX(GU17,GU38)*'Background Calculations'!$Q$51","v":0},null,{"$f":"MAX(GW17,GW38)*'Background Calculations'!$Q$52","v":0},null,{"$f":"MAX(GY17,GY38)*'Background Calculations'!$Q$53","v":0},null,null,2016,{"$f":"MAX(HC17,HC38)*'Background Calculations'!$Q$51","v":0},null,{"$f":"MAX(HE17,HE38)*'Background Calculations'!$Q$52","v":0},null,{"$f":"MAX(HG17,HG38)*'Background Calculations'!$Q$53","v":0},null,null,2016,{"$f":"MAX(HK17,HK38)*'Background Calculations'!$Q$51","v":0},null,{"$f":"MAX(HM17,HM38)*'Background Calculations'!$Q$52","v":0},null,{"$f":"MAX(HO17,HO38)*'Background Calculations'!$Q$53","v":0},null,null,2016,{"$f":"MAX(HS17,HS38)*'Background Calculations'!$Q$51","v":0},null,{"$f":"MAX(HU17,HU38)*'Background Calculations'!$Q$52","v":0},null,{"$f":"MAX(HW17,HW38)*'Background Calculations'!$Q$53","v":0},null,null,2016,{"$f":"MAX(IA17,IA38)*'Background Calculations'!$Q$51","v":0},null,{"$f":"MAX(IC17,IC38)*'Background Calculations'!$Q$52","v":0},null,{"$f":"MAX(IE17,IE38)*'Background Calculations'!$Q$53","v":0},null,null,2016,{"$f":"MAX(II17,II38)*'Background Calculations'!$Q$51","v":0},null,{"$f":"MAX(IK17,IK38)*'Background Calculations'!$Q$52","v":0},null,{"$f":"MAX(IM17,IM38)*'Background Calculations'!$Q$53","v":0},null,null,2016,{"$f":"MAX(IQ17,IQ38)*'Background Calculations'!$Q$51","v":0},null,{"$f":"MAX(IS17,IS38)*'Background Calculations'!$Q$52","v":0},null,{"$f":"MAX(IU17,IU38)*'Background Calculations'!$Q$53","v":0},null,null,2016,{"$f":"MAX(IY17,IY38)*'Background Calculations'!$Q$51","v":0},null,{"$f":"MAX(JA17,JA38)*'Background Calculations'!$Q$52","v":0},null,{"$f":"MAX(JC17,JC38)*'Background Calculations'!$Q$53","v":0},null,null,2016,{"$f":"MAX(JG17,JG38)*'Background Calculations'!$Q$51","v":0},null,{"$f":"MAX(JI17,JI38)*'Background Calculations'!$Q$52","v":0},null,{"$f":"MAX(JK17,JK38)*'Background Calculations'!$Q$53","v":0},null,null,2016,{"$f":"MAX(JO17,JO38)*'Background Calculations'!$Q$51","v":0},null,{"$f":"MAX(JQ17,JQ38)*'Background Calculations'!$Q$52","v":0},null,{"$f":"MAX(JS17,JS38)*'Background Calculations'!$Q$53","v":0},null,null,2016,{"$f":"MAX(JW17,JW38)*'Background Calculations'!$Q$51","v":0},null,{"$f":"MAX(JY17,JY38)*'Background Calculations'!$Q$52","v":0},null,{"$f":"MAX(KA17,KA38)*'Background Calculations'!$Q$53","v":0},null,null,2016,{"$f":"MAX(KE17,KE38)*'Background Calculations'!$Q$51","v":0},null,{"$f":"MAX(KG17,KG38)*'Background Calculations'!$Q$52","v":0},null,{"$f":"MAX(KI17,KI38)*'Background Calculations'!$Q$53","v":0},null,null,2016,{"$f":"MAX(KM17,KM38)*'Background Calculations'!$Q$51","v":0},null,{"$f":"MAX(KO17,KO38)*'Background Calculations'!$Q$52","v":0},null,{"$f":"MAX(KQ17,KQ38)*'Background Calculations'!$Q$53","v":0},null,null,2016,{"$f":"MAX(KU17,KU38)*'Background Calculations'!$Q$51","v":0},null,{"$f":"MAX(KW17,KW38)*'Background Calculations'!$Q$52","v":0},null,{"$f":"MAX(KY17,KY38)*'Background Calculations'!$Q$53","v":0},null,null,2016,{"$f":"MAX(LC17,LC38)*'Background Calculations'!$Q$51","v":0},null,{"$f":"MAX(LE17,LE38)*'Background Calculations'!$Q$52","v":0},null,{"$f":"MAX(LG17,LG38)*'Background Calculations'!$Q$53","v":0},null,null,2016,{"$f":"MAX(LK17,LK38)*'Background Calculations'!$Q$51","v":0},null,{"$f":"MAX(LM17,LM38)*'Background Calculations'!$Q$52","v":0},null,{"$f":"MAX(LO17,LO38)*'Background Calculations'!$Q$53","v":0},null,null,2016,{"$f":"MAX(LS17,LS38)*'Background Calculations'!$Q$51","v":0},null,{"$f":"MAX(LU17,LU38)*'Background Calculations'!$Q$52","v":0},null,{"$f":"MAX(LW17,LW38)*'Background Calculations'!$Q$53","v":0},null,null,2016,{"$f":"MAX(MA17,MA38)*'Background Calculations'!$Q$51","v":0},null,{"$f":"MAX(MC17,MC38)*'Background Calculations'!$Q$52","v":0},null,{"$f":"MAX(ME17,ME38)*'Background Calculations'!$Q$53","v":0},null,null,2016,{"$f":"MAX(MI17,MI38)*'Background Calculations'!$Q$51","v":0},null,{"$f":"MAX(MK17,MK38)*'Background Calculations'!$Q$52","v":0},null,{"$f":"MAX(MM17,MM38)*'Background Calculations'!$Q$53","v":0},null,null,2016,{"$f":"MAX(MQ17,MQ38)*'Background Calculations'!$Q$51","v":0},null,{"$f":"MAX(MS17,MS38)*'Background Calculations'!$Q$52","v":0},null,{"$f":"MAX(MU17,MU38)*'Background Calculations'!$Q$53","v":0},null,null,2016,{"$f":"MAX(MY17,MY38)*'Background Calculations'!$Q$51","v":0},null,{"$f":"MAX(NA17,NA38)*'Background Calculations'!$Q$52","v":0},null,{"$f":"MAX(NC17,NC38)*'Background Calculations'!$Q$53","v":0},null,null,2016,{"$f":"MAX(NG17,NG38)*'Background Calculations'!$Q$51","v":0},null,{"$f":"MAX(NI17,NI38)*'Background Calculations'!$Q$52","v":0},null,{"$f":"MAX(NK17,NK38)*'Background Calculations'!$Q$53","v":0},null,null,2016,{"$f":"MAX(NO17,NO38)*'Background Calculations'!$Q$51","v":0},null,{"$f":"MAX(NQ17,NQ38)*'Background Calculations'!$Q$52","v":0},null,{"$f":"MAX(NS17,NS38)*'Background Calculations'!$Q$53","v":0},null,null,2016,{"$f":"MAX(NW17,NW38)*'Background Calculations'!$Q$51","v":0},null,{"$f":"MAX(NY17,NY38)*'Background Calculations'!$Q$52","v":0},null,{"$f":"MAX(OA17,OA38)*'Background Calculations'!$Q$53","v":0},null,null,2016,{"$f":"MAX(OE17,OE38)*'Background Calculations'!$Q$51","v":0},null,{"$f":"MAX(OG17,OG38)*'Background Calculations'!$Q$52","v":0},null,{"$f":"MAX(OI17,OI38)*'Background Calculations'!$Q$53","v":0},null,null,2016,{"$f":"MAX(OM17,OM38)*'Background Calculations'!$Q$51","v":0},null,{"$f":"MAX(OO17,OO38)*'Background Calculations'!$Q$52","v":0},null,{"$f":"MAX(OQ17,OQ38)*'Background Calculations'!$Q$53","v":0}]
[null,2017,{"$f":"MAX(C18,C39)*'Background Calculations'!$R$51","v":740},null,{"$f":"MAX(E18,E39)*'Background Calculations'!$R$52","v":0},null,{"$f":"MAX(G18,G39)*'Background Calculations'!$R$53","v":0},null,null,2017,{"$f":"MAX(K18,K39)*'Background Calculations'!$R$51","v":0},null,{"$f":"MAX(M18,M39)*'Background Calculations'!$R$52","v":0},null,{"$f":"MAX(O18,O39)*'Background Calculations'!$R$53","v":0},null,null,2017,{"$f":"MAX(S18,S39)*'Background Calculations'!$R$51","v":0},null,{"$f":"MAX(U18,U39)*'Background Calculations'!$R$52","v":0},null,{"$f":"MAX(W18,W39)*'Background Calculations'!$R$53","v":0},null,null,2017,{"$f":"MAX(AA18,AA39)*'Background Calculations'!$R$51","v":0},null,{"$f":"MAX(AC18,AC39)*'Background Calculations'!$R$52","v":0},null,{"$f":"MAX(AE18,AE39)*'Background Calculations'!$R$53","v":0},null,null,2017,{"$f":"MAX(AI18,AI39)*'Background Calculations'!$R$51","v":0},null,{"$f":"MAX(AK18,AK39)*'Background Calculations'!$R$52","v":0},null,{"$f":"MAX(AM18,AM39)*'Background Calculations'!$R$53","v":0},null,null,2017,{"$f":"MAX(AQ18,AQ39)*'Background Calculations'!$R$51","v":0},null,{"$f":"MAX(AS18,AS39)*'Background Calculations'!$R$52","v":0},null,{"$f":"MAX(AU18,AU39)*'Background Calculations'!$R$53","v":0},null,null,2017,{"$f":"MAX(AY18,AY39)*'Background Calculations'!$R$51","v":0},null,{"$f":"MAX(BA18,BA39)*'Background Calculations'!$R$52","v":0},null,{"$f":"MAX(BC18,BC39)*'Background Calculations'!$R$53","v":0},null,null,2017,{"$f":"MAX(BG18,BG39)*'Background Calculations'!$R$51","v":0},null,{"$f":"MAX(BI18,BI39)*'Background Calculations'!$R$52","v":0},null,{"$f":"MAX(BK18,BK39)*'Background Calculations'!$R$53","v":0},null,null,2017,{"$f":"MAX(BO18,BO39)*'Background Calculations'!$R$51","v":0},null,{"$f":"MAX(BQ18,BQ39)*'Background Calculations'!$R$52","v":0},null,{"$f":"MAX(BS18,BS39)*'Background Calculations'!$R$53","v":0},null,null,2017,{"$f":"MAX(BW18,BW39)*'Background Calculations'!$R$51","v":0},null,{"$f":"MAX(BY18,BY39)*'Background Calculations'!$R$52","v":0},null,{"$f":"MAX(CA18,CA39)*'Background Calculations'!$R$53","v":0},null,null,2017,{"$f":"MAX(CE18,CE39)*'Background Calculations'!$R$51","v":0},null,{"$f":"MAX(CG18,CG39)*'Background Calculations'!$R$52","v":0},null,{"$f":"MAX(CI18,CI39)*'Background Calculations'!$R$53","v":0},null,null,2017,{"$f":"MAX(CM18,CM39)*'Background Calculations'!$R$51","v":0},null,{"$f":"MAX(CO18,CO39)*'Background Calculations'!$R$52","v":0},null,{"$f":"MAX(CQ18,CQ39)*'Background Calculations'!$R$53","v":0},null,null,2017,{"$f":"MAX(CU18,CU39)*'Background Calculations'!$R$51","v":0},null,{"$f":"MAX(CW18,CW39)*'Background Calculations'!$R$52","v":0},null,{"$f":"MAX(CY18,CY39)*'Background Calculations'!$R$53","v":0},null,null,2017,{"$f":"MAX(DC18,DC39)*'Background Calculations'!$R$51","v":0},null,{"$f":"MAX(DE18,DE39)*'Background Calculations'!$R$52","v":0},null,{"$f":"MAX(DG18,DG39)*'Background Calculations'!$R$53","v":0},null,null,2017,{"$f":"MAX(DK18,DK39)*'Background Calculations'!$R$51","v":0},null,{"$f":"MAX(DM18,DM39)*'Background Calculations'!$R$52","v":0},null,{"$f":"MAX(DO18,DO39)*'Background Calculations'!$R$53","v":0},null,null,2017,{"$f":"MAX(DS18,DS39)*'Background Calculations'!$R$51","v":0},null,{"$f":"MAX(DU18,DU39)*'Background Calculations'!$R$52","v":0},null,{"$f":"MAX(DW18,DW39)*'Background Calculations'!$R$53","v":0},null,null,2017,{"$f":"MAX(EA18,EA39)*'Background Calculations'!$R$51","v":0},null,{"$f":"MAX(EC18,EC39)*'Background Calculations'!$R$52","v":0},null,{"$f":"MAX(EE18,EE39)*'Background Calculations'!$R$53","v":0},null,null,2017,{"$f":"MAX(EI18,EI39)*'Background Calculations'!$R$51","v":0},null,{"$f":"MAX(EK18,EK39)*'Background Calculations'!$R$52","v":0},null,{"$f":"MAX(EM18,EM39)*'Background Calculations'!$R$53","v":0},null,null,2017,{"$f":"MAX(EQ18,EQ39)*'Background Calculations'!$R$51","v":0},null,{"$f":"MAX(ES18,ES39)*'Background Calculations'!$R$52","v":0},null,{"$f":"MAX(EU18,EU39)*'Background Calculations'!$R$53","v":0},null,null,2017,{"$f":"MAX(EY18,EY39)*'Background Calculations'!$R$51","v":0},null,{"$f":"MAX(FA18,FA39)*'Background Calculations'!$R$52","v":0},null,{"$f":"MAX(FC18,FC39)*'Background Calculations'!$R$53","v":0},null,null,2017,{"$f":"MAX(FG18,FG39)*'Background Calculations'!$R$51","v":0},null,{"$f":"MAX(FI18,FI39)*'Background Calculations'!$R$52","v":0},null,{"$f":"MAX(FK18,FK39)*'Background Calculations'!$R$53","v":0},null,null,2017,{"$f":"MAX(FO18,FO39)*'Background Calculations'!$R$51","v":0},null,{"$f":"MAX(FQ18,FQ39)*'Background Calculations'!$R$52","v":0},null,{"$f":"MAX(FS18,FS39)*'Background Calculations'!$R$53","v":0},null,null,2017,{"$f":"MAX(FW18,FW39)*'Background Calculations'!$R$51","v":0},null,{"$f":"MAX(FY18,FY39)*'Background Calculations'!$R$52","v":0},null,{"$f":"MAX(GA18,GA39)*'Background Calculations'!$R$53","v":0},null,null,2017,{"$f":"MAX(GE18,GE39)*'Background Calculations'!$R$51","v":0},null,{"$f":"MAX(GG18,GG39)*'Background Calculations'!$R$52","v":0},null,{"$f":"MAX(GI18,GI39)*'Background Calculations'!$R$53","v":0},null,null,2017,{"$f":"MAX(GM18,GM39)*'Background Calculations'!$R$51","v":0},null,{"$f":"MAX(GO18,GO39)*'Background Calculations'!$R$52","v":0},null,{"$f":"MAX(GQ18,GQ39)*'Background Calculations'!$R$53","v":0},null,null,2017,{"$f":"MAX(GU18,GU39)*'Background Calculations'!$R$51","v":0},null,{"$f":"MAX(GW18,GW39)*'Background Calculations'!$R$52","v":0},null,{"$f":"MAX(GY18,GY39)*'Background Calculations'!$R$53","v":0},null,null,2017,{"$f":"MAX(HC18,HC39)*'Background Calculations'!$R$51","v":0},null,{"$f":"MAX(HE18,HE39)*'Background Calculations'!$R$52","v":0},null,{"$f":"MAX(HG18,HG39)*'Background Calculations'!$R$53","v":0},null,null,2017,{"$f":"MAX(HK18,HK39)*'Background Calculations'!$R$51","v":0},null,{"$f":"MAX(HM18,HM39)*'Background Calculations'!$R$52","v":0},null,{"$f":"MAX(HO18,HO39)*'Background Calculations'!$R$53","v":0},null,null,2017,{"$f":"MAX(HS18,HS39)*'Background Calculations'!$R$51","v":0},null,{"$f":"MAX(HU18,HU39)*'Background Calculations'!$R$52","v":0},null,{"$f":"MAX(HW18,HW39)*'Background Calculations'!$R$53","v":0},null,null,2017,{"$f":"MAX(IA18,IA39)*'Background Calculations'!$R$51","v":0},null,{"$f":"MAX(IC18,IC39)*'Background Calculations'!$R$52","v":0},null,{"$f":"MAX(IE18,IE39)*'Background Calculations'!$R$53","v":0},null,null,2017,{"$f":"MAX(II18,II39)*'Background Calculations'!$R$51","v":0},null,{"$f":"MAX(IK18,IK39)*'Background Calculations'!$R$52","v":0},null,{"$f":"MAX(IM18,IM39)*'Background Calculations'!$R$53","v":0},null,null,2017,{"$f":"MAX(IQ18,IQ39)*'Background Calculations'!$R$51","v":0},null,{"$f":"MAX(IS18,IS39)*'Background Calculations'!$R$52","v":0},null,{"$f":"MAX(IU18,IU39)*'Background Calculations'!$R$53","v":0},null,null,2017,{"$f":"MAX(IY18,IY39)*'Background Calculations'!$R$51","v":0},null,{"$f":"MAX(JA18,JA39)*'Background Calculations'!$R$52","v":0},null,{"$f":"MAX(JC18,JC39)*'Background Calculations'!$R$53","v":0},null,null,2017,{"$f":"MAX(JG18,JG39)*'Background Calculations'!$R$51","v":0},null,{"$f":"MAX(JI18,JI39)*'Background Calculations'!$R$52","v":0},null,{"$f":"MAX(JK18,JK39)*'Background Calculations'!$R$53","v":0},null,null,2017,{"$f":"MAX(JO18,JO39)*'Background Calculations'!$R$51","v":0},null,{"$f":"MAX(JQ18,JQ39)*'Background Calculations'!$R$52","v":0},null,{"$f":"MAX(JS18,JS39)*'Background Calculations'!$R$53","v":0},null,null,2017,{"$f":"MAX(JW18,JW39)*'Background Calculations'!$R$51","v":0},null,{"$f":"MAX(JY18,JY39)*'Background Calculations'!$R$52","v":0},null,{"$f":"MAX(KA18,KA39)*'Background Calculations'!$R$53","v":0},null,null,2017,{"$f":"MAX(KE18,KE39)*'Background Calculations'!$R$51","v":0},null,{"$f":"MAX(KG18,KG39)*'Background Calculations'!$R$52","v":0},null,{"$f":"MAX(KI18,KI39)*'Background Calculations'!$R$53","v":0},null,null,2017,{"$f":"MAX(KM18,KM39)*'Background Calculations'!$R$51","v":0},null,{"$f":"MAX(KO18,KO39)*'Background Calculations'!$R$52","v":0},null,{"$f":"MAX(KQ18,KQ39)*'Background Calculations'!$R$53","v":0},null,null,2017,{"$f":"MAX(KU18,KU39)*'Background Calculations'!$R$51","v":0},null,{"$f":"MAX(KW18,KW39)*'Background Calculations'!$R$52","v":0},null,{"$f":"MAX(KY18,KY39)*'Background Calculations'!$R$53","v":0},null,null,2017,{"$f":"MAX(LC18,LC39)*'Background Calculations'!$R$51","v":0},null,{"$f":"MAX(LE18,LE39)*'Background Calculations'!$R$52","v":0},null,{"$f":"MAX(LG18,LG39)*'Background Calculations'!$R$53","v":0},null,null,2017,{"$f":"MAX(LK18,LK39)*'Background Calculations'!$R$51","v":0},null,{"$f":"MAX(LM18,LM39)*'Background Calculations'!$R$52","v":0},null,{"$f":"MAX(LO18,LO39)*'Background Calculations'!$R$53","v":0},null,null,2017,{"$f":"MAX(LS18,LS39)*'Background Calculations'!$R$51","v":0},null,{"$f":"MAX(LU18,LU39)*'Background Calculations'!$R$52","v":0},null,{"$f":"MAX(LW18,LW39)*'Background Calculations'!$R$53","v":0},null,null,2017,{"$f":"MAX(MA18,MA39)*'Background Calculations'!$R$51","v":0},null,{"$f":"MAX(MC18,MC39)*'Background Calculations'!$R$52","v":0},null,{"$f":"MAX(ME18,ME39)*'Background Calculations'!$R$53","v":0},null,null,2017,{"$f":"MAX(MI18,MI39)*'Background Calculations'!$R$51","v":0},null,{"$f":"MAX(MK18,MK39)*'Background Calculations'!$R$52","v":0},null,{"$f":"MAX(MM18,MM39)*'Background Calculations'!$R$53","v":0},null,null,2017,{"$f":"MAX(MQ18,MQ39)*'Background Calculations'!$R$51","v":0},null,{"$f":"MAX(MS18,MS39)*'Background Calculations'!$R$52","v":0},null,{"$f":"MAX(MU18,MU39)*'Background Calculations'!$R$53","v":0},null,null,2017,{"$f":"MAX(MY18,MY39)*'Background Calculations'!$R$51","v":0},null,{"$f":"MAX(NA18,NA39)*'Background Calculations'!$R$52","v":0},null,{"$f":"MAX(NC18,NC39)*'Background Calculations'!$R$53","v":0},null,null,2017,{"$f":"MAX(NG18,NG39)*'Background Calculations'!$R$51","v":0},null,{"$f":"MAX(NI18,NI39)*'Background Calculations'!$R$52","v":0},null,{"$f":"MAX(NK18,NK39)*'Background Calculations'!$R$53","v":0},null,null,2017,{"$f":"MAX(NO18,NO39)*'Background Calculations'!$R$51","v":0},null,{"$f":"MAX(NQ18,NQ39)*'Background Calculations'!$R$52","v":0},null,{"$f":"MAX(NS18,NS39)*'Background Calculations'!$R$53","v":0},null,null,2017,{"$f":"MAX(NW18,NW39)*'Background Calculations'!$R$51","v":0},null,{"$f":"MAX(NY18,NY39)*'Background Calculations'!$R$52","v":0},null,{"$f":"MAX(OA18,OA39)*'Background Calculations'!$R$53","v":0},null,null,2017,{"$f":"MAX(OE18,OE39)*'Background Calculations'!$R$51","v":0},null,{"$f":"MAX(OG18,OG39)*'Background Calculations'!$R$52","v":0},null,{"$f":"MAX(OI18,OI39)*'Background Calculations'!$R$53","v":0},null,null,2017,{"$f":"MAX(OM18,OM39)*'Background Calculations'!$R$51","v":0},null,{"$f":"MAX(OO18,OO39)*'Background Calculations'!$R$52","v":0},null,{"$f":"MAX(OQ18,OQ39)*'Background Calculations'!$R$53","v":0}]
["Farm Benchmark",null,{"$f":"(C26+C27+C28+C29+C30-MAX(C26:C30)-MIN(C26:C30))/3","v":0},null,{"$f":"(E26+E27+E28+E29+E30-MAX(E26:E30)-MIN(E26:E30))/3","v":0},null,{"$f":"(G26+G27+G28+G29+G30-MAX(G26:G30)-MIN(G26:G30))/3","v":0},null,null,"Farm Benchmark",{"$f":"(K26+K27+K28+K29+K30-MAX(K26:K30)-MIN(K26:K30))/3","v":0},null,{"$f":"(M26+M27+M28+M29+M30-MAX(M26:M30)-MIN(M26:M30))/3","v":0},null,{"$f":"(O26+O27+O28+O29+O30-MAX(O26:O30)-MIN(O26:O30))/3","v":0},null,null,"Farm Benchmark",{"$f":"(S26+S27+S28+S29+S30-MAX(S26:S30)-MIN(S26:S30))/3","v":0},null,{"$f":"(U26+U27+U28+U29+U30-MAX(U26:U30)-MIN(U26:U30))/3","v":0},null,{"$f":"(W26+W27+W28+W29+W30-MAX(W26:W30)-MIN(W26:W30))/3","v":0},null,null,"Farm Benchmark",{"$f":"(AA26+AA27+AA28+AA29+AA30-MAX(AA26:AA30)-MIN(AA26:AA30))/3","v":0},null,{"$f":"(AC26+AC27+AC28+AC29+AC30-MAX(AC26:AC30)-MIN(AC26:AC30))/3","v":0},null,{"$f":"(AE26+AE27+AE28+AE29+AE30-MAX(AE26:AE30)-MIN(AE26:AE30))/3","v":0},null,null,"Farm Benchmark",{"$f":"(AI26+AI27+AI28+AI29+AI30-MAX(AI26:AI30)-MIN(AI26:AI30))/3","v":0},null,{"$f":"(AK26+AK27+AK28+AK29+AK30-MAX(AK26:AK30)-MIN(AK26:AK30))/3","v":0},null,{"$f":"(AM26+AM27+AM28+AM29+AM30-MAX(AM26:AM30)-MIN(AM26:AM30))/3","v":0},null,null,"Farm Benchmark",{"$f":"(AQ26+AQ27+AQ28+AQ29+AQ30-MAX(AQ26:AQ30)-MIN(AQ26:AQ30))/3","v":0},null,{"$f":"(AS26+AS27+AS28+AS29+AS30-MAX(AS26:AS30)-MIN(AS26:AS30))/3","v":0},null,{"$f":"(AU26+AU27+AU28+AU29+AU30-MAX(AU26:AU30)-MIN(AU26:AU30))/3","v":0},null,null,"Farm Benchmark",{"$f":"(AY26+AY27+AY28+AY29+AY30-MAX(AY26:AY30)-MIN(AY26:AY30))/3","v":0},null,{"$f":"(BA26+BA27+BA28+BA29+BA30-MAX(BA26:BA30)-MIN(BA26:BA30))/3","v":0},null,{"$f":"(BC26+BC27+BC28+BC29+BC30-MAX(BC26:BC30)-MIN(BC26:BC30))/3","v":0},null,null,"Farm Benchmark",{"$f":"(BG26+BG27+BG28+BG29+BG30-MAX(BG26:BG30)-MIN(BG26:BG30))/3","v":0},null,{"$f":"(BI26+BI27+BI28+BI29+BI30-MAX(BI26:BI30)-MIN(BI26:BI30))/3","v":0},null,{"$f":"(BK26+BK27+BK28+BK29+BK30-MAX(BK26:BK30)-MIN(BK26:BK30))/3","v":0},null,null,"Farm Benchmark",{"$f":"(BO26+BO27+BO28+BO29+BO30-MAX(BO26:BO30)-MIN(BO26:BO30))/3","v":0},null,{"$f":"(BQ26+BQ27+BQ28+BQ29+BQ30-MAX(BQ26:BQ30)-MIN(BQ26:BQ30))/3","v":0},null,{"$f":"(BS26+BS27+BS28+BS29+BS30-MAX(BS26:BS30)-MIN(BS26:BS30))/3","v":0},null,null,"Farm Benchmark",{"$f":"(BW26+BW27+BW28+BW29+BW30-MAX(BW26:BW30)-MIN(BW26:BW30))/3","v":0},null,{"$f":"(BY26+BY27+BY28+BY29+BY30-MAX(BY26:BY30)-MIN(BY26:BY30))/3","v":0},null,{"$f":"(CA26+CA27+CA28+CA29+CA30-MAX(CA26:CA30)-MIN(CA26:CA30))/3","v":0},null,null,"Farm Benchmark",{"$f":"(CE26+CE27+CE28+CE29+CE30-MAX(CE26:CE30)-MIN(CE26:CE30))/3","v":0},null,{"$f":"(CG26+CG27+CG28+CG29+CG30-MAX(CG26:CG30)-MIN(CG26:CG30))/3","v":0},null,{"$f":"(CI26+CI27+CI28+CI29+CI30-MAX(CI26:CI30)-MIN(CI26:CI30))/3","v":0},null,null,"Farm Benchmark",{"$f":"(CM26+CM27+CM28+CM29+CM30-MAX(CM26:CM30)-MIN(CM26:CM30))/3","v":0},null,{"$f":"(CO26+CO27+CO28+CO29+CO30-MAX(CO26:CO30)-MIN(CO26:CO30))/3","v":0},null,{"$f":"(CQ26+CQ27+CQ28+CQ29+CQ30-MAX(CQ26:CQ30)-MIN(CQ26:CQ30))/3","v":0},null,null,"Farm Benchmark",{"$f":"(CU26+CU27+CU28+CU29+CU30-MAX(CU26:CU30)-MIN(CU26:CU30))/3","v":0},null,{"$f":"(CW26+CW27+CW28+CW29+CW30-MAX(CW26:CW30)-MIN(CW26:CW30))/3","v":0},null,{"$f":"(CY26+CY27+CY28+CY29+CY30-MAX(CY26:CY30)-MIN(CY26:CY30))/3","v":0},null,null,"Farm Benchmark",{"$f":"(DC26+DC27+DC28+DC29+DC30-MAX(DC26:DC30)-MIN(DC26:DC30))/3","v":0},null,{"$f":"(DE26+DE27+DE28+DE29+DE30-MAX(DE26:DE30)-MIN(DE26:DE30))/3","v":0},null,{"$f":"(DG26+DG27+DG28+DG29+DG30-MAX(DG26:DG30)-MIN(DG26:DG30))/3","v":0},null,null,"Farm Benchmark",{"$f":"(DK26+DK27+DK28+DK29+DK30-MAX(DK26:DK30)-MIN(DK26:DK30))/3","v":0},null,{"$f":"(DM26+DM27+DM28+DM29+DM30-MAX(DM26:DM30)-MIN(DM26:DM30))/3","v":0},null,{"$f":"(DO26+DO27+DO28+DO29+DO30-MAX(DO26:DO30)-MIN(DO26:DO30))/3","v":0},null,null,"Farm Benchmark",{"$f":"(DS26+DS27+DS28+DS29+DS30-MAX(DS26:DS30)-MIN(DS26:DS30))/3","v":0},null,{"$f":"(DU26+DU27+DU28+DU29+DU30-MAX(DU26:DU30)-MIN(DU26:DU30))/3","v":0},null,{"$f":"(DW26+DW27+DW28+DW29+DW30-MAX(DW26:DW30)-MIN(DW26:DW30))/3","v":0},null,null,"Farm Benchmark",{"$f":"(EA26+EA27+EA28+EA29+EA30-MAX(EA26:EA30)-MIN(EA26:EA30))/3","v":0},null,{"$f":"(EC26+EC27+EC28+EC29+EC30-MAX(EC26:EC30)-MIN(EC26:EC30))/3","v":0},null,{"$f":"(EE26+EE27+EE28+EE29+EE30-MAX(EE26:EE30)-MIN(EE26:EE30))/3","v":0},null,null,"Farm Benchmark",{"$f":"(EI26+EI27+EI28+EI29+EI30-MAX(EI26:EI30)-MIN(EI26:EI30))/3","v":0},null,{"$f":"(EK26+EK27+EK28+EK29+EK30-MAX(EK26:EK30)-MIN(EK26:EK30))/3","v":0},null,{"$f":"(EM26+EM27+EM28+EM29+EM30-MAX(EM26:EM30)-MIN(EM26:EM30))/3","v":0},null,null,"Farm Benchmark",{"$f":"(EQ26+EQ27+EQ28+EQ29+EQ30-MAX(EQ26:EQ30)-MIN(EQ26:EQ30))/3","v":0},null,{"$f":"(ES26+ES27+ES28+ES29+ES30-MAX(ES26:ES30)-MIN(ES26:ES30))/3","v":0},null,{"$f":"(EU26+EU27+EU28+EU29+EU30-MAX(EU26:EU30)-MIN(EU26:EU30))/3","v":0},null,null,"Farm Benchmark",{"$f":"(EY26+EY27+EY28+EY29+EY30-MAX(EY26:EY30)-MIN(EY26:EY30))/3","v":0},null,{"$f":"(FA26+FA27+FA28+FA29+FA30-MAX(FA26:FA30)-MIN(FA26:FA30))/3","v":0},null,{"$f":"(FC26+FC27+FC28+FC29+FC30-MAX(FC26:FC30)-MIN(FC26:FC30))/3","v":0},null,null,"Farm Benchmark",{"$f":"(FG26+FG27+FG28+FG29+FG30-MAX(FG26:FG30)-MIN(FG26:FG30))/3","v":0},null,{"$f":"(FI26+FI27+FI28+FI29+FI30-MAX(FI26:FI30)-MIN(FI26:FI30))/3","v":0},null,{"$f":"(FK26+FK27+FK28+FK29+FK30-MAX(FK26:FK30)-MIN(FK26:FK30))/3","v":0},null,null,"Farm Benchmark",{"$f":"(FO26+FO27+FO28+FO29+FO30-MAX(FO26:FO30)-MIN(FO26:FO30))/3","v":0},null,{"$f":"(FQ26+FQ27+FQ28+FQ29+FQ30-MAX(FQ26:FQ30)-MIN(FQ26:FQ30))/3","v":0},null,{"$f":"(FS26+FS27+FS28+FS29+FS30-MAX(FS26:FS30)-MIN(FS26:FS30))/3","v":0},null,null,"Farm Benchmark",{"$f":"(FW26+FW27+FW28+FW29+FW30-MAX(FW26:FW30)-MIN(FW26:FW30))/3","v":0},null,{"$f":"(FY26+FY27+FY28+FY29+FY30-MAX(FY26:FY30)-MIN(FY26:FY30))/3","v":0},null,{"$f":"(GA26+GA27+GA28+GA29+GA30-MAX(GA26:GA30)-MIN(GA26:GA30))/3","v":0},null,null,"Farm Benchmark",{"$f":"(GE26+GE27+GE28+GE29+GE30-MAX(GE26:GE30)-MIN(GE26:GE30))/3","v":0},null,{"$f":"(GG26+GG27+GG28+GG29+GG30-MAX(GG26:GG30)-MIN(GG26:GG30))/3","v":0},null,{"$f":"(GI26+GI27+GI28+GI29+GI30-MAX(GI26:GI30)-MIN(GI26:GI30))/3","v":0},null,null,"Farm Benchmark",{"$f":"(GM26+GM27+GM28+GM29+GM30-MAX(GM26:GM30)-MIN(GM26:GM30))/3","v":0},null,{"$f":"(GO26+GO27+GO28+GO29+GO30-MAX(GO26:GO30)-MIN(GO26:GO30))/3","v":0},null,{"$f":"(GQ26+GQ27+GQ28+GQ29+GQ30-MAX(GQ26:GQ30)-MIN(GQ26:GQ30))/3","v":0},null,null,"Farm Benchmark",{"$f":"(GU26+GU27+GU28+GU29+GU30-MAX(GU26:GU30)-MIN(GU26:GU30))/3","v":0},null,{"$f":"(GW26+GW27+GW28+GW29+GW30-MAX(GW26:GW30)-MIN(GW26:GW30))/3","v":0},null,{"$f":"(GY26+GY27+GY28+GY29+GY30-MAX(GY26:GY30)-MIN(GY26:GY30))/3","v":0},null,null,"Farm Benchmark",{"$f":"(HC26+HC27+HC28+HC29+HC30-MAX(HC26:HC30)-MIN(HC26:HC30))/3","v":0},null,{"$f":"(HE26+HE27+HE28+HE29+HE30-MAX(HE26:HE30)-MIN(HE26:HE30))/3","v":0},null,{"$f":"(HG26+HG27+HG28+HG29+HG30-MAX(HG26:HG30)-MIN(HG26:HG30))/3","v":0},null,null,"Farm Benchmark",{"$f":"(HK26+HK27+HK28+HK29+HK30-MAX(HK26:HK30)-MIN(HK26:HK30))/3","v":0},null,{"$f":"(HM26+HM27+HM28+HM29+HM30-MAX(HM26:HM30)-MIN(HM26:HM30))/3","v":0},null,{"$f":"(HO26+HO27+HO28+HO29+HO30-MAX(HO26:HO30)-MIN(HO26:HO30))/3","v":0},null,null,"Farm Benchmark",{"$f":"(HS26+HS27+HS28+HS29+HS30-MAX(HS26:HS30)-MIN(HS26:HS30))/3","v":0},null,{"$f":"(HU26+HU27+HU28+HU29+HU30-MAX(HU26:HU30)-MIN(HU26:HU30))/3","v":0},null,{"$f":"(HW26+HW27+HW28+HW29+HW30-MAX(HW26:HW30)-MIN(HW26:HW30))/3","v":0},null,null,"Farm Benchmark",{"$f":"(IA26+IA27+IA28+IA29+IA30-MAX(IA26:IA30)-MIN(IA26:IA30))/3","v":0},null,{"$f":"(IC26+IC27+IC28+IC29+IC30-MAX(IC26:IC30)-MIN(IC26:IC30))/3","v":0},null,{"$f":"(IE26+IE27+IE28+IE29+IE30-MAX(IE26:IE30)-MIN(IE26:IE30))/3","v":0},null,null,"Farm Benchmark",{"$f":"(II26+II27+II28+II29+II30-MAX(II26:II30)-MIN(II26:II30))/3","v":0},null,{"$f":"(IK26+IK27+IK28+IK29+IK30-MAX(IK26:IK30)-MIN(IK26:IK30))/3","v":0},null,{"$f":"(IM26+IM27+IM28+IM29+IM30-MAX(IM26:IM30)-MIN(IM26:IM30))/3","v":0},null,null,"Farm Benchmark",{"$f":"(IQ26+IQ27+IQ28+IQ29+IQ30-MAX(IQ26:IQ30)-MIN(IQ26:IQ30))/3","v":0},null,{"$f":"(IS26+IS27+IS28+IS29+IS30-MAX(IS26:IS30)-MIN(IS26:IS30))/3","v":0},null,{"$f":"(IU26+IU27+IU28+IU29+IU30-MAX(IU26:IU30)-MIN(IU26:IU30))/3","v":0},null,null,"Farm Benchmark",{"$f":"(IY26+IY27+IY28+IY29+IY30-MAX(IY26:IY30)-MIN(IY26:IY30))/3","v":0},null,{"$f":"(JA26+JA27+JA28+JA29+JA30-MAX(JA26:JA30)-MIN(JA26:JA30))/3","v":0},null,{"$f":"(JC26+JC27+JC28+JC29+JC30-MAX(JC26:JC30)-MIN(JC26:JC30))/3","v":0},null,null,"Farm Benchmark",{"$f":"(JG26+JG27+JG28+JG29+JG30-MAX(JG26:JG30)-MIN(JG26:JG30))/3","v":0},null,{"$f":"(JI26+JI27+JI28+JI29+JI30-MAX(JI26:JI30)-MIN(JI26:JI30))/3","v":0},null,{"$f":"(JK26+JK27+JK28+JK29+JK30-MAX(JK26:JK30)-MIN(JK26:JK30))/3","v":0},null,null,"Farm Benchmark",{"$f":"(JO26+JO27+JO28+JO29+JO30-MAX(JO26:JO30)-MIN(JO26:JO30))/3","v":0},null,{"$f":"(JQ26+JQ27+JQ28+JQ29+JQ30-MAX(JQ26:JQ30)-MIN(JQ26:JQ30))/3","v":0},null,{"$f":"(JS26+JS27+JS28+JS29+JS30-MAX(JS26:JS30)-MIN(JS26:JS30))/3","v":0},null,null,"Farm Benchmark",{"$f":"(JW26+JW27+JW28+JW29+JW30-MAX(JW26:JW30)-MIN(JW26:JW30))/3","v":0},null,{"$f":"(JY26+JY27+JY28+JY29+JY30-MAX(JY26:JY30)-MIN(JY26:JY30))/3","v":0},null,{"$f":"(KA26+KA27+KA28+KA29+KA30-MAX(KA26:KA30)-MIN(KA26:KA30))/3","v":0},null,null,"Farm Benchmark",{"$f":"(KE26+KE27+KE28+KE29+KE30-MAX(KE26:KE30)-MIN(KE26:KE30))/3","v":0},null,{"$f":"(KG26+KG27+KG28+KG29+KG30-MAX(KG26:KG30)-MIN(KG26:KG30))/3","v":0},null,{"$f":"(KI26+KI27+KI28+KI29+KI30-MAX(KI26:KI30)-MIN(KI26:KI30))/3","v":0},null,null,"Farm Benchmark",{"$f":"(KM26+KM27+KM28+KM29+KM30-MAX(KM26:KM30)-MIN(KM26:KM30))/3","v":0},null,{"$f":"(KO26+KO27+KO28+KO29+KO30-MAX(KO26:KO30)-MIN(KO26:KO30))/3","v":0},null,{"$f":"(KQ26+KQ27+KQ28+KQ29+KQ30-MAX(KQ26:KQ30)-MIN(KQ26:KQ30))/3","v":0},null,null,"Farm Benchmark",{"$f":"(KU26+KU27+KU28+KU29+KU30-MAX(KU26:KU30)-MIN(KU26:KU30))/3","v":0},null,{"$f":"(KW26+KW27+KW28+KW29+KW30-MAX(KW26:KW30)-MIN(KW26:KW30))/3","v":0},null,{"$f":"(KY26+KY27+KY28+KY29+KY30-MAX(KY26:KY30)-MIN(KY26:KY30))/3","v":0},null,null,"Farm Benchmark",{"$f":"(LC26+LC27+LC28+LC29+LC30-MAX(LC26:LC30)-MIN(LC26:LC30))/3","v":0},null,{"$f":"(LE26+LE27+LE28+LE29+LE30-MAX(LE26:LE30)-MIN(LE26:LE30))/3","v":0},null,{"$f":"(LG26+LG27+LG28+LG29+LG30-MAX(LG26:LG30)-MIN(LG26:LG30))/3","v":0},null,null,"Farm Benchmark",{"$f":"(LK26+LK27+LK28+LK29+LK30-MAX(LK26:LK30)-MIN(LK26:LK30))/3","v":0},null,{"$f":"(LM26+LM27+LM28+LM29+LM30-MAX(LM26:LM30)-MIN(LM26:LM30))/3","v":0},null,{"$f":"(LO26+LO27+LO28+LO29+LO30-MAX(LO26:LO30)-MIN(LO26:LO30))/3","v":0},null,null,"Farm Benchmark",{"$f":"(LS26+LS27+LS28+LS29+LS30-MAX(LS26:LS30)-MIN(LS26:LS30))/3","v":0},null,{"$f":"(LU26+LU27+LU28+LU29+LU30-MAX(LU26:LU30)-MIN(LU26:LU30))/3","v":0},null,{"$f":"(LW26+LW27+LW28+LW29+LW30-MAX(LW26:LW30)-MIN(LW26:LW30))/3","v":0},null,null,"Farm Benchmark",{"$f":"(MA26+MA27+MA28+MA29+MA30-MAX(MA26:MA30)-MIN(MA26:MA30))/3","v":0},null,{"$f":"(MC26+MC27+MC28+MC29+MC30-MAX(MC26:MC30)-MIN(MC26:MC30))/3","v":0},null,{"$f":"(ME26+ME27+ME28+ME29+ME30-MAX(ME26:ME30)-MIN(ME26:ME30))/3","v":0},null,null,"Farm Benchmark",{"$f":"(MI26+MI27+MI28+MI29+MI30-MAX(MI26:MI30)-MIN(MI26:MI30))/3","v":0},null,{"$f":"(MK26+MK27+MK28+MK29+MK30-MAX(MK26:MK30)-MIN(MK26:MK30))/3","v":0},null,{"$f":"(MM26+MM27+MM28+MM29+MM30-MAX(MM26:MM30)-MIN(MM26:MM30))/3","v":0},null,null,"Farm Benchmark",{"$f":"(MQ26+MQ27+MQ28+MQ29+MQ30-MAX(MQ26:MQ30)-MIN(MQ26:MQ30))/3","v":0},null,{"$f":"(MS26+MS27+MS28+MS29+MS30-MAX(MS26:MS30)-MIN(MS26:MS30))/3","v":0},null,{"$f":"(MU26+MU27+MU28+MU29+MU30-MAX(MU26:MU30)-MIN(MU26:MU30))/3","v":0},null,null,"Farm Benchmark",{"$f":"(MY26+MY27+MY28+MY29+MY30-MAX(MY26:MY30)-MIN(MY26:MY30))/3","v":0},null,{"$f":"(NA26+NA27+NA28+NA29+NA30-MAX(NA26:NA30)-MIN(NA26:NA30))/3","v":0},null,{"$f":"(NC26+NC27+NC28+NC29+NC30-MAX(NC26:NC30)-MIN(NC26:NC30))/3","v":0},null,null,"Farm Benchmark",{"$f":"(NG26+NG27+NG28+NG29+NG30-MAX(NG26:NG30)-MIN(NG26:NG30))/3","v":0},null,{"$f":"(NI26+NI27+NI28+NI29+NI30-MAX(NI26:NI30)-MIN(NI26:NI30))/3","v":0},null,{"$f":"(NK26+NK27+NK28+NK29+NK30-MAX(NK26:NK30)-MIN(NK26:NK30))/3","v":0},null,null,"Farm Benchmark",{"$f":"(NO26+NO27+NO28+NO29+NO30-MAX(NO26:NO30)-MIN(NO26:NO30))/3","v":0},null,{"$f":"(NQ26+NQ27+NQ28+NQ29+NQ30-MAX(NQ26:NQ30)-MIN(NQ26:NQ30))/3","v":0},null,{"$f":"(NS26+NS27+NS28+NS29+NS30-MAX(NS26:NS30)-MIN(NS26:NS30))/3","v":0},null,null,"Farm Benchmark",{"$f":"(NW26+NW27+NW28+NW29+NW30-MAX(NW26:NW30)-MIN(NW26:NW30))/3","v":0},null,{"$f":"(NY26+NY27+NY28+NY29+NY30-MAX(NY26:NY30)-MIN(NY26:NY30))/3","v":0},null,{"$f":"(OA26+OA27+OA28+OA29+OA30-MAX(OA26:OA30)-MIN(OA26:OA30))/3","v":0},null,null,"Farm Benchmark",{"$f":"(OE26+OE27+OE28+OE29+OE30-MAX(OE26:OE30)-MIN(OE26:OE30))/3","v":0},null,{"$f":"(OG26+OG27+OG28+OG29+OG30-MAX(OG26:OG30)-MIN(OG26:OG30))/3","v":0},null,{"$f":"(OI26+OI27+OI28+OI29+OI30-MAX(OI26:OI30)-MIN(OI26:OI30))/3","v":0},null,null,"Farm Benchmark",{"$f":"(OM26+OM27+OM28+OM29+OM30-MAX(OM26:OM30)-MIN(OM26:OM30))/3","v":0},null,{"$f":"(OO26+OO27+OO28+OO29+OO30-MAX(OO26:OO30)-MIN(OO26:OO30))/3","v":0},null,{"$f":"(OQ26+OQ27+OQ28+OQ29+OQ30-MAX(OQ26:OQ30)-MIN(OQ26:OQ30))/3","v":0}]
["Weighted Farm BenchMark Revenue",null,{"$f":"C31*D25","v":0},null,{"$f":"E31*F25","v":0},null,{"$f":"G31*H25","v":0},null,null,"Weighted",{"$f":"K31*L25","v":0},null,{"$f":"M31*N25","v":0},null,{"$f":"O31*P25","v":0},null,null,"Weighted",{"$f":"S31*T25","v":0},null,{"$f":"U31*V25","v":0},null,{"$f":"W31*X25","v":0},null,null,"Weighted",{"$f":"AA31*AB25","v":0},null,{"$f":"AC31*AD25","v":0},null,{"$f":"AE31*AF25","v":0},null,null,"Weighted",{"$f":"AI31*AJ25","v":0},null,{"$f":"AK31*AL25","v":0},null,{"$f":"AM31*AN25","v":0},null,null,"Weighted",{"$f":"AQ31*AR25","v":0},null,{"$f":"AS31*AT25","v":0},null,{"$f":"AU31*AV25","v":0},null,null,"Weighted",{"$f":"AY31*AZ25","v":0},null,{"$f":"BA31*BB25","v":0},null,{"$f":"BC31*BD25","v":0},null,null,"Weighted",{"$f":"BG31*BH25","v":0},null,{"$f":"BI31*BJ25","v":0},null,{"$f":"BK31*BL25","v":0},null,null,"Weighted",{"$f":"BO31*BP25","v":0},null,{"$f":"BQ31*BR25","v":0},null,{"$f":"BS31*BT25","v":0},null,null,"Weighted",{"$f":"BW31*BX25","v":0},null,{"$f":"BY31*BZ25","v":0},null,{"$f":"CA31*CB25","v":0},null,null,"Weighted",{"$f":"CE31*CF25","v":0},null,{"$f":"CG31*CH25","v":0},null,{"$f":"CI31*CJ25","v":0},null,null,"Weighted",{"$f":"CM31*CN25","v":0},null,{"$f":"CO31*CP25","v":0},null,{"$f":"CQ31*CR25","v":0},null,null,"Weighted",{"$f":"CU31*CV25","v":0},null,{"$f":"CW31*CX25","v":0},null,{"$f":"CY31*CZ25","v":0},null,null,"Weighted",{"$f":"DC31*DD25","v":0},null,{"$f":"DE31*DF25","v":0},null,{"$f":"DG31*DH25","v":0},null,null,"Weighted",{"$f":"DK31*DL25","v":0},null,{"$f":"DM31*DN25","v":0},null,{"$f":"DO31*DP25","v":0},null,null,"Weighted",{"$f":"DS31*DT25","v":0},null,{"$f":"DU31*DV25","v":0},null,{"$f":"DW31*DX25","v":0},null,null,"Weighted",{"$f":"EA31*EB25","v":0},null,{"$f":"EC31*ED25","v":0},null,{"$f":"EE31*EF25","v":0},null,null,"Weighted",{"$f":"EI31*EJ25","v":0},null,{"$f":"EK31*EL25","v":0},null,{"$f":"EM31*EN25","v":0},null,null,"Weighted",{"$f":"EQ31*ER25","v":0},null,{"$f":"ES31*ET25","v":0},null,{"$f":"EU31*EV25","v":0},null,null,"Weighted",{"$f":"EY31*EZ25","v":0},null,{"$f":"FA31*FB25","v":0},null,{"$f":"FC31*FD25","v":0},null,null,"Weighted",{"$f":"FG31*FH25","v":0},null,{"$f":"FI31*FJ25","v":0},null,{"$f":"FK31*FL25","v":0},null,null,"Weighted",{"$f":"FO31*FP25","v":0},null,{"$f":"FQ31*FR25","v":0},null,{"$f":"FS31*FT25","v":0},null,null,"Weighted",{"$f":"FW31*FX25","v":0},null,{"$f":"FY31*FZ25","v":0},null,{"$f":"GA31*GB25","v":0},null,null,"Weighted",{"$f":"GE31*GF25","v":0},null,{"$f":"GG31*GH25","v":0},null,{"$f":"GI31*GJ25","v":0},null,null,"Weighted",{"$f":"GM31*GN25","v":0},null,{"$f":"GO31*GP25","v":0},null,{"$f":"GQ31*GR25","v":0},null,null,"Weighted",{"$f":"GU31*GV25","v":0},null,{"$f":"GW31*GX25","v":0},null,{"$f":"GY31*GZ25","v":0},null,null,"Weighted",{"$f":"HC31*HD25","v":0},null,{"$f":"HE31*HF25","v":0},null,{"$f":"HG31*HH25","v":0},null,null,"Weighted",{"$f":"HK31*HL25","v":0},null,{"$f":"HM31*HN25","v":0},null,{"$f":"HO31*HP25","v":0},null,null,"Weighted",{"$f":"HS31*HT25","v":0},null,{"$f":"HU31*HV25","v":0},null,{"$f":"HW31*HX25","v":0},null,null,"Weighted",{"$f":"IA31*IB25","v":0},null,{"$f":"IC31*ID25","v":0},null,{"$f":"IE31*IF25","v":0},null,null,"Weighted",{"$f":"II31*IJ25","v":0},null,{"$f":"IK31*IL25","v":0},null,{"$f":"IM31*IN25","v":0},null,null,"Weighted",{"$f":"IQ31*IR25","v":0},null,{"$f":"IS31*IT25","v":0},null,{"$f":"IU31*IV25","v":0},null,null,"Weighted",{"$f":"IY31*IZ25","v":0},null,{"$f":"JA31*JB25","v":0},null,{"$f":"JC31*JD25","v":0},null,null,"Weighted",{"$f":"JG31*JH25","v":0},null,{"$f":"JI31*JJ25","v":0},null,{"$f":"JK31*JL25","v":0},null,null,"Weighted",{"$f":"JO31*JP25","v":0},null,{"$f":"JQ31*JR25","v":0},null,{"$f":"JS31*JT25","v":0},null,null,"Weighted",{"$f":"JW31*JX25","v":0},null,{"$f":"JY31*JZ25","v":0},null,{"$f":"KA31*KB25","v":0},null,null,"Weighted",{"$f":"KE31*KF25","v":0},null,{"$f":"KG31*KH25","v":0},null,{"$f":"KI31*KJ25","v":0},null,null,"Weighted",{"$f":"KM31*KN25","v":0},null,{"$f":"KO31*KP25","v":0},null,{"$f":"KQ31*KR25","v":0},null,null,"Weighted",{"$f":"KU31*KV25","v":0},null,{"$f":"KW31*KX25","v":0},null,{"$f":"KY31*KZ25","v":0},null,null,"Weighted",{"$f":"LC31*LD25","v":0},null,{"$f":"LE31*LF25","v":0},null,{"$f":"LG31*LH25","v":0},null,null,"Weighted",{"$f":"LK31*LL25","v":0},null,{"$f":"LM31*LN25","v":0},null,{"$f":"LO31*LP25","v":0},null,null,"Weighted",{"$f":"LS31*LT25","v":0},null,{"$f":"LU31*LV25","v":0},null,{"$f":"LW31*LX25","v":0},null,null,"Weighted",{"$f":"MA31*MB25","v":0},null,{"$f":"MC31*MD25","v":0},null,{"$f":"ME31*MF25","v":0},null,null,"Weighted",{"$f":"MI31*MJ25","v":0},null,{"$f":"MK31*ML25","v":0},null,{"$f":"MM31*MN25","v":0},null,null,"Weighted",{"$f":"MQ31*MR25","v":0},null,{"$f":"MS31*MT25","v":0},null,{"$f":"MU31*MV25","v":0},null,null,"Weighted",{"$f":"MY31*MZ25","v":0},null,{"$f":"NA31*NB25","v":0},null,{"$f":"NC31*ND25","v":0},null,null,"Weighted",{"$f":"NG31*NH25","v":0},null,{"$f":"NI31*NJ25","v":0},null,{"$f":"NK31*NL25","v":0},null,null,"Weighted",{"$f":"NO31*NP25","v":0},null,{"$f":"NQ31*NR25","v":0},null,{"$f":"NS31*NT25","v":0},null,null,"Weighted",{"$f":"NW31*NX25","v":0},null,{"$f":"NY31*NZ25","v":0},null,{"$f":"OA31*OB25","v":0},null,null,"Weighted",{"$f":"OE31*OF25","v":0},null,{"$f":"OG31*OH25","v":0},null,{"$f":"OI31*OJ25","v":0},null,null,"Weighted",{"$f":"OM31*ON25","v":0},null,{"$f":"OO31*OP25","v":0},null,{"$f":"OQ31*OR25","v":0}]
["Actual Farm Revenue 2019",null,{"$f":"C20*D20*'2023 Farm Bill Calculator'!$E$54","v":113600.00000000001},null,{"$f":"E20*F20*'2023 Farm Bill Calculator'!$G$54","v":0},null,{"$f":"G20*H20*'2023 Farm Bill Calculator'!$I$54","v":0},null,null,null,{"$f":"K20*L20*'2023 Farm Bill Calculator'!$E$54","v":0},null,{"$f":"M20*N20*'2023 Farm Bill Calculator'!$G$54","v":0},null,{"$f":"O20*P20*'2023 Farm Bill Calculator'!$I$54","v":0},null,null,null,{"$f":"S20*T20*'2023 Farm Bill Calculator'!$E$54","v":0},null,{"$f":"U20*V20*'2023 Farm Bill Calculator'!$G$54","v":0},null,{"$f":"W20*X20*'2023 Farm Bill Calculator'!$I$54","v":0},null,null,null,{"$f":"AA20*AB20*'2023 Farm Bill Calculator'!$E$54","v":0},null,{"$f":"AC20*AD20*'2023 Farm Bill Calculator'!$G$54","v":0},null,{"$f":"AE20*AF20*'2023 Farm Bill Calculator'!$I$54","v":0},null,null,null,{"$f":"AI20*AJ20*'2023 Farm Bill Calculator'!$E$54","v":0},null,{"$f":"AK20*AL20*'2023 Farm Bill Calculator'!$G$54","v":0},null,{"$f":"AM20*AN20*'2023 Farm Bill Calculator'!$I$54","v":0},null,null,null,{"$f":"AQ20*AR20*'2023 Farm Bill Calculator'!$E$54","v":0},null,{"$f":"AS20*AT20*'2023 Farm Bill Calculator'!$G$54","v":0},null,{"$f":"AU20*AV20*'2023 Farm Bill Calculator'!$I$54","v":0},null,null,null,{"$f":"AY20*AZ20*'2023 Farm Bill Calculator'!$E$54","v":0},null,{"$f":"BA20*BB20*'2023 Farm Bill Calculator'!$G$54","v":0},null,{"$f":"BC20*BD20*'2023 Farm Bill Calculator'!$I$54","v":0},null,null,null,{"$f":"BG20*BH20*'2023 Farm Bill Calculator'!$E$54","v":0},null,{"$f":"BI20*BJ20*'2023 Farm Bill Calculator'!$G$54","v":0},null,{"$f":"BK20*BL20*'2023 Farm Bill Calculator'!$I$54","v":0},null,null,null,{"$f":"BO20*BP20*'2023 Farm Bill Calculator'!$E$54","v":0},null,{"$f":"BQ20*BR20*'2023 Farm Bill Calculator'!$G$54","v":0},null,{"$f":"BS20*BT20*'2023 Farm Bill Calculator'!$I$54","v":0},null,null,null,{"$f":"BW20*BX20*'2023 Farm Bill Calculator'!$E$54","v":0},null,{"$f":"BY20*BZ20*'2023 Farm Bill Calculator'!$G$54","v":0},null,{"$f":"CA20*CB20*'2023 Farm Bill Calculator'!$I$54","v":0},null,null,null,{"$f":"CE20*CF20*'2023 Farm Bill Calculator'!$E$54","v":0},null,{"$f":"CG20*CH20*'2023 Farm Bill Calculator'!$G$54","v":0},null,{"$f":"CI20*CJ20*'2023 Farm Bill Calculator'!$I$54","v":0},null,null,null,{"$f":"CM20*CN20*'2023 Farm Bill Calculator'!$E$54","v":0},null,{"$f":"CO20*CP20*'2023 Farm Bill Calculator'!$G$54","v":0},null,{"$f":"CQ20*CR20*'2023 Farm Bill Calculator'!$I$54","v":0},null,null,null,{"$f":"CU20*CV20*'2023 Farm Bill Calculator'!$E$54","v":0},null,{"$f":"CW20*CX20*'2023 Farm Bill Calculator'!$G$54","v":0},null,{"$f":"CY20*CZ20*'2023 Farm Bill Calculator'!$I$54","v":0},null,null,null,{"$f":"DC20*DD20*'2023 Farm Bill Calculator'!$E$54","v":0},null,{"$f":"DE20*DF20*'2023 Farm Bill Calculator'!$G$54","v":0},null,{"$f":"DG20*DH20*'2023 Farm Bill Calculator'!$I$54","v":0},null,null,null,{"$f":"DK20*DL20*'2023 Farm Bill Calculator'!$E$54","v":0},null,{"$f":"DM20*DN20*'2023 Farm Bill Calculator'!$G$54","v":0},null,{"$f":"DO20*DP20*'2023 Farm Bill Calculator'!$I$54","v":0},null,null,null,{"$f":"DS20*DT20*'2023 Farm Bill Calculator'!$E$54","v":0},null,{"$f":"DU20*DV20*'2023 Farm Bill Calculator'!$G$54","v":0},null,{"$f":"DW20*DX20*'2023 Farm Bill Calculator'!$I$54","v":0},null,null,null,{"$f":"EA20*EB20*'2023 Farm Bill Calculator'!$E$54","v":0},null,{"$f":"EC20*ED20*'2023 Farm Bill Calculator'!$G$54","v":0},null,{"$f":"EE20*EF20*'2023 Farm Bill Calculator'!$I$54","v":0},null,null,null,{"$f":"EI20*EJ20*'2023 Farm Bill Calculator'!$E$54","v":0},null,{"$f":"EK20*EL20*'2023 Farm Bill Calculator'!$G$54","v":0},null,{"$f":"EM20*EN20*'2023 Farm Bill Calculator'!$I$54","v":0},null,null,null,{"$f":"EQ20*ER20*'2023 Farm Bill Calculator'!$E$54","v":0},null,{"$f":"ES20*ET20*'2023 Farm Bill Calculator'!$G$54","v":0},null,{"$f":"EU20*EV20*'2023 Farm Bill Calculator'!$I$54","v":0},null,null,null,{"$f":"EY20*EZ20*'2023 Farm Bill Calculator'!$E$54","v":0},null,{"$f":"FA20*FB20*'2023 Farm Bill Calculator'!$G$54","v":0},null,{"$f":"FC20*FD20*'2023 Farm Bill Calculator'!$I$54","v":0},null,null,null,{"$f":"FG20*FH20*'2023 Farm Bill Calculator'!$E$54","v":0},null,{"$f":"FI20*FJ20*'2023 Farm Bill Calculator'!$G$54","v":0},null,{"$f":"FK20*FL20*'2023 Farm Bill Calculator'!$I$54","v":0},null,null,null,{"$f":"FO20*FP20*'2023 Farm Bill Calculator'!$E$54","v":0},null,{"$f":"FQ20*FR20*'2023 Farm Bill Calculator'!$G$54","v":0},null,{"$f":"FS20*FT20*'2023 Farm Bill Calculator'!$I$54","v":0},null,null,null,{"$f":"FW20*FX20*'2023 Farm Bill Calculator'!$E$54","v":0},null,{"$f":"FY20*FZ20*'2023 Farm Bill Calculator'!$G$54","v":0},null,{"$f":"GA20*GB20*'2023 Farm Bill Calculator'!$I$54","v":0},null,null,null,{"$f":"GE20*GF20*'2023 Farm Bill Calculator'!$E$54","v":0},null,{"$f":"GG20*GH20*'2023 Farm Bill Calculator'!$G$54","v":0},null,{"$f":"GI20*GJ20*'2023 Farm Bill Calculator'!$I$54","v":0},null,null,null,{"$f":"GM20*GN20*'2023 Farm Bill Calculator'!$E$54","v":0},null,{"$f":"GO20*GP20*'2023 Farm Bill Calculator'!$G$54","v":0},null,{"$f":"GQ20*GR20*'2023 Farm Bill Calculator'!$I$54","v":0},null,null,null,{"$f":"GU20*GV20*'2023 Farm Bill Calculator'!$E$54","v":0},null,{"$f":"GW20*GX20*'2023 Farm Bill Calculator'!$G$54","v":0},null,{"$f":"GY20*GZ20*'2023 Farm Bill Calculator'!$I$54","v":0},null,null,null,{"$f":"HC20*HD20*'2023 Farm Bill Calculator'!$E$54","v":0},null,{"$f":"HE20*HF20*'2023 Farm Bill Calculator'!$G$54","v":0},null,{"$f":"HG20*HH20*'2023 Farm Bill Calculator'!$I$54","v":0},null,null,null,{"$f":"HK20*HL20*'2023 Farm Bill Calculator'!$E$54","v":0},null,{"$f":"HM20*HN20*'2023 Farm Bill Calculator'!$G$54","v":0},null,{"$f":"HO20*HP20*'2023 Farm Bill Calculator'!$I$54","v":0},null,null,null,{"$f":"HS20*HT20*'2023 Farm Bill Calculator'!$E$54","v":0},null,{"$f":"HU20*HV20*'2023 Farm Bill Calculator'!$G$54","v":0},null,{"$f":"HW20*HX20*'2023 Farm Bill Calculator'!$I$54","v":0},null,null,null,{"$f":"IA20*IB20*'2023 Farm Bill Calculator'!$E$54","v":0},null,{"$f":"IC20*ID20*'2023 Farm Bill Calculator'!$G$54","v":0},null,{"$f":"IE20*IF20*'2023 Farm Bill Calculator'!$I$54","v":0},null,null,null,{"$f":"II20*IJ20*'2023 Farm Bill Calculator'!$E$54","v":0},null,{"$f":"IK20*IL20*'2023 Farm Bill Calculator'!$G$54","v":0},null,{"$f":"IM20*IN20*'2023 Farm Bill Calculator'!$I$54","v":0},null,null,null,{"$f":"IQ20*IR20*'2023 Farm Bill Calculator'!$E$54","v":0},null,{"$f":"IS20*IT20*'2023 Farm Bill Calculator'!$G$54","v":0},null,{"$f":"IU20*IV20*'2023 Farm Bill Calculator'!$I$54","v":0},null,null,null,{"$f":"IY20*IZ20*'2023 Farm Bill Calculator'!$E$54","v":0},null,{"$f":"JA20*JB20*'2023 Farm Bill Calculator'!$G$54","v":0},null,{"$f":"JC20*JD20*'2023 Farm Bill Calculator'!$I$54","v":0},null,null,null,{"$f":"JG20*JH20*'2023 Farm Bill Calculator'!$E$54","v":0},null,{"$f":"JI20*JJ20*'2023 Farm Bill Calculator'!$G$54","v":0},null,{"$f":"JK20*JL20*'2023 Farm Bill Calculator'!$I$54","v":0},null,null,null,{"$f":"JO20*JP20*'2023 Farm Bill Calculator'!$E$54","v":0},null,{"$f":"JQ20*JR20*'2023 Farm Bill Calculator'!$G$54","v":0},null,{"$f":"JS20*JT20*'2023 Farm Bill Calculator'!$I$54","v":0},null,null,null,{"$f":"JW20*JX20*'2023 Farm Bill Calculator'!$E$54","v":0},null,{"$f":"JY20*JZ20*'2023 Farm Bill Calculator'!$G$54","v":0},null,{"$f":"KA20*KB20*'2023 Farm Bill Calculator'!$I$54","v":0},null,null,null,{"$f":"KE20*KF20*'2023 Farm Bill Calculator'!$E$54","v":0},null,{"$f":"KG20*KH20*'2023 Farm Bill Calculator'!$G$54","v":0},null,{"$f":"KI20*KJ20*'2023 Farm Bill Calculator'!$I$54","v":0},null,null,null,{"$f":"KM20*KN20*'2023 Farm Bill Calculator'!$E$54","v":0},null,{"$f":"KO20*KP20*'2023 Farm Bill Calculator'!$G$54","v":0},null,{"$f":"KQ20*KR20*'2023 Farm Bill Calculator'!$I$54","v":0},null,null,null,{"$f":"KU20*KV20*'2023 Farm Bill Calculator'!$E$54","v":0},null,{"$f":"KW20*KX20*'2023 Farm Bill Calculator'!$G$54","v":0},null,{"$f":"KY20*KZ20*'2023 Farm Bill Calculator'!$I$54","v":0},null,null,null,{"$f":"LC20*LD20*'2023 Farm Bill Calculator'!$E$54","v":0},null,{"$f":"LE20*LF20*'2023 Farm Bill Calculator'!$G$54","v":0},null,{"$f":"LG20*LH20*'2023 Farm Bill Calculator'!$I$54","v":0},null,null,null,{"$f":"LK20*LL20*'2023 Farm Bill Calculator'!$E$54","v":0},null,{"$f":"LM20*LN20*'2023 Farm Bill Calculator'!$G$54","v":0},null,{"$f":"LO20*LP20*'2023 Farm Bill Calculator'!$I$54","v":0},null,null,null,{"$f":"LS20*LT20*'2023 Farm Bill Calculator'!$E$54","v":0},null,{"$f":"LU20*LV20*'2023 Farm Bill Calculator'!$G$54","v":0},null,{"$f":"LW20*LX20*'2023 Farm Bill Calculator'!$I$54","v":0},null,null,null,{"$f":"MA20*MB20*'2023 Farm Bill Calculator'!$E$54","v":0},null,{"$f":"MC20*MD20*'2023 Farm Bill Calculator'!$G$54","v":0},null,{"$f":"ME20*MF20*'2023 Farm Bill Calculator'!$I$54","v":0},null,null,null,{"$f":"MI20*MJ20*'2023 Farm Bill Calculator'!$E$54","v":0},null,{"$f":"MK20*ML20*'2023 Farm Bill Calculator'!$G$54","v":0},null,{"$f":"MM20*MN20*'2023 Farm Bill Calculator'!$I$54","v":0},null,null,null,{"$f":"MQ20*MR20*'2023 Farm Bill Calculator'!$E$54","v":0},null,{"$f":"MS20*MT20*'2023 Farm Bill Calculator'!$G$54","v":0},null,{"$f":"MU20*MV20*'2023 Farm Bill Calculator'!$I$54","v":0},null,null,null,{"$f":"MY20*MZ20*'2023 Farm Bill Calculator'!$E$54","v":0},null,{"$f":"NA20*NB20*'2023 Farm Bill Calculator'!$G$54","v":0},null,{"$f":"NC20*ND20*'2023 Farm Bill Calculator'!$I$54","v":0},null,null,null,{"$f":"NG20*NH20*'2023 Farm Bill Calculator'!$E$54","v":0},null,{"$f":"NI20*NJ20*'2023 Farm Bill Calculator'!$G$54","v":0},null,{"$f":"NK20*NL20*'2023 Farm Bill Calculator'!$I$54","v":0},null,null,null,{"$f":"NO20*NP20*'2023 Farm Bill Calculator'!$E$54","v":0},null,{"$f":"NQ20*NR20*'2023 Farm Bill Calculator'!$G$54","v":0},null,{"$f":"NS20*NT20*'2023 Farm Bill Calculator'!$I$54","v":0},null,null,null,{"$f":"NW20*NX20*'2023 Farm Bill Calculator'!$E$54","v":0},null,{"$f":"NY20*NZ20*'2023 Farm Bill Calculator'!$G$54","v":0},null,{"$f":"OA20*OB20*'2023 Farm Bill Calculator'!$I$54","v":0},null,null,null,{"$f":"OE20*OF20*'2023 Farm Bill Calculator'!$E$54","v":0},null,{"$f":"OG20*OH20*'2023 Farm Bill Calculator'!$G$54","v":0},null,{"$f":"OI20*OJ20*'2023 Farm Bill Calculator'!$I$54","v":0},null,null,null,{"$f":"OM20*ON20*'2023 Farm Bill Calculator'!$E$54","v":0},null,{"$f":"OO20*OP20*'2023 Farm Bill Calculator'!$G$54","v":0},null,{"$f":"OQ20*OR20*'2023 Farm Bill Calculator'!$I$54","v":0}]
[null,null,"= max of actual farm yield or 80% of \" 5 yr county average????\" or if not planted the average county yield for the year???? or 5 year average ???? or 10 year avreage??????????"]
[null,2013,{"$f":"IF(C14>0.01,MAX('Background Calculations'!$R$80*0.8,C14),MAX('Background Calculations'!$R$75,'Background Calculations'!$R$80*0.75))","v":0},null,{"$f":"IF(E14>0.01,MAX('Background Calculations'!$R$81*0.8,E14),MAX('Background Calculations'!$R$76,'Background Calculations'!$R$81*0.75))","v":0},null,{"$f":"IF(G14>0.01,MAX('Background Calculations'!$R$82*0.8,G14),MAX('Background Calculations'!$R$77,'Background Calculations'!$R$82*0.75))","v":0},null,null,2013,{"$f":"IF(K14>0.01,MAX('Background Calculations'!$R$80*0.8,K14),MAX('Background Calculations'!$R$75,'Background Calculations'!$R$80*0.75))","v":0},null,{"$f":"IF(M14>0.01,MAX('Background Calculations'!$R$81*0.8,M14),MAX('Background Calculations'!$R$76,'Background Calculations'!$R$81*0.75))","v":0},null,{"$f":"IF(O14>0.01,MAX('Background Calculations'!$R$82*0.8,O14),MAX('Background Calculations'!$R$77,'Background Calculations'!$R$82*0.75))","v":0},null,null,2013,{"$f":"IF(S14>0.01,MAX('Background Calculations'!$R$80*0.8,S14),MAX('Background Calculations'!$R$75,'Background Calculations'!$R$80*0.75))","v":0},null,{"$f":"IF(U14>0.01,MAX('Background Calculations'!$R$81*0.8,U14),MAX('Background Calculations'!$R$76,'Background Calculations'!$R$81*0.75))","v":0},null,{"$f":"IF(W14>0.01,MAX('Background Calculations'!$R$82*0.8,W14),MAX('Background Calculations'!$R$77,'Background Calculations'!$R$82*0.75))","v":0},null,null,2013,{"$f":"IF(AA14>0.01,MAX('Background Calculations'!$R$80*0.8,AA14),MAX('Background Calculations'!$R$75,'Background Calculations'!$R$80*0.75))","v":0},null,{"$f":"IF(AC14>0.01,MAX('Background Calculations'!$R$81*0.8,AC14),MAX('Background Calculations'!$R$76,'Background Calculations'!$R$81*0.75))","v":0},null,{"$f":"IF(AE14>0.01,MAX('Background Calculations'!$R$82*0.8,AE14),MAX('Background Calculations'!$R$77,'Background Calculations'!$R$82*0.75))","v":0},null,null,2013,{"$f":"IF(AI14>0.01,MAX('Background Calculations'!$R$80*0.8,AI14),MAX('Background Calculations'!$R$75,'Background Calculations'!$R$80*0.75))","v":0},null,{"$f":"IF(AK14>0.01,MAX('Background Calculations'!$R$81*0.8,AK14),MAX('Background Calculations'!$R$76,'Background Calculations'!$R$81*0.75))","v":0},null,{"$f":"IF(AM14>0.01,MAX('Background Calculations'!$R$82*0.8,AM14),MAX('Background Calculations'!$R$77,'Background Calculations'!$R$82*0.75))","v":0},null,null,2013,{"$f":"IF(AQ14>0.01,MAX('Background Calculations'!$R$80*0.8,AQ14),MAX('Background Calculations'!$R$75,'Background Calculations'!$R$80*0.75))","v":0},null,{"$f":"IF(AS14>0.01,MAX('Background Calculations'!$R$81*0.8,AS14),MAX('Background Calculations'!$R$76,'Background Calculations'!$R$81*0.75))","v":0},null,{"$f":"IF(AU14>0.01,MAX('Background Calculations'!$R$82*0.8,AU14),MAX('Background Calculations'!$R$77,'Background Calculations'!$R$82*0.75))","v":0},null,null,2013,{"$f":"IF(AY14>0.01,MAX('Background Calculations'!$R$80*0.8,AY14),MAX('Background Calculations'!$R$75,'Background Calculations'!$R$80*0.75))","v":0},null,{"$f":"IF(BA14>0.01,MAX('Background Calculations'!$R$81*0.8,BA14),MAX('Background Calculations'!$R$76,'Background Calculations'!$R$81*0.75))","v":0},null,{"$f":"IF(BC14>0.01,MAX('Background Calculations'!$R$82*0.8,BC14),MAX('Background Calculations'!$R$77,'Background Calculations'!$R$82*0.75))","v":0},null,null,2013,{"$f":"IF(BG14>0.01,MAX('Background Calculations'!$R$80*0.8,BG14),MAX('Background Calculations'!$R$75,'Background Calculations'!$R$80*0.75))","v":0},null,{"$f":"IF(BI14>0.01,MAX('Background Calculations'!$R$81*0.8,BI14),MAX('Background Calculations'!$R$76,'Background Calculations'!$R$81*0.75))","v":0},null,{"$f":"IF(BK14>0.01,MAX('Background Calculations'!$R$82*0.8,BK14),MAX('Background Calculations'!$R$77,'Background Calculations'!$R$82*0.75))","v":0},null,null,2013,{"$f":"IF(BO14>0.01,MAX('Background Calculations'!$R$80*0.8,BO14),MAX('Background Calculations'!$R$75,'Background Calculations'!$R$80*0.75))","v":0},null,{"$f":"IF(BQ14>0.01,MAX('Background Calculations'!$R$81*0.8,BQ14),MAX('Background Calculations'!$R$76,'Background Calculations'!$R$81*0.75))","v":0},null,{"$f":"IF(BS14>0.01,MAX('Background Calculations'!$R$82*0.8,BS14),MAX('Background Calculations'!$R$77,'Background Calculations'!$R$82*0.75))","v":0},null,null,2013,{"$f":"IF(BW14>0.01,MAX('Background Calculations'!$R$80*0.8,BW14),MAX('Background Calculations'!$R$75,'Background Calculations'!$R$80*0.75))","v":0},null,{"$f":"IF(BY14>0.01,MAX('Background Calculations'!$R$81*0.8,BY14),MAX('Background Calculations'!$R$76,'Background Calculations'!$R$81*0.75))","v":0},null,{"$f":"IF(CA14>0.01,MAX('Background Calculations'!$R$82*0.8,CA14),MAX('Background Calculations'!$R$77,'Background Calculations'!$R$82*0.75))","v":0},null,null,2013,{"$f":"IF(CE14>0.01,MAX('Background Calculations'!$R$80*0.8,CE14),MAX('Background Calculations'!$R$75,'Background Calculations'!$R$80*0.75))","v":0},null,{"$f":"IF(CG14>0.01,MAX('Background Calculations'!$R$81*0.8,CG14),MAX('Background Calculations'!$R$76,'Background Calculations'!$R$81*0.75))","v":0},null,{"$f":"IF(CI14>0.01,MAX('Background Calculations'!$R$82*0.8,CI14),MAX('Background Calculations'!$R$77,'Background Calculations'!$R$82*0.75))","v":0},null,null,2013,{"$f":"IF(CM14>0.01,MAX('Background Calculations'!$R$80*0.8,CM14),MAX('Background Calculations'!$R$75,'Background Calculations'!$R$80*0.75))","v":0},null,{"$f":"IF(CO14>0.01,MAX('Background Calculations'!$R$81*0.8,CO14),MAX('Background Calculations'!$R$76,'Background Calculations'!$R$81*0.75))","v":0},null,{"$f":"IF(CQ14>0.01,MAX('Background Calculations'!$R$82*0.8,CQ14),MAX('Background Calculations'!$R$77,'Background Calculations'!$R$82*0.75))","v":0},null,null,2013,{"$f":"IF(CU14>0.01,MAX('Background Calculations'!$R$80*0.8,CU14),MAX('Background Calculations'!$R$75,'Background Calculations'!$R$80*0.75))","v":0},null,{"$f":"IF(CW14>0.01,MAX('Background Calculations'!$R$81*0.8,CW14),MAX('Background Calculations'!$R$76,'Background Calculations'!$R$81*0.75))","v":0},null,{"$f":"IF(CY14>0.01,MAX('Background Calculations'!$R$82*0.8,CY14),MAX('Background Calculations'!$R$77,'Background Calculations'!$R$82*0.75))","v":0},null,null,2013,{"$f":"IF(DC14>0.01,MAX('Background Calculations'!$R$80*0.8,DC14),MAX('Background Calculations'!$R$75,'Background Calculations'!$R$80*0.75))","v":0},null,{"$f":"IF(DE14>0.01,MAX('Background Calculations'!$R$81*0.8,DE14),MAX('Background Calculations'!$R$76,'Background Calculations'!$R$81*0.75))","v":0},null,{"$f":"IF(DG14>0.01,MAX('Background Calculations'!$R$82*0.8,DG14),MAX('Background Calculations'!$R$77,'Background Calculations'!$R$82*0.75))","v":0},null,null,2013,{"$f":"IF(DK14>0.01,MAX('Background Calculations'!$R$80*0.8,DK14),MAX('Background Calculations'!$R$75,'Background Calculations'!$R$80*0.75))","v":0},null,{"$f":"IF(DM14>0.01,MAX('Background Calculations'!$R$81*0.8,DM14),MAX('Background Calculations'!$R$76,'Background Calculations'!$R$81*0.75))","v":0},null,{"$f":"IF(DO14>0.01,MAX('Background Calculations'!$R$82*0.8,DO14),MAX('Background Calculations'!$R$77,'Background Calculations'!$R$82*0.75))","v":0},null,null,2013,{"$f":"IF(DS14>0.01,MAX('Background Calculations'!$R$80*0.8,DS14),MAX('Background Calculations'!$R$75,'Background Calculations'!$R$80*0.75))","v":0},null,{"$f":"IF(DU14>0.01,MAX('Background Calculations'!$R$81*0.8,DU14),MAX('Background Calculations'!$R$76,'Background Calculations'!$R$81*0.75))","v":0},null,{"$f":"IF(DW14>0.01,MAX('Background Calculations'!$R$82*0.8,DW14),MAX('Background Calculations'!$R$77,'Background Calculations'!$R$82*0.75))","v":0},null,null,2013,{"$f":"IF(EA14>0.01,MAX('Background Calculations'!$R$80*0.8,EA14),MAX('Background Calculations'!$R$75,'Background Calculations'!$R$80*0.75))","v":0},null,{"$f":"IF(EC14>0.01,MAX('Background Calculations'!$R$81*0.8,EC14),MAX('Background Calculations'!$R$76,'Background Calculations'!$R$81*0.75))","v":0},null,{"$f":"IF(EE14>0.01,MAX('Background Calculations'!$R$82*0.8,EE14),MAX('Background Calculations'!$R$77,'Background Calculations'!$R$82*0.75))","v":0},null,null,2013,{"$f":"IF(EI14>0.01,MAX('Background Calculations'!$R$80*0.8,EI14),MAX('Background Calculations'!$R$75,'Background Calculations'!$R$80*0.75))","v":0},null,{"$f":"IF(EK14>0.01,MAX('Background Calculations'!$R$81*0.8,EK14),MAX('Background Calculations'!$R$76,'Background Calculations'!$R$81*0.75))","v":0},null,{"$f":"IF(EM14>0.01,MAX('Background Calculations'!$R$82*0.8,EM14),MAX('Background Calculations'!$R$77,'Background Calculations'!$R$82*0.75))","v":0},null,null,2013,{"$f":"IF(EQ14>0.01,MAX('Background Calculations'!$R$80*0.8,EQ14),MAX('Background Calculations'!$R$75,'Background Calculations'!$R$80*0.75))","v":0},null,{"$f":"IF(ES14>0.01,MAX('Background Calculations'!$R$81*0.8,ES14),MAX('Background Calculations'!$R$76,'Background Calculations'!$R$81*0.75))","v":0},null,{"$f":"IF(EU14>0.01,MAX('Background Calculations'!$R$82*0.8,EU14),MAX('Background Calculations'!$R$77,'Background Calculations'!$R$82*0.75))","v":0},null,null,2013,{"$f":"IF(EY14>0.01,MAX('Background Calculations'!$R$80*0.8,EY14),MAX('Background Calculations'!$R$75,'Background Calculations'!$R$80*0.75))","v":0},null,{"$f":"IF(FA14>0.01,MAX('Background Calculations'!$R$81*0.8,FA14),MAX('Background Calculations'!$R$76,'Background Calculations'!$R$81*0.75))","v":0},null,{"$f":"IF(FC14>0.01,MAX('Background Calculations'!$R$82*0.8,FC14),MAX('Background Calculations'!$R$77,'Background Calculations'!$R$82*0.75))","v":0},null,null,2013,{"$f":"IF(FG14>0.01,MAX('Background Calculations'!$R$80*0.8,FG14),MAX('Background Calculations'!$R$75,'Background Calculations'!$R$80*0.75))","v":0},null,{"$f":"IF(FI14>0.01,MAX('Background Calculations'!$R$81*0.8,FI14),MAX('Background Calculations'!$R$76,'Background Calculations'!$R$81*0.75))","v":0},null,{"$f":"IF(FK14>0.01,MAX('Background Calculations'!$R$82*0.8,FK14),MAX('Background Calculations'!$R$77,'Background Calculations'!$R$82*0.75))","v":0},null,null,2013,{"$f":"IF(FO14>0.01,MAX('Background Calculations'!$R$80*0.8,FO14),MAX('Background Calculations'!$R$75,'Background Calculations'!$R$80*0.75))","v":0},null,{"$f":"IF(FQ14>0.01,MAX('Background Calculations'!$R$81*0.8,FQ14),MAX('Background Calculations'!$R$76,'Background Calculations'!$R$81*0.75))","v":0},null,{"$f":"IF(FS14>0.01,MAX('Background Calculations'!$R$82*0.8,FS14),MAX('Background Calculations'!$R$77,'Background Calculations'!$R$82*0.75))","v":0},null,null,2013,{"$f":"IF(FW14>0.01,MAX('Background Calculations'!$R$80*0.8,FW14),MAX('Background Calculations'!$R$75,'Background Calculations'!$R$80*0.75))","v":0},null,{"$f":"IF(FY14>0.01,MAX('Background Calculations'!$R$81*0.8,FY14),MAX('Background Calculations'!$R$76,'Background Calculations'!$R$81*0.75))","v":0},null,{"$f":"IF(GA14>0.01,MAX('Background Calculations'!$R$82*0.8,GA14),MAX('Background Calculations'!$R$77,'Background Calculations'!$R$82*0.75))","v":0},null,null,2013,{"$f":"IF(GE14>0.01,MAX('Background Calculations'!$R$80*0.8,GE14),MAX('Background Calculations'!$R$75,'Background Calculations'!$R$80*0.75))","v":0},null,{"$f":"IF(GG14>0.01,MAX('Background Calculations'!$R$81*0.8,GG14),MAX('Background Calculations'!$R$76,'Background Calculations'!$R$81*0.75))","v":0},null,{"$f":"IF(GI14>0.01,MAX('Background Calculations'!$R$82*0.8,GI14),MAX('Background Calculations'!$R$77,'Background Calculations'!$R$82*0.75))","v":0},null,null,2013,{"$f":"IF(GM14>0.01,MAX('Background Calculations'!$R$80*0.8,GM14),MAX('Background Calculations'!$R$75,'Background Calculations'!$R$80*0.75))","v":0},null,{"$f":"IF(GO14>0.01,MAX('Background Calculations'!$R$81*0.8,GO14),MAX('Background Calculations'!$R$76,'Background Calculations'!$R$81*0.75))","v":0},null,{"$f":"IF(GQ14>0.01,MAX('Background Calculations'!$R$82*0.8,GQ14),MAX('Background Calculations'!$R$77,'Background Calculations'!$R$82*0.75))","v":0},null,null,2013,{"$f":"IF(GU14>0.01,MAX('Background Calculations'!$R$80*0.8,GU14),MAX('Background Calculations'!$R$75,'Background Calculations'!$R$80*0.75))","v":0},null,{"$f":"IF(GW14>0.01,MAX('Background Calculations'!$R$81*0.8,GW14),MAX('Background Calculations'!$R$76,'Background Calculations'!$R$81*0.75))","v":0},null,{"$f":"IF(GY14>0.01,MAX('Background Calculations'!$R$82*0.8,GY14),MAX('Background Calculations'!$R$77,'Background Calculations'!$R$82*0.75))","v":0},null,null,2013,{"$f":"IF(HC14>0.01,MAX('Background Calculations'!$R$80*0.8,HC14),MAX('Background Calculations'!$R$75,'Background Calculations'!$R$80*0.75))","v":0},null,{"$f":"IF(HE14>0.01,MAX('Background Calculations'!$R$81*0.8,HE14),MAX('Background Calculations'!$R$76,'Background Calculations'!$R$81*0.75))","v":0},null,{"$f":"IF(HG14>0.01,MAX('Background Calculations'!$R$82*0.8,HG14),MAX('Background Calculations'!$R$77,'Background Calculations'!$R$82*0.75))","v":0},null,null,2013,{"$f":"IF(HK14>0.01,MAX('Background Calculations'!$R$80*0.8,HK14),MAX('Background Calculations'!$R$75,'Background Calculations'!$R$80*0.75))","v":0},null,{"$f":"IF(HM14>0.01,MAX('Background Calculations'!$R$81*0.8,HM14),MAX('Background Calculations'!$R$76,'Background Calculations'!$R$81*0.75))","v":0},null,{"$f":"IF(HO14>0.01,MAX('Background Calculations'!$R$82*0.8,HO14),MAX('Background Calculations'!$R$77,'Background Calculations'!$R$82*0.75))","v":0},null,null,2013,{"$f":"IF(HS14>0.01,MAX('Background Calculations'!$R$80*0.8,HS14),MAX('Background Calculations'!$R$75,'Background Calculations'!$R$80*0.75))","v":0},null,{"$f":"IF(HU14>0.01,MAX('Background Calculations'!$R$81*0.8,HU14),MAX('Background Calculations'!$R$76,'Background Calculations'!$R$81*0.75))","v":0},null,{"$f":"IF(HW14>0.01,MAX('Background Calculations'!$R$82*0.8,HW14),MAX('Background Calculations'!$R$77,'Background Calculations'!$R$82*0.75))","v":0},null,null,2013,{"$f":"IF(IA14>0.01,MAX('Background Calculations'!$R$80*0.8,IA14),MAX('Background Calculations'!$R$75,'Background Calculations'!$R$80*0.75))","v":0},null,{"$f":"IF(IC14>0.01,MAX('Background Calculations'!$R$81*0.8,IC14),MAX('Background Calculations'!$R$76,'Background Calculations'!$R$81*0.75))","v":0},null,{"$f":"IF(IE14>0.01,MAX('Background Calculations'!$R$82*0.8,IE14),MAX('Background Calculations'!$R$77,'Background Calculations'!$R$82*0.75))","v":0},null,null,2013,{"$f":"IF(II14>0.01,MAX('Background Calculations'!$R$80*0.8,II14),MAX('Background Calculations'!$R$75,'Background Calculations'!$R$80*0.75))","v":0},null,{"$f":"IF(IK14>0.01,MAX('Background Calculations'!$R$81*0.8,IK14),MAX('Background Calculations'!$R$76,'Background Calculations'!$R$81*0.75))","v":0},null,{"$f":"IF(IM14>0.01,MAX('Background Calculations'!$R$82*0.8,IM14),MAX('Background Calculations'!$R$77,'Background Calculations'!$R$82*0.75))","v":0},null,null,2013,{"$f":"IF(IQ14>0.01,MAX('Background Calculations'!$R$80*0.8,IQ14),MAX('Background Calculations'!$R$75,'Background Calculations'!$R$80*0.75))","v":0},null,{"$f":"IF(IS14>0.01,MAX('Background Calculations'!$R$81*0.8,IS14),MAX('Background Calculations'!$R$76,'Background Calculations'!$R$81*0.75))","v":0},null,{"$f":"IF(IU14>0.01,MAX('Background Calculations'!$R$82*0.8,IU14),MAX('Background Calculations'!$R$77,'Background Calculations'!$R$82*0.75))","v":0},null,null,2013,{"$f":"IF(IY14>0.01,MAX('Background Calculations'!$R$80*0.8,IY14),MAX('Background Calculations'!$R$75,'Background Calculations'!$R$80*0.75))","v":0},null,{"$f":"IF(JA14>0.01,MAX('Background Calculations'!$R$81*0.8,JA14),MAX('Background Calculations'!$R$76,'Background Calculations'!$R$81*0.75))","v":0},null,{"$f":"IF(JC14>0.01,MAX('Background Calculations'!$R$82*0.8,JC14),MAX('Background Calculations'!$R$77,'Background Calculations'!$R$82*0.75))","v":0},null,null,2013,{"$f":"IF(JG14>0.01,MAX('Background Calculations'!$R$80*0.8,JG14),MAX('Background Calculations'!$R$75,'Background Calculations'!$R$80*0.75))","v":0},null,{"$f":"IF(JI14>0.01,MAX('Background Calculations'!$R$81*0.8,JI14),MAX('Background Calculations'!$R$76,'Background Calculations'!$R$81*0.75))","v":0},null,{"$f":"IF(JK14>0.01,MAX('Background Calculations'!$R$82*0.8,JK14),MAX('Background Calculations'!$R$77,'Background Calculations'!$R$82*0.75))","v":0},null,null,2013,{"$f":"IF(JO14>0.01,MAX('Background Calculations'!$R$80*0.8,JO14),MAX('Background Calculations'!$R$75,'Background Calculations'!$R$80*0.75))","v":0},null,{"$f":"IF(JQ14>0.01,MAX('Background Calculations'!$R$81*0.8,JQ14),MAX('Background Calculations'!$R$76,'Background Calculations'!$R$81*0.75))","v":0},null,{"$f":"IF(JS14>0.01,MAX('Background Calculations'!$R$82*0.8,JS14),MAX('Background Calculations'!$R$77,'Background Calculations'!$R$82*0.75))","v":0},null,null,2013,{"$f":"IF(JW14>0.01,MAX('Background Calculations'!$R$80*0.8,JW14),MAX('Background Calculations'!$R$75,'Background Calculations'!$R$80*0.75))","v":0},null,{"$f":"IF(JY14>0.01,MAX('Background Calculations'!$R$81*0.8,JY14),MAX('Background Calculations'!$R$76,'Background Calculations'!$R$81*0.75))","v":0},null,{"$f":"IF(KA14>0.01,MAX('Background Calculations'!$R$82*0.8,KA14),MAX('Background Calculations'!$R$77,'Background Calculations'!$R$82*0.75))","v":0},null,null,2013,{"$f":"IF(KE14>0.01,MAX('Background Calculations'!$R$80*0.8,KE14),MAX('Background Calculations'!$R$75,'Background Calculations'!$R$80*0.75))","v":0},null,{"$f":"IF(KG14>0.01,MAX('Background Calculations'!$R$81*0.8,KG14),MAX('Background Calculations'!$R$76,'Background Calculations'!$R$81*0.75))","v":0},null,{"$f":"IF(KI14>0.01,MAX('Background Calculations'!$R$82*0.8,KI14),MAX('Background Calculations'!$R$77,'Background Calculations'!$R$82*0.75))","v":0},null,null,2013,{"$f":"IF(KM14>0.01,MAX('Background Calculations'!$R$80*0.8,KM14),MAX('Background Calculations'!$R$75,'Background Calculations'!$R$80*0.75))","v":0},null,{"$f":"IF(KO14>0.01,MAX('Background Calculations'!$R$81*0.8,KO14),MAX('Background Calculations'!$R$76,'Background Calculations'!$R$81*0.75))","v":0},null,{"$f":"IF(KQ14>0.01,MAX('Background Calculations'!$R$82*0.8,KQ14),MAX('Background Calculations'!$R$77,'Background Calculations'!$R$82*0.75))","v":0},null,null,2013,{"$f":"IF(KU14>0.01,MAX('Background Calculations'!$R$80*0.8,KU14),MAX('Background Calculations'!$R$75,'Background Calculations'!$R$80*0.75))","v":0},null,{"$f":"IF(KW14>0.01,MAX('Background Calculations'!$R$81*0.8,KW14),MAX('Background Calculations'!$R$76,'Background Calculations'!$R$81*0.75))","v":0},null,{"$f":"IF(KY14>0.01,MAX('Background Calculations'!$R$82*0.8,KY14),MAX('Background Calculations'!$R$77,'Background Calculations'!$R$82*0.75))","v":0},null,null,2013,{"$f":"IF(LC14>0.01,MAX('Background Calculations'!$R$80*0.8,LC14),MAX('Background Calculations'!$R$75,'Background Calculations'!$R$80*0.75))","v":0},null,{"$f":"IF(LE14>0.01,MAX('Background Calculations'!$R$81*0.8,LE14),MAX('Background Calculations'!$R$76,'Background Calculations'!$R$81*0.75))","v":0},null,{"$f":"IF(LG14>0.01,MAX('Background Calculations'!$R$82*0.8,LG14),MAX('Background Calculations'!$R$77,'Background Calculations'!$R$82*0.75))","v":0},null,null,2013,{"$f":"IF(LK14>0.01,MAX('Background Calculations'!$R$80*0.8,LK14),MAX('Background Calculations'!$R$75,'Background Calculations'!$R$80*0.75))","v":0},null,{"$f":"IF(LM14>0.01,MAX('Background Calculations'!$R$81*0.8,LM14),MAX('Background Calculations'!$R$76,'Background Calculations'!$R$81*0.75))","v":0},null,{"$f":"IF(LO14>0.01,MAX('Background Calculations'!$R$82*0.8,LO14),MAX('Background Calculations'!$R$77,'Background Calculations'!$R$82*0.75))","v":0},null,null,2013,{"$f":"IF(LS14>0.01,MAX('Background Calculations'!$R$80*0.8,LS14),MAX('Background Calculations'!$R$75,'Background Calculations'!$R$80*0.75))","v":0},null,{"$f":"IF(LU14>0.01,MAX('Background Calculations'!$R$81*0.8,LU14),MAX('Background Calculations'!$R$76,'Background Calculations'!$R$81*0.75))","v":0},null,{"$f":"IF(LW14>0.01,MAX('Background Calculations'!$R$82*0.8,LW14),MAX('Background Calculations'!$R$77,'Background Calculations'!$R$82*0.75))","v":0},null,null,2013,{"$f":"IF(MA14>0.01,MAX('Background Calculations'!$R$80*0.8,MA14),MAX('Background Calculations'!$R$75,'Background Calculations'!$R$80*0.75))","v":0},null,{"$f":"IF(MC14>0.01,MAX('Background Calculations'!$R$81*0.8,MC14),MAX('Background Calculations'!$R$76,'Background Calculations'!$R$81*0.75))","v":0},null,{"$f":"IF(ME14>0.01,MAX('Background Calculations'!$R$82*0.8,ME14),MAX('Background Calculations'!$R$77,'Background Calculations'!$R$82*0.75))","v":0},null,null,2013,{"$f":"IF(MI14>0.01,MAX('Background Calculations'!$R$80*0.8,MI14),MAX('Background Calculations'!$R$75,'Background Calculations'!$R$80*0.75))","v":0},null,{"$f":"IF(MK14>0.01,MAX('Background Calculations'!$R$81*0.8,MK14),MAX('Background Calculations'!$R$76,'Background Calculations'!$R$81*0.75))","v":0},null,{"$f":"IF(MM14>0.01,MAX('Background Calculations'!$R$82*0.8,MM14),MAX('Background Calculations'!$R$77,'Background Calculations'!$R$82*0.75))","v":0},null,null,2013,{"$f":"IF(MQ14>0.01,MAX('Background Calculations'!$R$80*0.8,MQ14),MAX('Background Calculations'!$R$75,'Background Calculations'!$R$80*0.75))","v":0},null,{"$f":"IF(MS14>0.01,MAX('Background Calculations'!$R$81*0.8,MS14),MAX('Background Calculations'!$R$76,'Background Calculations'!$R$81*0.75))","v":0},null,{"$f":"IF(MU14>0.01,MAX('Background Calculations'!$R$82*0.8,MU14),MAX('Background Calculations'!$R$77,'Background Calculations'!$R$82*0.75))","v":0},null,null,2013,{"$f":"IF(MY14>0.01,MAX('Background Calculations'!$R$80*0.8,MY14),MAX('Background Calculations'!$R$75,'Background Calculations'!$R$80*0.75))","v":0},null,{"$f":"IF(NA14>0.01,MAX('Background Calculations'!$R$81*0.8,NA14),MAX('Background Calculations'!$R$76,'Background Calculations'!$R$81*0.75))","v":0},null,{"$f":"IF(NC14>0.01,MAX('Background Calculations'!$R$82*0.8,NC14),MAX('Background Calculations'!$R$77,'Background Calculations'!$R$82*0.75))","v":0},null,null,2013,{"$f":"IF(NG14>0.01,MAX('Background Calculations'!$R$80*0.8,NG14),MAX('Background Calculations'!$R$75,'Background Calculations'!$R$80*0.75))","v":0},null,{"$f":"IF(NI14>0.01,MAX('Background Calculations'!$R$81*0.8,NI14),MAX('Background Calculations'!$R$76,'Background Calculations'!$R$81*0.75))","v":0},null,{"$f":"IF(NK14>0.01,MAX('Background Calculations'!$R$82*0.8,NK14),MAX('Background Calculations'!$R$77,'Background Calculations'!$R$82*0.75))","v":0},null,null,2013,{"$f":"IF(NO14>0.01,MAX('Background Calculations'!$R$80*0.8,NO14),MAX('Background Calculations'!$R$75,'Background Calculations'!$R$80*0.75))","v":0},null,{"$f":"IF(NQ14>0.01,MAX('Background Calculations'!$R$81*0.8,NQ14),MAX('Background Calculations'!$R$76,'Background Calculations'!$R$81*0.75))","v":0},null,{"$f":"IF(NS14>0.01,MAX('Background Calculations'!$R$82*0.8,NS14),MAX('Background Calculations'!$R$77,'Background Calculations'!$R$82*0.75))","v":0},null,null,2013,{"$f":"IF(NW14>0.01,MAX('Background Calculations'!$R$80*0.8,NW14),MAX('Background Calculations'!$R$75,'Background Calculations'!$R$80*0.75))","v":0},null,{"$f":"IF(NY14>0.01,MAX('Background Calculations'!$R$81*0.8,NY14),MAX('Background Calculations'!$R$76,'Background Calculations'!$R$81*0.75))","v":0},null,{"$f":"IF(OA14>0.01,MAX('Background Calculations'!$R$82*0.8,OA14),MAX('Background Calculations'!$R$77,'Background Calculations'!$R$82*0.75))","v":0},null,null,2013,{"$f":"IF(OE14>0.01,MAX('Background Calculations'!$R$80*0.8,OE14),MAX('Background Calculations'!$R$75,'Background Calculations'!$R$80*0.75))","v":0},null,{"$f":"IF(OG14>0.01,MAX('Background Calculations'!$R$81*0.8,OG14),MAX('Background Calculations'!$R$76,'Background Calculations'!$R$81*0.75))","v":0},null,{"$f":"IF(OI14>0.01,MAX('Background Calculations'!$R$82*0.8,OI14),MAX('Background Calculations'!$R$77,'Background Calculations'!$R$82*0.75))","v":0},null,null,2013,{"$f":"IF(OM14>0.01,MAX('Background Calculations'!$R$80*0.8,OM14),MAX('Background Calculations'!$R$75,'Background Calculations'!$R$80*0.75))","v":0},null,{"$f":"IF(OO14>0.01,MAX('Background Calculations'!$R$81*0.8,OO14),MAX('Background Calculations'!$R$76,'Background Calculations'!$R$81*0.75))","v":0},null,{"$f":"IF(OQ14>0.01,MAX('Background Calculations'!$R$82*0.8,OQ14),MAX('Background Calculations'!$R$77,'Background Calculations'!$R$82*0.75))","v":0}]
[null,2014,{"$f":"IF(C15>0.01,MAX('Background Calculations'!$S$80*0.8,C15),MAX('Background Calculations'!$S$75,'Background Calculations'!$S$80*0.75))","v":0},null,{"$f":"IF(E15>0.01,MAX('Background Calculations'!$S$81*0.8,E15),MAX('Background Calculations'!$S$76,'Background Calculations'!$S$81*0.75))","v":0},null,{"$f":"IF(G15>0.01,MAX('Background Calculations'!$S$82*0.8,G15),MAX('Background Calculations'!$S$77,'Background Calculations'!$S$82*0.75))","v":0},null,null,2014,{"$f":"IF(K15>0.01,MAX('Background Calculations'!$S$80*0.8,K15),MAX('Background Calculations'!$S$75,'Background Calculations'!$S$80*0.75))","v":0},null,{"$f":"IF(M15>0.01,MAX('Background Calculations'!$S$81*0.8,M15),MAX('Background Calculations'!$S$76,'Background Calculations'!$S$81*0.75))","v":0},null,{"$f":"IF(O15>0.01,MAX('Background Calculations'!$S$82*0.8,O15),MAX('Background Calculations'!$S$77,'Background Calculations'!$S$82*0.75))","v":0},null,null,2014,{"$f":"IF(S15>0.01,MAX('Background Calculations'!$S$80*0.8,S15),MAX('Background Calculations'!$S$75,'Background Calculations'!$S$80*0.75))","v":0},null,{"$f":"IF(U15>0.01,MAX('Background Calculations'!$S$81*0.8,U15),MAX('Background Calculations'!$S$76,'Background Calculations'!$S$81*0.75))","v":0},null,{"$f":"IF(W15>0.01,MAX('Background Calculations'!$S$82*0.8,W15),MAX('Background Calculations'!$S$77,'Background Calculations'!$S$82*0.75))","v":0},null,null,2014,{"$f":"IF(AA15>0.01,MAX('Background Calculations'!$S$80*0.8,AA15),MAX('Background Calculations'!$S$75,'Background Calculations'!$S$80*0.75))","v":0},null,{"$f":"IF(AC15>0.01,MAX('Background Calculations'!$S$81*0.8,AC15),MAX('Background Calculations'!$S$76,'Background Calculations'!$S$81*0.75))","v":0},null,{"$f":"IF(AE15>0.01,MAX('Background Calculations'!$S$82*0.8,AE15),MAX('Background Calculations'!$S$77,'Background Calculations'!$S$82*0.75))","v":0},null,null,2014,{"$f":"IF(AI15>0.01,MAX('Background Calculations'!$S$80*0.8,AI15),MAX('Background Calculations'!$S$75,'Background Calculations'!$S$80*0.75))","v":0},null,{"$f":"IF(AK15>0.01,MAX('Background Calculations'!$S$81*0.8,AK15),MAX('Background Calculations'!$S$76,'Background Calculations'!$S$81*0.75))","v":0},null,{"$f":"IF(AM15>0.01,MAX('Background Calculations'!$S$82*0.8,AM15),MAX('Background Calculations'!$S$77,'Background Calculations'!$S$82*0.75))","v":0},null,null,2014,{"$f":"IF(AQ15>0.01,MAX('Background Calculations'!$S$80*0.8,AQ15),MAX('Background Calculations'!$S$75,'Background Calculations'!$S$80*0.75))","v":0},null,{"$f":"IF(AS15>0.01,MAX('Background Calculations'!$S$81*0.8,AS15),MAX('Background Calculations'!$S$76,'Background Calculations'!$S$81*0.75))","v":0},null,{"$f":"IF(AU15>0.01,MAX('Background Calculations'!$S$82*0.8,AU15),MAX('Background Calculations'!$S$77,'Background Calculations'!$S$82*0.75))","v":0},null,null,2014,{"$f":"IF(AY15>0.01,MAX('Background Calculations'!$S$80*0.8,AY15),MAX('Background Calculations'!$S$75,'Background Calculations'!$S$80*0.75))","v":0},null,{"$f":"IF(BA15>0.01,MAX('Background Calculations'!$S$81*0.8,BA15),MAX('Background Calculations'!$S$76,'Background Calculations'!$S$81*0.75))","v":0},null,{"$f":"IF(BC15>0.01,MAX('Background Calculations'!$S$82*0.8,BC15),MAX('Background Calculations'!$S$77,'Background Calculations'!$S$82*0.75))","v":0},null,null,2014,{"$f":"IF(BG15>0.01,MAX('Background Calculations'!$S$80*0.8,BG15),MAX('Background Calculations'!$S$75,'Background Calculations'!$S$80*0.75))","v":0},null,{"$f":"IF(BI15>0.01,MAX('Background Calculations'!$S$81*0.8,BI15),MAX('Background Calculations'!$S$76,'Background Calculations'!$S$81*0.75))","v":0},null,{"$f":"IF(BK15>0.01,MAX('Background Calculations'!$S$82*0.8,BK15),MAX('Background Calculations'!$S$77,'Background Calculations'!$S$82*0.75))","v":0},null,null,2014,{"$f":"IF(BO15>0.01,MAX('Background Calculations'!$S$80*0.8,BO15),MAX('Background Calculations'!$S$75,'Background Calculations'!$S$80*0.75))","v":0},null,{"$f":"IF(BQ15>0.01,MAX('Background Calculations'!$S$81*0.8,BQ15),MAX('Background Calculations'!$S$76,'Background Calculations'!$S$81*0.75))","v":0},null,{"$f":"IF(BS15>0.01,MAX('Background Calculations'!$S$82*0.8,BS15),MAX('Background Calculations'!$S$77,'Background Calculations'!$S$82*0.75))","v":0},null,null,2014,{"$f":"IF(BW15>0.01,MAX('Background Calculations'!$S$80*0.8,BW15),MAX('Background Calculations'!$S$75,'Background Calculations'!$S$80*0.75))","v":0},null,{"$f":"IF(BY15>0.01,MAX('Background Calculations'!$S$81*0.8,BY15),MAX('Background Calculations'!$S$76,'Background Calculations'!$S$81*0.75))","v":0},null,{"$f":"IF(CA15>0.01,MAX('Background Calculations'!$S$82*0.8,CA15),MAX('Background Calculations'!$S$77,'Background Calculations'!$S$82*0.75))","v":0},null,null,2014,{"$f":"IF(CE15>0.01,MAX('Background Calculations'!$S$80*0.8,CE15),MAX('Background Calculations'!$S$75,'Background Calculations'!$S$80*0.75))","v":0},null,{"$f":"IF(CG15>0.01,MAX('Background Calculations'!$S$81*0.8,CG15),MAX('Background Calculations'!$S$76,'Background Calculations'!$S$81*0.75))","v":0},null,{"$f":"IF(CI15>0.01,MAX('Background Calculations'!$S$82*0.8,CI15),MAX('Background Calculations'!$S$77,'Background Calculations'!$S$82*0.75))","v":0},null,null,2014,{"$f":"IF(CM15>0.01,MAX('Background Calculations'!$S$80*0.8,CM15),MAX('Background Calculations'!$S$75,'Background Calculations'!$S$80*0.75))","v":0},null,{"$f":"IF(CO15>0.01,MAX('Background Calculations'!$S$81*0.8,CO15),MAX('Background Calculations'!$S$76,'Background Calculations'!$S$81*0.75))","v":0},null,{"$f":"IF(CQ15>0.01,MAX('Background Calculations'!$S$82*0.8,CQ15),MAX('Background Calculations'!$S$77,'Background Calculations'!$S$82*0.75))","v":0},null,null,2014,{"$f":"IF(CU15>0.01,MAX('Background Calculations'!$S$80*0.8,CU15),MAX('Background Calculations'!$S$75,'Background Calculations'!$S$80*0.75))","v":0},null,{"$f":"IF(CW15>0.01,MAX('Background Calculations'!$S$81*0.8,CW15),MAX('Background Calculations'!$S$76,'Background Calculations'!$S$81*0.75))","v":0},null,{"$f":"IF(CY15>0.01,MAX('Background Calculations'!$S$82*0.8,CY15),MAX('Background Calculations'!$S$77,'Background Calculations'!$S$82*0.75))","v":0},null,null,2014,{"$f":"IF(DC15>0.01,MAX('Background Calculations'!$S$80*0.8,DC15),MAX('Background Calculations'!$S$75,'Background Calculations'!$S$80*0.75))","v":0},null,{"$f":"IF(DE15>0.01,MAX('Background Calculations'!$S$81*0.8,DE15),MAX('Background Calculations'!$S$76,'Background Calculations'!$S$81*0.75))","v":0},null,{"$f":"IF(DG15>0.01,MAX('Background Calculations'!$S$82*0.8,DG15),MAX('Background Calculations'!$S$77,'Background Calculations'!$S$82*0.75))","v":0},null,null,2014,{"$f":"IF(DK15>0.01,MAX('Background Calculations'!$S$80*0.8,DK15),MAX('Background Calculations'!$S$75,'Background Calculations'!$S$80*0.75))","v":0},null,{"$f":"IF(DM15>0.01,MAX('Background Calculations'!$S$81*0.8,DM15),MAX('Background Calculations'!$S$76,'Background Calculations'!$S$81*0.75))","v":0},null,{"$f":"IF(DO15>0.01,MAX('Background Calculations'!$S$82*0.8,DO15),MAX('Background Calculations'!$S$77,'Background Calculations'!$S$82*0.75))","v":0},null,null,2014,{"$f":"IF(DS15>0.01,MAX('Background Calculations'!$S$80*0.8,DS15),MAX('Background Calculations'!$S$75,'Background Calculations'!$S$80*0.75))","v":0},null,{"$f":"IF(DU15>0.01,MAX('Background Calculations'!$S$81*0.8,DU15),MAX('Background Calculations'!$S$76,'Background Calculations'!$S$81*0.75))","v":0},null,{"$f":"IF(DW15>0.01,MAX('Background Calculations'!$S$82*0.8,DW15),MAX('Background Calculations'!$S$77,'Background Calculations'!$S$82*0.75))","v":0},null,null,2014,{"$f":"IF(EA15>0.01,MAX('Background Calculations'!$S$80*0.8,EA15),MAX('Background Calculations'!$S$75,'Background Calculations'!$S$80*0.75))","v":0},null,{"$f":"IF(EC15>0.01,MAX('Background Calculations'!$S$81*0.8,EC15),MAX('Background Calculations'!$S$76,'Background Calculations'!$S$81*0.75))","v":0},null,{"$f":"IF(EE15>0.01,MAX('Background Calculations'!$S$82*0.8,EE15),MAX('Background Calculations'!$S$77,'Background Calculations'!$S$82*0.75))","v":0},null,null,2014,{"$f":"IF(EI15>0.01,MAX('Background Calculations'!$S$80*0.8,EI15),MAX('Background Calculations'!$S$75,'Background Calculations'!$S$80*0.75))","v":0},null,{"$f":"IF(EK15>0.01,MAX('Background Calculations'!$S$81*0.8,EK15),MAX('Background Calculations'!$S$76,'Background Calculations'!$S$81*0.75))","v":0},null,{"$f":"IF(EM15>0.01,MAX('Background Calculations'!$S$82*0.8,EM15),MAX('Background Calculations'!$S$77,'Background Calculations'!$S$82*0.75))","v":0},null,null,2014,{"$f":"IF(EQ15>0.01,MAX('Background Calculations'!$S$80*0.8,EQ15),MAX('Background Calculations'!$S$75,'Background Calculations'!$S$80*0.75))","v":0},null,{"$f":"IF(ES15>0.01,MAX('Background Calculations'!$S$81*0.8,ES15),MAX('Background Calculations'!$S$76,'Background Calculations'!$S$81*0.75))","v":0},null,{"$f":"IF(EU15>0.01,MAX('Background Calculations'!$S$82*0.8,EU15),MAX('Background Calculations'!$S$77,'Background Calculations'!$S$82*0.75))","v":0},null,null,2014,{"$f":"IF(EY15>0.01,MAX('Background Calculations'!$S$80*0.8,EY15),MAX('Background Calculations'!$S$75,'Background Calculations'!$S$80*0.75))","v":0},null,{"$f":"IF(FA15>0.01,MAX('Background Calculations'!$S$81*0.8,FA15),MAX('Background Calculations'!$S$76,'Background Calculations'!$S$81*0.75))","v":0},null,{"$f":"IF(FC15>0.01,MAX('Background Calculations'!$S$82*0.8,FC15),MAX('Background Calculations'!$S$77,'Background Calculations'!$S$82*0.75))","v":0},null,null,2014,{"$f":"IF(FG15>0.01,MAX('Background Calculations'!$S$80*0.8,FG15),MAX('Background Calculations'!$S$75,'Background Calculations'!$S$80*0.75))","v":0},null,{"$f":"IF(FI15>0.01,MAX('Background Calculations'!$S$81*0.8,FI15),MAX('Background Calculations'!$S$76,'Background Calculations'!$S$81*0.75))","v":0},null,{"$f":"IF(FK15>0.01,MAX('Background Calculations'!$S$82*0.8,FK15),MAX('Background Calculations'!$S$77,'Background Calculations'!$S$82*0.75))","v":0},null,null,2014,{"$f":"IF(FO15>0.01,MAX('Background Calculations'!$S$80*0.8,FO15),MAX('Background Calculations'!$S$75,'Background Calculations'!$S$80*0.75))","v":0},null,{"$f":"IF(FQ15>0.01,MAX('Background Calculations'!$S$81*0.8,FQ15),MAX('Background Calculations'!$S$76,'Background Calculations'!$S$81*0.75))","v":0},null,{"$f":"IF(FS15>0.01,MAX('Background Calculations'!$S$82*0.8,FS15),MAX('Background Calculations'!$S$77,'Background Calculations'!$S$82*0.75))","v":0},null,null,2014,{"$f":"IF(FW15>0.01,MAX('Background Calculations'!$S$80*0.8,FW15),MAX('Background Calculations'!$S$75,'Background Calculations'!$S$80*0.75))","v":0},null,{"$f":"IF(FY15>0.01,MAX('Background Calculations'!$S$81*0.8,FY15),MAX('Background Calculations'!$S$76,'Background Calculations'!$S$81*0.75))","v":0},null,{"$f":"IF(GA15>0.01,MAX('Background Calculations'!$S$82*0.8,GA15),MAX('Background Calculations'!$S$77,'Background Calculations'!$S$82*0.75))","v":0},null,null,2014,{"$f":"IF(GE15>0.01,MAX('Background Calculations'!$S$80*0.8,GE15),MAX('Background Calculations'!$S$75,'Background Calculations'!$S$80*0.75))","v":0},null,{"$f":"IF(GG15>0.01,MAX('Background Calculations'!$S$81*0.8,GG15),MAX('Background Calculations'!$S$76,'Background Calculations'!$S$81*0.75))","v":0},null,{"$f":"IF(GI15>0.01,MAX('Background Calculations'!$S$82*0.8,GI15),MAX('Background Calculations'!$S$77,'Background Calculations'!$S$82*0.75))","v":0},null,null,2014,{"$f":"IF(GM15>0.01,MAX('Background Calculations'!$S$80*0.8,GM15),MAX('Background Calculations'!$S$75,'Background Calculations'!$S$80*0.75))","v":0},null,{"$f":"IF(GO15>0.01,MAX('Background Calculations'!$S$81*0.8,GO15),MAX('Background Calculations'!$S$76,'Background Calculations'!$S$81*0.75))","v":0},null,{"$f":"IF(GQ15>0.01,MAX('Background Calculations'!$S$82*0.8,GQ15),MAX('Background Calculations'!$S$77,'Background Calculations'!$S$82*0.75))","v":0},null,null,2014,{"$f":"IF(GU15>0.01,MAX('Background Calculations'!$S$80*0.8,GU15),MAX('Background Calculations'!$S$75,'Background Calculations'!$S$80*0.75))","v":0},null,{"$f":"IF(GW15>0.01,MAX('Background Calculations'!$S$81*0.8,GW15),MAX('Background Calculations'!$S$76,'Background Calculations'!$S$81*0.75))","v":0},null,{"$f":"IF(GY15>0.01,MAX('Background Calculations'!$S$82*0.8,GY15),MAX('Background Calculations'!$S$77,'Background Calculations'!$S$82*0.75))","v":0},null,null,2014,{"$f":"IF(HC15>0.01,MAX('Background Calculations'!$S$80*0.8,HC15),MAX('Background Calculations'!$S$75,'Background Calculations'!$S$80*0.75))","v":0},null,{"$f":"IF(HE15>0.01,MAX('Background Calculations'!$S$81*0.8,HE15),MAX('Background Calculations'!$S$76,'Background Calculations'!$S$81*0.75))","v":0},null,{"$f":"IF(HG15>0.01,MAX('Background Calculations'!$S$82*0.8,HG15),MAX('Background Calculations'!$S$77,'Background Calculations'!$S$82*0.75))","v":0},null,null,2014,{"$f":"IF(HK15>0.01,MAX('Background Calculations'!$S$80*0.8,HK15),MAX('Background Calculations'!$S$75,'Background Calculations'!$S$80*0.75))","v":0},null,{"$f":"IF(HM15>0.01,MAX('Background Calculations'!$S$81*0.8,HM15),MAX('Background Calculations'!$S$76,'Background Calculations'!$S$81*0.75))","v":0},null,{"$f":"IF(HO15>0.01,MAX('Background Calculations'!$S$82*0.8,HO15),MAX('Background Calculations'!$S$77,'Background Calculations'!$S$82*0.75))","v":0},null,null,2014,{"$f":"IF(HS15>0.01,MAX('Background Calculations'!$S$80*0.8,HS15),MAX('Background Calculations'!$S$75,'Background Calculations'!$S$80*0.75))","v":0},null,{"$f":"IF(HU15>0.01,MAX('Background Calculations'!$S$81*0.8,HU15),MAX('Background Calculations'!$S$76,'Background Calculations'!$S$81*0.75))","v":0},null,{"$f":"IF(HW15>0.01,MAX('Background Calculations'!$S$82*0.8,HW15),MAX('Background Calculations'!$S$77,'Background Calculations'!$S$82*0.75))","v":0},null,null,2014,{"$f":"IF(IA15>0.01,MAX('Background Calculations'!$S$80*0.8,IA15),MAX('Background Calculations'!$S$75,'Background Calculations'!$S$80*0.75))","v":0},null,{"$f":"IF(IC15>0.01,MAX('Background Calculations'!$S$81*0.8,IC15),MAX('Background Calculations'!$S$76,'Background Calculations'!$S$81*0.75))","v":0},null,{"$f":"IF(IE15>0.01,MAX('Background Calculations'!$S$82*0.8,IE15),MAX('Background Calculations'!$S$77,'Background Calculations'!$S$82*0.75))","v":0},null,null,2014,{"$f":"IF(II15>0.01,MAX('Background Calculations'!$S$80*0.8,II15),MAX('Background Calculations'!$S$75,'Background Calculations'!$S$80*0.75))","v":0},null,{"$f":"IF(IK15>0.01,MAX('Background Calculations'!$S$81*0.8,IK15),MAX('Background Calculations'!$S$76,'Background Calculations'!$S$81*0.75))","v":0},null,{"$f":"IF(IM15>0.01,MAX('Background Calculations'!$S$82*0.8,IM15),MAX('Background Calculations'!$S$77,'Background Calculations'!$S$82*0.75))","v":0},null,null,2014,{"$f":"IF(IQ15>0.01,MAX('Background Calculations'!$S$80*0.8,IQ15),MAX('Background Calculations'!$S$75,'Background Calculations'!$S$80*0.75))","v":0},null,{"$f":"IF(IS15>0.01,MAX('Background Calculations'!$S$81*0.8,IS15),MAX('Background Calculations'!$S$76,'Background Calculations'!$S$81*0.75))","v":0},null,{"$f":"IF(IU15>0.01,MAX('Background Calculations'!$S$82*0.8,IU15),MAX('Background Calculations'!$S$77,'Background Calculations'!$S$82*0.75))","v":0},null,null,2014,{"$f":"IF(IY15>0.01,MAX('Background Calculations'!$S$80*0.8,IY15),MAX('Background Calculations'!$S$75,'Background Calculations'!$S$80*0.75))","v":0},null,{"$f":"IF(JA15>0.01,MAX('Background Calculations'!$S$81*0.8,JA15),MAX('Background Calculations'!$S$76,'Background Calculations'!$S$81*0.75))","v":0},null,{"$f":"IF(JC15>0.01,MAX('Background Calculations'!$S$82*0.8,JC15),MAX('Background Calculations'!$S$77,'Background Calculations'!$S$82*0.75))","v":0},null,null,2014,{"$f":"IF(JG15>0.01,MAX('Background Calculations'!$S$80*0.8,JG15),MAX('Background Calculations'!$S$75,'Background Calculations'!$S$80*0.75))","v":0},null,{"$f":"IF(JI15>0.01,MAX('Background Calculations'!$S$81*0.8,JI15),MAX('Background Calculations'!$S$76,'Background Calculations'!$S$81*0.75))","v":0},null,{"$f":"IF(JK15>0.01,MAX('Background Calculations'!$S$82*0.8,JK15),MAX('Background Calculations'!$S$77,'Background Calculations'!$S$82*0.75))","v":0},null,null,2014,{"$f":"IF(JO15>0.01,MAX('Background Calculations'!$S$80*0.8,JO15),MAX('Background Calculations'!$S$75,'Background Calculations'!$S$80*0.75))","v":0},null,{"$f":"IF(JQ15>0.01,MAX('Background Calculations'!$S$81*0.8,JQ15),MAX('Background Calculations'!$S$76,'Background Calculations'!$S$81*0.75))","v":0},null,{"$f":"IF(JS15>0.01,MAX('Background Calculations'!$S$82*0.8,JS15),MAX('Background Calculations'!$S$77,'Background Calculations'!$S$82*0.75))","v":0},null,null,2014,{"$f":"IF(JW15>0.01,MAX('Background Calculations'!$S$80*0.8,JW15),MAX('Background Calculations'!$S$75,'Background Calculations'!$S$80*0.75))","v":0},null,{"$f":"IF(JY15>0.01,MAX('Background Calculations'!$S$81*0.8,JY15),MAX('Background Calculations'!$S$76,'Background Calculations'!$S$81*0.75))","v":0},null,{"$f":"IF(KA15>0.01,MAX('Background Calculations'!$S$82*0.8,KA15),MAX('Background Calculations'!$S$77,'Background Calculations'!$S$82*0.75))","v":0},null,null,2014,{"$f":"IF(KE15>0.01,MAX('Background Calculations'!$S$80*0.8,KE15),MAX('Background Calculations'!$S$75,'Background Calculations'!$S$80*0.75))","v":0},null,{"$f":"IF(KG15>0.01,MAX('Background Calculations'!$S$81*0.8,KG15),MAX('Background Calculations'!$S$76,'Background Calculations'!$S$81*0.75))","v":0},null,{"$f":"IF(KI15>0.01,MAX('Background Calculations'!$S$82*0.8,KI15),MAX('Background Calculations'!$S$77,'Background Calculations'!$S$82*0.75))","v":0},null,null,2014,{"$f":"IF(KM15>0.01,MAX('Background Calculations'!$S$80*0.8,KM15),MAX('Background Calculations'!$S$75,'Background Calculations'!$S$80*0.75))","v":0},null,{"$f":"IF(KO15>0.01,MAX('Background Calculations'!$S$81*0.8,KO15),MAX('Background Calculations'!$S$76,'Background Calculations'!$S$81*0.75))","v":0},null,{"$f":"IF(KQ15>0.01,MAX('Background Calculations'!$S$82*0.8,KQ15),MAX('Background Calculations'!$S$77,'Background Calculations'!$S$82*0.75))","v":0},null,null,2014,{"$f":"IF(KU15>0.01,MAX('Background Calculations'!$S$80*0.8,KU15),MAX('Background Calculations'!$S$75,'Background Calculations'!$S$80*0.75))","v":0},null,{"$f":"IF(KW15>0.01,MAX('Background Calculations'!$S$81*0.8,KW15),MAX('Background Calculations'!$S$76,'Background Calculations'!$S$81*0.75))","v":0},null,{"$f":"IF(KY15>0.01,MAX('Background Calculations'!$S$82*0.8,KY15),MAX('Background Calculations'!$S$77,'Background Calculations'!$S$82*0.75))","v":0},null,null,2014,{"$f":"IF(LC15>0.01,MAX('Background Calculations'!$S$80*0.8,LC15),MAX('Background Calculations'!$S$75,'Background Calculations'!$S$80*0.75))","v":0},null,{"$f":"IF(LE15>0.01,MAX('Background Calculations'!$S$81*0.8,LE15),MAX('Background Calculations'!$S$76,'Background Calculations'!$S$81*0.75))","v":0},null,{"$f":"IF(LG15>0.01,MAX('Background Calculations'!$S$82*0.8,LG15),MAX('Background Calculations'!$S$77,'Background Calculations'!$S$82*0.75))","v":0},null,null,2014,{"$f":"IF(LK15>0.01,MAX('Background Calculations'!$S$80*0.8,LK15),MAX('Background Calculations'!$S$75,'Background Calculations'!$S$80*0.75))","v":0},null,{"$f":"IF(LM15>0.01,MAX('Background Calculations'!$S$81*0.8,LM15),MAX('Background Calculations'!$S$76,'Background Calculations'!$S$81*0.75))","v":0},null,{"$f":"IF(LO15>0.01,MAX('Background Calculations'!$S$82*0.8,LO15),MAX('Background Calculations'!$S$77,'Background Calculations'!$S$82*0.75))","v":0},null,null,2014,{"$f":"IF(LS15>0.01,MAX('Background Calculations'!$S$80*0.8,LS15),MAX('Background Calculations'!$S$75,'Background Calculations'!$S$80*0.75))","v":0},null,{"$f":"IF(LU15>0.01,MAX('Background Calculations'!$S$81*0.8,LU15),MAX('Background Calculations'!$S$76,'Background Calculations'!$S$81*0.75))","v":0},null,{"$f":"IF(LW15>0.01,MAX('Background Calculations'!$S$82*0.8,LW15),MAX('Background Calculations'!$S$77,'Background Calculations'!$S$82*0.75))","v":0},null,null,2014,{"$f":"IF(MA15>0.01,MAX('Background Calculations'!$S$80*0.8,MA15),MAX('Background Calculations'!$S$75,'Background Calculations'!$S$80*0.75))","v":0},null,{"$f":"IF(MC15>0.01,MAX('Background Calculations'!$S$81*0.8,MC15),MAX('Background Calculations'!$S$76,'Background Calculations'!$S$81*0.75))","v":0},null,{"$f":"IF(ME15>0.01,MAX('Background Calculations'!$S$82*0.8,ME15),MAX('Background Calculations'!$S$77,'Background Calculations'!$S$82*0.75))","v":0},null,null,2014,{"$f":"IF(MI15>0.01,MAX('Background Calculations'!$S$80*0.8,MI15),MAX('Background Calculations'!$S$75,'Background Calculations'!$S$80*0.75))","v":0},null,{"$f":"IF(MK15>0.01,MAX('Background Calculations'!$S$81*0.8,MK15),MAX('Background Calculations'!$S$76,'Background Calculations'!$S$81*0.75))","v":0},null,{"$f":"IF(MM15>0.01,MAX('Background Calculations'!$S$82*0.8,MM15),MAX('Background Calculations'!$S$77,'Background Calculations'!$S$82*0.75))","v":0},null,null,2014,{"$f":"IF(MQ15>0.01,MAX('Background Calculations'!$S$80*0.8,MQ15),MAX('Background Calculations'!$S$75,'Background Calculations'!$S$80*0.75))","v":0},null,{"$f":"IF(MS15>0.01,MAX('Background Calculations'!$S$81*0.8,MS15),MAX('Background Calculations'!$S$76,'Background Calculations'!$S$81*0.75))","v":0},null,{"$f":"IF(MU15>0.01,MAX('Background Calculations'!$S$82*0.8,MU15),MAX('Background Calculations'!$S$77,'Background Calculations'!$S$82*0.75))","v":0},null,null,2014,{"$f":"IF(MY15>0.01,MAX('Background Calculations'!$S$80*0.8,MY15),MAX('Background Calculations'!$S$75,'Background Calculations'!$S$80*0.75))","v":0},null,{"$f":"IF(NA15>0.01,MAX('Background Calculations'!$S$81*0.8,NA15),MAX('Background Calculations'!$S$76,'Background Calculations'!$S$81*0.75))","v":0},null,{"$f":"IF(NC15>0.01,MAX('Background Calculations'!$S$82*0.8,NC15),MAX('Background Calculations'!$S$77,'Background Calculations'!$S$82*0.75))","v":0},null,null,2014,{"$f":"IF(NG15>0.01,MAX('Background Calculations'!$S$80*0.8,NG15),MAX('Background Calculations'!$S$75,'Background Calculations'!$S$80*0.75))","v":0},null,{"$f":"IF(NI15>0.01,MAX('Background Calculations'!$S$81*0.8,NI15),MAX('Background Calculations'!$S$76,'Background Calculations'!$S$81*0.75))","v":0},null,{"$f":"IF(NK15>0.01,MAX('Background Calculations'!$S$82*0.8,NK15),MAX('Background Calculations'!$S$77,'Background Calculations'!$S$82*0.75))","v":0},null,null,2014,{"$f":"IF(NO15>0.01,MAX('Background Calculations'!$S$80*0.8,NO15),MAX('Background Calculations'!$S$75,'Background Calculations'!$S$80*0.75))","v":0},null,{"$f":"IF(NQ15>0.01,MAX('Background Calculations'!$S$81*0.8,NQ15),MAX('Background Calculations'!$S$76,'Background Calculations'!$S$81*0.75))","v":0},null,{"$f":"IF(NS15>0.01,MAX('Background Calculations'!$S$82*0.8,NS15),MAX('Background Calculations'!$S$77,'Background Calculations'!$S$82*0.75))","v":0},null,null,2014,{"$f":"IF(NW15>0.01,MAX('Background Calculations'!$S$80*0.8,NW15),MAX('Background Calculations'!$S$75,'Background Calculations'!$S$80*0.75))","v":0},null,{"$f":"IF(NY15>0.01,MAX('Background Calculations'!$S$81*0.8,NY15),MAX('Background Calculations'!$S$76,'Background Calculations'!$S$81*0.75))","v":0},null,{"$f":"IF(OA15>0.01,MAX('Background Calculations'!$S$82*0.8,OA15),MAX('Background Calculations'!$S$77,'Background Calculations'!$S$82*0.75))","v":0},null,null,2014,{"$f":"IF(OE15>0.01,MAX('Background Calculations'!$S$80*0.8,OE15),MAX('Background Calculations'!$S$75,'Background Calculations'!$S$80*0.75))","v":0},null,{"$f":"IF(OG15>0.01,MAX('Background Calculations'!$S$81*0.8,OG15),MAX('Background Calculations'!$S$76,'Background Calculations'!$S$81*0.75))","v":0},null,{"$f":"IF(OI15>0.01,MAX('Background Calculations'!$S$82*0.8,OI15),MAX('Background Calculations'!$S$77,'Background Calculations'!$S$82*0.75))","v":0},null,null,2014,{"$f":"IF(OM15>0.01,MAX('Background Calculations'!$S$80*0.8,OM15),MAX('Background Calculations'!$S$75,'Background Calculations'!$S$80*0.75))","v":0},null,{"$f":"IF(OO15>0.01,MAX('Background Calculations'!$S$81*0.8,OO15),MAX('Background Calculations'!$S$76,'Background Calculations'!$S$81*0.75))","v":0},null,{"$f":"IF(OQ15>0.01,MAX('Background Calculations'!$S$82*0.8,OQ15),MAX('Background Calculations'!$S$77,'Background Calculations'!$S$82*0.75))","v":0}]
[null,2015,{"$f":"IF(C16>0.01,MAX('Background Calculations'!$T$80*0.8,C16),MAX('Background Calculations'!$T$75,'Background Calculations'!$T$80*0.75))","v":0},null,{"$f":"IF(E16>0.01,MAX('Background Calculations'!$T$81*0.8,E16),MAX('Background Calculations'!$T$76,'Background Calculations'!$T$81*0.75))","v":0},null,{"$f":"IF(G16>0.01,MAX('Background Calculations'!$T$82*0.8,G16),MAX('Background Calculations'!$T$77,'Background Calculations'!$T$82*0.75))","v":0},null,null,2015,{"$f":"IF(K16>0.01,MAX('Background Calculations'!$T$80*0.8,K16),MAX('Background Calculations'!$T$75,'Background Calculations'!$T$80*0.75))","v":0},null,{"$f":"IF(M16>0.01,MAX('Background Calculations'!$T$81*0.8,M16),MAX('Background Calculations'!$T$76,'Background Calculations'!$T$81*0.75))","v":0},null,{"$f":"IF(O16>0.01,MAX('Background Calculations'!$T$82*0.8,O16),MAX('Background Calculations'!$T$77,'Background Calculations'!$T$82*0.75))","v":0},null,null,2015,{"$f":"IF(S16>0.01,MAX('Background Calculations'!$T$80*0.8,S16),MAX('Background Calculations'!$T$75,'Background Calculations'!$T$80*0.75))","v":0},null,{"$f":"IF(U16>0.01,MAX('Background Calculations'!$T$81*0.8,U16),MAX('Background Calculations'!$T$76,'Background Calculations'!$T$81*0.75))","v":0},null,{"$f":"IF(W16>0.01,MAX('Background Calculations'!$T$82*0.8,W16),MAX('Background Calculations'!$T$77,'Background Calculations'!$T$82*0.75))","v":0},null,null,2015,{"$f":"IF(AA16>0.01,MAX('Background Calculations'!$T$80*0.8,AA16),MAX('Background Calculations'!$T$75,'Background Calculations'!$T$80*0.75))","v":0},null,{"$f":"IF(AC16>0.01,MAX('Background Calculations'!$T$81*0.8,AC16),MAX('Background Calculations'!$T$76,'Background Calculations'!$T$81*0.75))","v":0},null,{"$f":"IF(AE16>0.01,MAX('Background Calculations'!$T$82*0.8,AE16),MAX('Background Calculations'!$T$77,'Background Calculations'!$T$82*0.75))","v":0},null,null,2015,{"$f":"IF(AI16>0.01,MAX('Background Calculations'!$T$80*0.8,AI16),MAX('Background Calculations'!$T$75,'Background Calculations'!$T$80*0.75))","v":0},null,{"$f":"IF(AK16>0.01,MAX('Background Calculations'!$T$81*0.8,AK16),MAX('Background Calculations'!$T$76,'Background Calculations'!$T$81*0.75))","v":0},null,{"$f":"IF(AM16>0.01,MAX('Background Calculations'!$T$82*0.8,AM16),MAX('Background Calculations'!$T$77,'Background Calculations'!$T$82*0.75))","v":0},null,null,2015,{"$f":"IF(AQ16>0.01,MAX('Background Calculations'!$T$80*0.8,AQ16),MAX('Background Calculations'!$T$75,'Background Calculations'!$T$80*0.75))","v":0},null,{"$f":"IF(AS16>0.01,MAX('Background Calculations'!$T$81*0.8,AS16),MAX('Background Calculations'!$T$76,'Background Calculations'!$T$81*0.75))","v":0},null,{"$f":"IF(AU16>0.01,MAX('Background Calculations'!$T$82*0.8,AU16),MAX('Background Calculations'!$T$77,'Background Calculations'!$T$82*0.75))","v":0},null,null,2015,{"$f":"IF(AY16>0.01,MAX('Background Calculations'!$T$80*0.8,AY16),MAX('Background Calculations'!$T$75,'Background Calculations'!$T$80*0.75))","v":0},null,{"$f":"IF(BA16>0.01,MAX('Background Calculations'!$T$81*0.8,BA16),MAX('Background Calculations'!$T$76,'Background Calculations'!$T$81*0.75))","v":0},null,{"$f":"IF(BC16>0.01,MAX('Background Calculations'!$T$82*0.8,BC16),MAX('Background Calculations'!$T$77,'Background Calculations'!$T$82*0.75))","v":0},null,null,2015,{"$f":"IF(BG16>0.01,MAX('Background Calculations'!$T$80*0.8,BG16),MAX('Background Calculations'!$T$75,'Background Calculations'!$T$80*0.75))","v":0},null,{"$f":"IF(BI16>0.01,MAX('Background Calculations'!$T$81*0.8,BI16),MAX('Background Calculations'!$T$76,'Background Calculations'!$T$81*0.75))","v":0},null,{"$f":"IF(BK16>0.01,MAX('Background Calculations'!$T$82*0.8,BK16),MAX('Background Calculations'!$T$77,'Background Calculations'!$T$82*0.75))","v":0},null,null,2015,{"$f":"IF(BO16>0.01,MAX('Background Calculations'!$T$80*0.8,BO16),MAX('Background Calculations'!$T$75,'Background Calculations'!$T$80*0.75))","v":0},null,{"$f":"IF(BQ16>0.01,MAX('Background Calculations'!$T$81*0.8,BQ16),MAX('Background Calculations'!$T$76,'Background Calculations'!$T$81*0.75))","v":0},null,{"$f":"IF(BS16>0.01,MAX('Background Calculations'!$T$82*0.8,BS16),MAX('Background Calculations'!$T$77,'Background Calculations'!$T$82*0.75))","v":0},null,null,2015,{"$f":"IF(BW16>0.01,MAX('Background Calculations'!$T$80*0.8,BW16),MAX('Background Calculations'!$T$75,'Background Calculations'!$T$80*0.75))","v":0},null,{"$f":"IF(BY16>0.01,MAX('Background Calculations'!$T$81*0.8,BY16),MAX('Background Calculations'!$T$76,'Background Calculations'!$T$81*0.75))","v":0},null,{"$f":"IF(CA16>0.01,MAX('Background Calculations'!$T$82*0.8,CA16),MAX('Background Calculations'!$T$77,'Background Calculations'!$T$82*0.75))","v":0},null,null,2015,{"$f":"IF(CE16>0.01,MAX('Background Calculations'!$T$80*0.8,CE16),MAX('Background Calculations'!$T$75,'Background Calculations'!$T$80*0.75))","v":0},null,{"$f":"IF(CG16>0.01,MAX('Background Calculations'!$T$81*0.8,CG16),MAX('Background Calculations'!$T$76,'Background Calculations'!$T$81*0.75))","v":0},null,{"$f":"IF(CI16>0.01,MAX('Background Calculations'!$T$82*0.8,CI16),MAX('Background Calculations'!$T$77,'Background Calculations'!$T$82*0.75))","v":0},null,null,2015,{"$f":"IF(CM16>0.01,MAX('Background Calculations'!$T$80*0.8,CM16),MAX('Background Calculations'!$T$75,'Background Calculations'!$T$80*0.75))","v":0},null,{"$f":"IF(CO16>0.01,MAX('Background Calculations'!$T$81*0.8,CO16),MAX('Background Calculations'!$T$76,'Background Calculations'!$T$81*0.75))","v":0},null,{"$f":"IF(CQ16>0.01,MAX('Background Calculations'!$T$82*0.8,CQ16),MAX('Background Calculations'!$T$77,'Background Calculations'!$T$82*0.75))","v":0},null,null,2015,{"$f":"IF(CU16>0.01,MAX('Background Calculations'!$T$80*0.8,CU16),MAX('Background Calculations'!$T$75,'Background Calculations'!$T$80*0.75))","v":0},null,{"$f":"IF(CW16>0.01,MAX('Background Calculations'!$T$81*0.8,CW16),MAX('Background Calculations'!$T$76,'Background Calculations'!$T$81*0.75))","v":0},null,{"$f":"IF(CY16>0.01,MAX('Background Calculations'!$T$82*0.8,CY16),MAX('Background Calculations'!$T$77,'Background Calculations'!$T$82*0.75))","v":0},null,null,2015,{"$f":"IF(DC16>0.01,MAX('Background Calculations'!$T$80*0.8,DC16),MAX('Background Calculations'!$T$75,'Background Calculations'!$T$80*0.75))","v":0},null,{"$f":"IF(DE16>0.01,MAX('Background Calculations'!$T$81*0.8,DE16),MAX('Background Calculations'!$T$76,'Background Calculations'!$T$81*0.75))","v":0},null,{"$f":"IF(DG16>0.01,MAX('Background Calculations'!$T$82*0.8,DG16),MAX('Background Calculations'!$T$77,'Background Calculations'!$T$82*0.75))","v":0},null,null,2015,{"$f":"IF(DK16>0.01,MAX('Background Calculations'!$T$80*0.8,DK16),MAX('Background Calculations'!$T$75,'Background Calculations'!$T$80*0.75))","v":0},null,{"$f":"IF(DM16>0.01,MAX('Background Calculations'!$T$81*0.8,DM16),MAX('Background Calculations'!$T$76,'Background Calculations'!$T$81*0.75))","v":0},null,{"$f":"IF(DO16>0.01,MAX('Background Calculations'!$T$82*0.8,DO16),MAX('Background Calculations'!$T$77,'Background Calculations'!$T$82*0.75))","v":0},null,null,2015,{"$f":"IF(DS16>0.01,MAX('Background Calculations'!$T$80*0.8,DS16),MAX('Background Calculations'!$T$75,'Background Calculations'!$T$80*0.75))","v":0},null,{"$f":"IF(DU16>0.01,MAX('Background Calculations'!$T$81*0.8,DU16),MAX('Background Calculations'!$T$76,'Background Calculations'!$T$81*0.75))","v":0},null,{"$f":"IF(DW16>0.01,MAX('Background Calculations'!$T$82*0.8,DW16),MAX('Background Calculations'!$T$77,'Background Calculations'!$T$82*0.75))","v":0},null,null,2015,{"$f":"IF(EA16>0.01,MAX('Background Calculations'!$T$80*0.8,EA16),MAX('Background Calculations'!$T$75,'Background Calculations'!$T$80*0.75))","v":0},null,{"$f":"IF(EC16>0.01,MAX('Background Calculations'!$T$81*0.8,EC16),MAX('Background Calculations'!$T$76,'Background Calculations'!$T$81*0.75))","v":0},null,{"$f":"IF(EE16>0.01,MAX('Background Calculations'!$T$82*0.8,EE16),MAX('Background Calculations'!$T$77,'Background Calculations'!$T$82*0.75))","v":0},null,null,2015,{"$f":"IF(EI16>0.01,MAX('Background Calculations'!$T$80*0.8,EI16),MAX('Background Calculations'!$T$75,'Background Calculations'!$T$80*0.75))","v":0},null,{"$f":"IF(EK16>0.01,MAX('Background Calculations'!$T$81*0.8,EK16),MAX('Background Calculations'!$T$76,'Background Calculations'!$T$81*0.75))","v":0},null,{"$f":"IF(EM16>0.01,MAX('Background Calculations'!$T$82*0.8,EM16),MAX('Background Calculations'!$T$77,'Background Calculations'!$T$82*0.75))","v":0},null,null,2015,{"$f":"IF(EQ16>0.01,MAX('Background Calculations'!$T$80*0.8,EQ16),MAX('Background Calculations'!$T$75,'Background Calculations'!$T$80*0.75))","v":0},null,{"$f":"IF(ES16>0.01,MAX('Background Calculations'!$T$81*0.8,ES16),MAX('Background Calculations'!$T$76,'Background Calculations'!$T$81*0.75))","v":0},null,{"$f":"IF(EU16>0.01,MAX('Background Calculations'!$T$82*0.8,EU16),MAX('Background Calculations'!$T$77,'Background Calculations'!$T$82*0.75))","v":0},null,null,2015,{"$f":"IF(EY16>0.01,MAX('Background Calculations'!$T$80*0.8,EY16),MAX('Background Calculations'!$T$75,'Background Calculations'!$T$80*0.75))","v":0},null,{"$f":"IF(FA16>0.01,MAX('Background Calculations'!$T$81*0.8,FA16),MAX('Background Calculations'!$T$76,'Background Calculations'!$T$81*0.75))","v":0},null,{"$f":"IF(FC16>0.01,MAX('Background Calculations'!$T$82*0.8,FC16),MAX('Background Calculations'!$T$77,'Background Calculations'!$T$82*0.75))","v":0},null,null,2015,{"$f":"IF(FG16>0.01,MAX('Background Calculations'!$T$80*0.8,FG16),MAX('Background Calculations'!$T$75,'Background Calculations'!$T$80*0.75))","v":0},null,{"$f":"IF(FI16>0.01,MAX('Background Calculations'!$T$81*0.8,FI16),MAX('Background Calculations'!$T$76,'Background Calculations'!$T$81*0.75))","v":0},null,{"$f":"IF(FK16>0.01,MAX('Background Calculations'!$T$82*0.8,FK16),MAX('Background Calculations'!$T$77,'Background Calculations'!$T$82*0.75))","v":0},null,null,2015,{"$f":"IF(FO16>0.01,MAX('Background Calculations'!$T$80*0.8,FO16),MAX('Background Calculations'!$T$75,'Background Calculations'!$T$80*0.75))","v":0},null,{"$f":"IF(FQ16>0.01,MAX('Background Calculations'!$T$81*0.8,FQ16),MAX('Background Calculations'!$T$76,'Background Calculations'!$T$81*0.75))","v":0},null,{"$f":"IF(FS16>0.01,MAX('Background Calculations'!$T$82*0.8,FS16),MAX('Background Calculations'!$T$77,'Background Calculations'!$T$82*0.75))","v":0},null,null,2015,{"$f":"IF(FW16>0.01,MAX('Background Calculations'!$T$80*0.8,FW16),MAX('Background Calculations'!$T$75,'Background Calculations'!$T$80*0.75))","v":0},null,{"$f":"IF(FY16>0.01,MAX('Background Calculations'!$T$81*0.8,FY16),MAX('Background Calculations'!$T$76,'Background Calculations'!$T$81*0.75))","v":0},null,{"$f":"IF(GA16>0.01,MAX('Background Calculations'!$T$82*0.8,GA16),MAX('Background Calculations'!$T$77,'Background Calculations'!$T$82*0.75))","v":0},null,null,2015,{"$f":"IF(GE16>0.01,MAX('Background Calculations'!$T$80*0.8,GE16),MAX('Background Calculations'!$T$75,'Background Calculations'!$T$80*0.75))","v":0},null,{"$f":"IF(GG16>0.01,MAX('Background Calculations'!$T$81*0.8,GG16),MAX('Background Calculations'!$T$76,'Background Calculations'!$T$81*0.75))","v":0},null,{"$f":"IF(GI16>0.01,MAX('Background Calculations'!$T$82*0.8,GI16),MAX('Background Calculations'!$T$77,'Background Calculations'!$T$82*0.75))","v":0},null,null,2015,{"$f":"IF(GM16>0.01,MAX('Background Calculations'!$T$80*0.8,GM16),MAX('Background Calculations'!$T$75,'Background Calculations'!$T$80*0.75))","v":0},null,{"$f":"IF(GO16>0.01,MAX('Background Calculations'!$T$81*0.8,GO16),MAX('Background Calculations'!$T$76,'Background Calculations'!$T$81*0.75))","v":0},null,{"$f":"IF(GQ16>0.01,MAX('Background Calculations'!$T$82*0.8,GQ16),MAX('Background Calculations'!$T$77,'Background Calculations'!$T$82*0.75))","v":0},null,null,2015,{"$f":"IF(GU16>0.01,MAX('Background Calculations'!$T$80*0.8,GU16),MAX('Background Calculations'!$T$75,'Background Calculations'!$T$80*0.75))","v":0},null,{"$f":"IF(GW16>0.01,MAX('Background Calculations'!$T$81*0.8,GW16),MAX('Background Calculations'!$T$76,'Background Calculations'!$T$81*0.75))","v":0},null,{"$f":"IF(GY16>0.01,MAX('Background Calculations'!$T$82*0.8,GY16),MAX('Background Calculations'!$T$77,'Background Calculations'!$T$82*0.75))","v":0},null,null,2015,{"$f":"IF(HC16>0.01,MAX('Background Calculations'!$T$80*0.8,HC16),MAX('Background Calculations'!$T$75,'Background Calculations'!$T$80*0.75))","v":0},null,{"$f":"IF(HE16>0.01,MAX('Background Calculations'!$T$81*0.8,HE16),MAX('Background Calculations'!$T$76,'Background Calculations'!$T$81*0.75))","v":0},null,{"$f":"IF(HG16>0.01,MAX('Background Calculations'!$T$82*0.8,HG16),MAX('Background Calculations'!$T$77,'Background Calculations'!$T$82*0.75))","v":0},null,null,2015,{"$f":"IF(HK16>0.01,MAX('Background Calculations'!$T$80*0.8,HK16),MAX('Background Calculations'!$T$75,'Background Calculations'!$T$80*0.75))","v":0},null,{"$f":"IF(HM16>0.01,MAX('Background Calculations'!$T$81*0.8,HM16),MAX('Background Calculations'!$T$76,'Background Calculations'!$T$81*0.75))","v":0},null,{"$f":"IF(HO16>0.01,MAX('Background Calculations'!$T$82*0.8,HO16),MAX('Background Calculations'!$T$77,'Background Calculations'!$T$82*0.75))","v":0},null,null,2015,{"$f":"IF(HS16>0.01,MAX('Background Calculations'!$T$80*0.8,HS16),MAX('Background Calculations'!$T$75,'Background Calculations'!$T$80*0.75))","v":0},null,{"$f":"IF(HU16>0.01,MAX('Background Calculations'!$T$81*0.8,HU16),MAX('Background Calculations'!$T$76,'Background Calculations'!$T$81*0.75))","v":0},null,{"$f":"IF(HW16>0.01,MAX('Background Calculations'!$T$82*0.8,HW16),MAX('Background Calculations'!$T$77,'Background Calculations'!$T$82*0.75))","v":0},null,null,2015,{"$f":"IF(IA16>0.01,MAX('Background Calculations'!$T$80*0.8,IA16),MAX('Background Calculations'!$T$75,'Background Calculations'!$T$80*0.75))","v":0},null,{"$f":"IF(IC16>0.01,MAX('Background Calculations'!$T$81*0.8,IC16),MAX('Background Calculations'!$T$76,'Background Calculations'!$T$81*0.75))","v":0},null,{"$f":"IF(IE16>0.01,MAX('Background Calculations'!$T$82*0.8,IE16),MAX('Background Calculations'!$T$77,'Background Calculations'!$T$82*0.75))","v":0},null,null,2015,{"$f":"IF(II16>0.01,MAX('Background Calculations'!$T$80*0.8,II16),MAX('Background Calculations'!$T$75,'Background Calculations'!$T$80*0.75))","v":0},null,{"$f":"IF(IK16>0.01,MAX('Background Calculations'!$T$81*0.8,IK16),MAX('Background Calculations'!$T$76,'Background Calculations'!$T$81*0.75))","v":0},null,{"$f":"IF(IM16>0.01,MAX('Background Calculations'!$T$82*0.8,IM16),MAX('Background Calculations'!$T$77,'Background Calculations'!$T$82*0.75))","v":0},null,null,2015,{"$f":"IF(IQ16>0.01,MAX('Background Calculations'!$T$80*0.8,IQ16),MAX('Background Calculations'!$T$75,'Background Calculations'!$T$80*0.75))","v":0},null,{"$f":"IF(IS16>0.01,MAX('Background Calculations'!$T$81*0.8,IS16),MAX('Background Calculations'!$T$76,'Background Calculations'!$T$81*0.75))","v":0},null,{"$f":"IF(IU16>0.01,MAX('Background Calculations'!$T$82*0.8,IU16),MAX('Background Calculations'!$T$77,'Background Calculations'!$T$82*0.75))","v":0},null,null,2015,{"$f":"IF(IY16>0.01,MAX('Background Calculations'!$T$80*0.8,IY16),MAX('Background Calculations'!$T$75,'Background Calculations'!$T$80*0.75))","v":0},null,{"$f":"IF(JA16>0.01,MAX('Background Calculations'!$T$81*0.8,JA16),MAX('Background Calculations'!$T$76,'Background Calculations'!$T$81*0.75))","v":0},null,{"$f":"IF(JC16>0.01,MAX('Background Calculations'!$T$82*0.8,JC16),MAX('Background Calculations'!$T$77,'Background Calculations'!$T$82*0.75))","v":0},null,null,2015,{"$f":"IF(JG16>0.01,MAX('Background Calculations'!$T$80*0.8,JG16),MAX('Background Calculations'!$T$75,'Background Calculations'!$T$80*0.75))","v":0},null,{"$f":"IF(JI16>0.01,MAX('Background Calculations'!$T$81*0.8,JI16),MAX('Background Calculations'!$T$76,'Background Calculations'!$T$81*0.75))","v":0},null,{"$f":"IF(JK16>0.01,MAX('Background Calculations'!$T$82*0.8,JK16),MAX('Background Calculations'!$T$77,'Background Calculations'!$T$82*0.75))","v":0},null,null,2015,{"$f":"IF(JO16>0.01,MAX('Background Calculations'!$T$80*0.8,JO16),MAX('Background Calculations'!$T$75,'Background Calculations'!$T$80*0.75))","v":0},null,{"$f":"IF(JQ16>0.01,MAX('Background Calculations'!$T$81*0.8,JQ16),MAX('Background Calculations'!$T$76,'Background Calculations'!$T$81*0.75))","v":0},null,{"$f":"IF(JS16>0.01,MAX('Background Calculations'!$T$82*0.8,JS16),MAX('Background Calculations'!$T$77,'Background Calculations'!$T$82*0.75))","v":0},null,null,2015,{"$f":"IF(JW16>0.01,MAX('Background Calculations'!$T$80*0.8,JW16),MAX('Background Calculations'!$T$75,'Background Calculations'!$T$80*0.75))","v":0},null,{"$f":"IF(JY16>0.01,MAX('Background Calculations'!$T$81*0.8,JY16),MAX('Background Calculations'!$T$76,'Background Calculations'!$T$81*0.75))","v":0},null,{"$f":"IF(KA16>0.01,MAX('Background Calculations'!$T$82*0.8,KA16),MAX('Background Calculations'!$T$77,'Background Calculations'!$T$82*0.75))","v":0},null,null,2015,{"$f":"IF(KE16>0.01,MAX('Background Calculations'!$T$80*0.8,KE16),MAX('Background Calculations'!$T$75,'Background Calculations'!$T$80*0.75))","v":0},null,{"$f":"IF(KG16>0.01,MAX('Background Calculations'!$T$81*0.8,KG16),MAX('Background Calculations'!$T$76,'Background Calculations'!$T$81*0.75))","v":0},null,{"$f":"IF(KI16>0.01,MAX('Background Calculations'!$T$82*0.8,KI16),MAX('Background Calculations'!$T$77,'Background Calculations'!$T$82*0.75))","v":0},null,null,2015,{"$f":"IF(KM16>0.01,MAX('Background Calculations'!$T$80*0.8,KM16),MAX('Background Calculations'!$T$75,'Background Calculations'!$T$80*0.75))","v":0},null,{"$f":"IF(KO16>0.01,MAX('Background Calculations'!$T$81*0.8,KO16),MAX('Background Calculations'!$T$76,'Background Calculations'!$T$81*0.75))","v":0},null,{"$f":"IF(KQ16>0.01,MAX('Background Calculations'!$T$82*0.8,KQ16),MAX('Background Calculations'!$T$77,'Background Calculations'!$T$82*0.75))","v":0},null,null,2015,{"$f":"IF(KU16>0.01,MAX('Background Calculations'!$T$80*0.8,KU16),MAX('Background Calculations'!$T$75,'Background Calculations'!$T$80*0.75))","v":0},null,{"$f":"IF(KW16>0.01,MAX('Background Calculations'!$T$81*0.8,KW16),MAX('Background Calculations'!$T$76,'Background Calculations'!$T$81*0.75))","v":0},null,{"$f":"IF(KY16>0.01,MAX('Background Calculations'!$T$82*0.8,KY16),MAX('Background Calculations'!$T$77,'Background Calculations'!$T$82*0.75))","v":0},null,null,2015,{"$f":"IF(LC16>0.01,MAX('Background Calculations'!$T$80*0.8,LC16),MAX('Background Calculations'!$T$75,'Background Calculations'!$T$80*0.75))","v":0},null,{"$f":"IF(LE16>0.01,MAX('Background Calculations'!$T$81*0.8,LE16),MAX('Background Calculations'!$T$76,'Background Calculations'!$T$81*0.75))","v":0},null,{"$f":"IF(LG16>0.01,MAX('Background Calculations'!$T$82*0.8,LG16),MAX('Background Calculations'!$T$77,'Background Calculations'!$T$82*0.75))","v":0},null,null,2015,{"$f":"IF(LK16>0.01,MAX('Background Calculations'!$T$80*0.8,LK16),MAX('Background Calculations'!$T$75,'Background Calculations'!$T$80*0.75))","v":0},null,{"$f":"IF(LM16>0.01,MAX('Background Calculations'!$T$81*0.8,LM16),MAX('Background Calculations'!$T$76,'Background Calculations'!$T$81*0.75))","v":0},null,{"$f":"IF(LO16>0.01,MAX('Background Calculations'!$T$82*0.8,LO16),MAX('Background Calculations'!$T$77,'Background Calculations'!$T$82*0.75))","v":0},null,null,2015,{"$f":"IF(LS16>0.01,MAX('Background Calculations'!$T$80*0.8,LS16),MAX('Background Calculations'!$T$75,'Background Calculations'!$T$80*0.75))","v":0},null,{"$f":"IF(LU16>0.01,MAX('Background Calculations'!$T$81*0.8,LU16),MAX('Background Calculations'!$T$76,'Background Calculations'!$T$81*0.75))","v":0},null,{"$f":"IF(LW16>0.01,MAX('Background Calculations'!$T$82*0.8,LW16),MAX('Background Calculations'!$T$77,'Background Calculations'!$T$82*0.75))","v":0},null,null,2015,{"$f":"IF(MA16>0.01,MAX('Background Calculations'!$T$80*0.8,MA16),MAX('Background Calculations'!$T$75,'Background Calculations'!$T$80*0.75))","v":0},null,{"$f":"IF(MC16>0.01,MAX('Background Calculations'!$T$81*0.8,MC16),MAX('Background Calculations'!$T$76,'Background Calculations'!$T$81*0.75))","v":0},null,{"$f":"IF(ME16>0.01,MAX('Background Calculations'!$T$82*0.8,ME16),MAX('Background Calculations'!$T$77,'Background Calculations'!$T$82*0.75))","v":0},null,null,2015,{"$f":"IF(MI16>0.01,MAX('Background Calculations'!$T$80*0.8,MI16),MAX('Background Calculations'!$T$75,'Background Calculations'!$T$80*0.75))","v":0},null,{"$f":"IF(MK16>0.01,MAX('Background Calculations'!$T$81*0.8,MK16),MAX('Background Calculations'!$T$76,'Background Calculations'!$T$81*0.75))","v":0},null,{"$f":"IF(MM16>0.01,MAX('Background Calculations'!$T$82*0.8,MM16),MAX('Background Calculations'!$T$77,'Background Calculations'!$T$82*0.75))","v":0},null,null,2015,{"$f":"IF(MQ16>0.01,MAX('Background Calculations'!$T$80*0.8,MQ16),MAX('Background Calculations'!$T$75,'Background Calculations'!$T$80*0.75))","v":0},null,{"$f":"IF(MS16>0.01,MAX('Background Calculations'!$T$81*0.8,MS16),MAX('Background Calculations'!$T$76,'Background Calculations'!$T$81*0.75))","v":0},null,{"$f":"IF(MU16>0.01,MAX('Background Calculations'!$T$82*0.8,MU16),MAX('Background Calculations'!$T$77,'Background Calculations'!$T$82*0.75))","v":0},null,null,2015,{"$f":"IF(MY16>0.01,MAX('Background Calculations'!$T$80*0.8,MY16),MAX('Background Calculations'!$T$75,'Background Calculations'!$T$80*0.75))","v":0},null,{"$f":"IF(NA16>0.01,MAX('Background Calculations'!$T$81*0.8,NA16),MAX('Background Calculations'!$T$76,'Background Calculations'!$T$81*0.75))","v":0},null,{"$f":"IF(NC16>0.01,MAX('Background Calculations'!$T$82*0.8,NC16),MAX('Background Calculations'!$T$77,'Background Calculations'!$T$82*0.75))","v":0},null,null,2015,{"$f":"IF(NG16>0.01,MAX('Background Calculations'!$T$80*0.8,NG16),MAX('Background Calculations'!$T$75,'Background Calculations'!$T$80*0.75))","v":0},null,{"$f":"IF(NI16>0.01,MAX('Background Calculations'!$T$81*0.8,NI16),MAX('Background Calculations'!$T$76,'Background Calculations'!$T$81*0.75))","v":0},null,{"$f":"IF(NK16>0.01,MAX('Background Calculations'!$T$82*0.8,NK16),MAX('Background Calculations'!$T$77,'Background Calculations'!$T$82*0.75))","v":0},null,null,2015,{"$f":"IF(NO16>0.01,MAX('Background Calculations'!$T$80*0.8,NO16),MAX('Background Calculations'!$T$75,'Background Calculations'!$T$80*0.75))","v":0},null,{"$f":"IF(NQ16>0.01,MAX('Background Calculations'!$T$81*0.8,NQ16),MAX('Background Calculations'!$T$76,'Background Calculations'!$T$81*0.75))","v":0},null,{"$f":"IF(NS16>0.01,MAX('Background Calculations'!$T$82*0.8,NS16),MAX('Background Calculations'!$T$77,'Background Calculations'!$T$82*0.75))","v":0},null,null,2015,{"$f":"IF(NW16>0.01,MAX('Background Calculations'!$T$80*0.8,NW16),MAX('Background Calculations'!$T$75,'Background Calculations'!$T$80*0.75))","v":0},null,{"$f":"IF(NY16>0.01,MAX('Background Calculations'!$T$81*0.8,NY16),MAX('Background Calculations'!$T$76,'Background Calculations'!$T$81*0.75))","v":0},null,{"$f":"IF(OA16>0.01,MAX('Background Calculations'!$T$82*0.8,OA16),MAX('Background Calculations'!$T$77,'Background Calculations'!$T$82*0.75))","v":0},null,null,2015,{"$f":"IF(OE16>0.01,MAX('Background Calculations'!$T$80*0.8,OE16),MAX('Background Calculations'!$T$75,'Background Calculations'!$T$80*0.75))","v":0},null,{"$f":"IF(OG16>0.01,MAX('Background Calculations'!$T$81*0.8,OG16),MAX('Background Calculations'!$T$76,'Background Calculations'!$T$81*0.75))","v":0},null,{"$f":"IF(OI16>0.01,MAX('Background Calculations'!$T$82*0.8,OI16),MAX('Background Calculations'!$T$77,'Background Calculations'!$T$82*0.75))","v":0},null,null,2015,{"$f":"IF(OM16>0.01,MAX('Background Calculations'!$T$80*0.8,OM16),MAX('Background Calculations'!$T$75,'Background Calculations'!$T$80*0.75))","v":0},null,{"$f":"IF(OO16>0.01,MAX('Background Calculations'!$T$81*0.8,OO16),MAX('Background Calculations'!$T$76,'Background Calculations'!$T$81*0.75))","v":0},null,{"$f":"IF(OQ16>0.01,MAX('Background Calculations'!$T$82*0.8,OQ16),MAX('Background Calculations'!$T$77,'Background Calculations'!$T$82*0.75))","v":0}]
[null,2016,{"$f":"IF(C17>0.01,MAX('Background Calculations'!$U$80*0.8,C17),MAX('Background Calculations'!$U$75,'Background Calculations'!$U$80*0.75))","v":0},null,{"$f":"IF(E17>0.01,MAX('Background Calculations'!$U$81*0.8,E17),MAX('Background Calculations'!$U$76,'Background Calculations'!$U$81*0.75))","v":0},null,{"$f":"IF(G17>0.01,MAX('Background Calculations'!$U$82*0.8,G17),MAX('Background Calculations'!$U$77,'Background Calculations'!$U$82*0.75))","v":0},null,null,2016,{"$f":"IF(K17>0.01,MAX('Background Calculations'!$U$80*0.8,K17),MAX('Background Calculations'!$U$75,'Background Calculations'!$U$80*0.75))","v":0},null,{"$f":"IF(M17>0.01,MAX('Background Calculations'!$U$81*0.8,M17),MAX('Background Calculations'!$U$76,'Background Calculations'!$U$81*0.75))","v":0},null,{"$f":"IF(O17>0.01,MAX('Background Calculations'!$U$82*0.8,O17),MAX('Background Calculations'!$U$77,'Background Calculations'!$U$82*0.75))","v":0},null,null,2016,{"$f":"IF(S17>0.01,MAX('Background Calculations'!$U$80*0.8,S17),MAX('Background Calculations'!$U$75,'Background Calculations'!$U$80*0.75))","v":0},null,{"$f":"IF(U17>0.01,MAX('Background Calculations'!$U$81*0.8,U17),MAX('Background Calculations'!$U$76,'Background Calculations'!$U$81*0.75))","v":0},null,{"$f":"IF(W17>0.01,MAX('Background Calculations'!$U$82*0.8,W17),MAX('Background Calculations'!$U$77,'Background Calculations'!$U$82*0.75))","v":0},null,null,2016,{"$f":"IF(AA17>0.01,MAX('Background Calculations'!$U$80*0.8,AA17),MAX('Background Calculations'!$U$75,'Background Calculations'!$U$80*0.75))","v":0},null,{"$f":"IF(AC17>0.01,MAX('Background Calculations'!$U$81*0.8,AC17),MAX('Background Calculations'!$U$76,'Background Calculations'!$U$81*0.75))","v":0},null,{"$f":"IF(AE17>0.01,MAX('Background Calculations'!$U$82*0.8,AE17),MAX('Background Calculations'!$U$77,'Background Calculations'!$U$82*0.75))","v":0},null,null,2016,{"$f":"IF(AI17>0.01,MAX('Background Calculations'!$U$80*0.8,AI17),MAX('Background Calculations'!$U$75,'Background Calculations'!$U$80*0.75))","v":0},null,{"$f":"IF(AK17>0.01,MAX('Background Calculations'!$U$81*0.8,AK17),MAX('Background Calculations'!$U$76,'Background Calculations'!$U$81*0.75))","v":0},null,{"$f":"IF(AM17>0.01,MAX('Background Calculations'!$U$82*0.8,AM17),MAX('Background Calculations'!$U$77,'Background Calculations'!$U$82*0.75))","v":0},null,null,2016,{"$f":"IF(AQ17>0.01,MAX('Background Calculations'!$U$80*0.8,AQ17),MAX('Background Calculations'!$U$75,'Background Calculations'!$U$80*0.75))","v":0},null,{"$f":"IF(AS17>0.01,MAX('Background Calculations'!$U$81*0.8,AS17),MAX('Background Calculations'!$U$76,'Background Calculations'!$U$81*0.75))","v":0},null,{"$f":"IF(AU17>0.01,MAX('Background Calculations'!$U$82*0.8,AU17),MAX('Background Calculations'!$U$77,'Background Calculations'!$U$82*0.75))","v":0},null,null,2016,{"$f":"IF(AY17>0.01,MAX('Background Calculations'!$U$80*0.8,AY17),MAX('Background Calculations'!$U$75,'Background Calculations'!$U$80*0.75))","v":0},null,{"$f":"IF(BA17>0.01,MAX('Background Calculations'!$U$81*0.8,BA17),MAX('Background Calculations'!$U$76,'Background Calculations'!$U$81*0.75))","v":0},null,{"$f":"IF(BC17>0.01,MAX('Background Calculations'!$U$82*0.8,BC17),MAX('Background Calculations'!$U$77,'Background Calculations'!$U$82*0.75))","v":0},null,null,2016,{"$f":"IF(BG17>0.01,MAX('Background Calculations'!$U$80*0.8,BG17),MAX('Background Calculations'!$U$75,'Background Calculations'!$U$80*0.75))","v":0},null,{"$f":"IF(BI17>0.01,MAX('Background Calculations'!$U$81*0.8,BI17),MAX('Background Calculations'!$U$76,'Background Calculations'!$U$81*0.75))","v":0},null,{"$f":"IF(BK17>0.01,MAX('Background Calculations'!$U$82*0.8,BK17),MAX('Background Calculations'!$U$77,'Background Calculations'!$U$82*0.75))","v":0},null,null,2016,{"$f":"IF(BO17>0.01,MAX('Background Calculations'!$U$80*0.8,BO17),MAX('Background Calculations'!$U$75,'Background Calculations'!$U$80*0.75))","v":0},null,{"$f":"IF(BQ17>0.01,MAX('Background Calculations'!$U$81*0.8,BQ17),MAX('Background Calculations'!$U$76,'Background Calculations'!$U$81*0.75))","v":0},null,{"$f":"IF(BS17>0.01,MAX('Background Calculations'!$U$82*0.8,BS17),MAX('Background Calculations'!$U$77,'Background Calculations'!$U$82*0.75))","v":0},null,null,2016,{"$f":"IF(BW17>0.01,MAX('Background Calculations'!$U$80*0.8,BW17),MAX('Background Calculations'!$U$75,'Background Calculations'!$U$80*0.75))","v":0},null,{"$f":"IF(BY17>0.01,MAX('Background Calculations'!$U$81*0.8,BY17),MAX('Background Calculations'!$U$76,'Background Calculations'!$U$81*0.75))","v":0},null,{"$f":"IF(CA17>0.01,MAX('Background Calculations'!$U$82*0.8,CA17),MAX('Background Calculations'!$U$77,'Background Calculations'!$U$82*0.75))","v":0},null,null,2016,{"$f":"IF(CE17>0.01,MAX('Background Calculations'!$U$80*0.8,CE17),MAX('Background Calculations'!$U$75,'Background Calculations'!$U$80*0.75))","v":0},null,{"$f":"IF(CG17>0.01,MAX('Background Calculations'!$U$81*0.8,CG17),MAX('Background Calculations'!$U$76,'Background Calculations'!$U$81*0.75))","v":0},null,{"$f":"IF(CI17>0.01,MAX('Background Calculations'!$U$82*0.8,CI17),MAX('Background Calculations'!$U$77,'Background Calculations'!$U$82*0.75))","v":0},null,null,2016,{"$f":"IF(CM17>0.01,MAX('Background Calculations'!$U$80*0.8,CM17),MAX('Background Calculations'!$U$75,'Background Calculations'!$U$80*0.75))","v":0},null,{"$f":"IF(CO17>0.01,MAX('Background Calculations'!$U$81*0.8,CO17),MAX('Background Calculations'!$U$76,'Background Calculations'!$U$81*0.75))","v":0},null,{"$f":"IF(CQ17>0.01,MAX('Background Calculations'!$U$82*0.8,CQ17),MAX('Background Calculations'!$U$77,'Background Calculations'!$U$82*0.75))","v":0},null,null,2016,{"$f":"IF(CU17>0.01,MAX('Background Calculations'!$U$80*0.8,CU17),MAX('Background Calculations'!$U$75,'Background Calculations'!$U$80*0.75))","v":0},null,{"$f":"IF(CW17>0.01,MAX('Background Calculations'!$U$81*0.8,CW17),MAX('Background Calculations'!$U$76,'Background Calculations'!$U$81*0.75))","v":0},null,{"$f":"IF(CY17>0.01,MAX('Background Calculations'!$U$82*0.8,CY17),MAX('Background Calculations'!$U$77,'Background Calculations'!$U$82*0.75))","v":0},null,null,2016,{"$f":"IF(DC17>0.01,MAX('Background Calculations'!$U$80*0.8,DC17),MAX('Background Calculations'!$U$75,'Background Calculations'!$U$80*0.75))","v":0},null,{"$f":"IF(DE17>0.01,MAX('Background Calculations'!$U$81*0.8,DE17),MAX('Background Calculations'!$U$76,'Background Calculations'!$U$81*0.75))","v":0},null,{"$f":"IF(DG17>0.01,MAX('Background Calculations'!$U$82*0.8,DG17),MAX('Background Calculations'!$U$77,'Background Calculations'!$U$82*0.75))","v":0},null,null,2016,{"$f":"IF(DK17>0.01,MAX('Background Calculations'!$U$80*0.8,DK17),MAX('Background Calculations'!$U$75,'Background Calculations'!$U$80*0.75))","v":0},null,{"$f":"IF(DM17>0.01,MAX('Background Calculations'!$U$81*0.8,DM17),MAX('Background Calculations'!$U$76,'Background Calculations'!$U$81*0.75))","v":0},null,{"$f":"IF(DO17>0.01,MAX('Background Calculations'!$U$82*0.8,DO17),MAX('Background Calculations'!$U$77,'Background Calculations'!$U$82*0.75))","v":0},null,null,2016,{"$f":"IF(DS17>0.01,MAX('Background Calculations'!$U$80*0.8,DS17),MAX('Background Calculations'!$U$75,'Background Calculations'!$U$80*0.75))","v":0},null,{"$f":"IF(DU17>0.01,MAX('Background Calculations'!$U$81*0.8,DU17),MAX('Background Calculations'!$U$76,'Background Calculations'!$U$81*0.75))","v":0},null,{"$f":"IF(DW17>0.01,MAX('Background Calculations'!$U$82*0.8,DW17),MAX('Background Calculations'!$U$77,'Background Calculations'!$U$82*0.75))","v":0},null,null,2016,{"$f":"IF(EA17>0.01,MAX('Background Calculations'!$U$80*0.8,EA17),MAX('Background Calculations'!$U$75,'Background Calculations'!$U$80*0.75))","v":0},null,{"$f":"IF(EC17>0.01,MAX('Background Calculations'!$U$81*0.8,EC17),MAX('Background Calculations'!$U$76,'Background Calculations'!$U$81*0.75))","v":0},null,{"$f":"IF(EE17>0.01,MAX('Background Calculations'!$U$82*0.8,EE17),MAX('Background Calculations'!$U$77,'Background Calculations'!$U$82*0.75))","v":0},null,null,2016,{"$f":"IF(EI17>0.01,MAX('Background Calculations'!$U$80*0.8,EI17),MAX('Background Calculations'!$U$75,'Background Calculations'!$U$80*0.75))","v":0},null,{"$f":"IF(EK17>0.01,MAX('Background Calculations'!$U$81*0.8,EK17),MAX('Background Calculations'!$U$76,'Background Calculations'!$U$81*0.75))","v":0},null,{"$f":"IF(EM17>0.01,MAX('Background Calculations'!$U$82*0.8,EM17),MAX('Background Calculations'!$U$77,'Background Calculations'!$U$82*0.75))","v":0},null,null,2016,{"$f":"IF(EQ17>0.01,MAX('Background Calculations'!$U$80*0.8,EQ17),MAX('Background Calculations'!$U$75,'Background Calculations'!$U$80*0.75))","v":0},null,{"$f":"IF(ES17>0.01,MAX('Background Calculations'!$U$81*0.8,ES17),MAX('Background Calculations'!$U$76,'Background Calculations'!$U$81*0.75))","v":0},null,{"$f":"IF(EU17>0.01,MAX('Background Calculations'!$U$82*0.8,EU17),MAX('Background Calculations'!$U$77,'Background Calculations'!$U$82*0.75))","v":0},null,null,2016,{"$f":"IF(EY17>0.01,MAX('Background Calculations'!$U$80*0.8,EY17),MAX('Background Calculations'!$U$75,'Background Calculations'!$U$80*0.75))","v":0},null,{"$f":"IF(FA17>0.01,MAX('Background Calculations'!$U$81*0.8,FA17),MAX('Background Calculations'!$U$76,'Background Calculations'!$U$81*0.75))","v":0},null,{"$f":"IF(FC17>0.01,MAX('Background Calculations'!$U$82*0.8,FC17),MAX('Background Calculations'!$U$77,'Background Calculations'!$U$82*0.75))","v":0},null,null,2016,{"$f":"IF(FG17>0.01,MAX('Background Calculations'!$U$80*0.8,FG17),MAX('Background Calculations'!$U$75,'Background Calculations'!$U$80*0.75))","v":0},null,{"$f":"IF(FI17>0.01,MAX('Background Calculations'!$U$81*0.8,FI17),MAX('Background Calculations'!$U$76,'Background Calculations'!$U$81*0.75))","v":0},null,{"$f":"IF(FK17>0.01,MAX('Background Calculations'!$U$82*0.8,FK17),MAX('Background Calculations'!$U$77,'Background Calculations'!$U$82*0.75))","v":0},null,null,2016,{"$f":"IF(FO17>0.01,MAX('Background Calculations'!$U$80*0.8,FO17),MAX('Background Calculations'!$U$75,'Background Calculations'!$U$80*0.75))","v":0},null,{"$f":"IF(FQ17>0.01,MAX('Background Calculations'!$U$81*0.8,FQ17),MAX('Background Calculations'!$U$76,'Background Calculations'!$U$81*0.75))","v":0},null,{"$f":"IF(FS17>0.01,MAX('Background Calculations'!$U$82*0.8,FS17),MAX('Background Calculations'!$U$77,'Background Calculations'!$U$82*0.75))","v":0},null,null,2016,{"$f":"IF(FW17>0.01,MAX('Background Calculations'!$U$80*0.8,FW17),MAX('Background Calculations'!$U$75,'Background Calculations'!$U$80*0.75))","v":0},null,{"$f":"IF(FY17>0.01,MAX('Background Calculations'!$U$81*0.8,FY17),MAX('Background Calculations'!$U$76,'Background Calculations'!$U$81*0.75))","v":0},null,{"$f":"IF(GA17>0.01,MAX('Background Calculations'!$U$82*0.8,GA17),MAX('Background Calculations'!$U$77,'Background Calculations'!$U$82*0.75))","v":0},null,null,2016,{"$f":"IF(GE17>0.01,MAX('Background Calculations'!$U$80*0.8,GE17),MAX('Background Calculations'!$U$75,'Background Calculations'!$U$80*0.75))","v":0},null,{"$f":"IF(GG17>0.01,MAX('Background Calculations'!$U$81*0.8,GG17),MAX('Background Calculations'!$U$76,'Background Calculations'!$U$81*0.75))","v":0},null,{"$f":"IF(GI17>0.01,MAX('Background Calculations'!$U$82*0.8,GI17),MAX('Background Calculations'!$U$77,'Background Calculations'!$U$82*0.75))","v":0},null,null,2016,{"$f":"IF(GM17>0.01,MAX('Background Calculations'!$U$80*0.8,GM17),MAX('Background Calculations'!$U$75,'Background Calculations'!$U$80*0.75))","v":0},null,{"$f":"IF(GO17>0.01,MAX('Background Calculations'!$U$81*0.8,GO17),MAX('Background Calculations'!$U$76,'Background Calculations'!$U$81*0.75))","v":0},null,{"$f":"IF(GQ17>0.01,MAX('Background Calculations'!$U$82*0.8,GQ17),MAX('Background Calculations'!$U$77,'Background Calculations'!$U$82*0.75))","v":0},null,null,2016,{"$f":"IF(GU17>0.01,MAX('Background Calculations'!$U$80*0.8,GU17),MAX('Background Calculations'!$U$75,'Background Calculations'!$U$80*0.75))","v":0},null,{"$f":"IF(GW17>0.01,MAX('Background Calculations'!$U$81*0.8,GW17),MAX('Background Calculations'!$U$76,'Background Calculations'!$U$81*0.75))","v":0},null,{"$f":"IF(GY17>0.01,MAX('Background Calculations'!$U$82*0.8,GY17),MAX('Background Calculations'!$U$77,'Background Calculations'!$U$82*0.75))","v":0},null,null,2016,{"$f":"IF(HC17>0.01,MAX('Background Calculations'!$U$80*0.8,HC17),MAX('Background Calculations'!$U$75,'Background Calculations'!$U$80*0.75))","v":0},null,{"$f":"IF(HE17>0.01,MAX('Background Calculations'!$U$81*0.8,HE17),MAX('Background Calculations'!$U$76,'Background Calculations'!$U$81*0.75))","v":0},null,{"$f":"IF(HG17>0.01,MAX('Background Calculations'!$U$82*0.8,HG17),MAX('Background Calculations'!$U$77,'Background Calculations'!$U$82*0.75))","v":0},null,null,2016,{"$f":"IF(HK17>0.01,MAX('Background Calculations'!$U$80*0.8,HK17),MAX('Background Calculations'!$U$75,'Background Calculations'!$U$80*0.75))","v":0},null,{"$f":"IF(HM17>0.01,MAX('Background Calculations'!$U$81*0.8,HM17),MAX('Background Calculations'!$U$76,'Background Calculations'!$U$81*0.75))","v":0},null,{"$f":"IF(HO17>0.01,MAX('Background Calculations'!$U$82*0.8,HO17),MAX('Background Calculations'!$U$77,'Background Calculations'!$U$82*0.75))","v":0},null,null,2016,{"$f":"IF(HS17>0.01,MAX('Background Calculations'!$U$80*0.8,HS17),MAX('Background Calculations'!$U$75,'Background Calculations'!$U$80*0.75))","v":0},null,{"$f":"IF(HU17>0.01,MAX('Background Calculations'!$U$81*0.8,HU17),MAX('Background Calculations'!$U$76,'Background Calculations'!$U$81*0.75))","v":0},null,{"$f":"IF(HW17>0.01,MAX('Background Calculations'!$U$82*0.8,HW17),MAX('Background Calculations'!$U$77,'Background Calculations'!$U$82*0.75))","v":0},null,null,2016,{"$f":"IF(IA17>0.01,MAX('Background Calculations'!$U$80*0.8,IA17),MAX('Background Calculations'!$U$75,'Background Calculations'!$U$80*0.75))","v":0},null,{"$f":"IF(IC17>0.01,MAX('Background Calculations'!$U$81*0.8,IC17),MAX('Background Calculations'!$U$76,'Background Calculations'!$U$81*0.75))","v":0},null,{"$f":"IF(IE17>0.01,MAX('Background Calculations'!$U$82*0.8,IE17),MAX('Background Calculations'!$U$77,'Background Calculations'!$U$82*0.75))","v":0},null,null,2016,{"$f":"IF(II17>0.01,MAX('Background Calculations'!$U$80*0.8,II17),MAX('Background Calculations'!$U$75,'Background Calculations'!$U$80*0.75))","v":0},null,{"$f":"IF(IK17>0.01,MAX('Background Calculations'!$U$81*0.8,IK17),MAX('Background Calculations'!$U$76,'Background Calculations'!$U$81*0.75))","v":0},null,{"$f":"IF(IM17>0.01,MAX('Background Calculations'!$U$82*0.8,IM17),MAX('Background Calculations'!$U$77,'Background Calculations'!$U$82*0.75))","v":0},null,null,2016,{"$f":"IF(IQ17>0.01,MAX('Background Calculations'!$U$80*0.8,IQ17),MAX('Background Calculations'!$U$75,'Background Calculations'!$U$80*0.75))","v":0},null,{"$f":"IF(IS17>0.01,MAX('Background Calculations'!$U$81*0.8,IS17),MAX('Background Calculations'!$U$76,'Background Calculations'!$U$81*0.75))","v":0},null,{"$f":"IF(IU17>0.01,MAX('Background Calculations'!$U$82*0.8,IU17),MAX('Background Calculations'!$U$77,'Background Calculations'!$U$82*0.75))","v":0},null,null,2016,{"$f":"IF(IY17>0.01,MAX('Background Calculations'!$U$80*0.8,IY17),MAX('Background Calculations'!$U$75,'Background Calculations'!$U$80*0.75))","v":0},null,{"$f":"IF(JA17>0.01,MAX('Background Calculations'!$U$81*0.8,JA17),MAX('Background Calculations'!$U$76,'Background Calculations'!$U$81*0.75))","v":0},null,{"$f":"IF(JC17>0.01,MAX('Background Calculations'!$U$82*0.8,JC17),MAX('Background Calculations'!$U$77,'Background Calculations'!$U$82*0.75))","v":0},null,null,2016,{"$f":"IF(JG17>0.01,MAX('Background Calculations'!$U$80*0.8,JG17),MAX('Background Calculations'!$U$75,'Background Calculations'!$U$80*0.75))","v":0},null,{"$f":"IF(JI17>0.01,MAX('Background Calculations'!$U$81*0.8,JI17),MAX('Background Calculations'!$U$76,'Background Calculations'!$U$81*0.75))","v":0},null,{"$f":"IF(JK17>0.01,MAX('Background Calculations'!$U$82*0.8,JK17),MAX('Background Calculations'!$U$77,'Background Calculations'!$U$82*0.75))","v":0},null,null,2016,{"$f":"IF(JO17>0.01,MAX('Background Calculations'!$U$80*0.8,JO17),MAX('Background Calculations'!$U$75,'Background Calculations'!$U$80*0.75))","v":0},null,{"$f":"IF(JQ17>0.01,MAX('Background Calculations'!$U$81*0.8,JQ17),MAX('Background Calculations'!$U$76,'Background Calculations'!$U$81*0.75))","v":0},null,{"$f":"IF(JS17>0.01,MAX('Background Calculations'!$U$82*0.8,JS17),MAX('Background Calculations'!$U$77,'Background Calculations'!$U$82*0.75))","v":0},null,null,2016,{"$f":"IF(JW17>0.01,MAX('Background Calculations'!$U$80*0.8,JW17),MAX('Background Calculations'!$U$75,'Background Calculations'!$U$80*0.75))","v":0},null,{"$f":"IF(JY17>0.01,MAX('Background Calculations'!$U$81*0.8,JY17),MAX('Background Calculations'!$U$76,'Background Calculations'!$U$81*0.75))","v":0},null,{"$f":"IF(KA17>0.01,MAX('Background Calculations'!$U$82*0.8,KA17),MAX('Background Calculations'!$U$77,'Background Calculations'!$U$82*0.75))","v":0},null,null,2016,{"$f":"IF(KE17>0.01,MAX('Background Calculations'!$U$80*0.8,KE17),MAX('Background Calculations'!$U$75,'Background Calculations'!$U$80*0.75))","v":0},null,{"$f":"IF(KG17>0.01,MAX('Background Calculations'!$U$81*0.8,KG17),MAX('Background Calculations'!$U$76,'Background Calculations'!$U$81*0.75))","v":0},null,{"$f":"IF(KI17>0.01,MAX('Background Calculations'!$U$82*0.8,KI17),MAX('Background Calculations'!$U$77,'Background Calculations'!$U$82*0.75))","v":0},null,null,2016,{"$f":"IF(KM17>0.01,MAX('Background Calculations'!$U$80*0.8,KM17),MAX('Background Calculations'!$U$75,'Background Calculations'!$U$80*0.75))","v":0},null,{"$f":"IF(KO17>0.01,MAX('Background Calculations'!$U$81*0.8,KO17),MAX('Background Calculations'!$U$76,'Background Calculations'!$U$81*0.75))","v":0},null,{"$f":"IF(KQ17>0.01,MAX('Background Calculations'!$U$82*0.8,KQ17),MAX('Background Calculations'!$U$77,'Background Calculations'!$U$82*0.75))","v":0},null,null,2016,{"$f":"IF(KU17>0.01,MAX('Background Calculations'!$U$80*0.8,KU17),MAX('Background Calculations'!$U$75,'Background Calculations'!$U$80*0.75))","v":0},null,{"$f":"IF(KW17>0.01,MAX('Background Calculations'!$U$81*0.8,KW17),MAX('Background Calculations'!$U$76,'Background Calculations'!$U$81*0.75))","v":0},null,{"$f":"IF(KY17>0.01,MAX('Background Calculations'!$U$82*0.8,KY17),MAX('Background Calculations'!$U$77,'Background Calculations'!$U$82*0.75))","v":0},null,null,2016,{"$f":"IF(LC17>0.01,MAX('Background Calculations'!$U$80*0.8,LC17),MAX('Background Calculations'!$U$75,'Background Calculations'!$U$80*0.75))","v":0},null,{"$f":"IF(LE17>0.01,MAX('Background Calculations'!$U$81*0.8,LE17),MAX('Background Calculations'!$U$76,'Background Calculations'!$U$81*0.75))","v":0},null,{"$f":"IF(LG17>0.01,MAX('Background Calculations'!$U$82*0.8,LG17),MAX('Background Calculations'!$U$77,'Background Calculations'!$U$82*0.75))","v":0},null,null,2016,{"$f":"IF(LK17>0.01,MAX('Background Calculations'!$U$80*0.8,LK17),MAX('Background Calculations'!$U$75,'Background Calculations'!$U$80*0.75))","v":0},null,{"$f":"IF(LM17>0.01,MAX('Background Calculations'!$U$81*0.8,LM17),MAX('Background Calculations'!$U$76,'Background Calculations'!$U$81*0.75))","v":0},null,{"$f":"IF(LO17>0.01,MAX('Background Calculations'!$U$82*0.8,LO17),MAX('Background Calculations'!$U$77,'Background Calculations'!$U$82*0.75))","v":0},null,null,2016,{"$f":"IF(LS17>0.01,MAX('Background Calculations'!$U$80*0.8,LS17),MAX('Background Calculations'!$U$75,'Background Calculations'!$U$80*0.75))","v":0},null,{"$f":"IF(LU17>0.01,MAX('Background Calculations'!$U$81*0.8,LU17),MAX('Background Calculations'!$U$76,'Background Calculations'!$U$81*0.75))","v":0},null,{"$f":"IF(LW17>0.01,MAX('Background Calculations'!$U$82*0.8,LW17),MAX('Background Calculations'!$U$77,'Background Calculations'!$U$82*0.75))","v":0},null,null,2016,{"$f":"IF(MA17>0.01,MAX('Background Calculations'!$U$80*0.8,MA17),MAX('Background Calculations'!$U$75,'Background Calculations'!$U$80*0.75))","v":0},null,{"$f":"IF(MC17>0.01,MAX('Background Calculations'!$U$81*0.8,MC17),MAX('Background Calculations'!$U$76,'Background Calculations'!$U$81*0.75))","v":0},null,{"$f":"IF(ME17>0.01,MAX('Background Calculations'!$U$82*0.8,ME17),MAX('Background Calculations'!$U$77,'Background Calculations'!$U$82*0.75))","v":0},null,null,2016,{"$f":"IF(MI17>0.01,MAX('Background Calculations'!$U$80*0.8,MI17),MAX('Background Calculations'!$U$75,'Background Calculations'!$U$80*0.75))","v":0},null,{"$f":"IF(MK17>0.01,MAX('Background Calculations'!$U$81*0.8,MK17),MAX('Background Calculations'!$U$76,'Background Calculations'!$U$81*0.75))","v":0},null,{"$f":"IF(MM17>0.01,MAX('Background Calculations'!$U$82*0.8,MM17),MAX('Background Calculations'!$U$77,'Background Calculations'!$U$82*0.75))","v":0},null,null,2016,{"$f":"IF(MQ17>0.01,MAX('Background Calculations'!$U$80*0.8,MQ17),MAX('Background Calculations'!$U$75,'Background Calculations'!$U$80*0.75))","v":0},null,{"$f":"IF(MS17>0.01,MAX('Background Calculations'!$U$81*0.8,MS17),MAX('Background Calculations'!$U$76,'Background Calculations'!$U$81*0.75))","v":0},null,{"$f":"IF(MU17>0.01,MAX('Background Calculations'!$U$82*0.8,MU17),MAX('Background Calculations'!$U$77,'Background Calculations'!$U$82*0.75))","v":0},null,null,2016,{"$f":"IF(MY17>0.01,MAX('Background Calculations'!$U$80*0.8,MY17),MAX('Background Calculations'!$U$75,'Background Calculations'!$U$80*0.75))","v":0},null,{"$f":"IF(NA17>0.01,MAX('Background Calculations'!$U$81*0.8,NA17),MAX('Background Calculations'!$U$76,'Background Calculations'!$U$81*0.75))","v":0},null,{"$f":"IF(NC17>0.01,MAX('Background Calculations'!$U$82*0.8,NC17),MAX('Background Calculations'!$U$77,'Background Calculations'!$U$82*0.75))","v":0},null,null,2016,{"$f":"IF(NG17>0.01,MAX('Background Calculations'!$U$80*0.8,NG17),MAX('Background Calculations'!$U$75,'Background Calculations'!$U$80*0.75))","v":0},null,{"$f":"IF(NI17>0.01,MAX('Background Calculations'!$U$81*0.8,NI17),MAX('Background Calculations'!$U$76,'Background Calculations'!$U$81*0.75))","v":0},null,{"$f":"IF(NK17>0.01,MAX('Background Calculations'!$U$82*0.8,NK17),MAX('Background Calculations'!$U$77,'Background Calculations'!$U$82*0.75))","v":0},null,null,2016,{"$f":"IF(NO17>0.01,MAX('Background Calculations'!$U$80*0.8,NO17),MAX('Background Calculations'!$U$75,'Background Calculations'!$U$80*0.75))","v":0},null,{"$f":"IF(NQ17>0.01,MAX('Background Calculations'!$U$81*0.8,NQ17),MAX('Background Calculations'!$U$76,'Background Calculations'!$U$81*0.75))","v":0},null,{"$f":"IF(NS17>0.01,MAX('Background Calculations'!$U$82*0.8,NS17),MAX('Background Calculations'!$U$77,'Background Calculations'!$U$82*0.75))","v":0},null,null,2016,{"$f":"IF(NW17>0.01,MAX('Background Calculations'!$U$80*0.8,NW17),MAX('Background Calculations'!$U$75,'Background Calculations'!$U$80*0.75))","v":0},null,{"$f":"IF(NY17>0.01,MAX('Background Calculations'!$U$81*0.8,NY17),MAX('Background Calculations'!$U$76,'Background Calculations'!$U$81*0.75))","v":0},null,{"$f":"IF(OA17>0.01,MAX('Background Calculations'!$U$82*0.8,OA17),MAX('Background Calculations'!$U$77,'Background Calculations'!$U$82*0.75))","v":0},null,null,2016,{"$f":"IF(OE17>0.01,MAX('Background Calculations'!$U$80*0.8,OE17),MAX('Background Calculations'!$U$75,'Background Calculations'!$U$80*0.75))","v":0},null,{"$f":"IF(OG17>0.01,MAX('Background Calculations'!$U$81*0.8,OG17),MAX('Background Calculations'!$U$76,'Background Calculations'!$U$81*0.75))","v":0},null,{"$f":"IF(OI17>0.01,MAX('Background Calculations'!$U$82*0.8,OI17),MAX('Background Calculations'!$U$77,'Background Calculations'!$U$82*0.75))","v":0},null,null,2016,{"$f":"IF(OM17>0.01,MAX('Background Calculations'!$U$80*0.8,OM17),MAX('Background Calculations'!$U$75,'Background Calculations'!$U$80*0.75))","v":0},null,{"$f":"IF(OO17>0.01,MAX('Background Calculations'!$U$81*0.8,OO17),MAX('Background Calculations'!$U$76,'Background Calculations'!$U$81*0.75))","v":0},null,{"$f":"IF(OQ17>0.01,MAX('Background Calculations'!$U$82*0.8,OQ17),MAX('Background Calculations'!$U$77,'Background Calculations'!$U$82*0.75))","v":0}]
[null,2017,{"$f":"IF(C18>0.01,MAX('Background Calculations'!$V$80*0.8,C18),MAX('Background Calculations'!$V$75,'Background Calculations'!$V$80*0.75))","v":200},null,{"$f":"IF(E18>0.01,MAX('Background Calculations'!$V$81*0.8,E18),MAX('Background Calculations'!$V$76,'Background Calculations'!$V$81*0.75))","v":0},null,{"$f":"IF(G18>0.01,MAX('Background Calculations'!$V$82*0.8,G18),MAX('Background Calculations'!$V$77,'Background Calculations'!$V$82*0.75))","v":0},null,null,2017,{"$f":"IF(K18>0.01,MAX('Background Calculations'!$V$80*0.8,K18),MAX('Background Calculations'!$V$75,'Background Calculations'!$V$80*0.75))","v":0},null,{"$f":"IF(M18>0.01,MAX('Background Calculations'!$V$81*0.8,M18),MAX('Background Calculations'!$V$76,'Background Calculations'!$V$81*0.75))","v":0},null,{"$f":"IF(O18>0.01,MAX('Background Calculations'!$V$82*0.8,O18),MAX('Background Calculations'!$V$77,'Background Calculations'!$V$82*0.75))","v":0},null,null,2017,{"$f":"IF(S18>0.01,MAX('Background Calculations'!$V$80*0.8,S18),MAX('Background Calculations'!$V$75,'Background Calculations'!$V$80*0.75))","v":0},null,{"$f":"IF(U18>0.01,MAX('Background Calculations'!$V$81*0.8,U18),MAX('Background Calculations'!$V$76,'Background Calculations'!$V$81*0.75))","v":0},null,{"$f":"IF(W18>0.01,MAX('Background Calculations'!$V$82*0.8,W18),MAX('Background Calculations'!$V$77,'Background Calculations'!$V$82*0.75))","v":0},null,null,2017,{"$f":"IF(AA18>0.01,MAX('Background Calculations'!$V$80*0.8,AA18),MAX('Background Calculations'!$V$75,'Background Calculations'!$V$80*0.75))","v":0},null,{"$f":"IF(AC18>0.01,MAX('Background Calculations'!$V$81*0.8,AC18),MAX('Background Calculations'!$V$76,'Background Calculations'!$V$81*0.75))","v":0},null,{"$f":"IF(AE18>0.01,MAX('Background Calculations'!$V$82*0.8,AE18),MAX('Background Calculations'!$V$77,'Background Calculations'!$V$82*0.75))","v":0},null,null,2017,{"$f":"IF(AI18>0.01,MAX('Background Calculations'!$V$80*0.8,AI18),MAX('Background Calculations'!$V$75,'Background Calculations'!$V$80*0.75))","v":0},null,{"$f":"IF(AK18>0.01,MAX('Background Calculations'!$V$81*0.8,AK18),MAX('Background Calculations'!$V$76,'Background Calculations'!$V$81*0.75))","v":0},null,{"$f":"IF(AM18>0.01,MAX('Background Calculations'!$V$82*0.8,AM18),MAX('Background Calculations'!$V$77,'Background Calculations'!$V$82*0.75))","v":0},null,null,2017,{"$f":"IF(AQ18>0.01,MAX('Background Calculations'!$V$80*0.8,AQ18),MAX('Background Calculations'!$V$75,'Background Calculations'!$V$80*0.75))","v":0},null,{"$f":"IF(AS18>0.01,MAX('Background Calculations'!$V$81*0.8,AS18),MAX('Background Calculations'!$V$76,'Background Calculations'!$V$81*0.75))","v":0},null,{"$f":"IF(AU18>0.01,MAX('Background Calculations'!$V$82*0.8,AU18),MAX('Background Calculations'!$V$77,'Background Calculations'!$V$82*0.75))","v":0},null,null,2017,{"$f":"IF(AY18>0.01,MAX('Background Calculations'!$V$80*0.8,AY18),MAX('Background Calculations'!$V$75,'Background Calculations'!$V$80*0.75))","v":0},null,{"$f":"IF(BA18>0.01,MAX('Background Calculations'!$V$81*0.8,BA18),MAX('Background Calculations'!$V$76,'Background Calculations'!$V$81*0.75))","v":0},null,{"$f":"IF(BC18>0.01,MAX('Background Calculations'!$V$82*0.8,BC18),MAX('Background Calculations'!$V$77,'Background Calculations'!$V$82*0.75))","v":0},null,null,2017,{"$f":"IF(BG18>0.01,MAX('Background Calculations'!$V$80*0.8,BG18),MAX('Background Calculations'!$V$75,'Background Calculations'!$V$80*0.75))","v":0},null,{"$f":"IF(BI18>0.01,MAX('Background Calculations'!$V$81*0.8,BI18),MAX('Background Calculations'!$V$76,'Background Calculations'!$V$81*0.75))","v":0},null,{"$f":"IF(BK18>0.01,MAX('Background Calculations'!$V$82*0.8,BK18),MAX('Background Calculations'!$V$77,'Background Calculations'!$V$82*0.75))","v":0},null,null,2017,{"$f":"IF(BO18>0.01,MAX('Background Calculations'!$V$80*0.8,BO18),MAX('Background Calculations'!$V$75,'Background Calculations'!$V$80*0.75))","v":0},null,{"$f":"IF(BQ18>0.01,MAX('Background Calculations'!$V$81*0.8,BQ18),MAX('Background Calculations'!$V$76,'Background Calculations'!$V$81*0.75))","v":0},null,{"$f":"IF(BS18>0.01,MAX('Background Calculations'!$V$82*0.8,BS18),MAX('Background Calculations'!$V$77,'Background Calculations'!$V$82*0.75))","v":0},null,null,2017,{"$f":"IF(BW18>0.01,MAX('Background Calculations'!$V$80*0.8,BW18),MAX('Background Calculations'!$V$75,'Background Calculations'!$V$80*0.75))","v":0},null,{"$f":"IF(BY18>0.01,MAX('Background Calculations'!$V$81*0.8,BY18),MAX('Background Calculations'!$V$76,'Background Calculations'!$V$81*0.75))","v":0},null,{"$f":"IF(CA18>0.01,MAX('Background Calculations'!$V$82*0.8,CA18),MAX('Background Calculations'!$V$77,'Background Calculations'!$V$82*0.75))","v":0},null,null,2017,{"$f":"IF(CE18>0.01,MAX('Background Calculations'!$V$80*0.8,CE18),MAX('Background Calculations'!$V$75,'Background Calculations'!$V$80*0.75))","v":0},null,{"$f":"IF(CG18>0.01,MAX('Background Calculations'!$V$81*0.8,CG18),MAX('Background Calculations'!$V$76,'Background Calculations'!$V$81*0.75))","v":0},null,{"$f":"IF(CI18>0.01,MAX('Background Calculations'!$V$82*0.8,CI18),MAX('Background Calculations'!$V$77,'Background Calculations'!$V$82*0.75))","v":0},null,null,2017,{"$f":"IF(CM18>0.01,MAX('Background Calculations'!$V$80*0.8,CM18),MAX('Background Calculations'!$V$75,'Background Calculations'!$V$80*0.75))","v":0},null,{"$f":"IF(CO18>0.01,MAX('Background Calculations'!$V$81*0.8,CO18),MAX('Background Calculations'!$V$76,'Background Calculations'!$V$81*0.75))","v":0},null,{"$f":"IF(CQ18>0.01,MAX('Background Calculations'!$V$82*0.8,CQ18),MAX('Background Calculations'!$V$77,'Background Calculations'!$V$82*0.75))","v":0},null,null,2017,{"$f":"IF(CU18>0.01,MAX('Background Calculations'!$V$80*0.8,CU18),MAX('Background Calculations'!$V$75,'Background Calculations'!$V$80*0.75))","v":0},null,{"$f":"IF(CW18>0.01,MAX('Background Calculations'!$V$81*0.8,CW18),MAX('Background Calculations'!$V$76,'Background Calculations'!$V$81*0.75))","v":0},null,{"$f":"IF(CY18>0.01,MAX('Background Calculations'!$V$82*0.8,CY18),MAX('Background Calculations'!$V$77,'Background Calculations'!$V$82*0.75))","v":0},null,null,2017,{"$f":"IF(DC18>0.01,MAX('Background Calculations'!$V$80*0.8,DC18),MAX('Background Calculations'!$V$75,'Background Calculations'!$V$80*0.75))","v":0},null,{"$f":"IF(DE18>0.01,MAX('Background Calculations'!$V$81*0.8,DE18),MAX('Background Calculations'!$V$76,'Background Calculations'!$V$81*0.75))","v":0},null,{"$f":"IF(DG18>0.01,MAX('Background Calculations'!$V$82*0.8,DG18),MAX('Background Calculations'!$V$77,'Background Calculations'!$V$82*0.75))","v":0},null,null,2017,{"$f":"IF(DK18>0.01,MAX('Background Calculations'!$V$80*0.8,DK18),MAX('Background Calculations'!$V$75,'Background Calculations'!$V$80*0.75))","v":0},null,{"$f":"IF(DM18>0.01,MAX('Background Calculations'!$V$81*0.8,DM18),MAX('Background Calculations'!$V$76,'Background Calculations'!$V$81*0.75))","v":0},null,{"$f":"IF(DO18>0.01,MAX('Background Calculations'!$V$82*0.8,DO18),MAX('Background Calculations'!$V$77,'Background Calculations'!$V$82*0.75))","v":0},null,null,2017,{"$f":"IF(DS18>0.01,MAX('Background Calculations'!$V$80*0.8,DS18),MAX('Background Calculations'!$V$75,'Background Calculations'!$V$80*0.75))","v":0},null,{"$f":"IF(DU18>0.01,MAX('Background Calculations'!$V$81*0.8,DU18),MAX('Background Calculations'!$V$76,'Background Calculations'!$V$81*0.75))","v":0},null,{"$f":"IF(DW18>0.01,MAX('Background Calculations'!$V$82*0.8,DW18),MAX('Background Calculations'!$V$77,'Background Calculations'!$V$82*0.75))","v":0},null,null,2017,{"$f":"IF(EA18>0.01,MAX('Background Calculations'!$V$80*0.8,EA18),MAX('Background Calculations'!$V$75,'Background Calculations'!$V$80*0.75))","v":0},null,{"$f":"IF(EC18>0.01,MAX('Background Calculations'!$V$81*0.8,EC18),MAX('Background Calculations'!$V$76,'Background Calculations'!$V$81*0.75))","v":0},null,{"$f":"IF(EE18>0.01,MAX('Background Calculations'!$V$82*0.8,EE18),MAX('Background Calculations'!$V$77,'Background Calculations'!$V$82*0.75))","v":0},null,null,2017,{"$f":"IF(EI18>0.01,MAX('Background Calculations'!$V$80*0.8,EI18),MAX('Background Calculations'!$V$75,'Background Calculations'!$V$80*0.75))","v":0},null,{"$f":"IF(EK18>0.01,MAX('Background Calculations'!$V$81*0.8,EK18),MAX('Background Calculations'!$V$76,'Background Calculations'!$V$81*0.75))","v":0},null,{"$f":"IF(EM18>0.01,MAX('Background Calculations'!$V$82*0.8,EM18),MAX('Background Calculations'!$V$77,'Background Calculations'!$V$82*0.75))","v":0},null,null,2017,{"$f":"IF(EQ18>0.01,MAX('Background Calculations'!$V$80*0.8,EQ18),MAX('Background Calculations'!$V$75,'Background Calculations'!$V$80*0.75))","v":0},null,{"$f":"IF(ES18>0.01,MAX('Background Calculations'!$V$81*0.8,ES18),MAX('Background Calculations'!$V$76,'Background Calculations'!$V$81*0.75))","v":0},null,{"$f":"IF(EU18>0.01,MAX('Background Calculations'!$V$82*0.8,EU18),MAX('Background Calculations'!$V$77,'Background Calculations'!$V$82*0.75))","v":0},null,null,2017,{"$f":"IF(EY18>0.01,MAX('Background Calculations'!$V$80*0.8,EY18),MAX('Background Calculations'!$V$75,'Background Calculations'!$V$80*0.75))","v":0},null,{"$f":"IF(FA18>0.01,MAX('Background Calculations'!$V$81*0.8,FA18),MAX('Background Calculations'!$V$76,'Background Calculations'!$V$81*0.75))","v":0},null,{"$f":"IF(FC18>0.01,MAX('Background Calculations'!$V$82*0.8,FC18),MAX('Background Calculations'!$V$77,'Background Calculations'!$V$82*0.75))","v":0},null,null,2017,{"$f":"IF(FG18>0.01,MAX('Background Calculations'!$V$80*0.8,FG18),MAX('Background Calculations'!$V$75,'Background Calculations'!$V$80*0.75))","v":0},null,{"$f":"IF(FI18>0.01,MAX('Background Calculations'!$V$81*0.8,FI18),MAX('Background Calculations'!$V$76,'Background Calculations'!$V$81*0.75))","v":0},null,{"$f":"IF(FK18>0.01,MAX('Background Calculations'!$V$82*0.8,FK18),MAX('Background Calculations'!$V$77,'Background Calculations'!$V$82*0.75))","v":0},null,null,2017,{"$f":"IF(FO18>0.01,MAX('Background Calculations'!$V$80*0.8,FO18),MAX('Background Calculations'!$V$75,'Background Calculations'!$V$80*0.75))","v":0},null,{"$f":"IF(FQ18>0.01,MAX('Background Calculations'!$V$81*0.8,FQ18),MAX('Background Calculations'!$V$76,'Background Calculations'!$V$81*0.75))","v":0},null,{"$f":"IF(FS18>0.01,MAX('Background Calculations'!$V$82*0.8,FS18),MAX('Background Calculations'!$V$77,'Background Calculations'!$V$82*0.75))","v":0},null,null,2017,{"$f":"IF(FW18>0.01,MAX('Background Calculations'!$V$80*0.8,FW18),MAX('Background Calculations'!$V$75,'Background Calculations'!$V$80*0.75))","v":0},null,{"$f":"IF(FY18>0.01,MAX('Background Calculations'!$V$81*0.8,FY18),MAX('Background Calculations'!$V$76,'Background Calculations'!$V$81*0.75))","v":0},null,{"$f":"IF(GA18>0.01,MAX('Background Calculations'!$V$82*0.8,GA18),MAX('Background Calculations'!$V$77,'Background Calculations'!$V$82*0.75))","v":0},null,null,2017,{"$f":"IF(GE18>0.01,MAX('Background Calculations'!$V$80*0.8,GE18),MAX('Background Calculations'!$V$75,'Background Calculations'!$V$80*0.75))","v":0},null,{"$f":"IF(GG18>0.01,MAX('Background Calculations'!$V$81*0.8,GG18),MAX('Background Calculations'!$V$76,'Background Calculations'!$V$81*0.75))","v":0},null,{"$f":"IF(GI18>0.01,MAX('Background Calculations'!$V$82*0.8,GI18),MAX('Background Calculations'!$V$77,'Background Calculations'!$V$82*0.75))","v":0},null,null,2017,{"$f":"IF(GM18>0.01,MAX('Background Calculations'!$V$80*0.8,GM18),MAX('Background Calculations'!$V$75,'Background Calculations'!$V$80*0.75))","v":0},null,{"$f":"IF(GO18>0.01,MAX('Background Calculations'!$V$81*0.8,GO18),MAX('Background Calculations'!$V$76,'Background Calculations'!$V$81*0.75))","v":0},null,{"$f":"IF(GQ18>0.01,MAX('Background Calculations'!$V$82*0.8,GQ18),MAX('Background Calculations'!$V$77,'Background Calculations'!$V$82*0.75))","v":0},null,null,2017,{"$f":"IF(GU18>0.01,MAX('Background Calculations'!$V$80*0.8,GU18),MAX('Background Calculations'!$V$75,'Background Calculations'!$V$80*0.75))","v":0},null,{"$f":"IF(GW18>0.01,MAX('Background Calculations'!$V$81*0.8,GW18),MAX('Background Calculations'!$V$76,'Background Calculations'!$V$81*0.75))","v":0},null,{"$f":"IF(GY18>0.01,MAX('Background Calculations'!$V$82*0.8,GY18),MAX('Background Calculations'!$V$77,'Background Calculations'!$V$82*0.75))","v":0},null,null,2017,{"$f":"IF(HC18>0.01,MAX('Background Calculations'!$V$80*0.8,HC18),MAX('Background Calculations'!$V$75,'Background Calculations'!$V$80*0.75))","v":0},null,{"$f":"IF(HE18>0.01,MAX('Background Calculations'!$V$81*0.8,HE18),MAX('Background Calculations'!$V$76,'Background Calculations'!$V$81*0.75))","v":0},null,{"$f":"IF(HG18>0.01,MAX('Background Calculations'!$V$82*0.8,HG18),MAX('Background Calculations'!$V$77,'Background Calculations'!$V$82*0.75))","v":0},null,null,2017,{"$f":"IF(HK18>0.01,MAX('Background Calculations'!$V$80*0.8,HK18),MAX('Background Calculations'!$V$75,'Background Calculations'!$V$80*0.75))","v":0},null,{"$f":"IF(HM18>0.01,MAX('Background Calculations'!$V$81*0.8,HM18),MAX('Background Calculations'!$V$76,'Background Calculations'!$V$81*0.75))","v":0},null,{"$f":"IF(HO18>0.01,MAX('Background Calculations'!$V$82*0.8,HO18),MAX('Background Calculations'!$V$77,'Background Calculations'!$V$82*0.75))","v":0},null,null,2017,{"$f":"IF(HS18>0.01,MAX('Background Calculations'!$V$80*0.8,HS18),MAX('Background Calculations'!$V$75,'Background Calculations'!$V$80*0.75))","v":0},null,{"$f":"IF(HU18>0.01,MAX('Background Calculations'!$V$81*0.8,HU18),MAX('Background Calculations'!$V$76,'Background Calculations'!$V$81*0.75))","v":0},null,{"$f":"IF(HW18>0.01,MAX('Background Calculations'!$V$82*0.8,HW18),MAX('Background Calculations'!$V$77,'Background Calculations'!$V$82*0.75))","v":0},null,null,2017,{"$f":"IF(IA18>0.01,MAX('Background Calculations'!$V$80*0.8,IA18),MAX('Background Calculations'!$V$75,'Background Calculations'!$V$80*0.75))","v":0},null,{"$f":"IF(IC18>0.01,MAX('Background Calculations'!$V$81*0.8,IC18),MAX('Background Calculations'!$V$76,'Background Calculations'!$V$81*0.75))","v":0},null,{"$f":"IF(IE18>0.01,MAX('Background Calculations'!$V$82*0.8,IE18),MAX('Background Calculations'!$V$77,'Background Calculations'!$V$82*0.75))","v":0},null,null,2017,{"$f":"IF(II18>0.01,MAX('Background Calculations'!$V$80*0.8,II18),MAX('Background Calculations'!$V$75,'Background Calculations'!$V$80*0.75))","v":0},null,{"$f":"IF(IK18>0.01,MAX('Background Calculations'!$V$81*0.8,IK18),MAX('Background Calculations'!$V$76,'Background Calculations'!$V$81*0.75))","v":0},null,{"$f":"IF(IM18>0.01,MAX('Background Calculations'!$V$82*0.8,IM18),MAX('Background Calculations'!$V$77,'Background Calculations'!$V$82*0.75))","v":0},null,null,2017,{"$f":"IF(IQ18>0.01,MAX('Background Calculations'!$V$80*0.8,IQ18),MAX('Background Calculations'!$V$75,'Background Calculations'!$V$80*0.75))","v":0},null,{"$f":"IF(IS18>0.01,MAX('Background Calculations'!$V$81*0.8,IS18),MAX('Background Calculations'!$V$76,'Background Calculations'!$V$81*0.75))","v":0},null,{"$f":"IF(IU18>0.01,MAX('Background Calculations'!$V$82*0.8,IU18),MAX('Background Calculations'!$V$77,'Background Calculations'!$V$82*0.75))","v":0},null,null,2017,{"$f":"IF(IY18>0.01,MAX('Background Calculations'!$V$80*0.8,IY18),MAX('Background Calculations'!$V$75,'Background Calculations'!$V$80*0.75))","v":0},null,{"$f":"IF(JA18>0.01,MAX('Background Calculations'!$V$81*0.8,JA18),MAX('Background Calculations'!$V$76,'Background Calculations'!$V$81*0.75))","v":0},null,{"$f":"IF(JC18>0.01,MAX('Background Calculations'!$V$82*0.8,JC18),MAX('Background Calculations'!$V$77,'Background Calculations'!$V$82*0.75))","v":0},null,null,2017,{"$f":"IF(JG18>0.01,MAX('Background Calculations'!$V$80*0.8,JG18),MAX('Background Calculations'!$V$75,'Background Calculations'!$V$80*0.75))","v":0},null,{"$f":"IF(JI18>0.01,MAX('Background Calculations'!$V$81*0.8,JI18),MAX('Background Calculations'!$V$76,'Background Calculations'!$V$81*0.75))","v":0},null,{"$f":"IF(JK18>0.01,MAX('Background Calculations'!$V$82*0.8,JK18),MAX('Background Calculations'!$V$77,'Background Calculations'!$V$82*0.75))","v":0},null,null,2017,{"$f":"IF(JO18>0.01,MAX('Background Calculations'!$V$80*0.8,JO18),MAX('Background Calculations'!$V$75,'Background Calculations'!$V$80*0.75))","v":0},null,{"$f":"IF(JQ18>0.01,MAX('Background Calculations'!$V$81*0.8,JQ18),MAX('Background Calculations'!$V$76,'Background Calculations'!$V$81*0.75))","v":0},null,{"$f":"IF(JS18>0.01,MAX('Background Calculations'!$V$82*0.8,JS18),MAX('Background Calculations'!$V$77,'Background Calculations'!$V$82*0.75))","v":0},null,null,2017,{"$f":"IF(JW18>0.01,MAX('Background Calculations'!$V$80*0.8,JW18),MAX('Background Calculations'!$V$75,'Background Calculations'!$V$80*0.75))","v":0},null,{"$f":"IF(JY18>0.01,MAX('Background Calculations'!$V$81*0.8,JY18),MAX('Background Calculations'!$V$76,'Background Calculations'!$V$81*0.75))","v":0},null,{"$f":"IF(KA18>0.01,MAX('Background Calculations'!$V$82*0.8,KA18),MAX('Background Calculations'!$V$77,'Background Calculations'!$V$82*0.75))","v":0},null,null,2017,{"$f":"IF(KE18>0.01,MAX('Background Calculations'!$V$80*0.8,KE18),MAX('Background Calculations'!$V$75,'Background Calculations'!$V$80*0.75))","v":0},null,{"$f":"IF(KG18>0.01,MAX('Background Calculations'!$V$81*0.8,KG18),MAX('Background Calculations'!$V$76,'Background Calculations'!$V$81*0.75))","v":0},null,{"$f":"IF(KI18>0.01,MAX('Background Calculations'!$V$82*0.8,KI18),MAX('Background Calculations'!$V$77,'Background Calculations'!$V$82*0.75))","v":0},null,null,2017,{"$f":"IF(KM18>0.01,MAX('Background Calculations'!$V$80*0.8,KM18),MAX('Background Calculations'!$V$75,'Background Calculations'!$V$80*0.75))","v":0},null,{"$f":"IF(KO18>0.01,MAX('Background Calculations'!$V$81*0.8,KO18),MAX('Background Calculations'!$V$76,'Background Calculations'!$V$81*0.75))","v":0},null,{"$f":"IF(KQ18>0.01,MAX('Background Calculations'!$V$82*0.8,KQ18),MAX('Background Calculations'!$V$77,'Background Calculations'!$V$82*0.75))","v":0},null,null,2017,{"$f":"IF(KU18>0.01,MAX('Background Calculations'!$V$80*0.8,KU18),MAX('Background Calculations'!$V$75,'Background Calculations'!$V$80*0.75))","v":0},null,{"$f":"IF(KW18>0.01,MAX('Background Calculations'!$V$81*0.8,KW18),MAX('Background Calculations'!$V$76,'Background Calculations'!$V$81*0.75))","v":0},null,{"$f":"IF(KY18>0.01,MAX('Background Calculations'!$V$82*0.8,KY18),MAX('Background Calculations'!$V$77,'Background Calculations'!$V$82*0.75))","v":0},null,null,2017,{"$f":"IF(LC18>0.01,MAX('Background Calculations'!$V$80*0.8,LC18),MAX('Background Calculations'!$V$75,'Background Calculations'!$V$80*0.75))","v":0},null,{"$f":"IF(LE18>0.01,MAX('Background Calculations'!$V$81*0.8,LE18),MAX('Background Calculations'!$V$76,'Background Calculations'!$V$81*0.75))","v":0},null,{"$f":"IF(LG18>0.01,MAX('Background Calculations'!$V$82*0.8,LG18),MAX('Background Calculations'!$V$77,'Background Calculations'!$V$82*0.75))","v":0},null,null,2017,{"$f":"IF(LK18>0.01,MAX('Background Calculations'!$V$80*0.8,LK18),MAX('Background Calculations'!$V$75,'Background Calculations'!$V$80*0.75))","v":0},null,{"$f":"IF(LM18>0.01,MAX('Background Calculations'!$V$81*0.8,LM18),MAX('Background Calculations'!$V$76,'Background Calculations'!$V$81*0.75))","v":0},null,{"$f":"IF(LO18>0.01,MAX('Background Calculations'!$V$82*0.8,LO18),MAX('Background Calculations'!$V$77,'Background Calculations'!$V$82*0.75))","v":0},null,null,2017,{"$f":"IF(LS18>0.01,MAX('Background Calculations'!$V$80*0.8,LS18),MAX('Background Calculations'!$V$75,'Background Calculations'!$V$80*0.75))","v":0},null,{"$f":"IF(LU18>0.01,MAX('Background Calculations'!$V$81*0.8,LU18),MAX('Background Calculations'!$V$76,'Background Calculations'!$V$81*0.75))","v":0},null,{"$f":"IF(LW18>0.01,MAX('Background Calculations'!$V$82*0.8,LW18),MAX('Background Calculations'!$V$77,'Background Calculations'!$V$82*0.75))","v":0},null,null,2017,{"$f":"IF(MA18>0.01,MAX('Background Calculations'!$V$80*0.8,MA18),MAX('Background Calculations'!$V$75,'Background Calculations'!$V$80*0.75))","v":0},null,{"$f":"IF(MC18>0.01,MAX('Background Calculations'!$V$81*0.8,MC18),MAX('Background Calculations'!$V$76,'Background Calculations'!$V$81*0.75))","v":0},null,{"$f":"IF(ME18>0.01,MAX('Background Calculations'!$V$82*0.8,ME18),MAX('Background Calculations'!$V$77,'Background Calculations'!$V$82*0.75))","v":0},null,null,2017,{"$f":"IF(MI18>0.01,MAX('Background Calculations'!$V$80*0.8,MI18),MAX('Background Calculations'!$V$75,'Background Calculations'!$V$80*0.75))","v":0},null,{"$f":"IF(MK18>0.01,MAX('Background Calculations'!$V$81*0.8,MK18),MAX('Background Calculations'!$V$76,'Background Calculations'!$V$81*0.75))","v":0},null,{"$f":"IF(MM18>0.01,MAX('Background Calculations'!$V$82*0.8,MM18),MAX('Background Calculations'!$V$77,'Background Calculations'!$V$82*0.75))","v":0},null,null,2017,{"$f":"IF(MQ18>0.01,MAX('Background Calculations'!$V$80*0.8,MQ18),MAX('Background Calculations'!$V$75,'Background Calculations'!$V$80*0.75))","v":0},null,{"$f":"IF(MS18>0.01,MAX('Background Calculations'!$V$81*0.8,MS18),MAX('Background Calculations'!$V$76,'Background Calculations'!$V$81*0.75))","v":0},null,{"$f":"IF(MU18>0.01,MAX('Background Calculations'!$V$82*0.8,MU18),MAX('Background Calculations'!$V$77,'Background Calculations'!$V$82*0.75))","v":0},null,null,2017,{"$f":"IF(MY18>0.01,MAX('Background Calculations'!$V$80*0.8,MY18),MAX('Background Calculations'!$V$75,'Background Calculations'!$V$80*0.75))","v":0},null,{"$f":"IF(NA18>0.01,MAX('Background Calculations'!$V$81*0.8,NA18),MAX('Background Calculations'!$V$76,'Background Calculations'!$V$81*0.75))","v":0},null,{"$f":"IF(NC18>0.01,MAX('Background Calculations'!$V$82*0.8,NC18),MAX('Background Calculations'!$V$77,'Background Calculations'!$V$82*0.75))","v":0},null,null,2017,{"$f":"IF(NG18>0.01,MAX('Background Calculations'!$V$80*0.8,NG18),MAX('Background Calculations'!$V$75,'Background Calculations'!$V$80*0.75))","v":0},null,{"$f":"IF(NI18>0.01,MAX('Background Calculations'!$V$81*0.8,NI18),MAX('Background Calculations'!$V$76,'Background Calculations'!$V$81*0.75))","v":0},null,{"$f":"IF(NK18>0.01,MAX('Background Calculations'!$V$82*0.8,NK18),MAX('Background Calculations'!$V$77,'Background Calculations'!$V$82*0.75))","v":0},null,null,2017,{"$f":"IF(NO18>0.01,MAX('Background Calculations'!$V$80*0.8,NO18),MAX('Background Calculations'!$V$75,'Background Calculations'!$V$80*0.75))","v":0},null,{"$f":"IF(NQ18>0.01,MAX('Background Calculations'!$V$81*0.8,NQ18),MAX('Background Calculations'!$V$76,'Background Calculations'!$V$81*0.75))","v":0},null,{"$f":"IF(NS18>0.01,MAX('Background Calculations'!$V$82*0.8,NS18),MAX('Background Calculations'!$V$77,'Background Calculations'!$V$82*0.75))","v":0},null,null,2017,{"$f":"IF(NW18>0.01,MAX('Background Calculations'!$V$80*0.8,NW18),MAX('Background Calculations'!$V$75,'Background Calculations'!$V$80*0.75))","v":0},null,{"$f":"IF(NY18>0.01,MAX('Background Calculations'!$V$81*0.8,NY18),MAX('Background Calculations'!$V$76,'Background Calculations'!$V$81*0.75))","v":0},null,{"$f":"IF(OA18>0.01,MAX('Background Calculations'!$V$82*0.8,OA18),MAX('Background Calculations'!$V$77,'Background Calculations'!$V$82*0.75))","v":0},null,null,2017,{"$f":"IF(OE18>0.01,MAX('Background Calculations'!$V$80*0.8,OE18),MAX('Background Calculations'!$V$75,'Background Calculations'!$V$80*0.75))","v":0},null,{"$f":"IF(OG18>0.01,MAX('Background Calculations'!$V$81*0.8,OG18),MAX('Background Calculations'!$V$76,'Background Calculations'!$V$81*0.75))","v":0},null,{"$f":"IF(OI18>0.01,MAX('Background Calculations'!$V$82*0.8,OI18),MAX('Background Calculations'!$V$77,'Background Calculations'!$V$82*0.75))","v":0},null,null,2017,{"$f":"IF(OM18>0.01,MAX('Background Calculations'!$V$80*0.8,OM18),MAX('Background Calculations'!$V$75,'Background Calculations'!$V$80*0.75))","v":0},null,{"$f":"IF(OO18>0.01,MAX('Background Calculations'!$V$81*0.8,OO18),MAX('Background Calculations'!$V$76,'Background Calculations'!$V$81*0.75))","v":0},null,{"$f":"IF(OQ18>0.01,MAX('Background Calculations'!$V$82*0.8,OQ18),MAX('Background Calculations'!$V$77,'Background Calculations'!$V$82*0.75))","v":0}]
[null,null,"By Farm",{"$f":"H5*$C$46*0.65","v":0},null,null,null,null,null,null,"By Farm",{"$f":"P5*$C$46*0.65","v":0},null,null,null,null,null,null,"By Farm",{"$f":"X5*$C$46*0.65","v":0},null,null,null,null,null,null,"By Farm",{"$f":"AF5*$C$46*0.65","v":0},null,null,null,null,null,null,"By Farm",{"$f":"AN5*$C$46*0.65","v":0},null,null,null,null,null,null,"By Farm",{"$f":"AV5*$C$46*0.65","v":0},null,null,null,null,null,null,"By Farm",{"$f":"BD5*$C$46*0.65","v":0},null,null,null,null,null,null,"By Farm",{"$f":"BL5*$C$46*0.65","v":0},null,null,null,null,null,null,"By Farm",{"$f":"BT5*$C$46*0.65","v":0},null,null,null,null,null,null,"By Farm",{"$f":"CB5*$C$46*0.65","v":0},null,null,null,null,null,null,"By Farm",{"$f":"CJ5*$C$46*0.65","v":0},null,null,null,null,null,null,"By Farm",{"$f":"CR5*$C$46*0.65","v":0},null,null,null,null,null,null,"By Farm",{"$f":"CZ5*$C$46*0.65","v":0},null,null,null,null,null,null,"By Farm",{"$f":"DH5*$C$46*0.65","v":0},null,null,null,null,null,null,"By Farm",{"$f":"DP5*$C$46*0.65","v":0},null,null,null,null,null,null,"By Farm",{"$f":"DX5*$C$46*0.65","v":0},null,null,null,null,null,null,"By Farm",{"$f":"EF5*$C$46*0.65","v":0},null,null,null,null,null,null,"By Farm",{"$f":"EN5*$C$46*0.65","v":0},null,null,null,null,null,null,"By Farm",{"$f":"EV5*$C$46*0.65","v":0},null,null,null,null,null,null,"By Farm",{"$f":"FD5*$C$46*0.65","v":0},null,null,null,null,null,null,"By Farm",{"$f":"FL5*$C$46*0.65","v":0},null,null,null,null,null,null,"By Farm",{"$f":"FT5*$C$46*0.65","v":0},null,null,null,null,null,null,"By Farm",{"$f":"GB5*$C$46*0.65","v":0},null,null,null,null,null,null,"By Farm",{"$f":"GJ5*$C$46*0.65","v":0},null,null,null,null,null,null,"By Farm",{"$f":"GR5*$C$46*0.65","v":0},null,null,null,null,null,null,"By Farm",{"$f":"GZ5*$C$46*0.65","v":0},null,null,null,null,null,null,"By Farm",{"$f":"HH5*$C$46*0.65","v":0},null,null,null,null,null,null,"By Farm",{"$f":"HP5*$C$46*0.65","v":0},null,null,null,null,null,null,"By Farm",{"$f":"HX5*$C$46*0.65","v":0},null,null,null,null,null,null,"By Farm",{"$f":"IF5*$C$46*0.65","v":0},null,null,null,null,null,null,"By Farm",{"$f":"IN5*$C$46*0.65","v":0},null,null,null,null,null,null,"By Farm",{"$f":"IV5*$C$46*0.65","v":0},null,null,null,null,null,null,"By Farm",{"$f":"JD5*$C$46*0.65","v":0},null,null,null,null,null,null,"By Farm",{"$f":"JL5*$C$46*0.65","v":0},null,null,null,null,null,null,"By Farm",{"$f":"JT5*$C$46*0.65","v":0},null,null,null,null,null,null,"By Farm",{"$f":"KB5*$C$46*0.65","v":0},null,null,null,null,null,null,"By Farm",{"$f":"KJ5*$C$46*0.65","v":0},null,null,null,null,null,null,"By Farm",{"$f":"KR5*$C$46*0.65","v":0},null,null,null,null,null,null,"By Farm",{"$f":"KZ5*$C$46*0.65","v":0},null,null,null,null,null,null,"By Farm",{"$f":"LH5*$C$46*0.65","v":0},null,null,null,null,null,null,"By Farm",{"$f":"LP5*$C$46*0.65","v":0},null,null,null,null,null,null,"By Farm",{"$f":"LX5*$C$46*0.65","v":0},null,null,null,null,null,null,"By Farm",{"$f":"MF5*$C$46*0.65","v":0},null,null,null,null,null,null,"By Farm",{"$f":"MN5*$C$46*0.65","v":0},null,null,null,null,null,null,"By Farm",{"$f":"MV5*$C$46*0.65","v":0},null,null,null,null,null,null,"By Farm",{"$f":"ND5*$C$46*0.65","v":0},null,null,null,null,null,null,"By Farm",{"$f":"NL5*$C$46*0.65","v":0},null,null,null,null,null,null,"By Farm",{"$f":"NT5*$C$46*0.65","v":0},null,null,null,null,null,null,"By Farm",{"$f":"OB5*$C$46*0.65","v":0},null,null,null,null,null,null,"By Farm",{"$f":"OJ5*$C$46*0.65","v":0},null,null,null,null,null,null,"By Farm",{"$f":"OR5*$C$46*0.65","v":0}]
["Combined Total Benchmark Revenue",null,{"$f":"SUM(C32:OR32)","v":0}]
["86% Guaratee/ac",null,{"$f":"C41*0.86","v":0}]
["Combined Actaul Revenue/ac",null,{"$f":"SUM(C33:OR33)/C48","v":1136.0000000000002}]
["Shortfall/ac",null,{"$f":"C42-C43","v":-1136.0000000000002}]
["10% Max Payment/ac",null,{"$f":"0.1*C41","v":0}]
[null,"Payment Rate",{"$f":"IF(C44>0,MIN(C45,C44),0)","v":0}]
["Combined All Farms Total Payment",null,null,null,{"$f":"SUM(C40:OR40)","v":0}]
[null,"Total Planted and Considered Planted",{"$f":"A108+A118+A128","v":100}]
[]
[]
[null,null,"FSA PLC WEIGHTED YIELDS"]
[null,null,"Commodity","Corn",null,"Soybeans",null,"Wheat",null,"Total Base Acres",null,"Yield",null,"Yield",null,"Yield"]
[null,null,"Combined Base Acres",{"$f":"A58","v":0},null,{"$f":"A59","v":0},null,{"$f":"A60","v":0},null,{"$f":"SUM(D53:H53)","v":0},null,{"$f":"IF(C5*C6>0.1,C5*C6,0)+IF(K5*K6>0.1,K5*K6,0)+IF(S5*S6>0.1,S5*S6,0)+IF(AA5*AA6>0.1,AA5*AA6,0)+IF(AI5*AI6>0.1,AI5*AI6,0)","v":0},null,{"$f":"IF(E5*E6>0.1,E5*E6,0)+IF(M5*M6>0.1,M5*M6,0)+IF(U5*U6>0.1,U5*U6,0)+IF(AC5*AC6>0.1,AC5*AC6,0)+IF(AK5*AK6>0.1,AK5*AK6,0)","v":0},null,{"$f":"IF(G5*G6>0.1,G5*G6,0)+IF(O5*O6>0.1,O5*O6,0)+IF(W5*W6>0.1,W5*W6,0)+IF(AE5*AE6>0.1,AE5*AE6,0)+IF(AM5*AM6>0.1,AM5*AM6,0)","v":0}]
[null,null,"Weighted 2018 PLC Yield",{"$f":"A61","v":0},null,{"$f":"A62","v":0},null,{"$f":"A63","v":0},null,null,null,{"$f":"IFERROR((L53/(C5+K5+S5+AA5+AI5)),0)","v":0},null,{"$f":"IFERROR((N53/(E5+M5+U5+AC5+AK5)),0)","v":0},null,{"$f":"IFERROR((P53/(G5+O5+W5+AE5+AM5)),0)","v":0}]
[null,null,"13-17 Historical Irrigated Percentage",{"$f":"A67","v":0},null,{"$f":"A68","v":0},null,{"$f":"A69","v":0},null,null,null,{"$f":"IFERROR((C7*C5+K7*K5+S7*S5+AA7*AA5+AI7*AI5)/(C5+K5+S5+AA5+AI5),0)","v":0},null,{"$f":"IFERROR((E7*E5+M7*M5+U7*U5+AC7*AC5+AK7*AK5)/(E5+M5+U5+AC5+AK5),0)","v":0},null,{"$f":"IFERROR((G7*G5+O7*O5+W7*W5+AE7*AE5+AM7*AM5)/(G5+O5+W5+AE5+AM5),0)","v":0}]
[]
["FSA Base and PLC Yields"]
[{"$f":"IFERROR(SUM(C58:OR58),0)","v":0},"CornAcres",{"$f":"C5","v":0},null,null,null,null,null,null,null,{"$f":"K5","v":0},null,null,null,null,null,null,null,{"$f":"S5","v":0},null,null,null,null,null,null,null,{"$f":"AA5","v":0},null,null,null,null,null,null,null,{"$f":"AI5","v":0},null,null,null,null,null,null,null,{"$f":"AQ5","v":0},null,null,null,null,null,null,null,{"$f":"AY5","v":0},null,null,null,null,null,null,null,{"$f":"BG5","v":0},null,null,null,null,null,null,null,{"$f":"BO5","v":0},null,null,null,null,null,null,null,{"$f":"BW5","v":0},null,null,null,null,null,null,null,{"$f":"CE5","v":0},null,null,null,null,null,null,null,{"$f":"CM5","v":0},null,null,null,null,null,null,null,{"$f":"CU5","v":0},null,null,null,null,null,null,null,{"$f":"DC5","v":0},null,null,null,null,null,null,null,{"$f":"DK5","v":0},null,null,null,null,null,null,null,{"$f":"DS5","v":0},null,null,null,null,null,null,null,{"$f":"EA5","v":0},null,null,null,null,null,null,null,{"$f":"EI5","v":0},null,null,null,null,null,null,null,{"$f":"EQ5","v":0},null,null,null,null,null,null,null,{"$f":"EY5","v":0},null,null,null,null,null,null,null,{"$f":"FG5","v":0},null,null,null,null,null,null,null,{"$f":"FO5","v":0},null,null,null,null,null,null,null,{"$f":"FW5","v":0},null,null,null,null,null,null,null,{"$f":"GE5","v":0},null,null,null,null,null,null,null,{"$f":"GM5","v":0},null,null,null,null,null,null,null,{"$f":"GU5","v":0},null,null,null,null,null,null,null,{"$f":"HC5","v":0},null,null,null,null,null,null,null,{"$f":"HK5","v":0},null,null,null,null,null,null,null,{"$f":"HS5","v":0},null,null,null,null,null,null,null,{"$f":"IA5","v":0},null,null,null,null,null,null,null,{"$f":"II5","v":0},null,null,null,null,null,null,null,{"$f":"IQ5","v":0},null,null,null,null,null,null,null,{"$f":"IY5","v":0},null,null,null,null,null,null,null,{"$f":"JG5","v":0},null,null,null,null,null,null,null,{"$f":"JO5","v":0},null,null,null,null,null,null,null,{"$f":"JW5","v":0},null,null,null,null,null,null,null,{"$f":"KE5","v":0},null,null,null,null,null,null,null,{"$f":"KM5","v":0},null,null,null,null,null,null,null,{"$f":"KU5","v":0},null,null,null,null,null,null,null,{"$f":"LC5","v":0},null,null,null,null,null,null,null,{"$f":"LK5","v":0},null,null,null,null,null,null,null,{"$f":"LS5","v":0},null,null,null,null,null,null,null,{"$f":"MA5","v":0},null,null,null,null,null,null,null,{"$f":"MI5","v":0},null,null,null,null,null,null,null,{"$f":"MQ5","v":0},null,null,null,null,null,null,null,{"$f":"MY5","v":0},null,null,null,null,null,null,null,{"$f":"NG5","v":0},null,null,null,null,null,null,null,{"$f":"NO5","v":0},null,null,null,null,null,null,null,{"$f":"NW5","v":0},null,null,null,null,null,null,null,{"$f":"OE5","v":0},null,null,null,null,null,null,null,{"$f":"OM5","v":0}]
[{"$f":"IFERROR(SUM(C59:OR59),0)","v":0},"SoysAcres",{"$f":"E5","v":0},null,null,null,null,null,null,null,{"$f":"M5","v":0},null,null,null,null,null,null,null,{"$f":"U5","v":0},null,null,null,null,null,null,null,{"$f":"AC5","v":0},null,null,null,null,null,null,null,{"$f":"AK5","v":0},null,null,null,null,null,null,null,{"$f":"AS5","v":0},null,null,null,null,null,null,null,{"$f":"BA5","v":0},null,null,null,null,null,null,null,{"$f":"BI5","v":0},null,null,null,null,null,null,null,{"$f":"BQ5","v":0},null,null,null,null,null,null,null,{"$f":"BY5","v":0},null,null,null,null,null,null,null,{"$f":"CG5","v":0},null,null,null,null,null,null,null,{"$f":"CO5","v":0},null,null,null,null,null,null,null,{"$f":"CW5","v":0},null,null,null,null,null,null,null,{"$f":"DE5","v":0},null,null,null,null,null,null,null,{"$f":"DM5","v":0},null,null,null,null,null,null,null,{"$f":"DU5","v":0},null,null,null,null,null,null,null,{"$f":"EC5","v":0},null,null,null,null,null,null,null,{"$f":"EK5","v":0},null,null,null,null,null,null,null,{"$f":"ES5","v":0},null,null,null,null,null,null,null,{"$f":"FA5","v":0},null,null,null,null,null,null,null,{"$f":"FI5","v":0},null,null,null,null,null,null,null,{"$f":"FQ5","v":0},null,null,null,null,null,null,null,{"$f":"FY5","v":0},null,null,null,null,null,null,null,{"$f":"GG5","v":0},null,null,null,null,null,null,null,{"$f":"GO5","v":0},null,null,null,null,null,null,null,{"$f":"GW5","v":0},null,null,null,null,null,null,null,{"$f":"HE5","v":0},null,null,null,null,null,null,null,{"$f":"HM5","v":0},null,null,null,null,null,null,null,{"$f":"HU5","v":0},null,null,null,null,null,null,null,{"$f":"IC5","v":0},null,null,null,null,null,null,null,{"$f":"IK5","v":0},null,null,null,null,null,null,null,{"$f":"IS5","v":0},null,null,null,null,null,null,null,{"$f":"JA5","v":0},null,null,null,null,null,null,null,{"$f":"JI5","v":0},null,null,null,null,null,null,null,{"$f":"JQ5","v":0},null,null,null,null,null,null,null,{"$f":"JY5","v":0},null,null,null,null,null,null,null,{"$f":"KG5","v":0},null,null,null,null,null,null,null,{"$f":"KO5","v":0},null,null,null,null,null,null,null,{"$f":"KW5","v":0},null,null,null,null,null,null,null,{"$f":"LE5","v":0},null,null,null,null,null,null,null,{"$f":"LM5","v":0},null,null,null,null,null,null,null,{"$f":"LU5","v":0},null,null,null,null,null,null,null,{"$f":"MC5","v":0},null,null,null,null,null,null,null,{"$f":"MK5","v":0},null,null,null,null,null,null,null,{"$f":"MS5","v":0},null,null,null,null,null,null,null,{"$f":"NA5","v":0},null,null,null,null,null,null,null,{"$f":"NI5","v":0},null,null,null,null,null,null,null,{"$f":"NQ5","v":0},null,null,null,null,null,null,null,{"$f":"NY5","v":0},null,null,null,null,null,null,null,{"$f":"OG5","v":0},null,null,null,null,null,null,null,{"$f":"OO5","v":0}]
[{"$f":"IFERROR(SUM(C60:OR60),0)","v":0},"Wheat Acres",{"$f":"G5","v":0},null,null,null,null,null,null,null,{"$f":"O5","v":0},null,null,null,null,null,null,null,{"$f":"W5","v":0},null,null,null,null,null,null,null,{"$f":"AE5","v":0},null,null,null,null,null,null,null,{"$f":"AM5","v":0},null,null,null,null,null,null,null,{"$f":"AU5","v":0},null,null,null,null,null,null,null,{"$f":"BC5","v":0},null,null,null,null,null,null,null,{"$f":"BK5","v":0},null,null,null,null,null,null,null,{"$f":"BS5","v":0},null,null,null,null,null,null,null,{"$f":"CA5","v":0},null,null,null,null,null,null,null,{"$f":"CI5","v":0},null,null,null,null,null,null,null,{"$f":"CQ5","v":0},null,null,null,null,null,null,null,{"$f":"CY5","v":0},null,null,null,null,null,null,null,{"$f":"DG5","v":0},null,null,null,null,null,null,null,{"$f":"DO5","v":0},null,null,null,null,null,null,null,{"$f":"DW5","v":0},null,null,null,null,null,null,null,{"$f":"EE5","v":0},null,null,null,null,null,null,null,{"$f":"EM5","v":0},null,null,null,null,null,null,null,{"$f":"EU5","v":0},null,null,null,null,null,null,null,{"$f":"FC5","v":0},null,null,null,null,null,null,null,{"$f":"FK5","v":0},null,null,null,null,null,null,null,{"$f":"FS5","v":0},null,null,null,null,null,null,null,{"$f":"GA5","v":0},null,null,null,null,null,null,null,{"$f":"GI5","v":0},null,null,null,null,null,null,null,{"$f":"GQ5","v":0},null,null,null,null,null,null,null,{"$f":"GY5","v":0},null,null,null,null,null,null,null,{"$f":"HG5","v":0},null,null,null,null,null,null,null,{"$f":"HO5","v":0},null,null,null,null,null,null,null,{"$f":"HW5","v":0},null,null,null,null,null,null,null,{"$f":"IE5","v":0},null,null,null,null,null,null,null,{"$f":"IM5","v":0},null,null,null,null,null,null,null,{"$f":"IU5","v":0},null,null,null,null,null,null,null,{"$f":"JC5","v":0},null,null,null,null,null,null,null,{"$f":"JK5","v":0},null,null,null,null,null,null,null,{"$f":"JS5","v":0},null,null,null,null,null,null,null,{"$f":"KA5","v":0},null,null,null,null,null,null,null,{"$f":"KI5","v":0},null,null,null,null,null,null,null,{"$f":"KQ5","v":0},null,null,null,null,null,null,null,{"$f":"KY5","v":0},null,null,null,null,null,null,null,{"$f":"LG5","v":0},null,null,null,null,null,null,null,{"$f":"LO5","v":0},null,null,null,null,null,null,null,{"$f":"LW5","v":0},null,null,null,null,null,null,null,{"$f":"ME5","v":0},null,null,null,null,null,null,null,{"$f":"MM5","v":0},null,null,null,null,null,null,null,{"$f":"MU5","v":0},null,null,null,null,null,null,null,{"$f":"NC5","v":0},null,null,null,null,null,null,null,{"$f":"NK5","v":0},null,null,null,null,null,null,null,{"$f":"NS5","v":0},null,null,null,null,null,null,null,{"$f":"OA5","v":0},null,null,null,null,null,null,null,{"$f":"OI5","v":0},null,null,null,null,null,null,null,{"$f":"OQ5","v":0}]
[{"$f":"IFERROR(SUM(C61:OR61)/A58,0)","v":0},"PLC YIELD Corn",{"$f":"C6*C58","v":0},null,null,null,null,null,null,null,{"$f":"K6*K58","v":0},null,null,null,null,null,null,null,{"$f":"S6*S58","v":0},null,null,null,null,null,null,null,{"$f":"AA6*AA58","v":0},null,null,null,null,null,null,null,{"$f":"AI6*AI58","v":0},null,null,null,null,null,null,null,{"$f":"AQ6*AQ58","v":0},null,null,null,null,null,null,null,{"$f":"AY6*AY58","v":0},null,null,null,null,null,null,null,{"$f":"BG6*BG58","v":0},null,null,null,null,null,null,null,{"$f":"BO6*BO58","v":0},null,null,null,null,null,null,null,{"$f":"BW6*BW58","v":0},null,null,null,null,null,null,null,{"$f":"CE6*CE58","v":0},null,null,null,null,null,null,null,{"$f":"CM6*CM58","v":0},null,null,null,null,null,null,null,{"$f":"CU6*CU58","v":0},null,null,null,null,null,null,null,{"$f":"DC6*DC58","v":0},null,null,null,null,null,null,null,{"$f":"DK6*DK58","v":0},null,null,null,null,null,null,null,{"$f":"DS6*DS58","v":0},null,null,null,null,null,null,null,{"$f":"EA6*EA58","v":0},null,null,null,null,null,null,null,{"$f":"EI6*EI58","v":0},null,null,null,null,null,null,null,{"$f":"EQ6*EQ58","v":0},null,null,null,null,null,null,null,{"$f":"EY6*EY58","v":0},null,null,null,null,null,null,null,{"$f":"FG6*FG58","v":0},null,null,null,null,null,null,null,{"$f":"FO6*FO58","v":0},null,null,null,null,null,null,null,{"$f":"FW6*FW58","v":0},null,null,null,null,null,null,null,{"$f":"GE6*GE58","v":0},null,null,null,null,null,null,null,{"$f":"GM6*GM58","v":0},null,null,null,null,null,null,null,{"$f":"GU6*GU58","v":0},null,null,null,null,null,null,null,{"$f":"HC6*HC58","v":0},null,null,null,null,null,null,null,{"$f":"HK6*HK58","v":0},null,null,null,null,null,null,null,{"$f":"HS6*HS58","v":0},null,null,null,null,null,null,null,{"$f":"IA6*IA58","v":0},null,null,null,null,null,null,null,{"$f":"II6*II58","v":0},null,null,null,null,null,null,null,{"$f":"IQ6*IQ58","v":0},null,null,null,null,null,null,null,{"$f":"IY6*IY58","v":0},null,null,null,null,null,null,null,{"$f":"JG6*JG58","v":0},null,null,null,null,null,null,null,{"$f":"JO6*JO58","v":0},null,null,null,null,null,null,null,{"$f":"JW6*JW58","v":0},null,null,null,null,null,null,null,{"$f":"KE6*KE58","v":0},null,null,null,null,null,null,null,{"$f":"KM6*KM58","v":0},null,null,null,null,null,null,null,{"$f":"KU6*KU58","v":0},null,null,null,null,null,null,null,{"$f":"LC6*LC58","v":0},null,null,null,null,null,null,null,{"$f":"LK6*LK58","v":0},null,null,null,null,null,null,null,{"$f":"LS6*LS58","v":0},null,null,null,null,null,null,null,{"$f":"MA6*MA58","v":0},null,null,null,null,null,null,null,{"$f":"MI6*MI58","v":0},null,null,null,null,null,null,null,{"$f":"MQ6*MQ58","v":0},null,null,null,null,null,null,null,{"$f":"MY6*MY58","v":0},null,null,null,null,null,null,null,{"$f":"NG6*NG58","v":0},null,null,null,null,null,null,null,{"$f":"NO6*NO58","v":0},null,null,null,null,null,null,null,{"$f":"NW6*NW58","v":0},null,null,null,null,null,null,null,{"$f":"OE6*OE58","v":0},null,null,null,null,null,null,null,{"$f":"OM6*OM58","v":0}]
[{"$f":"IFERROR(SUM(C62:OR62)/A59,0)","v":0},"PLC YIELD SOYS",{"$f":"E6*C59","v":0},null,null,null,null,null,null,null,{"$f":"M6*K59","v":0},null,null,null,null,null,null,null,{"$f":"U6*S59","v":0},null,null,null,null,null,null,null,{"$f":"AC6*AA59","v":0},null,null,null,null,null,null,null,{"$f":"AK6*AI59","v":0},null,null,null,null,null,null,null,{"$f":"AS6*AQ59","v":0},null,null,null,null,null,null,null,{"$f":"BA6*AY59","v":0},null,null,null,null,null,null,null,{"$f":"BI6*BG59","v":0},null,null,null,null,null,null,null,{"$f":"BQ6*BO59","v":0},null,null,null,null,null,null,null,{"$f":"BY6*BW59","v":0},null,null,null,null,null,null,null,{"$f":"CG6*CE59","v":0},null,null,null,null,null,null,null,{"$f":"CO6*CM59","v":0},null,null,null,null,null,null,null,{"$f":"CW6*CU59","v":0},null,null,null,null,null,null,null,{"$f":"DE6*DC59","v":0},null,null,null,null,null,null,null,{"$f":"DM6*DK59","v":0},null,null,null,null,null,null,null,{"$f":"DU6*DS59","v":0},null,null,null,null,null,null,null,{"$f":"EC6*EA59","v":0},null,null,null,null,null,null,null,{"$f":"EK6*EI59","v":0},null,null,null,null,null,null,null,{"$f":"ES6*EQ59","v":0},null,null,null,null,null,null,null,{"$f":"FA6*EY59","v":0},null,null,null,null,null,null,null,{"$f":"FI6*FG59","v":0},null,null,null,null,null,null,null,{"$f":"FQ6*FO59","v":0},null,null,null,null,null,null,null,{"$f":"FY6*FW59","v":0},null,null,null,null,null,null,null,{"$f":"GG6*GE59","v":0},null,null,null,null,null,null,null,{"$f":"GO6*GM59","v":0},null,null,null,null,null,null,null,{"$f":"GW6*GU59","v":0},null,null,null,null,null,null,null,{"$f":"HE6*HC59","v":0},null,null,null,null,null,null,null,{"$f":"HM6*HK59","v":0},null,null,null,null,null,null,null,{"$f":"HU6*HS59","v":0},null,null,null,null,null,null,null,{"$f":"IC6*IA59","v":0},null,null,null,null,null,null,null,{"$f":"IK6*II59","v":0},null,null,null,null,null,null,null,{"$f":"IS6*IQ59","v":0},null,null,null,null,null,null,null,{"$f":"JA6*IY59","v":0},null,null,null,null,null,null,null,{"$f":"JI6*JG59","v":0},null,null,null,null,null,null,null,{"$f":"JQ6*JO59","v":0},null,null,null,null,null,null,null,{"$f":"JY6*JW59","v":0},null,null,null,null,null,null,null,{"$f":"KG6*KE59","v":0},null,null,null,null,null,null,null,{"$f":"KO6*KM59","v":0},null,null,null,null,null,null,null,{"$f":"KW6*KU59","v":0},null,null,null,null,null,null,null,{"$f":"LE6*LC59","v":0},null,null,null,null,null,null,null,{"$f":"LM6*LK59","v":0},null,null,null,null,null,null,null,{"$f":"LU6*LS59","v":0},null,null,null,null,null,null,null,{"$f":"MC6*MA59","v":0},null,null,null,null,null,null,null,{"$f":"MK6*MI59","v":0},null,null,null,null,null,null,null,{"$f":"MS6*MQ59","v":0},null,null,null,null,null,null,null,{"$f":"NA6*MY59","v":0},null,null,null,null,null,null,null,{"$f":"NI6*NG59","v":0},null,null,null,null,null,null,null,{"$f":"NQ6*NO59","v":0},null,null,null,null,null,null,null,{"$f":"NY6*NW59","v":0},null,null,null,null,null,null,null,{"$f":"OG6*OE59","v":0},null,null,null,null,null,null,null,{"$f":"OO6*OM59","v":0}]
[{"$f":"IFERROR(SUM(C63:OR63)/A60,0)","v":0},"PLC YIELD WHEAT",{"$f":"G6*C60","v":0},null,null,null,null,null,null,null,{"$f":"O6*K60","v":0},null,null,null,null,null,null,null,{"$f":"W6*S60","v":0},null,null,null,null,null,null,null,{"$f":"AE6*AA60","v":0},null,null,null,null,null,null,null,{"$f":"AM6*AI60","v":0},null,null,null,null,null,null,null,{"$f":"AU6*AQ60","v":0},null,null,null,null,null,null,null,{"$f":"BC6*AY60","v":0},null,null,null,null,null,null,null,{"$f":"BK6*BG60","v":0},null,null,null,null,null,null,null,{"$f":"BS6*BO60","v":0},null,null,null,null,null,null,null,{"$f":"CA6*BW60","v":0},null,null,null,null,null,null,null,{"$f":"CI6*CE60","v":0},null,null,null,null,null,null,null,{"$f":"CQ6*CM60","v":0},null,null,null,null,null,null,null,{"$f":"CY6*CU60","v":0},null,null,null,null,null,null,null,{"$f":"DG6*DC60","v":0},null,null,null,null,null,null,null,{"$f":"DO6*DK60","v":0},null,null,null,null,null,null,null,{"$f":"DW6*DS60","v":0},null,null,null,null,null,null,null,{"$f":"EE6*EA60","v":0},null,null,null,null,null,null,null,{"$f":"EM6*EI60","v":0},null,null,null,null,null,null,null,{"$f":"EU6*EQ60","v":0},null,null,null,null,null,null,null,{"$f":"FC6*EY60","v":0},null,null,null,null,null,null,null,{"$f":"FK6*FG60","v":0},null,null,null,null,null,null,null,{"$f":"FS6*FO60","v":0},null,null,null,null,null,null,null,{"$f":"GA6*FW60","v":0},null,null,null,null,null,null,null,{"$f":"GI6*GE60","v":0},null,null,null,null,null,null,null,{"$f":"GQ6*GM60","v":0},null,null,null,null,null,null,null,{"$f":"GY6*GU60","v":0},null,null,null,null,null,null,null,{"$f":"HG6*HC60","v":0},null,null,null,null,null,null,null,{"$f":"HO6*HK60","v":0},null,null,null,null,null,null,null,{"$f":"HW6*HS60","v":0},null,null,null,null,null,null,null,{"$f":"IE6*IA60","v":0},null,null,null,null,null,null,null,{"$f":"IM6*II60","v":0},null,null,null,null,null,null,null,{"$f":"IU6*IQ60","v":0},null,null,null,null,null,null,null,{"$f":"JC6*IY60","v":0},null,null,null,null,null,null,null,{"$f":"JK6*JG60","v":0},null,null,null,null,null,null,null,{"$f":"JS6*JO60","v":0},null,null,null,null,null,null,null,{"$f":"KA6*JW60","v":0},null,null,null,null,null,null,null,{"$f":"KI6*KE60","v":0},null,null,null,null,null,null,null,{"$f":"KQ6*KM60","v":0},null,null,null,null,null,null,null,{"$f":"KY6*KU60","v":0},null,null,null,null,null,null,null,{"$f":"LG6*LC60","v":0},null,null,null,null,null,null,null,{"$f":"LO6*LK60","v":0},null,null,null,null,null,null,null,{"$f":"LW6*LS60","v":0},null,null,null,null,null,null,null,{"$f":"ME6*MA60","v":0},null,null,null,null,null,null,null,{"$f":"MM6*MI60","v":0},null,null,null,null,null,null,null,{"$f":"MU6*MQ60","v":0},null,null,null,null,null,null,null,{"$f":"NC6*MY60","v":0},null,null,null,null,null,null,null,{"$f":"NK6*NG60","v":0},null,null,null,null,null,null,null,{"$f":"NS6*NO60","v":0},null,null,null,null,null,null,null,{"$f":"OA6*NW60","v":0},null,null,null,null,null,null,null,{"$f":"OI6*OE60","v":0},null,null,null,null,null,null,null,{"$f":"OQ6*OM60","v":0}]
[{"$f":"IFERROR(SUM(C64:OR64),0)","v":0},"HIP Corn Arces",{"$f":"C7*C58","v":0},null,null,null,null,null,null,null,{"$f":"K7*K58","v":0},null,null,null,null,null,null,null,{"$f":"S7*S58","v":0},null,null,null,null,null,null,null,{"$f":"AA7*AA58","v":0},null,null,null,null,null,null,null,{"$f":"AI7*AI58","v":0},null,null,null,null,null,null,null,{"$f":"AQ7*AQ58","v":0},null,null,null,null,null,null,null,{"$f":"AY7*AY58","v":0},null,null,null,null,null,null,null,{"$f":"BG7*BG58","v":0},null,null,null,null,null,null,null,{"$f":"BO7*BO58","v":0},null,null,null,null,null,null,null,{"$f":"BW7*BW58","v":0},null,null,null,null,null,null,null,{"$f":"CE7*CE58","v":0},null,null,null,null,null,null,null,{"$f":"CM7*CM58","v":0},null,null,null,null,null,null,null,{"$f":"CU7*CU58","v":0},null,null,null,null,null,null,null,{"$f":"DC7*DC58","v":0},null,null,null,null,null,null,null,{"$f":"DK7*DK58","v":0},null,null,null,null,null,null,null,{"$f":"DS7*DS58","v":0},null,null,null,null,null,null,null,{"$f":"EA7*EA58","v":0},null,null,null,null,null,null,null,{"$f":"EI7*EI58","v":0},null,null,null,null,null,null,null,{"$f":"EQ7*EQ58","v":0},null,null,null,null,null,null,null,{"$f":"EY7*EY58","v":0},null,null,null,null,null,null,null,{"$f":"FG7*FG58","v":0},null,null,null,null,null,null,null,{"$f":"FO7*FO58","v":0},null,null,null,null,null,null,null,{"$f":"FW7*FW58","v":0},null,null,null,null,null,null,null,{"$f":"GE7*GE58","v":0},null,null,null,null,null,null,null,{"$f":"GM7*GM58","v":0},null,null,null,null,null,null,null,{"$f":"GU7*GU58","v":0},null,null,null,null,null,null,null,{"$f":"HC7*HC58","v":0},null,null,null,null,null,null,null,{"$f":"HK7*HK58","v":0},null,null,null,null,null,null,null,{"$f":"HS7*HS58","v":0},null,null,null,null,null,null,null,{"$f":"IA7*IA58","v":0},null,null,null,null,null,null,null,{"$f":"II7*II58","v":0},null,null,null,null,null,null,null,{"$f":"IQ7*IQ58","v":0},null,null,null,null,null,null,null,{"$f":"IY7*IY58","v":0},null,null,null,null,null,null,null,{"$f":"JG7*JG58","v":0},null,null,null,null,null,null,null,{"$f":"JO7*JO58","v":0},null,null,null,null,null,null,null,{"$f":"JW7*JW58","v":0},null,null,null,null,null,null,null,{"$f":"KE7*KE58","v":0},null,null,null,null,null,null,null,{"$f":"KM7*KM58","v":0},null,null,null,null,null,null,null,{"$f":"KU7*KU58","v":0},null,null,null,null,null,null,null,{"$f":"LC7*LC58","v":0},null,null,null,null,null,null,null,{"$f":"LK7*LK58","v":0},null,null,null,null,null,null,null,{"$f":"LS7*LS58","v":0},null,null,null,null,null,null,null,{"$f":"MA7*MA58","v":0},null,null,null,null,null,null,null,{"$f":"MI7*MI58","v":0},null,null,null,null,null,null,null,{"$f":"MQ7*MQ58","v":0},null,null,null,null,null,null,null,{"$f":"MY7*MY58","v":0},null,null,null,null,null,null,null,{"$f":"NG7*NG58","v":0},null,null,null,null,null,null,null,{"$f":"NO7*NO58","v":0},null,null,null,null,null,null,null,{"$f":"NW7*NW58","v":0},null,null,null,null,null,null,null,{"$f":"OE7*OE58","v":0},null,null,null,null,null,null,null,{"$f":"OM7*OM58","v":0}]
[{"$f":"IFERROR(SUM(C65:OR65),0)","v":0},"HIP SOYS Acres",{"$f":"E7*C59","v":0},null,null,null,null,null,null,null,{"$f":"M7*K59","v":0},null,null,null,null,null,null,null,{"$f":"U7*S59","v":0},null,null,null,null,null,null,null,{"$f":"AC7*AA59","v":0},null,null,null,null,null,null,null,{"$f":"AK7*AI59","v":0},null,null,null,null,null,null,null,{"$f":"AS7*AQ59","v":0},null,null,null,null,null,null,null,{"$f":"BA7*AY59","v":0},null,null,null,null,null,null,null,{"$f":"BI7*BG59","v":0},null,null,null,null,null,null,null,{"$f":"BQ7*BO59","v":0},null,null,null,null,null,null,null,{"$f":"BY7*BW59","v":0},null,null,null,null,null,null,null,{"$f":"CG7*CE59","v":0},null,null,null,null,null,null,null,{"$f":"CO7*CM59","v":0},null,null,null,null,null,null,null,{"$f":"CW7*CU59","v":0},null,null,null,null,null,null,null,{"$f":"DE7*DC59","v":0},null,null,null,null,null,null,null,{"$f":"DM7*DK59","v":0},null,null,null,null,null,null,null,{"$f":"DU7*DS59","v":0},null,null,null,null,null,null,null,{"$f":"EC7*EA59","v":0},null,null,null,null,null,null,null,{"$f":"EK7*EI59","v":0},null,null,null,null,null,null,null,{"$f":"ES7*EQ59","v":0},null,null,null,null,null,null,null,{"$f":"FA7*EY59","v":0},null,null,null,null,null,null,null,{"$f":"FI7*FG59","v":0},null,null,null,null,null,null,null,{"$f":"FQ7*FO59","v":0},null,null,null,null,null,null,null,{"$f":"FY7*FW59","v":0},null,null,null,null,null,null,null,{"$f":"GG7*GE59","v":0},null,null,null,null,null,null,null,{"$f":"GO7*GM59","v":0},null,null,null,null,null,null,null,{"$f":"GW7*GU59","v":0},null,null,null,null,null,null,null,{"$f":"HE7*HC59","v":0},null,null,null,null,null,null,null,{"$f":"HM7*HK59","v":0},null,null,null,null,null,null,null,{"$f":"HU7*HS59","v":0},null,null,null,null,null,null,null,{"$f":"IC7*IA59","v":0},null,null,null,null,null,null,null,{"$f":"IK7*II59","v":0},null,null,null,null,null,null,null,{"$f":"IS7*IQ59","v":0},null,null,null,null,null,null,null,{"$f":"JA7*IY59","v":0},null,null,null,null,null,null,null,{"$f":"JI7*JG59","v":0},null,null,null,null,null,null,null,{"$f":"JQ7*JO59","v":0},null,null,null,null,null,null,null,{"$f":"JY7*JW59","v":0},null,null,null,null,null,null,null,{"$f":"KG7*KE59","v":0},null,null,null,null,null,null,null,{"$f":"KO7*KM59","v":0},null,null,null,null,null,null,null,{"$f":"KW7*KU59","v":0},null,null,null,null,null,null,null,{"$f":"LE7*LC59","v":0},null,null,null,null,null,null,null,{"$f":"LM7*LK59","v":0},null,null,null,null,null,null,null,{"$f":"LU7*LS59","v":0},null,null,null,null,null,null,null,{"$f":"MC7*MA59","v":0},null,null,null,null,null,null,null,{"$f":"MK7*MI59","v":0},null,null,null,null,null,null,null,{"$f":"MS7*MQ59","v":0},null,null,null,null,null,null,null,{"$f":"NA7*MY59","v":0},null,null,null,null,null,null,null,{"$f":"NI7*NG59","v":0},null,null,null,null,null,null,null,{"$f":"NQ7*NO59","v":0},null,null,null,null,null,null,null,{"$f":"NY7*NW59","v":0},null,null,null,null,null,null,null,{"$f":"OG7*OE59","v":0},null,null,null,null,null,null,null,{"$f":"OO7*OM59","v":0}]
[{"$f":"IFERROR(SUM(C66:OR66),0)","v":0},"HIP Wheat Acres",{"$f":"G7*C60","v":0},null,null,null,null,null,null,null,{"$f":"O7*K60","v":0},null,null,null,null,null,null,null,{"$f":"W7*S60","v":0},null,null,null,null,null,null,null,{"$f":"AE7*AA60","v":0},null,null,null,null,null,null,null,{"$f":"AM7*AI60","v":0},null,null,null,null,null,null,null,{"$f":"AU7*AQ60","v":0},null,null,null,null,null,null,null,{"$f":"BC7*AY60","v":0},null,null,null,null,null,null,null,{"$f":"BK7*BG60","v":0},null,null,null,null,null,null,null,{"$f":"BS7*BO60","v":0},null,null,null,null,null,null,null,{"$f":"CA7*BW60","v":0},null,null,null,null,null,null,null,{"$f":"CI7*CE60","v":0},null,null,null,null,null,null,null,{"$f":"CQ7*CM60","v":0},null,null,null,null,null,null,null,{"$f":"CY7*CU60","v":0},null,null,null,null,null,null,null,{"$f":"DG7*DC60","v":0},null,null,null,null,null,null,null,{"$f":"DO7*DK60","v":0},null,null,null,null,null,null,null,{"$f":"DW7*DS60","v":0},null,null,null,null,null,null,null,{"$f":"EE7*EA60","v":0},null,null,null,null,null,null,null,{"$f":"EM7*EI60","v":0},null,null,null,null,null,null,null,{"$f":"EU7*EQ60","v":0},null,null,null,null,null,null,null,{"$f":"FC7*EY60","v":0},null,null,null,null,null,null,null,{"$f":"FK7*FG60","v":0},null,null,null,null,null,null,null,{"$f":"FS7*FO60","v":0},null,null,null,null,null,null,null,{"$f":"GA7*FW60","v":0},null,null,null,null,null,null,null,{"$f":"GI7*GE60","v":0},null,null,null,null,null,null,null,{"$f":"GQ7*GM60","v":0},null,null,null,null,null,null,null,{"$f":"GY7*GU60","v":0},null,null,null,null,null,null,null,{"$f":"HG7*HC60","v":0},null,null,null,null,null,null,null,{"$f":"HO7*HK60","v":0},null,null,null,null,null,null,null,{"$f":"HW7*HS60","v":0},null,null,null,null,null,null,null,{"$f":"IE7*IA60","v":0},null,null,null,null,null,null,null,{"$f":"IM7*II60","v":0},null,null,null,null,null,null,null,{"$f":"IU7*IQ60","v":0},null,null,null,null,null,null,null,{"$f":"JC7*IY60","v":0},null,null,null,null,null,null,null,{"$f":"JK7*JG60","v":0},null,null,null,null,null,null,null,{"$f":"JS7*JO60","v":0},null,null,null,null,null,null,null,{"$f":"KA7*JW60","v":0},null,null,null,null,null,null,null,{"$f":"KI7*KE60","v":0},null,null,null,null,null,null,null,{"$f":"KQ7*KM60","v":0},null,null,null,null,null,null,null,{"$f":"KY7*KU60","v":0},null,null,null,null,null,null,null,{"$f":"LG7*LC60","v":0},null,null,null,null,null,null,null,{"$f":"LO7*LK60","v":0},null,null,null,null,null,null,null,{"$f":"LW7*LS60","v":0},null,null,null,null,null,null,null,{"$f":"ME7*MA60","v":0},null,null,null,null,null,null,null,{"$f":"MM7*MI60","v":0},null,null,null,null,null,null,null,{"$f":"MU7*MQ60","v":0},null,null,null,null,null,null,null,{"$f":"NC7*MY60","v":0},null,null,null,null,null,null,null,{"$f":"NK7*NG60","v":0},null,null,null,null,null,null,null,{"$f":"NS7*NO60","v":0},null,null,null,null,null,null,null,{"$f":"OA7*NW60","v":0},null,null,null,null,null,null,null,{"$f":"OI7*OE60","v":0},null,null,null,null,null,null,null,{"$f":"OQ7*OM60","v":0}]
[{"$f":"IFERROR(A64/A58,0)","v":0},"% HIP Corn"]
[{"$f":"IFERROR(A65/A59,0)","v":0},"% HIP SOYS"]
[{"$f":"IFERROR(A66/A60,0)","v":0},"% HIP WHEAT"]
[]
["Production","Corn","Production",null,null,null,null,null,null,null,"Production",null,null,null,null,null,null,null,"Production",null,null,null,null,null,null,null,"Production",null,null,null,null,null,null,null,"Production",null,null,null,null,null,null,null,"Production",null,null,null,null,null,null,null,"Production",null,null,null,null,null,null,null,"Production",null,null,null,null,null,null,null,"Production",null,null,null,null,null,null,null,"Production",null,null,null,null,null,null,null,"Production",null,null,null,null,null,null,null,"Production",null,null,null,null,null,null,null,"Production",null,null,null,null,null,null,null,"Production",null,null,null,null,null,null,null,"Production",null,null,null,null,null,null,null,"Production",null,null,null,null,null,null,null,"Production",null,null,null,null,null,null,null,"Production",null,null,null,null,null,null,null,"Production",null,null,null,null,null,null,null,"Production",null,null,null,null,null,null,null,"Production",null,null,null,null,null,null,null,"Production",null,null,null,null,null,null,null,"Production",null,null,null,null,null,null,null,"Production",null,null,null,null,null,null,null,"Production",null,null,null,null,null,null,null,"Production",null,null,null,null,null,null,null,"Production",null,null,null,null,null,null,null,"Production",null,null,null,null,null,null,null,"Production",null,null,null,null,null,null,null,"Production",null,null,null,null,null,null,null,"Production",null,null,null,null,null,null,null,"Production",null,null,null,null,null,null,null,"Production",null,null,null,null,null,null,null,"Production",null,null,null,null,null,null,null,"Production",null,null,null,null,null,null,null,"Production",null,null,null,null,null,null,null,"Production",null,null,null,null,null,null,null,"Production",null,null,null,null,null,null,null,"Production",null,null,null,null,null,null,null,"Production",null,null,null,null,null,null,null,"Production",null,null,null,null,null,null,null,"Production",null,null,null,null,null,null,null,"Production",null,null,null,null,null,null,null,"Production",null,null,null,null,null,null,null,"Production",null,null,null,null,null,null,null,"Production",null,null,null,null,null,null,null,"Production",null,null,null,null,null,null,null,"Production",null,null,null,null,null,null,null,"Production",null,null,null,null,null,null,null,"Production",null,null,null,null,null,null,null,"Production"]
[{"$f":"SUM(C72:OR72)","v":0},2013,{"$f":"C14*D14","v":0},null,null,null,null,null,null,null,{"$f":"K14*L14","v":0},null,null,null,null,null,null,null,{"$f":"S14*T14","v":0},null,null,null,null,null,null,null,{"$f":"AA14*AB14","v":0},null,null,null,null,null,null,null,{"$f":"AI14*AJ14","v":0},null,null,null,null,null,null,null,{"$f":"AQ14*AR14","v":0},null,null,null,null,null,null,null,{"$f":"AY14*AZ14","v":0},null,null,null,null,null,null,null,{"$f":"BG14*BH14","v":0},null,null,null,null,null,null,null,{"$f":"BO14*BP14","v":0},null,null,null,null,null,null,null,{"$f":"BW14*BX14","v":0},null,null,null,null,null,null,null,{"$f":"CE14*CF14","v":0},null,null,null,null,null,null,null,{"$f":"CM14*CN14","v":0},null,null,null,null,null,null,null,{"$f":"CU14*CV14","v":0},null,null,null,null,null,null,null,{"$f":"DC14*DD14","v":0},null,null,null,null,null,null,null,{"$f":"DK14*DL14","v":0},null,null,null,null,null,null,null,{"$f":"DS14*DT14","v":0},null,null,null,null,null,null,null,{"$f":"EA14*EB14","v":0},null,null,null,null,null,null,null,{"$f":"EI14*EJ14","v":0},null,null,null,null,null,null,null,{"$f":"EQ14*ER14","v":0},null,null,null,null,null,null,null,{"$f":"EY14*EZ14","v":0},null,null,null,null,null,null,null,{"$f":"FG14*FH14","v":0},null,null,null,null,null,null,null,{"$f":"FO14*FP14","v":0},null,null,null,null,null,null,null,{"$f":"FW14*FX14","v":0},null,null,null,null,null,null,null,{"$f":"GE14*GF14","v":0},null,null,null,null,null,null,null,{"$f":"GM14*GN14","v":0},null,null,null,null,null,null,null,{"$f":"GU14*GV14","v":0},null,null,null,null,null,null,null,{"$f":"HC14*HD14","v":0},null,null,null,null,null,null,null,{"$f":"HK14*HL14","v":0},null,null,null,null,null,null,null,{"$f":"HS14*HT14","v":0},null,null,null,null,null,null,null,{"$f":"IA14*IB14","v":0},null,null,null,null,null,null,null,{"$f":"II14*IJ14","v":0},null,null,null,null,null,null,null,{"$f":"IQ14*IR14","v":0},null,null,null,null,null,null,null,{"$f":"IY14*IZ14","v":0},null,null,null,null,null,null,null,{"$f":"JG14*JH14","v":0},null,null,null,null,null,null,null,{"$f":"JO14*JP14","v":0},null,null,null,null,null,null,null,{"$f":"JW14*JX14","v":0},null,null,null,null,null,null,null,{"$f":"KE14*KF14","v":0},null,null,null,null,null,null,null,{"$f":"KM14*KN14","v":0},null,null,null,null,null,null,null,{"$f":"KU14*KV14","v":0},null,null,null,null,null,null,null,{"$f":"LC14*LD14","v":0},null,null,null,null,null,null,null,{"$f":"LK14*LL14","v":0},null,null,null,null,null,null,null,{"$f":"LS14*LT14","v":0},null,null,null,null,null,null,null,{"$f":"MA14*MB14","v":0},null,null,null,null,null,null,null,{"$f":"MI14*MJ14","v":0},null,null,null,null,null,null,null,{"$f":"MQ14*MR14","v":0},null,null,null,null,null,null,null,{"$f":"MY14*MZ14","v":0},null,null,null,null,null,null,null,{"$f":"NG14*NH14","v":0},null,null,null,null,null,null,null,{"$f":"NO14*NP14","v":0},null,null,null,null,null,null,null,{"$f":"NW14*NX14","v":0},null,null,null,null,null,null,null,{"$f":"OE14*OF14","v":0},null,null,null,null,null,null,null,{"$f":"OM14*ON14","v":0}]
[0,2014,{"$f":"C15*D15","v":0},null,null,null,null,null,null,null,{"$f":"K15*L15","v":0},null,null,null,null,null,null,null,{"$f":"S15*T15","v":0},null,null,null,null,null,null,null,{"$f":"AA15*AB15","v":0},null,null,null,null,null,null,null,{"$f":"AI15*AJ15","v":0},null,null,null,null,null,null,null,{"$f":"AQ15*AR15","v":0},null,null,null,null,null,null,null,{"$f":"AY15*AZ15","v":0},null,null,null,null,null,null,null,{"$f":"BG15*BH15","v":0},null,null,null,null,null,null,null,{"$f":"BO15*BP15","v":0},null,null,null,null,null,null,null,{"$f":"BW15*BX15","v":0},null,null,null,null,null,null,null,{"$f":"CE15*CF15","v":0},null,null,null,null,null,null,null,{"$f":"CM15*CN15","v":0},null,null,null,null,null,null,null,{"$f":"CU15*CV15","v":0},null,null,null,null,null,null,null,{"$f":"DC15*DD15","v":0},null,null,null,null,null,null,null,{"$f":"DK15*DL15","v":0},null,null,null,null,null,null,null,{"$f":"DS15*DT15","v":0},null,null,null,null,null,null,null,{"$f":"EA15*EB15","v":0},null,null,null,null,null,null,null,{"$f":"EI15*EJ15","v":0},null,null,null,null,null,null,null,{"$f":"EQ15*ER15","v":0},null,null,null,null,null,null,null,{"$f":"EY15*EZ15","v":0},null,null,null,null,null,null,null,{"$f":"FG15*FH15","v":0},null,null,null,null,null,null,null,{"$f":"FO15*FP15","v":0},null,null,null,null,null,null,null,{"$f":"FW15*FX15","v":0},null,null,null,null,null,null,null,{"$f":"GE15*GF15","v":0},null,null,null,null,null,null,null,{"$f":"GM15*GN15","v":0},null,null,null,null,null,null,null,{"$f":"GU15*GV15","v":0},null,null,null,null,null,null,null,{"$f":"HC15*HD15","v":0},null,null,null,null,null,null,null,{"$f":"HK15*HL15","v":0},null,null,null,null,null,null,null,{"$f":"HS15*HT15","v":0},null,null,null,null,null,null,null,{"$f":"IA15*IB15","v":0},null,null,null,null,null,null,null,{"$f":"II15*IJ15","v":0},null,null,null,null,null,null,null,{"$f":"IQ15*IR15","v":0},null,null,null,null,null,null,null,{"$f":"IY15*IZ15","v":0},null,null,null,null,null,null,null,{"$f":"JG15*JH15","v":0},null,null,null,null,null,null,null,{"$f":"JO15*JP15","v":0},null,null,null,null,null,null,null,{"$f":"JW15*JX15","v":0},null,null,null,null,null,null,null,{"$f":"KE15*KF15","v":0},null,null,null,null,null,null,null,{"$f":"KM15*KN15","v":0},null,null,null,null,null,null,null,{"$f":"KU15*KV15","v":0},null,null,null,null,null,null,null,{"$f":"LC15*LD15","v":0},null,null,null,null,null,null,null,{"$f":"LK15*LL15","v":0},null,null,null,null,null,null,null,{"$f":"LS15*LT15","v":0},null,null,null,null,null,null,null,{"$f":"MA15*MB15","v":0},null,null,null,null,null,null,null,{"$f":"MI15*MJ15","v":0},null,null,null,null,null,null,null,{"$f":"MQ15*MR15","v":0},null,null,null,null,null,null,null,{"$f":"MY15*MZ15","v":0},null,null,null,null,null,null,null,{"$f":"NG15*NH15","v":0},null,null,null,null,null,null,null,{"$f":"NO15*NP15","v":0},null,null,null,null,null,null,null,{"$f":"NW15*NX15","v":0},null,null,null,null,null,null,null,{"$f":"OE15*OF15","v":0},null,null,null,null,null,null,null,{"$f":"OM15*ON15","v":0}]
[0,2015,0,null,null,null,null,null,null,null,0,null,null,null,null,null,null,null,0,null,null,null,null,null,null,null,0,null,null,null,null,null,null,null,0,null,null,null,null,null,null,null,0,null,null,null,null,null,null,null,0,null,null,null,null,null,null,null,0,null,null,null,null,null,null,null,0,null,null,null,null,null,null,null,0,null,null,null,null,null,null,null,0,null,null,null,null,null,null,null,0,null,null,null,null,null,null,null,0,null,null,null,null,null,null,null,0,null,null,null,null,null,null,null,0,null,null,null,null,null,null,null,0,null,null,null,null,null,null,null,0,null,null,null,null,null,null,null,0,null,null,null,null,null,null,null,0,null,null,null,null,null,null,null,0,null,null,null,null,null,null,null,0,null,null,null,null,null,null,null,0,null,null,null,null,null,null,null,0,null,null,null,null,null,null,null,0,null,null,null,null,null,null,null,0,null,null,null,null,null,null,null,0,null,null,null,null,null,null,null,0,null,null,null,null,null,null,null,0,null,null,null,null,null,null,null,0,null,null,null,null,null,null,null,0,null,null,null,null,null,null,null,0,null,null,null,null,null,null,null,0,null,null,null,null,null,null,null,0,null,null,null,null,null,null,null,0,null,null,null,null,null,null,null,0,null,null,null,null,null,null,null,0,null,null,null,null,null,null,null,0,null,null,null,null,null,null,null,0,null,null,null,null,null,null,null,0,null,null,null,null,null,null,null,0,null,null,null,null,null,null,null,0,null,null,null,null,null,null,null,0,null,null,null,null,null,null,null,0,null,null,null,null,null,null,null,0,null,null,null,null,null,null,null,0,null,null,null,null,null,null,null,0,null,null,null,null,null,null,null,0,null,null,null,null,null,null,null,0,null,null,null,null,null,null,null,0,null,null,null,null,null,null,null,0,null,null,null,null,null,null,null,0]
[0,2016,0,null,null,null,null,null,null,null,0,null,null,null,null,null,null,null,0,null,null,null,null,null,null,null,0,null,null,null,null,null,null,null,0,null,null,null,null,null,null,null,0,null,null,null,null,null,null,null,0,null,null,null,null,null,null,null,0,null,null,null,null,null,null,null,0,null,null,null,null,null,null,null,0,null,null,null,null,null,null,null,0,null,null,null,null,null,null,null,0,null,null,null,null,null,null,null,0,null,null,null,null,null,null,null,0,null,null,null,null,null,null,null,0,null,null,null,null,null,null,null,0,null,null,null,null,null,null,null,0,null,null,null,null,null,null,null,0,null,null,null,null,null,null,null,0,null,null,null,null,null,null,null,0,null,null,null,null,null,null,null,0,null,null,null,null,null,null,null,0,null,null,null,null,null,null,null,0,null,null,null,null,null,null,null,0,null,null,null,null,null,null,null,0,null,null,null,null,null,null,null,0,null,null,null,null,null,null,null,0,null,null,null,null,null,null,null,0,null,null,null,null,null,null,null,0,null,null,null,null,null,null,null,0,null,null,null,null,null,null,null,0,null,null,null,null,null,null,null,0,null,null,null,null,null,null,null,0,null,null,null,null,null,null,null,0,null,null,null,null,null,null,null,0,null,null,null,null,null,null,null,0,null,null,null,null,null,null,null,0,null,null,null,null,null,null,null,0,null,null,null,null,null,null,null,0,null,null,null,null,null,null,null,0,null,null,null,null,null,null,null,0,null,null,null,null,null,null,null,0,null,null,null,null,null,null,null,0,null,null,null,null,null,null,null,0,null,null,null,null,null,null,null,0,null,null,null,null,null,null,null,0,null,null,null,null,null,null,null,0,null,null,null,null,null,null,null,0,null,null,null,null,null,null,null,0,null,null,null,null,null,null,null,0,null,null,null,null,null,null,null,0]
[20000,2017,20000,null,null,null,null,null,null,null,0,null,null,null,null,null,null,null,0,null,null,null,null,null,null,null,0,null,null,null,null,null,null,null,0,null,null,null,null,null,null,null,0,null,null,null,null,null,null,null,0,null,null,null,null,null,null,null,0,null,null,null,null,null,null,null,0,null,null,null,null,null,null,null,0,null,null,null,null,null,null,null,0,null,null,null,null,null,null,null,0,null,null,null,null,null,null,null,0,null,null,null,null,null,null,null,0,null,null,null,null,null,null,null,0,null,null,null,null,null,null,null,0,null,null,null,null,null,null,null,0,null,null,null,null,null,null,null,0,null,null,null,null,null,null,null,0,null,null,null,null,null,null,null,0,null,null,null,null,null,null,null,0,null,null,null,null,null,null,null,0,null,null,null,null,null,null,null,0,null,null,null,null,null,null,null,0,null,null,null,null,null,null,null,0,null,null,null,null,null,null,null,0,null,null,null,null,null,null,null,0,null,null,null,null,null,null,null,0,null,null,null,null,null,null,null,0,null,null,null,null,null,null,null,0,null,null,null,null,null,null,null,0,null,null,null,null,null,null,null,0,null,null,null,null,null,null,null,0,null,null,null,null,null,null,null,0,null,null,null,null,null,null,null,0,null,null,null,null,null,null,null,0,null,null,null,null,null,null,null,0,null,null,null,null,null,null,null,0,null,null,null,null,null,null,null,0,null,null,null,null,null,null,null,0,null,null,null,null,null,null,null,0,null,null,null,null,null,null,null,0,null,null,null,null,null,null,null,0,null,null,null,null,null,null,null,0,null,null,null,null,null,null,null,0,null,null,null,null,null,null,null,0,null,null,null,null,null,null,null,0,null,null,null,null,null,null,null,0,null,null,null,null,null,null,null,0,null,null,null,null,null,null,null,0,null,null,null,null,null,null,null,0]
[0,2018,{"$f":"C19*D19","v":0},null,null,null,null,null,null,null,0,null,null,null,null,null,null,null,0,null,null,null,null,null,null,null,0,null,null,null,null,null,null,null,0,null,null,null,null,null,null,null,0,null,null,null,null,null,null,null,0,null,null,null,null,null,null,null,0,null,null,null,null,null,null,null,0,null,null,null,null,null,null,null,0,null,null,null,null,null,null,null,0,null,null,null,null,null,null,null,0,null,null,null,null,null,null,null,0,null,null,null,null,null,null,null,0,null,null,null,null,null,null,null,0,null,null,null,null,null,null,null,0,null,null,null,null,null,null,null,0,null,null,null,null,null,null,null,0,null,null,null,null,null,null,null,0,null,null,null,null,null,null,null,0,null,null,null,null,null,null,null,0,null,null,null,null,null,null,null,0,null,null,null,null,null,null,null,0,null,null,null,null,null,null,null,0,null,null,null,null,null,null,null,0,null,null,null,null,null,null,null,0,null,null,null,null,null,null,null,0,null,null,null,null,null,null,null,0,null,null,null,null,null,null,null,0,null,null,null,null,null,null,null,0,null,null,null,null,null,null,null,0,null,null,null,null,null,null,null,0,null,null,null,null,null,null,null,0,null,null,null,null,null,null,null,0,null,null,null,null,null,null,null,0,null,null,null,null,null,null,null,0,null,null,null,null,null,null,null,0,null,null,null,null,null,null,null,0,null,null,null,null,null,null,null,0,null,null,null,null,null,null,null,0,null,null,null,null,null,null,null,0,null,null,null,null,null,null,null,0,null,null,null,null,null,null,null,0,null,null,null,null,null,null,null,0,null,null,null,null,null,null,null,0,null,null,null,null,null,null,null,0,null,null,null,null,null,null,null,0,null,null,null,null,null,null,null,0,null,null,null,null,null,null,null,0,null,null,null,null,null,null,null,0,null,null,null,null,null,null,null,0]
[20000,"2019 or Considered",20000,null,null,null,null,null,null,null,0,null,null,null,null,null,null,null,0,null,null,null,null,null,null,null,0,null,null,null,null,null,null,null,0,null,null,null,null,null,null,null,0,null,null,null,null,null,null,null,0,null,null,null,null,null,null,null,0,null,null,null,null,null,null,null,0,null,null,null,null,null,null,null,0,null,null,null,null,null,null,null,0,null,null,null,null,null,null,null,0,null,null,null,null,null,null,null,0,null,null,null,null,null,null,null,0,null,null,null,null,null,null,null,0,null,null,null,null,null,null,null,0,null,null,null,null,null,null,null,0,null,null,null,null,null,null,null,0,null,null,null,null,null,null,null,0,null,null,null,null,null,null,null,0,null,null,null,null,null,null,null,0,null,null,null,null,null,null,null,0,null,null,null,null,null,null,null,0,null,null,null,null,null,null,null,0,null,null,null,null,null,null,null,0,null,null,null,null,null,null,null,0,null,null,null,null,null,null,null,0,null,null,null,null,null,null,null,0,null,null,null,null,null,null,null,0,null,null,null,null,null,null,null,0,null,null,null,null,null,null,null,0,null,null,null,null,null,null,null,0,null,null,null,null,null,null,null,0,null,null,null,null,null,null,null,0,null,null,null,null,null,null,null,0,null,null,null,null,null,null,null,0,null,null,null,null,null,null,null,0,null,null,null,null,null,null,null,0,null,null,null,null,null,null,null,0,null,null,null,null,null,null,null,0,null,null,null,null,null,null,null,0,null,null,null,null,null,null,null,0,null,null,null,null,null,null,null,0,null,null,null,null,null,null,null,0,null,null,null,null,null,null,null,0,null,null,null,null,null,null,null,0,null,null,null,null,null,null,null,0,null,null,null,null,null,null,null,0,null,null,null,null,null,null,null,0,null,null,null,null,null,null,null,0,null,null,null,null,null,null,null,0]
[20000,2020,20000,null,null,null,null,null,null,null,0,null,null,null,null,null,null,null,0,null,null,null,null,null,null,null,0,null,null,null,null,null,null,null,0,null,null,null,null,null,null,null,0,null,null,null,null,null,null,null,0,null,null,null,null,null,null,null,0,null,null,null,null,null,null,null,0,null,null,null,null,null,null,null,0,null,null,null,null,null,null,null,0,null,null,null,null,null,null,null,0,null,null,null,null,null,null,null,0,null,null,null,null,null,null,null,0,null,null,null,null,null,null,null,0,null,null,null,null,null,null,null,0,null,null,null,null,null,null,null,0,null,null,null,null,null,null,null,0,null,null,null,null,null,null,null,0,null,null,null,null,null,null,null,0,null,null,null,null,null,null,null,0,null,null,null,null,null,null,null,0,null,null,null,null,null,null,null,0,null,null,null,null,null,null,null,0,null,null,null,null,null,null,null,0,null,null,null,null,null,null,null,0,null,null,null,null,null,null,null,0,null,null,null,null,null,null,null,0,null,null,null,null,null,null,null,0,null,null,null,null,null,null,null,0,null,null,null,null,null,null,null,0,null,null,null,null,null,null,null,0,null,null,null,null,null,null,null,0,null,null,null,null,null,null,null,0,null,null,null,null,null,null,null,0,null,null,null,null,null,null,null,0,null,null,null,null,null,null,null,0,null,null,null,null,null,null,null,0,null,null,null,null,null,null,null,0,null,null,null,null,null,null,null,0,null,null,null,null,null,null,null,0,null,null,null,null,null,null,null,0,null,null,null,null,null,null,null,0,null,null,null,null,null,null,null,0,null,null,null,null,null,null,null,0,null,null,null,null,null,null,null,0,null,null,null,null,null,null,null,0,null,null,null,null,null,null,null,0,null,null,null,null,null,null,null,0,null,null,null,null,null,null,null,0,null,null,null,null,null,null,null,0]
[{"$f":"SUM(C80:OR80)","v":0}]
[0,"Soys"]
[0,2013,null,null,{"$f":"E14*F14","v":0},null,null,null,null,null,null,null,{"$f":"M14*N14","v":0},null,null,null,null,null,null,null,{"$f":"U14*V14","v":0},null,null,null,null,null,null,null,{"$f":"AC14*AD14","v":0},null,null,null,null,null,null,null,{"$f":"AK14*AL14","v":0},null,null,null,null,null,null,null,{"$f":"AS14*AT14","v":0},null,null,null,null,null,null,null,{"$f":"BA14*BB14","v":0},null,null,null,null,null,null,null,{"$f":"BI14*BJ14","v":0},null,null,null,null,null,null,null,{"$f":"BQ14*BR14","v":0},null,null,null,null,null,null,null,{"$f":"BY14*BZ14","v":0},null,null,null,null,null,null,null,{"$f":"CG14*CH14","v":0},null,null,null,null,null,null,null,{"$f":"CO14*CP14","v":0},null,null,null,null,null,null,null,{"$f":"CW14*CX14","v":0},null,null,null,null,null,null,null,{"$f":"DE14*DF14","v":0},null,null,null,null,null,null,null,{"$f":"DM14*DN14","v":0},null,null,null,null,null,null,null,{"$f":"DU14*DV14","v":0},null,null,null,null,null,null,null,{"$f":"EC14*ED14","v":0},null,null,null,null,null,null,null,{"$f":"EK14*EL14","v":0},null,null,null,null,null,null,null,{"$f":"ES14*ET14","v":0},null,null,null,null,null,null,null,{"$f":"FA14*FB14","v":0},null,null,null,null,null,null,null,{"$f":"FI14*FJ14","v":0},null,null,null,null,null,null,null,{"$f":"FQ14*FR14","v":0},null,null,null,null,null,null,null,{"$f":"FY14*FZ14","v":0},null,null,null,null,null,null,null,{"$f":"GG14*GH14","v":0},null,null,null,null,null,null,null,{"$f":"GO14*GP14","v":0},null,null,null,null,null,null,null,{"$f":"GW14*GX14","v":0},null,null,null,null,null,null,null,{"$f":"HE14*HF14","v":0},null,null,null,null,null,null,null,{"$f":"HM14*HN14","v":0},null,null,null,null,null,null,null,{"$f":"HU14*HV14","v":0},null,null,null,null,null,null,null,{"$f":"IC14*ID14","v":0},null,null,null,null,null,null,null,{"$f":"IK14*IL14","v":0},null,null,null,null,null,null,null,{"$f":"IS14*IT14","v":0},null,null,null,null,null,null,null,{"$f":"JA14*JB14","v":0},null,null,null,null,null,null,null,{"$f":"JI14*JJ14","v":0},null,null,null,null,null,null,null,{"$f":"JQ14*JR14","v":0},null,null,null,null,null,null,null,{"$f":"JY14*JZ14","v":0},null,null,null,null,null,null,null,{"$f":"KG14*KH14","v":0},null,null,null,null,null,null,null,{"$f":"KO14*KP14","v":0},null,null,null,null,null,null,null,{"$f":"KW14*KX14","v":0},null,null,null,null,null,null,null,{"$f":"LE14*LF14","v":0},null,null,null,null,null,null,null,{"$f":"LM14*LN14","v":0},null,null,null,null,null,null,null,{"$f":"LU14*LV14","v":0},null,null,null,null,null,null,null,{"$f":"MC14*MD14","v":0},null,null,null,null,null,null,null,{"$f":"MK14*ML14","v":0},null,null,null,null,null,null,null,{"$f":"MS14*MT14","v":0},null,null,null,null,null,null,null,{"$f":"NA14*NB14","v":0},null,null,null,null,null,null,null,{"$f":"NI14*NJ14","v":0},null,null,null,null,null,null,null,{"$f":"NQ14*NR14","v":0},null,null,null,null,null,null,null,{"$f":"NY14*NZ14","v":0},null,null,null,null,null,null,null,{"$f":"OG14*OH14","v":0},null,null,null,null,null,null,null,{"$f":"OO14*OP14","v":0}]
[0,2014,null,null,{"$f":"E15*F15","v":0},null,null,null,null,null,null,null,{"$f":"M15*N15","v":0},null,null,null,null,null,null,null,{"$f":"U15*V15","v":0},null,null,null,null,null,null,null,{"$f":"AC15*AD15","v":0},null,null,null,null,null,null,null,{"$f":"AK15*AL15","v":0},null,null,null,null,null,null,null,{"$f":"AS15*AT15","v":0},null,null,null,null,null,null,null,{"$f":"BA15*BB15","v":0},null,null,null,null,null,null,null,{"$f":"BI15*BJ15","v":0},null,null,null,null,null,null,null,{"$f":"BQ15*BR15","v":0},null,null,null,null,null,null,null,{"$f":"BY15*BZ15","v":0},null,null,null,null,null,null,null,{"$f":"CG15*CH15","v":0},null,null,null,null,null,null,null,{"$f":"CO15*CP15","v":0},null,null,null,null,null,null,null,{"$f":"CW15*CX15","v":0},null,null,null,null,null,null,null,{"$f":"DE15*DF15","v":0},null,null,null,null,null,null,null,{"$f":"DM15*DN15","v":0},null,null,null,null,null,null,null,{"$f":"DU15*DV15","v":0},null,null,null,null,null,null,null,{"$f":"EC15*ED15","v":0},null,null,null,null,null,null,null,{"$f":"EK15*EL15","v":0},null,null,null,null,null,null,null,{"$f":"ES15*ET15","v":0},null,null,null,null,null,null,null,{"$f":"FA15*FB15","v":0},null,null,null,null,null,null,null,{"$f":"FI15*FJ15","v":0},null,null,null,null,null,null,null,{"$f":"FQ15*FR15","v":0},null,null,null,null,null,null,null,{"$f":"FY15*FZ15","v":0},null,null,null,null,null,null,null,{"$f":"GG15*GH15","v":0},null,null,null,null,null,null,null,{"$f":"GO15*GP15","v":0},null,null,null,null,null,null,null,{"$f":"GW15*GX15","v":0},null,null,null,null,null,null,null,{"$f":"HE15*HF15","v":0},null,null,null,null,null,null,null,{"$f":"HM15*HN15","v":0},null,null,null,null,null,null,null,{"$f":"HU15*HV15","v":0},null,null,null,null,null,null,null,{"$f":"IC15*ID15","v":0},null,null,null,null,null,null,null,{"$f":"IK15*IL15","v":0},null,null,null,null,null,null,null,{"$f":"IS15*IT15","v":0},null,null,null,null,null,null,null,{"$f":"JA15*JB15","v":0},null,null,null,null,null,null,null,{"$f":"JI15*JJ15","v":0},null,null,null,null,null,null,null,{"$f":"JQ15*JR15","v":0},null,null,null,null,null,null,null,{"$f":"JY15*JZ15","v":0},null,null,null,null,null,null,null,{"$f":"KG15*KH15","v":0},null,null,null,null,null,null,null,{"$f":"KO15*KP15","v":0},null,null,null,null,null,null,null,{"$f":"KW15*KX15","v":0},null,null,null,null,null,null,null,{"$f":"LE15*LF15","v":0},null,null,null,null,null,null,null,{"$f":"LM15*LN15","v":0},null,null,null,null,null,null,null,{"$f":"LU15*LV15","v":0},null,null,null,null,null,null,null,{"$f":"MC15*MD15","v":0},null,null,null,null,null,null,null,{"$f":"MK15*ML15","v":0},null,null,null,null,null,null,null,{"$f":"MS15*MT15","v":0},null,null,null,null,null,null,null,{"$f":"NA15*NB15","v":0},null,null,null,null,null,null,null,{"$f":"NI15*NJ15","v":0},null,null,null,null,null,null,null,{"$f":"NQ15*NR15","v":0},null,null,null,null,null,null,null,{"$f":"NY15*NZ15","v":0},null,null,null,null,null,null,null,{"$f":"OG15*OH15","v":0},null,null,null,null,null,null,null,{"$f":"OO15*OP15","v":0}]
[0,2015,null,null,0,null,null,null,null,null,null,null,0,null,null,null,null,null,null,null,0,null,null,null,null,null,null,null,0,null,null,null,null,null,null,null,0,null,null,null,null,null,null,null,0,null,null,null,null,null,null,null,0,null,null,null,null,null,null,null,0,null,null,null,null,null,null,null,0,null,null,null,null,null,null,null,0,null,null,null,null,null,null,null,0,null,null,null,null,null,null,null,0,null,null,null,null,null,null,null,0,null,null,null,null,null,null,null,0,null,null,null,null,null,null,null,0,null,null,null,null,null,null,null,0,null,null,null,null,null,null,null,0,null,null,null,null,null,null,null,0,null,null,null,null,null,null,null,0,null,null,null,null,null,null,null,0,null,null,null,null,null,null,null,0,null,null,null,null,null,null,null,0,null,null,null,null,null,null,null,0,null,null,null,null,null,null,null,0,null,null,null,null,null,null,null,0,null,null,null,null,null,null,null,0,null,null,null,null,null,null,null,0,null,null,null,null,null,null,null,0,null,null,null,null,null,null,null,0,null,null,null,null,null,null,null,0,null,null,null,null,null,null,null,0,null,null,null,null,null,null,null,0,null,null,null,null,null,null,null,0,null,null,null,null,null,null,null,0,null,null,null,null,null,null,null,0,null,null,null,null,null,null,null,0,null,null,null,null,null,null,null,0,null,null,null,null,null,null,null,0,null,null,null,null,null,null,null,0,null,null,null,null,null,null,null,0,null,null,null,null,null,null,null,0,null,null,null,null,null,null,null,0,null,null,null,null,null,null,null,0,null,null,null,null,null,null,null,0,null,null,null,null,null,null,null,0,null,null,null,null,null,null,null,0,null,null,null,null,null,null,null,0,null,null,null,null,null,null,null,0,null,null,null,null,null,null,null,0,null,null,null,null,null,null,null,0,null,null,null,null,null,null,null,0]
[0,2016,null,null,0,null,null,null,null,null,null,null,0,null,null,null,null,null,null,null,0,null,null,null,null,null,null,null,0,null,null,null,null,null,null,null,0,null,null,null,null,null,null,null,0,null,null,null,null,null,null,null,0,null,null,null,null,null,null,null,0,null,null,null,null,null,null,null,0,null,null,null,null,null,null,null,0,null,null,null,null,null,null,null,0,null,null,null,null,null,null,null,0,null,null,null,null,null,null,null,0,null,null,null,null,null,null,null,0,null,null,null,null,null,null,null,0,null,null,null,null,null,null,null,0,null,null,null,null,null,null,null,0,null,null,null,null,null,null,null,0,null,null,null,null,null,null,null,0,null,null,null,null,null,null,null,0,null,null,null,null,null,null,null,0,null,null,null,null,null,null,null,0,null,null,null,null,null,null,null,0,null,null,null,null,null,null,null,0,null,null,null,null,null,null,null,0,null,null,null,null,null,null,null,0,null,null,null,null,null,null,null,0,null,null,null,null,null,null,null,0,null,null,null,null,null,null,null,0,null,null,null,null,null,null,null,0,null,null,null,null,null,null,null,0,null,null,null,null,null,null,null,0,null,null,null,null,null,null,null,0,null,null,null,null,null,null,null,0,null,null,null,null,null,null,null,0,null,null,null,null,null,null,null,0,null,null,null,null,null,null,null,0,null,null,null,null,null,null,null,0,null,null,null,null,null,null,null,0,null,null,null,null,null,null,null,0,null,null,null,null,null,null,null,0,null,null,null,null,null,null,null,0,null,null,null,null,null,null,null,0,null,null,null,null,null,null,null,0,null,null,null,null,null,null,null,0,null,null,null,null,null,null,null,0,null,null,null,null,null,null,null,0,null,null,null,null,null,null,null,0,null,null,null,null,null,null,null,0,null,null,null,null,null,null,null,0,null,null,null,null,null,null,null,0]
[0,2017,null,null,0,null,null,null,null,null,null,null,0,null,null,null,null,null,null,null,0,null,null,null,null,null,null,null,0,null,null,null,null,null,null,null,0,null,null,null,null,null,null,null,0,null,null,null,null,null,null,null,0,null,null,null,null,null,null,null,0,null,null,null,null,null,null,null,0,null,null,null,null,null,null,null,0,null,null,null,null,null,null,null,0,null,null,null,null,null,null,null,0,null,null,null,null,null,null,null,0,null,null,null,null,null,null,null,0,null,null,null,null,null,null,null,0,null,null,null,null,null,null,null,0,null,null,null,null,null,null,null,0,null,null,null,null,null,null,null,0,null,null,null,null,null,null,null,0,null,null,null,null,null,null,null,0,null,null,null,null,null,null,null,0,null,null,null,null,null,null,null,0,null,null,null,null,null,null,null,0,null,null,null,null,null,null,null,0,null,null,null,null,null,null,null,0,null,null,null,null,null,null,null,0,null,null,null,null,null,null,null,0,null,null,null,null,null,null,null,0,null,null,null,null,null,null,null,0,null,null,null,null,null,null,null,0,null,null,null,null,null,null,null,0,null,null,null,null,null,null,null,0,null,null,null,null,null,null,null,0,null,null,null,null,null,null,null,0,null,null,null,null,null,null,null,0,null,null,null,null,null,null,null,0,null,null,null,null,null,null,null,0,null,null,null,null,null,null,null,0,null,null,null,null,null,null,null,0,null,null,null,null,null,null,null,0,null,null,null,null,null,null,null,0,null,null,null,null,null,null,null,0,null,null,null,null,null,null,null,0,null,null,null,null,null,null,null,0,null,null,null,null,null,null,null,0,null,null,null,null,null,null,null,0,null,null,null,null,null,null,null,0,null,null,null,null,null,null,null,0,null,null,null,null,null,null,null,0,null,null,null,null,null,null,null,0,null,null,null,null,null,null,null,0]
[0,2018,null,null,0,null,null,null,null,null,null,null,0,null,null,null,null,null,null,null,0,null,null,null,null,null,null,null,0,null,null,null,null,null,null,null,0,null,null,null,null,null,null,null,0,null,null,null,null,null,null,null,0,null,null,null,null,null,null,null,0,null,null,null,null,null,null,null,0,null,null,null,null,null,null,null,0,null,null,null,null,null,null,null,0,null,null,null,null,null,null,null,0,null,null,null,null,null,null,null,0,null,null,null,null,null,null,null,0,null,null,null,null,null,null,null,0,null,null,null,null,null,null,null,0,null,null,null,null,null,null,null,0,null,null,null,null,null,null,null,0,null,null,null,null,null,null,null,0,null,null,null,null,null,null,null,0,null,null,null,null,null,null,null,0,null,null,null,null,null,null,null,0,null,null,null,null,null,null,null,0,null,null,null,null,null,null,null,0,null,null,null,null,null,null,null,0,null,null,null,null,null,null,null,0,null,null,null,null,null,null,null,0,null,null,null,null,null,null,null,0,null,null,null,null,null,null,null,0,null,null,null,null,null,null,null,0,null,null,null,null,null,null,null,0,null,null,null,null,null,null,null,0,null,null,null,null,null,null,null,0,null,null,null,null,null,null,null,0,null,null,null,null,null,null,null,0,null,null,null,null,null,null,null,0,null,null,null,null,null,null,null,0,null,null,null,null,null,null,null,0,null,null,null,null,null,null,null,0,null,null,null,null,null,null,null,0,null,null,null,null,null,null,null,0,null,null,null,null,null,null,null,0,null,null,null,null,null,null,null,0,null,null,null,null,null,null,null,0,null,null,null,null,null,null,null,0,null,null,null,null,null,null,null,0,null,null,null,null,null,null,null,0,null,null,null,null,null,null,null,0,null,null,null,null,null,null,null,0,null,null,null,null,null,null,null,0,null,null,null,null,null,null,null,0]
[0,"2019 or Considered",null,null,0,null,null,null,null,null,null,null,0,null,null,null,null,null,null,null,0,null,null,null,null,null,null,null,0,null,null,null,null,null,null,null,0,null,null,null,null,null,null,null,0,null,null,null,null,null,null,null,0,null,null,null,null,null,null,null,0,null,null,null,null,null,null,null,0,null,null,null,null,null,null,null,0,null,null,null,null,null,null,null,0,null,null,null,null,null,null,null,0,null,null,null,null,null,null,null,0,null,null,null,null,null,null,null,0,null,null,null,null,null,null,null,0,null,null,null,null,null,null,null,0,null,null,null,null,null,null,null,0,null,null,null,null,null,null,null,0,null,null,null,null,null,null,null,0,null,null,null,null,null,null,null,0,null,null,null,null,null,null,null,0,null,null,null,null,null,null,null,0,null,null,null,null,null,null,null,0,null,null,null,null,null,null,null,0,null,null,null,null,null,null,null,0,null,null,null,null,null,null,null,0,null,null,null,null,null,null,null,0,null,null,null,null,null,null,null,0,null,null,null,null,null,null,null,0,null,null,null,null,null,null,null,0,null,null,null,null,null,null,null,0,null,null,null,null,null,null,null,0,null,null,null,null,null,null,null,0,null,null,null,null,null,null,null,0,null,null,null,null,null,null,null,0,null,null,null,null,null,null,null,0,null,null,null,null,null,null,null,0,null,null,null,null,null,null,null,0,null,null,null,null,null,null,null,0,null,null,null,null,null,null,null,0,null,null,null,null,null,null,null,0,null,null,null,null,null,null,null,0,null,null,null,null,null,null,null,0,null,null,null,null,null,null,null,0,null,null,null,null,null,null,null,0,null,null,null,null,null,null,null,0,null,null,null,null,null,null,null,0,null,null,null,null,null,null,null,0,null,null,null,null,null,null,null,0,null,null,null,null,null,null,null,0,null,null,null,null,null,null,null,0]
[0,2020,null,null,0,null,null,null,null,null,null,null,0,null,null,null,null,null,null,null,0,null,null,null,null,null,null,null,0,null,null,null,null,null,null,null,0,null,null,null,null,null,null,null,0,null,null,null,null,null,null,null,0,null,null,null,null,null,null,null,0,null,null,null,null,null,null,null,0,null,null,null,null,null,null,null,0,null,null,null,null,null,null,null,0,null,null,null,null,null,null,null,0,null,null,null,null,null,null,null,0,null,null,null,null,null,null,null,0,null,null,null,null,null,null,null,0,null,null,null,null,null,null,null,0,null,null,null,null,null,null,null,0,null,null,null,null,null,null,null,0,null,null,null,null,null,null,null,0,null,null,null,null,null,null,null,0,null,null,null,null,null,null,null,0,null,null,null,null,null,null,null,0,null,null,null,null,null,null,null,0,null,null,null,null,null,null,null,0,null,null,null,null,null,null,null,0,null,null,null,null,null,null,null,0,null,null,null,null,null,null,null,0,null,null,null,null,null,null,null,0,null,null,null,null,null,null,null,0,null,null,null,null,null,null,null,0,null,null,null,null,null,null,null,0,null,null,null,null,null,null,null,0,null,null,null,null,null,null,null,0,null,null,null,null,null,null,null,0,null,null,null,null,null,null,null,0,null,null,null,null,null,null,null,0,null,null,null,null,null,null,null,0,null,null,null,null,null,null,null,0,null,null,null,null,null,null,null,0,null,null,null,null,null,null,null,0,null,null,null,null,null,null,null,0,null,null,null,null,null,null,null,0,null,null,null,null,null,null,null,0,null,null,null,null,null,null,null,0,null,null,null,null,null,null,null,0,null,null,null,null,null,null,null,0,null,null,null,null,null,null,null,0,null,null,null,null,null,null,null,0,null,null,null,null,null,null,null,0,null,null,null,null,null,null,null,0,null,null,null,null,null,null,null,0]
[0]
[0,"Wheat"]
[0,2013,null,null,null,null,{"$f":"G14*H14","v":0},null,null,null,null,null,null,null,{"$f":"O14*P14","v":0},null,null,null,null,null,null,null,{"$f":"W14*X14","v":0},null,null,null,null,null,null,null,{"$f":"AE14*AF14","v":0},null,null,null,null,null,null,null,{"$f":"AM14*AN14","v":0},null,null,null,null,null,null,null,{"$f":"AU14*AV14","v":0},null,null,null,null,null,null,null,{"$f":"BC14*BD14","v":0},null,null,null,null,null,null,null,{"$f":"BK14*BL14","v":0},null,null,null,null,null,null,null,{"$f":"BS14*BT14","v":0},null,null,null,null,null,null,null,{"$f":"CA14*CB14","v":0},null,null,null,null,null,null,null,{"$f":"CI14*CJ14","v":0},null,null,null,null,null,null,null,{"$f":"CQ14*CR14","v":0},null,null,null,null,null,null,null,{"$f":"CY14*CZ14","v":0},null,null,null,null,null,null,null,{"$f":"DG14*DH14","v":0},null,null,null,null,null,null,null,{"$f":"DO14*DP14","v":0},null,null,null,null,null,null,null,{"$f":"DW14*DX14","v":0},null,null,null,null,null,null,null,{"$f":"EE14*EF14","v":0},null,null,null,null,null,null,null,{"$f":"EM14*EN14","v":0},null,null,null,null,null,null,null,{"$f":"EU14*EV14","v":0},null,null,null,null,null,null,null,{"$f":"FC14*FD14","v":0},null,null,null,null,null,null,null,{"$f":"FK14*FL14","v":0},null,null,null,null,null,null,null,{"$f":"FS14*FT14","v":0},null,null,null,null,null,null,null,{"$f":"GA14*GB14","v":0},null,null,null,null,null,null,null,{"$f":"GI14*GJ14","v":0},null,null,null,null,null,null,null,{"$f":"GQ14*GR14","v":0},null,null,null,null,null,null,null,{"$f":"GY14*GZ14","v":0},null,null,null,null,null,null,null,{"$f":"HG14*HH14","v":0},null,null,null,null,null,null,null,{"$f":"HO14*HP14","v":0},null,null,null,null,null,null,null,{"$f":"HW14*HX14","v":0},null,null,null,null,null,null,null,{"$f":"IE14*IF14","v":0},null,null,null,null,null,null,null,{"$f":"IM14*IN14","v":0},null,null,null,null,null,null,null,{"$f":"IU14*IV14","v":0},null,null,null,null,null,null,null,{"$f":"JC14*JD14","v":0},null,null,null,null,null,null,null,{"$f":"JK14*JL14","v":0},null,null,null,null,null,null,null,{"$f":"JS14*JT14","v":0},null,null,null,null,null,null,null,{"$f":"KA14*KB14","v":0},null,null,null,null,null,null,null,{"$f":"KI14*KJ14","v":0},null,null,null,null,null,null,null,{"$f":"KQ14*KR14","v":0},null,null,null,null,null,null,null,{"$f":"KY14*KZ14","v":0},null,null,null,null,null,null,null,{"$f":"LG14*LH14","v":0},null,null,null,null,null,null,null,{"$f":"LO14*LP14","v":0},null,null,null,null,null,null,null,{"$f":"LW14*LX14","v":0},null,null,null,null,null,null,null,{"$f":"ME14*MF14","v":0},null,null,null,null,null,null,null,{"$f":"MM14*MN14","v":0},null,null,null,null,null,null,null,{"$f":"MU14*MV14","v":0},null,null,null,null,null,null,null,{"$f":"NC14*ND14","v":0},null,null,null,null,null,null,null,{"$f":"NK14*NL14","v":0},null,null,null,null,null,null,null,{"$f":"NS14*NT14","v":0},null,null,null,null,null,null,null,{"$f":"OA14*OB14","v":0},null,null,null,null,null,null,null,{"$f":"OI14*OJ14","v":0},null,null,null,null,null,null,null,{"$f":"OQ14*OR14","v":0}]
[0,2014,null,null,null,null,{"$f":"G15*H15","v":0},null,null,null,null,null,null,null,{"$f":"O15*P15","v":0},null,null,null,null,null,null,null,{"$f":"W15*X15","v":0},null,null,null,null,null,null,null,{"$f":"AE15*AF15","v":0},null,null,null,null,null,null,null,{"$f":"AM15*AN15","v":0},null,null,null,null,null,null,null,{"$f":"AU15*AV15","v":0},null,null,null,null,null,null,null,{"$f":"BC15*BD15","v":0},null,null,null,null,null,null,null,{"$f":"BK15*BL15","v":0},null,null,null,null,null,null,null,{"$f":"BS15*BT15","v":0},null,null,null,null,null,null,null,{"$f":"CA15*CB15","v":0},null,null,null,null,null,null,null,{"$f":"CI15*CJ15","v":0},null,null,null,null,null,null,null,{"$f":"CQ15*CR15","v":0},null,null,null,null,null,null,null,{"$f":"CY15*CZ15","v":0},null,null,null,null,null,null,null,{"$f":"DG15*DH15","v":0},null,null,null,null,null,null,null,{"$f":"DO15*DP15","v":0},null,null,null,null,null,null,null,{"$f":"DW15*DX15","v":0},null,null,null,null,null,null,null,{"$f":"EE15*EF15","v":0},null,null,null,null,null,null,null,{"$f":"EM15*EN15","v":0},null,null,null,null,null,null,null,{"$f":"EU15*EV15","v":0},null,null,null,null,null,null,null,{"$f":"FC15*FD15","v":0},null,null,null,null,null,null,null,{"$f":"FK15*FL15","v":0},null,null,null,null,null,null,null,{"$f":"FS15*FT15","v":0},null,null,null,null,null,null,null,{"$f":"GA15*GB15","v":0},null,null,null,null,null,null,null,{"$f":"GI15*GJ15","v":0},null,null,null,null,null,null,null,{"$f":"GQ15*GR15","v":0},null,null,null,null,null,null,null,{"$f":"GY15*GZ15","v":0},null,null,null,null,null,null,null,{"$f":"HG15*HH15","v":0},null,null,null,null,null,null,null,{"$f":"HO15*HP15","v":0},null,null,null,null,null,null,null,{"$f":"HW15*HX15","v":0},null,null,null,null,null,null,null,{"$f":"IE15*IF15","v":0},null,null,null,null,null,null,null,{"$f":"IM15*IN15","v":0},null,null,null,null,null,null,null,{"$f":"IU15*IV15","v":0},null,null,null,null,null,null,null,{"$f":"JC15*JD15","v":0},null,null,null,null,null,null,null,{"$f":"JK15*JL15","v":0},null,null,null,null,null,null,null,{"$f":"JS15*JT15","v":0},null,null,null,null,null,null,null,{"$f":"KA15*KB15","v":0},null,null,null,null,null,null,null,{"$f":"KI15*KJ15","v":0},null,null,null,null,null,null,null,{"$f":"KQ15*KR15","v":0},null,null,null,null,null,null,null,{"$f":"KY15*KZ15","v":0},null,null,null,null,null,null,null,{"$f":"LG15*LH15","v":0},null,null,null,null,null,null,null,{"$f":"LO15*LP15","v":0},null,null,null,null,null,null,null,{"$f":"LW15*LX15","v":0},null,null,null,null,null,null,null,{"$f":"ME15*MF15","v":0},null,null,null,null,null,null,null,{"$f":"MM15*MN15","v":0},null,null,null,null,null,null,null,{"$f":"MU15*MV15","v":0},null,null,null,null,null,null,null,{"$f":"NC15*ND15","v":0},null,null,null,null,null,null,null,{"$f":"NK15*NL15","v":0},null,null,null,null,null,null,null,{"$f":"NS15*NT15","v":0},null,null,null,null,null,null,null,{"$f":"OA15*OB15","v":0},null,null,null,null,null,null,null,{"$f":"OI15*OJ15","v":0},null,null,null,null,null,null,null,{"$f":"OQ15*OR15","v":0}]
[0,2015,null,null,null,null,0,null,null,null,null,null,null,null,0,null,null,null,null,null,null,null,0,null,null,null,null,null,null,null,0,null,null,null,null,null,null,null,0,null,null,null,null,null,null,null,0,null,null,null,null,null,null,null,0,null,null,null,null,null,null,null,0,null,null,null,null,null,null,null,0,null,null,null,null,null,null,null,0,null,null,null,null,null,null,null,0,null,null,null,null,null,null,null,0,null,null,null,null,null,null,null,0,null,null,null,null,null,null,null,0,null,null,null,null,null,null,null,0,null,null,null,null,null,null,null,0,null,null,null,null,null,null,null,0,null,null,null,null,null,null,null,0,null,null,null,null,null,null,null,0,null,null,null,null,null,null,null,0,null,null,null,null,null,null,null,0,null,null,null,null,null,null,null,0,null,null,null,null,null,null,null,0,null,null,null,null,null,null,null,0,null,null,null,null,null,null,null,0,null,null,null,null,null,null,null,0,null,null,null,null,null,null,null,0,null,null,null,null,null,null,null,0,null,null,null,null,null,null,null,0,null,null,null,null,null,null,null,0,null,null,null,null,null,null,null,0,null,null,null,null,null,null,null,0,null,null,null,null,null,null,null,0,null,null,null,null,null,null,null,0,null,null,null,null,null,null,null,0,null,null,null,null,null,null,null,0,null,null,null,null,null,null,null,0,null,null,null,null,null,null,null,0,null,null,null,null,null,null,null,0,null,null,null,null,null,null,null,0,null,null,null,null,null,null,null,0,null,null,null,null,null,null,null,0,null,null,null,null,null,null,null,0,null,null,null,null,null,null,null,0,null,null,null,null,null,null,null,0,null,null,null,null,null,null,null,0,null,null,null,null,null,null,null,0,null,null,null,null,null,null,null,0,null,null,null,null,null,null,null,0,null,null,null,null,null,null,null,0,null,null,null,null,null,null,null,0]
[0,2016,null,null,null,null,0,null,null,null,null,null,null,null,0,null,null,null,null,null,null,null,0,null,null,null,null,null,null,null,0,null,null,null,null,null,null,null,0,null,null,null,null,null,null,null,0,null,null,null,null,null,null,null,0,null,null,null,null,null,null,null,0,null,null,null,null,null,null,null,0,null,null,null,null,null,null,null,0,null,null,null,null,null,null,null,0,null,null,null,null,null,null,null,0,null,null,null,null,null,null,null,0,null,null,null,null,null,null,null,0,null,null,null,null,null,null,null,0,null,null,null,null,null,null,null,0,null,null,null,null,null,null,null,0,null,null,null,null,null,null,null,0,null,null,null,null,null,null,null,0,null,null,null,null,null,null,null,0,null,null,null,null,null,null,null,0,null,null,null,null,null,null,null,0,null,null,null,null,null,null,null,0,null,null,null,null,null,null,null,0,null,null,null,null,null,null,null,0,null,null,null,null,null,null,null,0,null,null,null,null,null,null,null,0,null,null,null,null,null,null,null,0,null,null,null,null,null,null,null,0,null,null,null,null,null,null,null,0,null,null,null,null,null,null,null,0,null,null,null,null,null,null,null,0,null,null,null,null,null,null,null,0,null,null,null,null,null,null,null,0,null,null,null,null,null,null,null,0,null,null,null,null,null,null,null,0,null,null,null,null,null,null,null,0,null,null,null,null,null,null,null,0,null,null,null,null,null,null,null,0,null,null,null,null,null,null,null,0,null,null,null,null,null,null,null,0,null,null,null,null,null,null,null,0,null,null,null,null,null,null,null,0,null,null,null,null,null,null,null,0,null,null,null,null,null,null,null,0,null,null,null,null,null,null,null,0,null,null,null,null,null,null,null,0,null,null,null,null,null,null,null,0,null,null,null,null,null,null,null,0,null,null,null,null,null,null,null,0,null,null,null,null,null,null,null,0]
[0,2017,null,null,null,null,0,null,null,null,null,null,null,null,0,null,null,null,null,null,null,null,0,null,null,null,null,null,null,null,0,null,null,null,null,null,null,null,0,null,null,null,null,null,null,null,0,null,null,null,null,null,null,null,0,null,null,null,null,null,null,null,0,null,null,null,null,null,null,null,0,null,null,null,null,null,null,null,0,null,null,null,null,null,null,null,0,null,null,null,null,null,null,null,0,null,null,null,null,null,null,null,0,null,null,null,null,null,null,null,0,null,null,null,null,null,null,null,0,null,null,null,null,null,null,null,0,null,null,null,null,null,null,null,0,null,null,null,null,null,null,null,0,null,null,null,null,null,null,null,0,null,null,null,null,null,null,null,0,null,null,null,null,null,null,null,0,null,null,null,null,null,null,null,0,null,null,null,null,null,null,null,0,null,null,null,null,null,null,null,0,null,null,null,null,null,null,null,0,null,null,null,null,null,null,null,0,null,null,null,null,null,null,null,0,null,null,null,null,null,null,null,0,null,null,null,null,null,null,null,0,null,null,null,null,null,null,null,0,null,null,null,null,null,null,null,0,null,null,null,null,null,null,null,0,null,null,null,null,null,null,null,0,null,null,null,null,null,null,null,0,null,null,null,null,null,null,null,0,null,null,null,null,null,null,null,0,null,null,null,null,null,null,null,0,null,null,null,null,null,null,null,0,null,null,null,null,null,null,null,0,null,null,null,null,null,null,null,0,null,null,null,null,null,null,null,0,null,null,null,null,null,null,null,0,null,null,null,null,null,null,null,0,null,null,null,null,null,null,null,0,null,null,null,null,null,null,null,0,null,null,null,null,null,null,null,0,null,null,null,null,null,null,null,0,null,null,null,null,null,null,null,0,null,null,null,null,null,null,null,0,null,null,null,null,null,null,null,0,null,null,null,null,null,null,null,0]
[0,2018,null,null,null,null,0,null,null,null,null,null,null,null,0,null,null,null,null,null,null,null,0,null,null,null,null,null,null,null,0,null,null,null,null,null,null,null,0,null,null,null,null,null,null,null,0,null,null,null,null,null,null,null,0,null,null,null,null,null,null,null,0,null,null,null,null,null,null,null,0,null,null,null,null,null,null,null,0,null,null,null,null,null,null,null,0,null,null,null,null,null,null,null,0,null,null,null,null,null,null,null,0,null,null,null,null,null,null,null,0,null,null,null,null,null,null,null,0,null,null,null,null,null,null,null,0,null,null,null,null,null,null,null,0,null,null,null,null,null,null,null,0,null,null,null,null,null,null,null,0,null,null,null,null,null,null,null,0,null,null,null,null,null,null,null,0,null,null,null,null,null,null,null,0,null,null,null,null,null,null,null,0,null,null,null,null,null,null,null,0,null,null,null,null,null,null,null,0,null,null,null,null,null,null,null,0,null,null,null,null,null,null,null,0,null,null,null,null,null,null,null,0,null,null,null,null,null,null,null,0,null,null,null,null,null,null,null,0,null,null,null,null,null,null,null,0,null,null,null,null,null,null,null,0,null,null,null,null,null,null,null,0,null,null,null,null,null,null,null,0,null,null,null,null,null,null,null,0,null,null,null,null,null,null,null,0,null,null,null,null,null,null,null,0,null,null,null,null,null,null,null,0,null,null,null,null,null,null,null,0,null,null,null,null,null,null,null,0,null,null,null,null,null,null,null,0,null,null,null,null,null,null,null,0,null,null,null,null,null,null,null,0,null,null,null,null,null,null,null,0,null,null,null,null,null,null,null,0,null,null,null,null,null,null,null,0,null,null,null,null,null,null,null,0,null,null,null,null,null,null,null,0,null,null,null,null,null,null,null,0,null,null,null,null,null,null,null,0,null,null,null,null,null,null,null,0]
[0,"2019 or Considered",null,null,null,null,0,null,null,null,null,null,null,null,0,null,null,null,null,null,null,null,0,null,null,null,null,null,null,null,0,null,null,null,null,null,null,null,0,null,null,null,null,null,null,null,0,null,null,null,null,null,null,null,0,null,null,null,null,null,null,null,0,null,null,null,null,null,null,null,0,null,null,null,null,null,null,null,0,null,null,null,null,null,null,null,0,null,null,null,null,null,null,null,0,null,null,null,null,null,null,null,0,null,null,null,null,null,null,null,0,null,null,null,null,null,null,null,0,null,null,null,null,null,null,null,0,null,null,null,null,null,null,null,0,null,null,null,null,null,null,null,0,null,null,null,null,null,null,null,0,null,null,null,null,null,null,null,0,null,null,null,null,null,null,null,0,null,null,null,null,null,null,null,0,null,null,null,null,null,null,null,0,null,null,null,null,null,null,null,0,null,null,null,null,null,null,null,0,null,null,null,null,null,null,null,0,null,null,null,null,null,null,null,0,null,null,null,null,null,null,null,0,null,null,null,null,null,null,null,0,null,null,null,null,null,null,null,0,null,null,null,null,null,null,null,0,null,null,null,null,null,null,null,0,null,null,null,null,null,null,null,0,null,null,null,null,null,null,null,0,null,null,null,null,null,null,null,0,null,null,null,null,null,null,null,0,null,null,null,null,null,null,null,0,null,null,null,null,null,null,null,0,null,null,null,null,null,null,null,0,null,null,null,null,null,null,null,0,null,null,null,null,null,null,null,0,null,null,null,null,null,null,null,0,null,null,null,null,null,null,null,0,null,null,null,null,null,null,null,0,null,null,null,null,null,null,null,0,null,null,null,null,null,null,null,0,null,null,null,null,null,null,null,0,null,null,null,null,null,null,null,0,null,null,null,null,null,null,null,0,null,null,null,null,null,null,null,0,null,null,null,null,null,null,null,0]
[0,2020,null,null,null,null,0,null,null,null,null,null,null,null,0,null,null,null,null,null,null,null,0,null,null,null,null,null,null,null,0,null,null,null,null,null,null,null,0,null,null,null,null,null,null,null,0,null,null,null,null,null,null,null,0,null,null,null,null,null,null,null,0,null,null,null,null,null,null,null,0,null,null,null,null,null,null,null,0,null,null,null,null,null,null,null,0,null,null,null,null,null,null,null,0,null,null,null,null,null,null,null,0,null,null,null,null,null,null,null,0,null,null,null,null,null,null,null,0,null,null,null,null,null,null,null,0,null,null,null,null,null,null,null,0,null,null,null,null,null,null,null,0,null,null,null,null,null,null,null,0,null,null,null,null,null,null,null,0,null,null,null,null,null,null,null,0,null,null,null,null,null,null,null,0,null,null,null,null,null,null,null,0,null,null,null,null,null,null,null,0,null,null,null,null,null,null,null,0,null,null,null,null,null,null,null,0,null,null,null,null,null,null,null,0,null,null,null,null,null,null,null,0,null,null,null,null,null,null,null,0,null,null,null,null,null,null,null,0,null,null,null,null,null,null,null,0,null,null,null,null,null,null,null,0,null,null,null,null,null,null,null,0,null,null,null,null,null,null,null,0,null,null,null,null,null,null,null,0,null,null,null,null,null,null,null,0,null,null,null,null,null,null,null,0,null,null,null,null,null,null,null,0,null,null,null,null,null,null,null,0,null,null,null,null,null,null,null,0,null,null,null,null,null,null,null,0,null,null,null,null,null,null,null,0,null,null,null,null,null,null,null,0,null,null,null,null,null,null,null,0,null,null,null,null,null,null,null,0,null,null,null,null,null,null,null,0,null,null,null,null,null,null,null,0,null,null,null,null,null,null,null,0,null,null,null,null,null,null,null,0,null,null,null,null,null,null,null,0,null,null,null,null,null,null,null,0]
[]
["Acres","Corn"]
[{"$f":"SUM(C102:OR102)","v":0},2013,null,{"$f":"D14","v":0},null,null,null,null,null,null,null,{"$f":"L14","v":0},null,null,null,null,null,null,null,{"$f":"T14","v":0},null,null,null,null,null,null,null,{"$f":"AB14","v":0},null,null,null,null,null,null,null,{"$f":"AJ14","v":0},null,null,null,null,null,null,null,{"$f":"AR14","v":0},null,null,null,null,null,null,null,{"$f":"AZ14","v":0},null,null,null,null,null,null,null,{"$f":"BH14","v":0},null,null,null,null,null,null,null,{"$f":"BP14","v":0},null,null,null,null,null,null,null,{"$f":"BX14","v":0},null,null,null,null,null,null,null,{"$f":"CF14","v":0},null,null,null,null,null,null,null,{"$f":"CN14","v":0},null,null,null,null,null,null,null,{"$f":"CV14","v":0},null,null,null,null,null,null,null,{"$f":"DD14","v":0},null,null,null,null,null,null,null,{"$f":"DL14","v":0},null,null,null,null,null,null,null,{"$f":"DT14","v":0},null,null,null,null,null,null,null,{"$f":"EB14","v":0},null,null,null,null,null,null,null,{"$f":"EJ14","v":0},null,null,null,null,null,null,null,{"$f":"ER14","v":0},null,null,null,null,null,null,null,{"$f":"EZ14","v":0},null,null,null,null,null,null,null,{"$f":"FH14","v":0},null,null,null,null,null,null,null,{"$f":"FP14","v":0},null,null,null,null,null,null,null,{"$f":"FX14","v":0},null,null,null,null,null,null,null,{"$f":"GF14","v":0},null,null,null,null,null,null,null,{"$f":"GN14","v":0},null,null,null,null,null,null,null,{"$f":"GV14","v":0},null,null,null,null,null,null,null,{"$f":"HD14","v":0},null,null,null,null,null,null,null,{"$f":"HL14","v":0},null,null,null,null,null,null,null,{"$f":"HT14","v":0},null,null,null,null,null,null,null,{"$f":"IB14","v":0},null,null,null,null,null,null,null,{"$f":"IJ14","v":0},null,null,null,null,null,null,null,{"$f":"IR14","v":0},null,null,null,null,null,null,null,{"$f":"IZ14","v":0},null,null,null,null,null,null,null,{"$f":"JH14","v":0},null,null,null,null,null,null,null,{"$f":"JP14","v":0},null,null,null,null,null,null,null,{"$f":"JX14","v":0},null,null,null,null,null,null,null,{"$f":"KF14","v":0},null,null,null,null,null,null,null,{"$f":"KN14","v":0},null,null,null,null,null,null,null,{"$f":"KV14","v":0},null,null,null,null,null,null,null,{"$f":"LD14","v":0},null,null,null,null,null,null,null,{"$f":"LL14","v":0},null,null,null,null,null,null,null,{"$f":"LT14","v":0},null,null,null,null,null,null,null,{"$f":"MB14","v":0},null,null,null,null,null,null,null,{"$f":"MJ14","v":0},null,null,null,null,null,null,null,{"$f":"MR14","v":0},null,null,null,null,null,null,null,{"$f":"MZ14","v":0},null,null,null,null,null,null,null,{"$f":"NH14","v":0},null,null,null,null,null,null,null,{"$f":"NP14","v":0},null,null,null,null,null,null,null,{"$f":"NX14","v":0},null,null,null,null,null,null,null,{"$f":"OF14","v":0},null,null,null,null,null,null,null,{"$f":"ON14","v":0}]
[{"$f":"SUM(C103:OR103)","v":0},2014,null,{"$f":"D15","v":0},null,null,null,null,null,null,null,{"$f":"L15","v":0},null,null,null,null,null,null,null,{"$f":"T15","v":0},null,null,null,null,null,null,null,{"$f":"AB15","v":0},null,null,null,null,null,null,null,{"$f":"AJ15","v":0},null,null,null,null,null,null,null,{"$f":"AR15","v":0},null,null,null,null,null,null,null,{"$f":"AZ15","v":0},null,null,null,null,null,null,null,{"$f":"BH15","v":0},null,null,null,null,null,null,null,{"$f":"BP15","v":0},null,null,null,null,null,null,null,{"$f":"BX15","v":0},null,null,null,null,null,null,null,{"$f":"CF15","v":0},null,null,null,null,null,null,null,{"$f":"CN15","v":0},null,null,null,null,null,null,null,{"$f":"CV15","v":0},null,null,null,null,null,null,null,{"$f":"DD15","v":0},null,null,null,null,null,null,null,{"$f":"DL15","v":0},null,null,null,null,null,null,null,{"$f":"DT15","v":0},null,null,null,null,null,null,null,{"$f":"EB15","v":0},null,null,null,null,null,null,null,{"$f":"EJ15","v":0},null,null,null,null,null,null,null,{"$f":"ER15","v":0},null,null,null,null,null,null,null,{"$f":"EZ15","v":0},null,null,null,null,null,null,null,{"$f":"FH15","v":0},null,null,null,null,null,null,null,{"$f":"FP15","v":0},null,null,null,null,null,null,null,{"$f":"FX15","v":0},null,null,null,null,null,null,null,{"$f":"GF15","v":0},null,null,null,null,null,null,null,{"$f":"GN15","v":0},null,null,null,null,null,null,null,{"$f":"GV15","v":0},null,null,null,null,null,null,null,{"$f":"HD15","v":0},null,null,null,null,null,null,null,{"$f":"HL15","v":0},null,null,null,null,null,null,null,{"$f":"HT15","v":0},null,null,null,null,null,null,null,{"$f":"IB15","v":0},null,null,null,null,null,null,null,{"$f":"IJ15","v":0},null,null,null,null,null,null,null,{"$f":"IR15","v":0},null,null,null,null,null,null,null,{"$f":"IZ15","v":0},null,null,null,null,null,null,null,{"$f":"JH15","v":0},null,null,null,null,null,null,null,{"$f":"JP15","v":0},null,null,null,null,null,null,null,{"$f":"JX15","v":0},null,null,null,null,null,null,null,{"$f":"KF15","v":0},null,null,null,null,null,null,null,{"$f":"KN15","v":0},null,null,null,null,null,null,null,{"$f":"KV15","v":0},null,null,null,null,null,null,null,{"$f":"LD15","v":0},null,null,null,null,null,null,null,{"$f":"LL15","v":0},null,null,null,null,null,null,null,{"$f":"LT15","v":0},null,null,null,null,null,null,null,{"$f":"MB15","v":0},null,null,null,null,null,null,null,{"$f":"MJ15","v":0},null,null,null,null,null,null,null,{"$f":"MR15","v":0},null,null,null,null,null,null,null,{"$f":"MZ15","v":0},null,null,null,null,null,null,null,{"$f":"NH15","v":0},null,null,null,null,null,null,null,{"$f":"NP15","v":0},null,null,null,null,null,null,null,{"$f":"NX15","v":0},null,null,null,null,null,null,null,{"$f":"OF15","v":0},null,null,null,null,null,null,null,{"$f":"ON15","v":0}]
[0,2015,null,0,null,null,null,null,null,null,null,0,null,null,null,null,null,null,null,0,null,null,null,null,null,null,null,0,null,null,null,null,null,null,null,0,null,null,null,null,null,null,null,0,null,null,null,null,null,null,null,0,null,null,null,null,null,null,null,0,null,null,null,null,null,null,null,0,null,null,null,null,null,null,null,0,null,null,null,null,null,null,null,0,null,null,null,null,null,null,null,0,null,null,null,null,null,null,null,0,null,null,null,null,null,null,null,0,null,null,null,null,null,null,null,0,null,null,null,null,null,null,null,0,null,null,null,null,null,null,null,0,null,null,null,null,null,null,null,0,null,null,null,null,null,null,null,0,null,null,null,null,null,null,null,0,null,null,null,null,null,null,null,0,null,null,null,null,null,null,null,0,null,null,null,null,null,null,null,0,null,null,null,null,null,null,null,0,null,null,null,null,null,null,null,0,null,null,null,null,null,null,null,0,null,null,null,null,null,null,null,0,null,null,null,null,null,null,null,0,null,null,null,null,null,null,null,0,null,null,null,null,null,null,null,0,null,null,null,null,null,null,null,0,null,null,null,null,null,null,null,0,null,null,null,null,null,null,null,0,null,null,null,null,null,null,null,0,null,null,null,null,null,null,null,0,null,null,null,null,null,null,null,0,null,null,null,null,null,null,null,0,null,null,null,null,null,null,null,0,null,null,null,null,null,null,null,0,null,null,null,null,null,null,null,0,null,null,null,null,null,null,null,0,null,null,null,null,null,null,null,0,null,null,null,null,null,null,null,0,null,null,null,null,null,null,null,0,null,null,null,null,null,null,null,0,null,null,null,null,null,null,null,0,null,null,null,null,null,null,null,0,null,null,null,null,null,null,null,0,null,null,null,null,null,null,null,0,null,null,null,null,null,null,null,0,null,null,null,null,null,null,null,0]
[0,2016,null,0,null,null,null,null,null,null,null,0,null,null,null,null,null,null,null,0,null,null,null,null,null,null,null,0,null,null,null,null,null,null,null,0,null,null,null,null,null,null,null,0,null,null,null,null,null,null,null,0,null,null,null,null,null,null,null,0,null,null,null,null,null,null,null,0,null,null,null,null,null,null,null,0,null,null,null,null,null,null,null,0,null,null,null,null,null,null,null,0,null,null,null,null,null,null,null,0,null,null,null,null,null,null,null,0,null,null,null,null,null,null,null,0,null,null,null,null,null,null,null,0,null,null,null,null,null,null,null,0,null,null,null,null,null,null,null,0,null,null,null,null,null,null,null,0,null,null,null,null,null,null,null,0,null,null,null,null,null,null,null,0,null,null,null,null,null,null,null,0,null,null,null,null,null,null,null,0,null,null,null,null,null,null,null,0,null,null,null,null,null,null,null,0,null,null,null,null,null,null,null,0,null,null,null,null,null,null,null,0,null,null,null,null,null,null,null,0,null,null,null,null,null,null,null,0,null,null,null,null,null,null,null,0,null,null,null,null,null,null,null,0,null,null,null,null,null,null,null,0,null,null,null,null,null,null,null,0,null,null,null,null,null,null,null,0,null,null,null,null,null,null,null,0,null,null,null,null,null,null,null,0,null,null,null,null,null,null,null,0,null,null,null,null,null,null,null,0,null,null,null,null,null,null,null,0,null,null,null,null,null,null,null,0,null,null,null,null,null,null,null,0,null,null,null,null,null,null,null,0,null,null,null,null,null,null,null,0,null,null,null,null,null,null,null,0,null,null,null,null,null,null,null,0,null,null,null,null,null,null,null,0,null,null,null,null,null,null,null,0,null,null,null,null,null,null,null,0,null,null,null,null,null,null,null,0,null,null,null,null,null,null,null,0,null,null,null,null,null,null,null,0]
[100,2017,null,100,null,null,null,null,null,null,null,0,null,null,null,null,null,null,null,0,null,null,null,null,null,null,null,0,null,null,null,null,null,null,null,0,null,null,null,null,null,null,null,0,null,null,null,null,null,null,null,0,null,null,null,null,null,null,null,0,null,null,null,null,null,null,null,0,null,null,null,null,null,null,null,0,null,null,null,null,null,null,null,0,null,null,null,null,null,null,null,0,null,null,null,null,null,null,null,0,null,null,null,null,null,null,null,0,null,null,null,null,null,null,null,0,null,null,null,null,null,null,null,0,null,null,null,null,null,null,null,0,null,null,null,null,null,null,null,0,null,null,null,null,null,null,null,0,null,null,null,null,null,null,null,0,null,null,null,null,null,null,null,0,null,null,null,null,null,null,null,0,null,null,null,null,null,null,null,0,null,null,null,null,null,null,null,0,null,null,null,null,null,null,null,0,null,null,null,null,null,null,null,0,null,null,null,null,null,null,null,0,null,null,null,null,null,null,null,0,null,null,null,null,null,null,null,0,null,null,null,null,null,null,null,0,null,null,null,null,null,null,null,0,null,null,null,null,null,null,null,0,null,null,null,null,null,null,null,0,null,null,null,null,null,null,null,0,null,null,null,null,null,null,null,0,null,null,null,null,null,null,null,0,null,null,null,null,null,null,null,0,null,null,null,null,null,null,null,0,null,null,null,null,null,null,null,0,null,null,null,null,null,null,null,0,null,null,null,null,null,null,null,0,null,null,null,null,null,null,null,0,null,null,null,null,null,null,null,0,null,null,null,null,null,null,null,0,null,null,null,null,null,null,null,0,null,null,null,null,null,null,null,0,null,null,null,null,null,null,null,0,null,null,null,null,null,null,null,0,null,null,null,null,null,null,null,0,null,null,null,null,null,null,null,0,null,null,null,null,null,null,null,0]
[0,2018,null,0,null,null,null,null,null,null,null,0,null,null,null,null,null,null,null,0,null,null,null,null,null,null,null,0,null,null,null,null,null,null,null,0,null,null,null,null,null,null,null,0,null,null,null,null,null,null,null,0,null,null,null,null,null,null,null,0,null,null,null,null,null,null,null,0,null,null,null,null,null,null,null,0,null,null,null,null,null,null,null,0,null,null,null,null,null,null,null,0,null,null,null,null,null,null,null,0,null,null,null,null,null,null,null,0,null,null,null,null,null,null,null,0,null,null,null,null,null,null,null,0,null,null,null,null,null,null,null,0,null,null,null,null,null,null,null,0,null,null,null,null,null,null,null,0,null,null,null,null,null,null,null,0,null,null,null,null,null,null,null,0,null,null,null,null,null,null,null,0,null,null,null,null,null,null,null,0,null,null,null,null,null,null,null,0,null,null,null,null,null,null,null,0,null,null,null,null,null,null,null,0,null,null,null,null,null,null,null,0,null,null,null,null,null,null,null,0,null,null,null,null,null,null,null,0,null,null,null,null,null,null,null,0,null,null,null,null,null,null,null,0,null,null,null,null,null,null,null,0,null,null,null,null,null,null,null,0,null,null,null,null,null,null,null,0,null,null,null,null,null,null,null,0,null,null,null,null,null,null,null,0,null,null,null,null,null,null,null,0,null,null,null,null,null,null,null,0,null,null,null,null,null,null,null,0,null,null,null,null,null,null,null,0,null,null,null,null,null,null,null,0,null,null,null,null,null,null,null,0,null,null,null,null,null,null,null,0,null,null,null,null,null,null,null,0,null,null,null,null,null,null,null,0,null,null,null,null,null,null,null,0,null,null,null,null,null,null,null,0,null,null,null,null,null,null,null,0,null,null,null,null,null,null,null,0,null,null,null,null,null,null,null,0,null,null,null,null,null,null,null,0]
[100,"2019 or Considered",null,100,null,null,null,null,null,null,null,0,null,null,null,null,null,null,null,0,null,null,null,null,null,null,null,0,null,null,null,null,null,null,null,0,null,null,null,null,null,null,null,0,null,null,null,null,null,null,null,0,null,null,null,null,null,null,null,0,null,null,null,null,null,null,null,0,null,null,null,null,null,null,null,0,null,null,null,null,null,null,null,0,null,null,null,null,null,null,null,0,null,null,null,null,null,null,null,0,null,null,null,null,null,null,null,0,null,null,null,null,null,null,null,0,null,null,null,null,null,null,null,0,null,null,null,null,null,null,null,0,null,null,null,null,null,null,null,0,null,null,null,null,null,null,null,0,null,null,null,null,null,null,null,0,null,null,null,null,null,null,null,0,null,null,null,null,null,null,null,0,null,null,null,null,null,null,null,0,null,null,null,null,null,null,null,0,null,null,null,null,null,null,null,0,null,null,null,null,null,null,null,0,null,null,null,null,null,null,null,0,null,null,null,null,null,null,null,0,null,null,null,null,null,null,null,0,null,null,null,null,null,null,null,0,null,null,null,null,null,null,null,0,null,null,null,null,null,null,null,0,null,null,null,null,null,null,null,0,null,null,null,null,null,null,null,0,null,null,null,null,null,null,null,0,null,null,null,null,null,null,null,0,null,null,null,null,null,null,null,0,null,null,null,null,null,null,null,0,null,null,null,null,null,null,null,0,null,null,null,null,null,null,null,0,null,null,null,null,null,null,null,0,null,null,null,null,null,null,null,0,null,null,null,null,null,null,null,0,null,null,null,null,null,null,null,0,null,null,null,null,null,null,null,0,null,null,null,null,null,null,null,0,null,null,null,null,null,null,null,0,null,null,null,null,null,null,null,0,null,null,null,null,null,null,null,0,null,null,null,null,null,null,null,0,null,null,null,null,null,null,null,0]
[100,2020,null,100,null,null,null,null,null,null,null,0,null,null,null,null,null,null,null,0,null,null,null,null,null,null,null,0,null,null,null,null,null,null,null,0,null,null,null,null,null,null,null,0,null,null,null,null,null,null,null,0,null,null,null,null,null,null,null,0,null,null,null,null,null,null,null,0,null,null,null,null,null,null,null,0,null,null,null,null,null,null,null,0,null,null,null,null,null,null,null,0,null,null,null,null,null,null,null,0,null,null,null,null,null,null,null,0,null,null,null,null,null,null,null,0,null,null,null,null,null,null,null,0,null,null,null,null,null,null,null,0,null,null,null,null,null,null,null,0,null,null,null,null,null,null,null,0,null,null,null,null,null,null,null,0,null,null,null,null,null,null,null,0,null,null,null,null,null,null,null,0,null,null,null,null,null,null,null,0,null,null,null,null,null,null,null,0,null,null,null,null,null,null,null,0,null,null,null,null,null,null,null,0,null,null,null,null,null,null,null,0,null,null,null,null,null,null,null,0,null,null,null,null,null,null,null,0,null,null,null,null,null,null,null,0,null,null,null,null,null,null,null,0,null,null,null,null,null,null,null,0,null,null,null,null,null,null,null,0,null,null,null,null,null,null,null,0,null,null,null,null,null,null,null,0,null,null,null,null,null,null,null,0,null,null,null,null,null,null,null,0,null,null,null,null,null,null,null,0,null,null,null,null,null,null,null,0,null,null,null,null,null,null,null,0,null,null,null,null,null,null,null,0,null,null,null,null,null,null,null,0,null,null,null,null,null,null,null,0,null,null,null,null,null,null,null,0,null,null,null,null,null,null,null,0,null,null,null,null,null,null,null,0,null,null,null,null,null,null,null,0,null,null,null,null,null,null,null,0,null,null,null,null,null,null,null,0,null,null,null,null,null,null,null,0,null,null,null,null,null,null,null,0]
[]
[null,"Soys"]
[0,2013,null,null,null,{"$f":"F14","v":0},null,null,null,null,null,null,null,{"$f":"N14","v":0},null,null,null,null,null,null,null,{"$f":"V14","v":0},null,null,null,null,null,null,null,{"$f":"AD14","v":0},null,null,null,null,null,null,null,{"$f":"AL14","v":0},null,null,null,null,null,null,null,{"$f":"AT14","v":0},null,null,null,null,null,null,null,{"$f":"BB14","v":0},null,null,null,null,null,null,null,{"$f":"BJ14","v":0},null,null,null,null,null,null,null,{"$f":"BR14","v":0},null,null,null,null,null,null,null,{"$f":"BZ14","v":0},null,null,null,null,null,null,null,{"$f":"CH14","v":0},null,null,null,null,null,null,null,{"$f":"CP14","v":0},null,null,null,null,null,null,null,{"$f":"CX14","v":0},null,null,null,null,null,null,null,{"$f":"DF14","v":0},null,null,null,null,null,null,null,{"$f":"DN14","v":0},null,null,null,null,null,null,null,{"$f":"DV14","v":0},null,null,null,null,null,null,null,{"$f":"ED14","v":0},null,null,null,null,null,null,null,{"$f":"EL14","v":0},null,null,null,null,null,null,null,{"$f":"ET14","v":0},null,null,null,null,null,null,null,{"$f":"FB14","v":0},null,null,null,null,null,null,null,{"$f":"FJ14","v":0},null,null,null,null,null,null,null,{"$f":"FR14","v":0},null,null,null,null,null,null,null,{"$f":"FZ14","v":0},null,null,null,null,null,null,null,{"$f":"GH14","v":0},null,null,null,null,null,null,null,{"$f":"GP14","v":0},null,null,null,null,null,null,null,{"$f":"GX14","v":0},null,null,null,null,null,null,null,{"$f":"HF14","v":0},null,null,null,null,null,null,null,{"$f":"HN14","v":0},null,null,null,null,null,null,null,{"$f":"HV14","v":0},null,null,null,null,null,null,null,{"$f":"ID14","v":0},null,null,null,null,null,null,null,{"$f":"IL14","v":0},null,null,null,null,null,null,null,{"$f":"IT14","v":0},null,null,null,null,null,null,null,{"$f":"JB14","v":0},null,null,null,null,null,null,null,{"$f":"JJ14","v":0},null,null,null,null,null,null,null,{"$f":"JR14","v":0},null,null,null,null,null,null,null,{"$f":"JZ14","v":0},null,null,null,null,null,null,null,{"$f":"KH14","v":0},null,null,null,null,null,null,null,{"$f":"KP14","v":0},null,null,null,null,null,null,null,{"$f":"KX14","v":0},null,null,null,null,null,null,null,{"$f":"LF14","v":0},null,null,null,null,null,null,null,{"$f":"LN14","v":0},null,null,null,null,null,null,null,{"$f":"LV14","v":0},null,null,null,null,null,null,null,{"$f":"MD14","v":0},null,null,null,null,null,null,null,{"$f":"ML14","v":0},null,null,null,null,null,null,null,{"$f":"MT14","v":0},null,null,null,null,null,null,null,{"$f":"NB14","v":0},null,null,null,null,null,null,null,{"$f":"NJ14","v":0},null,null,null,null,null,null,null,{"$f":"NR14","v":0},null,null,null,null,null,null,null,{"$f":"NZ14","v":0},null,null,null,null,null,null,null,{"$f":"OH14","v":0},null,null,null,null,null,null,null,{"$f":"OP14","v":0}]
[0,2014,null,null,null,{"$f":"F15","v":0},null,null,null,null,null,null,null,{"$f":"N15","v":0},null,null,null,null,null,null,null,{"$f":"V15","v":0},null,null,null,null,null,null,null,{"$f":"AD15","v":0},null,null,null,null,null,null,null,{"$f":"AL15","v":0},null,null,null,null,null,null,null,{"$f":"AT15","v":0},null,null,null,null,null,null,null,{"$f":"BB15","v":0},null,null,null,null,null,null,null,{"$f":"BJ15","v":0},null,null,null,null,null,null,null,{"$f":"BR15","v":0},null,null,null,null,null,null,null,{"$f":"BZ15","v":0},null,null,null,null,null,null,null,{"$f":"CH15","v":0},null,null,null,null,null,null,null,{"$f":"CP15","v":0},null,null,null,null,null,null,null,{"$f":"CX15","v":0},null,null,null,null,null,null,null,{"$f":"DF15","v":0},null,null,null,null,null,null,null,{"$f":"DN15","v":0},null,null,null,null,null,null,null,{"$f":"DV15","v":0},null,null,null,null,null,null,null,{"$f":"ED15","v":0},null,null,null,null,null,null,null,{"$f":"EL15","v":0},null,null,null,null,null,null,null,{"$f":"ET15","v":0},null,null,null,null,null,null,null,{"$f":"FB15","v":0},null,null,null,null,null,null,null,{"$f":"FJ15","v":0},null,null,null,null,null,null,null,{"$f":"FR15","v":0},null,null,null,null,null,null,null,{"$f":"FZ15","v":0},null,null,null,null,null,null,null,{"$f":"GH15","v":0},null,null,null,null,null,null,null,{"$f":"GP15","v":0},null,null,null,null,null,null,null,{"$f":"GX15","v":0},null,null,null,null,null,null,null,{"$f":"HF15","v":0},null,null,null,null,null,null,null,{"$f":"HN15","v":0},null,null,null,null,null,null,null,{"$f":"HV15","v":0},null,null,null,null,null,null,null,{"$f":"ID15","v":0},null,null,null,null,null,null,null,{"$f":"IL15","v":0},null,null,null,null,null,null,null,{"$f":"IT15","v":0},null,null,null,null,null,null,null,{"$f":"JB15","v":0},null,null,null,null,null,null,null,{"$f":"JJ15","v":0},null,null,null,null,null,null,null,{"$f":"JR15","v":0},null,null,null,null,null,null,null,{"$f":"JZ15","v":0},null,null,null,null,null,null,null,{"$f":"KH15","v":0},null,null,null,null,null,null,null,{"$f":"KP15","v":0},null,null,null,null,null,null,null,{"$f":"KX15","v":0},null,null,null,null,null,null,null,{"$f":"LF15","v":0},null,null,null,null,null,null,null,{"$f":"LN15","v":0},null,null,null,null,null,null,null,{"$f":"LV15","v":0},null,null,null,null,null,null,null,{"$f":"MD15","v":0},null,null,null,null,null,null,null,{"$f":"ML15","v":0},null,null,null,null,null,null,null,{"$f":"MT15","v":0},null,null,null,null,null,null,null,{"$f":"NB15","v":0},null,null,null,null,null,null,null,{"$f":"NJ15","v":0},null,null,null,null,null,null,null,{"$f":"NR15","v":0},null,null,null,null,null,null,null,{"$f":"NZ15","v":0},null,null,null,null,null,null,null,{"$f":"OH15","v":0},null,null,null,null,null,null,null,{"$f":"OP15","v":0}]
[0,2015,null,null,null,0,null,null,null,null,null,null,null,0,null,null,null,null,null,null,null,0,null,null,null,null,null,null,null,0,null,null,null,null,null,null,null,0,null,null,null,null,null,null,null,0,null,null,null,null,null,null,null,0,null,null,null,null,null,null,null,0,null,null,null,null,null,null,null,0,null,null,null,null,null,null,null,0,null,null,null,null,null,null,null,0,null,null,null,null,null,null,null,0,null,null,null,null,null,null,null,0,null,null,null,null,null,null,null,0,null,null,null,null,null,null,null,0,null,null,null,null,null,null,null,0,null,null,null,null,null,null,null,0,null,null,null,null,null,null,null,0,null,null,null,null,null,null,null,0,null,null,null,null,null,null,null,0,null,null,null,null,null,null,null,0,null,null,null,null,null,null,null,0,null,null,null,null,null,null,null,0,null,null,null,null,null,null,null,0,null,null,null,null,null,null,null,0,null,null,null,null,null,null,null,0,null,null,null,null,null,null,null,0,null,null,null,null,null,null,null,0,null,null,null,null,null,null,null,0,null,null,null,null,null,null,null,0,null,null,null,null,null,null,null,0,null,null,null,null,null,null,null,0,null,null,null,null,null,null,null,0,null,null,null,null,null,null,null,0,null,null,null,null,null,null,null,0,null,null,null,null,null,null,null,0,null,null,null,null,null,null,null,0,null,null,null,null,null,null,null,0,null,null,null,null,null,null,null,0,null,null,null,null,null,null,null,0,null,null,null,null,null,null,null,0,null,null,null,null,null,null,null,0,null,null,null,null,null,null,null,0,null,null,null,null,null,null,null,0,null,null,null,null,null,null,null,0,null,null,null,null,null,null,null,0,null,null,null,null,null,null,null,0,null,null,null,null,null,null,null,0,null,null,null,null,null,null,null,0,null,null,null,null,null,null,null,0,null,null,null,null,null,null,null,0]
[0,2016,null,null,null,0,null,null,null,null,null,null,null,0,null,null,null,null,null,null,null,0,null,null,null,null,null,null,null,0,null,null,null,null,null,null,null,0,null,null,null,null,null,null,null,0,null,null,null,null,null,null,null,0,null,null,null,null,null,null,null,0,null,null,null,null,null,null,null,0,null,null,null,null,null,null,null,0,null,null,null,null,null,null,null,0,null,null,null,null,null,null,null,0,null,null,null,null,null,null,null,0,null,null,null,null,null,null,null,0,null,null,null,null,null,null,null,0,null,null,null,null,null,null,null,0,null,null,null,null,null,null,null,0,null,null,null,null,null,null,null,0,null,null,null,null,null,null,null,0,null,null,null,null,null,null,null,0,null,null,null,null,null,null,null,0,null,null,null,null,null,null,null,0,null,null,null,null,null,null,null,0,null,null,null,null,null,null,null,0,null,null,null,null,null,null,null,0,null,null,null,null,null,null,null,0,null,null,null,null,null,null,null,0,null,null,null,null,null,null,null,0,null,null,null,null,null,null,null,0,null,null,null,null,null,null,null,0,null,null,null,null,null,null,null,0,null,null,null,null,null,null,null,0,null,null,null,null,null,null,null,0,null,null,null,null,null,null,null,0,null,null,null,null,null,null,null,0,null,null,null,null,null,null,null,0,null,null,null,null,null,null,null,0,null,null,null,null,null,null,null,0,null,null,null,null,null,null,null,0,null,null,null,null,null,null,null,0,null,null,null,null,null,null,null,0,null,null,null,null,null,null,null,0,null,null,null,null,null,null,null,0,null,null,null,null,null,null,null,0,null,null,null,null,null,null,null,0,null,null,null,null,null,null,null,0,null,null,null,null,null,null,null,0,null,null,null,null,null,null,null,0,null,null,null,null,null,null,null,0,null,null,null,null,null,null,null,0,null,null,null,null,null,null,null,0]
[0,2017,null,null,null,0,null,null,null,null,null,null,null,0,null,null,null,null,null,null,null,0,null,null,null,null,null,null,null,0,null,null,null,null,null,null,null,0,null,null,null,null,null,null,null,0,null,null,null,null,null,null,null,0,null,null,null,null,null,null,null,0,null,null,null,null,null,null,null,0,null,null,null,null,null,null,null,0,null,null,null,null,null,null,null,0,null,null,null,null,null,null,null,0,null,null,null,null,null,null,null,0,null,null,null,null,null,null,null,0,null,null,null,null,null,null,null,0,null,null,null,null,null,null,null,0,null,null,null,null,null,null,null,0,null,null,null,null,null,null,null,0,null,null,null,null,null,null,null,0,null,null,null,null,null,null,null,0,null,null,null,null,null,null,null,0,null,null,null,null,null,null,null,0,null,null,null,null,null,null,null,0,null,null,null,null,null,null,null,0,null,null,null,null,null,null,null,0,null,null,null,null,null,null,null,0,null,null,null,null,null,null,null,0,null,null,null,null,null,null,null,0,null,null,null,null,null,null,null,0,null,null,null,null,null,null,null,0,null,null,null,null,null,null,null,0,null,null,null,null,null,null,null,0,null,null,null,null,null,null,null,0,null,null,null,null,null,null,null,0,null,null,null,null,null,null,null,0,null,null,null,null,null,null,null,0,null,null,null,null,null,null,null,0,null,null,null,null,null,null,null,0,null,null,null,null,null,null,null,0,null,null,null,null,null,null,null,0,null,null,null,null,null,null,null,0,null,null,null,null,null,null,null,0,null,null,null,null,null,null,null,0,null,null,null,null,null,null,null,0,null,null,null,null,null,null,null,0,null,null,null,null,null,null,null,0,null,null,null,null,null,null,null,0,null,null,null,null,null,null,null,0,null,null,null,null,null,null,null,0,null,null,null,null,null,null,null,0,null,null,null,null,null,null,null,0]
[0,2018,null,null,null,0,null,null,null,null,null,null,null,0,null,null,null,null,null,null,null,0,null,null,null,null,null,null,null,0,null,null,null,null,null,null,null,0,null,null,null,null,null,null,null,0,null,null,null,null,null,null,null,0,null,null,null,null,null,null,null,0,null,null,null,null,null,null,null,0,null,null,null,null,null,null,null,0,null,null,null,null,null,null,null,0,null,null,null,null,null,null,null,0,null,null,null,null,null,null,null,0,null,null,null,null,null,null,null,0,null,null,null,null,null,null,null,0,null,null,null,null,null,null,null,0,null,null,null,null,null,null,null,0,null,null,null,null,null,null,null,0,null,null,null,null,null,null,null,0,null,null,null,null,null,null,null,0,null,null,null,null,null,null,null,0,null,null,null,null,null,null,null,0,null,null,null,null,null,null,null,0,null,null,null,null,null,null,null,0,null,null,null,null,null,null,null,0,null,null,null,null,null,null,null,0,null,null,null,null,null,null,null,0,null,null,null,null,null,null,null,0,null,null,null,null,null,null,null,0,null,null,null,null,null,null,null,0,null,null,null,null,null,null,null,0,null,null,null,null,null,null,null,0,null,null,null,null,null,null,null,0,null,null,null,null,null,null,null,0,null,null,null,null,null,null,null,0,null,null,null,null,null,null,null,0,null,null,null,null,null,null,null,0,null,null,null,null,null,null,null,0,null,null,null,null,null,null,null,0,null,null,null,null,null,null,null,0,null,null,null,null,null,null,null,0,null,null,null,null,null,null,null,0,null,null,null,null,null,null,null,0,null,null,null,null,null,null,null,0,null,null,null,null,null,null,null,0,null,null,null,null,null,null,null,0,null,null,null,null,null,null,null,0,null,null,null,null,null,null,null,0,null,null,null,null,null,null,null,0,null,null,null,null,null,null,null,0,null,null,null,null,null,null,null,0]
[0,"2019 or Considered",null,null,null,0,null,null,null,null,null,null,null,0,null,null,null,null,null,null,null,0,null,null,null,null,null,null,null,0,null,null,null,null,null,null,null,0,null,null,null,null,null,null,null,0,null,null,null,null,null,null,null,0,null,null,null,null,null,null,null,0,null,null,null,null,null,null,null,0,null,null,null,null,null,null,null,0,null,null,null,null,null,null,null,0,null,null,null,null,null,null,null,0,null,null,null,null,null,null,null,0,null,null,null,null,null,null,null,0,null,null,null,null,null,null,null,0,null,null,null,null,null,null,null,0,null,null,null,null,null,null,null,0,null,null,null,null,null,null,null,0,null,null,null,null,null,null,null,0,null,null,null,null,null,null,null,0,null,null,null,null,null,null,null,0,null,null,null,null,null,null,null,0,null,null,null,null,null,null,null,0,null,null,null,null,null,null,null,0,null,null,null,null,null,null,null,0,null,null,null,null,null,null,null,0,null,null,null,null,null,null,null,0,null,null,null,null,null,null,null,0,null,null,null,null,null,null,null,0,null,null,null,null,null,null,null,0,null,null,null,null,null,null,null,0,null,null,null,null,null,null,null,0,null,null,null,null,null,null,null,0,null,null,null,null,null,null,null,0,null,null,null,null,null,null,null,0,null,null,null,null,null,null,null,0,null,null,null,null,null,null,null,0,null,null,null,null,null,null,null,0,null,null,null,null,null,null,null,0,null,null,null,null,null,null,null,0,null,null,null,null,null,null,null,0,null,null,null,null,null,null,null,0,null,null,null,null,null,null,null,0,null,null,null,null,null,null,null,0,null,null,null,null,null,null,null,0,null,null,null,null,null,null,null,0,null,null,null,null,null,null,null,0,null,null,null,null,null,null,null,0,null,null,null,null,null,null,null,0,null,null,null,null,null,null,null,0,null,null,null,null,null,null,null,0]
[0,2020,null,null,null,0,null,null,null,null,null,null,null,0,null,null,null,null,null,null,null,0,null,null,null,null,null,null,null,0,null,null,null,null,null,null,null,0,null,null,null,null,null,null,null,0,null,null,null,null,null,null,null,0,null,null,null,null,null,null,null,0,null,null,null,null,null,null,null,0,null,null,null,null,null,null,null,0,null,null,null,null,null,null,null,0,null,null,null,null,null,null,null,0,null,null,null,null,null,null,null,0,null,null,null,null,null,null,null,0,null,null,null,null,null,null,null,0,null,null,null,null,null,null,null,0,null,null,null,null,null,null,null,0,null,null,null,null,null,null,null,0,null,null,null,null,null,null,null,0,null,null,null,null,null,null,null,0,null,null,null,null,null,null,null,0,null,null,null,null,null,null,null,0,null,null,null,null,null,null,null,0,null,null,null,null,null,null,null,0,null,null,null,null,null,null,null,0,null,null,null,null,null,null,null,0,null,null,null,null,null,null,null,0,null,null,null,null,null,null,null,0,null,null,null,null,null,null,null,0,null,null,null,null,null,null,null,0,null,null,null,null,null,null,null,0,null,null,null,null,null,null,null,0,null,null,null,null,null,null,null,0,null,null,null,null,null,null,null,0,null,null,null,null,null,null,null,0,null,null,null,null,null,null,null,0,null,null,null,null,null,null,null,0,null,null,null,null,null,null,null,0,null,null,null,null,null,null,null,0,null,null,null,null,null,null,null,0,null,null,null,null,null,null,null,0,null,null,null,null,null,null,null,0,null,null,null,null,null,null,null,0,null,null,null,null,null,null,null,0,null,null,null,null,null,null,null,0,null,null,null,null,null,null,null,0,null,null,null,null,null,null,null,0,null,null,null,null,null,null,null,0,null,null,null,null,null,null,null,0,null,null,null,null,null,null,null,0,null,null,null,null,null,null,null,0]
[]
[null,"Wheat"]
[0,2013,null,null,null,null,null,{"$f":"H14","v":0},null,null,null,null,null,null,null,{"$f":"P14","v":0},null,null,null,null,null,null,null,{"$f":"X14","v":0},null,null,null,null,null,null,null,{"$f":"AF14","v":0},null,null,null,null,null,null,null,{"$f":"AN14","v":0},null,null,null,null,null,null,null,{"$f":"AV14","v":0},null,null,null,null,null,null,null,{"$f":"BD14","v":0},null,null,null,null,null,null,null,{"$f":"BL14","v":0},null,null,null,null,null,null,null,{"$f":"BT14","v":0},null,null,null,null,null,null,null,{"$f":"CB14","v":0},null,null,null,null,null,null,null,{"$f":"CJ14","v":0},null,null,null,null,null,null,null,{"$f":"CR14","v":0},null,null,null,null,null,null,null,{"$f":"CZ14","v":0},null,null,null,null,null,null,null,{"$f":"DH14","v":0},null,null,null,null,null,null,null,{"$f":"DP14","v":0},null,null,null,null,null,null,null,{"$f":"DX14","v":0},null,null,null,null,null,null,null,{"$f":"EF14","v":0},null,null,null,null,null,null,null,{"$f":"EN14","v":0},null,null,null,null,null,null,null,{"$f":"EV14","v":0},null,null,null,null,null,null,null,{"$f":"FD14","v":0},null,null,null,null,null,null,null,{"$f":"FL14","v":0},null,null,null,null,null,null,null,{"$f":"FT14","v":0},null,null,null,null,null,null,null,{"$f":"GB14","v":0},null,null,null,null,null,null,null,{"$f":"GJ14","v":0},null,null,null,null,null,null,null,{"$f":"GR14","v":0},null,null,null,null,null,null,null,{"$f":"GZ14","v":0},null,null,null,null,null,null,null,{"$f":"HH14","v":0},null,null,null,null,null,null,null,{"$f":"HP14","v":0},null,null,null,null,null,null,null,{"$f":"HX14","v":0},null,null,null,null,null,null,null,{"$f":"IF14","v":0},null,null,null,null,null,null,null,{"$f":"IN14","v":0},null,null,null,null,null,null,null,{"$f":"IV14","v":0},null,null,null,null,null,null,null,{"$f":"JD14","v":0},null,null,null,null,null,null,null,{"$f":"JL14","v":0},null,null,null,null,null,null,null,{"$f":"JT14","v":0},null,null,null,null,null,null,null,{"$f":"KB14","v":0},null,null,null,null,null,null,null,{"$f":"KJ14","v":0},null,null,null,null,null,null,null,{"$f":"KR14","v":0},null,null,null,null,null,null,null,{"$f":"KZ14","v":0},null,null,null,null,null,null,null,{"$f":"LH14","v":0},null,null,null,null,null,null,null,{"$f":"LP14","v":0},null,null,null,null,null,null,null,{"$f":"LX14","v":0},null,null,null,null,null,null,null,{"$f":"MF14","v":0},null,null,null,null,null,null,null,{"$f":"MN14","v":0},null,null,null,null,null,null,null,{"$f":"MV14","v":0},null,null,null,null,null,null,null,{"$f":"ND14","v":0},null,null,null,null,null,null,null,{"$f":"NL14","v":0},null,null,null,null,null,null,null,{"$f":"NT14","v":0},null,null,null,null,null,null,null,{"$f":"OB14","v":0},null,null,null,null,null,null,null,{"$f":"OJ14","v":0},null,null,null,null,null,null,null,{"$f":"OR14","v":0}]
[0,2014,null,null,null,null,null,{"$f":"H15","v":0},null,null,null,null,null,null,null,{"$f":"P15","v":0},null,null,null,null,null,null,null,{"$f":"X15","v":0},null,null,null,null,null,null,null,{"$f":"AF15","v":0},null,null,null,null,null,null,null,{"$f":"AN15","v":0},null,null,null,null,null,null,null,{"$f":"AV15","v":0},null,null,null,null,null,null,null,{"$f":"BD15","v":0},null,null,null,null,null,null,null,{"$f":"BL15","v":0},null,null,null,null,null,null,null,{"$f":"BT15","v":0},null,null,null,null,null,null,null,{"$f":"CB15","v":0},null,null,null,null,null,null,null,{"$f":"CJ15","v":0},null,null,null,null,null,null,null,{"$f":"CR15","v":0},null,null,null,null,null,null,null,{"$f":"CZ15","v":0},null,null,null,null,null,null,null,{"$f":"DH15","v":0},null,null,null,null,null,null,null,{"$f":"DP15","v":0},null,null,null,null,null,null,null,{"$f":"DX15","v":0},null,null,null,null,null,null,null,{"$f":"EF15","v":0},null,null,null,null,null,null,null,{"$f":"EN15","v":0},null,null,null,null,null,null,null,{"$f":"EV15","v":0},null,null,null,null,null,null,null,{"$f":"FD15","v":0},null,null,null,null,null,null,null,{"$f":"FL15","v":0},null,null,null,null,null,null,null,{"$f":"FT15","v":0},null,null,null,null,null,null,null,{"$f":"GB15","v":0},null,null,null,null,null,null,null,{"$f":"GJ15","v":0},null,null,null,null,null,null,null,{"$f":"GR15","v":0},null,null,null,null,null,null,null,{"$f":"GZ15","v":0},null,null,null,null,null,null,null,{"$f":"HH15","v":0},null,null,null,null,null,null,null,{"$f":"HP15","v":0},null,null,null,null,null,null,null,{"$f":"HX15","v":0},null,null,null,null,null,null,null,{"$f":"IF15","v":0},null,null,null,null,null,null,null,{"$f":"IN15","v":0},null,null,null,null,null,null,null,{"$f":"IV15","v":0},null,null,null,null,null,null,null,{"$f":"JD15","v":0},null,null,null,null,null,null,null,{"$f":"JL15","v":0},null,null,null,null,null,null,null,{"$f":"JT15","v":0},null,null,null,null,null,null,null,{"$f":"KB15","v":0},null,null,null,null,null,null,null,{"$f":"KJ15","v":0},null,null,null,null,null,null,null,{"$f":"KR15","v":0},null,null,null,null,null,null,null,{"$f":"KZ15","v":0},null,null,null,null,null,null,null,{"$f":"LH15","v":0},null,null,null,null,null,null,null,{"$f":"LP15","v":0},null,null,null,null,null,null,null,{"$f":"LX15","v":0},null,null,null,null,null,null,null,{"$f":"MF15","v":0},null,null,null,null,null,null,null,{"$f":"MN15","v":0},null,null,null,null,null,null,null,{"$f":"MV15","v":0},null,null,null,null,null,null,null,{"$f":"ND15","v":0},null,null,null,null,null,null,null,{"$f":"NL15","v":0},null,null,null,null,null,null,null,{"$f":"NT15","v":0},null,null,null,null,null,null,null,{"$f":"OB15","v":0},null,null,null,null,null,null,null,{"$f":"OJ15","v":0},null,null,null,null,null,null,null,{"$f":"OR15","v":0}]
[0,2015,null,null,null,null,null,0,null,null,null,null,null,null,null,0,null,null,null,null,null,null,null,0,null,null,null,null,null,null,null,0,null,null,null,null,null,null,null,0,null,null,null,null,null,null,null,0,null,null,null,null,null,null,null,0,null,null,null,null,null,null,null,0,null,null,null,null,null,null,null,0,null,null,null,null,null,null,null,0,null,null,null,null,null,null,null,0,null,null,null,null,null,null,null,0,null,null,null,null,null,null,null,0,null,null,null,null,null,null,null,0,null,null,null,null,null,null,null,0,null,null,null,null,null,null,null,0,null,null,null,null,null,null,null,0,null,null,null,null,null,null,null,0,null,null,null,null,null,null,null,0,null,null,null,null,null,null,null,0,null,null,null,null,null,null,null,0,null,null,null,null,null,null,null,0,null,null,null,null,null,null,null,0,null,null,null,null,null,null,null,0,null,null,null,null,null,null,null,0,null,null,null,null,null,null,null,0,null,null,null,null,null,null,null,0,null,null,null,null,null,null,null,0,null,null,null,null,null,null,null,0,null,null,null,null,null,null,null,0,null,null,null,null,null,null,null,0,null,null,null,null,null,null,null,0,null,null,null,null,null,null,null,0,null,null,null,null,null,null,null,0,null,null,null,null,null,null,null,0,null,null,null,null,null,null,null,0,null,null,null,null,null,null,null,0,null,null,null,null,null,null,null,0,null,null,null,null,null,null,null,0,null,null,null,null,null,null,null,0,null,null,null,null,null,null,null,0,null,null,null,null,null,null,null,0,null,null,null,null,null,null,null,0,null,null,null,null,null,null,null,0,null,null,null,null,null,null,null,0,null,null,null,null,null,null,null,0,null,null,null,null,null,null,null,0,null,null,null,null,null,null,null,0,null,null,null,null,null,null,null,0,null,null,null,null,null,null,null,0,null,null,null,null,null,null,null,0]
[0,2016,null,null,null,null,null,0,null,null,null,null,null,null,null,0,null,null,null,null,null,null,null,0,null,null,null,null,null,null,null,0,null,null,null,null,null,null,null,0,null,null,null,null,null,null,null,0,null,null,null,null,null,null,null,0,null,null,null,null,null,null,null,0,null,null,null,null,null,null,null,0,null,null,null,null,null,null,null,0,null,null,null,null,null,null,null,0,null,null,null,null,null,null,null,0,null,null,null,null,null,null,null,0,null,null,null,null,null,null,null,0,null,null,null,null,null,null,null,0,null,null,null,null,null,null,null,0,null,null,null,null,null,null,null,0,null,null,null,null,null,null,null,0,null,null,null,null,null,null,null,0,null,null,null,null,null,null,null,0,null,null,null,null,null,null,null,0,null,null,null,null,null,null,null,0,null,null,null,null,null,null,null,0,null,null,null,null,null,null,null,0,null,null,null,null,null,null,null,0,null,null,null,null,null,null,null,0,null,null,null,null,null,null,null,0,null,null,null,null,null,null,null,0,null,null,null,null,null,null,null,0,null,null,null,null,null,null,null,0,null,null,null,null,null,null,null,0,null,null,null,null,null,null,null,0,null,null,null,null,null,null,null,0,null,null,null,null,null,null,null,0,null,null,null,null,null,null,null,0,null,null,null,null,null,null,null,0,null,null,null,null,null,null,null,0,null,null,null,null,null,null,null,0,null,null,null,null,null,null,null,0,null,null,null,null,null,null,null,0,null,null,null,null,null,null,null,0,null,null,null,null,null,null,null,0,null,null,null,null,null,null,null,0,null,null,null,null,null,null,null,0,null,null,null,null,null,null,null,0,null,null,null,null,null,null,null,0,null,null,null,null,null,null,null,0,null,null,null,null,null,null,null,0,null,null,null,null,null,null,null,0,null,null,null,null,null,null,null,0,null,null,null,null,null,null,null,0]
[0,2017,null,null,null,null,null,0,null,null,null,null,null,null,null,0,null,null,null,null,null,null,null,0,null,null,null,null,null,null,null,0,null,null,null,null,null,null,null,0,null,null,null,null,null,null,null,0,null,null,null,null,null,null,null,0,null,null,null,null,null,null,null,0,null,null,null,null,null,null,null,0,null,null,null,null,null,null,null,0,null,null,null,null,null,null,null,0,null,null,null,null,null,null,null,0,null,null,null,null,null,null,null,0,null,null,null,null,null,null,null,0,null,null,null,null,null,null,null,0,null,null,null,null,null,null,null,0,null,null,null,null,null,null,null,0,null,null,null,null,null,null,null,0,null,null,null,null,null,null,null,0,null,null,null,null,null,null,null,0,null,null,null,null,null,null,null,0,null,null,null,null,null,null,null,0,null,null,null,null,null,null,null,0,null,null,null,null,null,null,null,0,null,null,null,null,null,null,null,0,null,null,null,null,null,null,null,0,null,null,null,null,null,null,null,0,null,null,null,null,null,null,null,0,null,null,null,null,null,null,null,0,null,null,null,null,null,null,null,0,null,null,null,null,null,null,null,0,null,null,null,null,null,null,null,0,null,null,null,null,null,null,null,0,null,null,null,null,null,null,null,0,null,null,null,null,null,null,null,0,null,null,null,null,null,null,null,0,null,null,null,null,null,null,null,0,null,null,null,null,null,null,null,0,null,null,null,null,null,null,null,0,null,null,null,null,null,null,null,0,null,null,null,null,null,null,null,0,null,null,null,null,null,null,null,0,null,null,null,null,null,null,null,0,null,null,null,null,null,null,null,0,null,null,null,null,null,null,null,0,null,null,null,null,null,null,null,0,null,null,null,null,null,null,null,0,null,null,null,null,null,null,null,0,null,null,null,null,null,null,null,0,null,null,null,null,null,null,null,0,null,null,null,null,null,null,null,0]
[0,2018,null,null,null,null,null,0,null,null,null,null,null,null,null,0,null,null,null,null,null,null,null,0,null,null,null,null,null,null,null,0,null,null,null,null,null,null,null,0,null,null,null,null,null,null,null,0,null,null,null,null,null,null,null,0,null,null,null,null,null,null,null,0,null,null,null,null,null,null,null,0,null,null,null,null,null,null,null,0,null,null,null,null,null,null,null,0,null,null,null,null,null,null,null,0,null,null,null,null,null,null,null,0,null,null,null,null,null,null,null,0,null,null,null,null,null,null,null,0,null,null,null,null,null,null,null,0,null,null,null,null,null,null,null,0,null,null,null,null,null,null,null,0,null,null,null,null,null,null,null,0,null,null,null,null,null,null,null,0,null,null,null,null,null,null,null,0,null,null,null,null,null,null,null,0,null,null,null,null,null,null,null,0,null,null,null,null,null,null,null,0,null,null,null,null,null,null,null,0,null,null,null,null,null,null,null,0,null,null,null,null,null,null,null,0,null,null,null,null,null,null,null,0,null,null,null,null,null,null,null,0,null,null,null,null,null,null,null,0,null,null,null,null,null,null,null,0,null,null,null,null,null,null,null,0,null,null,null,null,null,null,null,0,null,null,null,null,null,null,null,0,null,null,null,null,null,null,null,0,null,null,null,null,null,null,null,0,null,null,null,null,null,null,null,0,null,null,null,null,null,null,null,0,null,null,null,null,null,null,null,0,null,null,null,null,null,null,null,0,null,null,null,null,null,null,null,0,null,null,null,null,null,null,null,0,null,null,null,null,null,null,null,0,null,null,null,null,null,null,null,0,null,null,null,null,null,null,null,0,null,null,null,null,null,null,null,0,null,null,null,null,null,null,null,0,null,null,null,null,null,null,null,0,null,null,null,null,null,null,null,0,null,null,null,null,null,null,null,0,null,null,null,null,null,null,null,0]
[0,"2019 or Considered",null,null,null,null,null,0,null,null,null,null,null,null,null,0,null,null,null,null,null,null,null,0,null,null,null,null,null,null,null,0,null,null,null,null,null,null,null,0,null,null,null,null,null,null,null,0,null,null,null,null,null,null,null,0,null,null,null,null,null,null,null,0,null,null,null,null,null,null,null,0,null,null,null,null,null,null,null,0,null,null,null,null,null,null,null,0,null,null,null,null,null,null,null,0,null,null,null,null,null,null,null,0,null,null,null,null,null,null,null,0,null,null,null,null,null,null,null,0,null,null,null,null,null,null,null,0,null,null,null,null,null,null,null,0,null,null,null,null,null,null,null,0,null,null,null,null,null,null,null,0,null,null,null,null,null,null,null,0,null,null,null,null,null,null,null,0,null,null,null,null,null,null,null,0,null,null,null,null,null,null,null,0,null,null,null,null,null,null,null,0,null,null,null,null,null,null,null,0,null,null,null,null,null,null,null,0,null,null,null,null,null,null,null,0,null,null,null,null,null,null,null,0,null,null,null,null,null,null,null,0,null,null,null,null,null,null,null,0,null,null,null,null,null,null,null,0,null,null,null,null,null,null,null,0,null,null,null,null,null,null,null,0,null,null,null,null,null,null,null,0,null,null,null,null,null,null,null,0,null,null,null,null,null,null,null,0,null,null,null,null,null,null,null,0,null,null,null,null,null,null,null,0,null,null,null,null,null,null,null,0,null,null,null,null,null,null,null,0,null,null,null,null,null,null,null,0,null,null,null,null,null,null,null,0,null,null,null,null,null,null,null,0,null,null,null,null,null,null,null,0,null,null,null,null,null,null,null,0,null,null,null,null,null,null,null,0,null,null,null,null,null,null,null,0,null,null,null,null,null,null,null,0,null,null,null,null,null,null,null,0,null,null,null,null,null,null,null,0,null,null,null,null,null,null,null,0]
[0,2020,null,null,null,null,null,0,null,null,null,null,null,null,null,0,null,null,null,null,null,null,null,0,null,null,null,null,null,null,null,0,null,null,null,null,null,null,null,0,null,null,null,null,null,null,null,0,null,null,null,null,null,null,null,0,null,null,null,null,null,null,null,0,null,null,null,null,null,null,null,0,null,null,null,null,null,null,null,0,null,null,null,null,null,null,null,0,null,null,null,null,null,null,null,0,null,null,null,null,null,null,null,0,null,null,null,null,null,null,null,0,null,null,null,null,null,null,null,0,null,null,null,null,null,null,null,0,null,null,null,null,null,null,null,0,null,null,null,null,null,null,null,0,null,null,null,null,null,null,null,0,null,null,null,null,null,null,null,0,null,null,null,null,null,null,null,0,null,null,null,null,null,null,null,0,null,null,null,null,null,null,null,0,null,null,null,null,null,null,null,0,null,null,null,null,null,null,null,0,null,null,null,null,null,null,null,0,null,null,null,null,null,null,null,0,null,null,null,null,null,null,null,0,null,null,null,null,null,null,null,0,null,null,null,null,null,null,null,0,null,null,null,null,null,null,null,0,null,null,null,null,null,null,null,0,null,null,null,null,null,null,null,0,null,null,null,null,null,null,null,0,null,null,null,null,null,null,null,0,null,null,null,null,null,null,null,0,null,null,null,null,null,null,null,0,null,null,null,null,null,null,null,0,null,null,null,null,null,null,null,0,null,null,null,null,null,null,null,0,null,null,null,null,null,null,null,0,null,null,null,null,null,null,null,0,null,null,null,null,null,null,null,0,null,null,null,null,null,null,null,0,null,null,null,null,null,null,null,0,null,null,null,null,null,null,null,0,null,null,null,null,null,null,null,0,null,null,null,null,null,null,null,0,null,null,null,null,null,null,null,0,null,null,null,null,null,null,null,0,null,null,null,null,null,null,null,0]
[]
["Weighted Yield","Corn"]
[{"$f":"IFERROR(A72/A102,\"\")","v":""},2013]
[{"$f":"IFERROR(A73/A103,\"\")","v":""},2014]
["",2015]
["",2016]
[200,2017]
["",2018]
[200,"2019 or Considered"]
[200,2020]
[]
[null,"Soys"]
[{"$f":"IFERROR(A82/A112,\"\")","v":""},2013]
[{"$f":"IFERROR(A83/A113,\"\")","v":""},2014]
["",2015]
["",2016]
["",2017]
["",2018]
["","2019 or Considered"]
["",2020]
[]
[null,"Wheat"]
[{"$f":"IFERROR(A92/A122,\"\")","v":""},2013]
[{"$f":"IFERROR(A93/A123,\"\")","v":""},2014]
["",2015]
["",2016]
["",2017]
["",2018]
["","2019 or Considered"]
["",2020]

{"sheet":"FSA23","index":10,"n_rows":288,"n_cols":22,"rows_kept":288,"cut":false,"hidden":true,"merged":[]}
["ARC-CO TREND ADJUSTED YIELDS, BENCHMARK YIELDS AND GUARANTEE REVENUES FOR PROGRAM YEAR 2023",null,null,null,null,null,null,null,null,null,null,null,"Program Year 2023 Benchmark Yields and Revenues"]
[null,null,null,null,null,null,null,null,null,null,null,null,"A","B","C","D","E","F","G","H","I","J"]
[null,null,null,null,1,2,3,4,5,6,7,8,9,null,"(A * B)","(86% of C)","(10% of C)",null,null,"(F * G)","(D - H), not less than 0","Lesser of E or I (capped at 10% of Benchmark)"]
["ST_Cty","State Name","County Name","Crop Name","BETZ HELPER COLUMN","ARC-CO Yield Designation","2017 trend adjusted (county yield or 80% of T)","2018 trend adjusted (county yield or 80% of T)","2019 trend adjusted (county yield or 80% of T)","2020 trend adjusted (county yield or 80% of T)","2021 trend adjusted (county yield or 80% of T)",null,"2023 Bench Mark (2017-21 olympic avg)","2023 Bench Mark Price (2017-21 olympic avg)","2023 Benchmark Revenue","2023 Guarantee Revenue","2023 Maximum Payment Rate","2023 Actual Yield","2023 National Price","2023 Actual Revenue","2023 Formula Payment Rate","2023 ARC-CO Payment Rate"]
["26001","Michigan","Alcona","Corn",{"$f":"C5&D5&F5","v":"AlconaCornAll"},"All",134.49,126.52,94,145.11000000000001,190.78,null,135.37,3.98,538.77,463.34,53.88]
["26001","Michigan","Alcona","Soybeans","AlconaSoybeansAll","All",37,35.03,35.229999999999997,38.200000000000003,46.18,null,36.81,9.57,352.27,302.95,35.229999999999997]
["26001","Michigan","Alcona","Wheat","AlconaWheatAll","All",49.32,47.83,57.48,58.49,52.730000000000004,null,53.18,5.5,292.49,251.54,29.25]
["26003","Michigan","Alger","Corn","AlgerCornAll","All",58.4,111,58.49,183.9,110.84,null,93.44,3.98,371.89,319.83,37.19]
["26003","Michigan","Alger","Wheat","AlgerWheatAll","All",53.6,40,53.1,50.4,61.66,null,52.37,5.5,288.04000000000002,247.71,28.8]
["26005","Michigan","Allegan","Corn","AlleganCornIrrigated","Irrigated",231.01,210.20999999999998,198.41,212.20999999999998,207.15,null,209.86,3.98,835.24,718.31,83.52]
["26005","Michigan","Allegan","Corn","AlleganCornNonirrigated","Nonirrigated",187.24,160.18,159.46,171.39000000000001,182.26,null,171.28,3.98,681.69,586.25,68.17]
["26005","Michigan","Allegan","Soybeans","AlleganSoybeansIrrigated","Irrigated",59.69,64.929999999999993,63.32,65.53,58.43,null,62.65,9.57,599.55999999999995,515.62,59.96]
["26005","Michigan","Allegan","Soybeans","AlleganSoybeansNonirrigated","Nonirrigated",51.05,52.69,40.01,47.32,45.18,null,47.85,9.57,457.92,393.81,45.79]
["26005","Michigan","Allegan","Wheat","AlleganWheatAll","All",67.44,79.760000000000005,56.89,64.34,67.59,null,66.459999999999994,5.5,365.53,314.36,36.549999999999997]
["26007","Michigan","Alpena","Corn","AlpenaCornAll","All",150.15,116.72999999999999,121.46000000000001,166.04999999999998,188.58,null,145.88999999999999,3.98,580.64,499.35,58.06]
["26007","Michigan","Alpena","Soybeans","AlpenaSoybeansAll","All",35.729999999999997,38.35,27,46.910000000000004,46.76,null,40.28,9.57,385.48,331.51,38.549999999999997]
["26007","Michigan","Alpena","Wheat","AlpenaWheatAll","All",63.99,47.599999999999994,57.24,52.08,55.76,null,55.03,5.5,302.67,260.3,30.27]
["26009","Michigan","Antrim","Corn","AntrimCornAll","All",140.73000000000002,115.55,95.44,147.51,142.32,null,132.87,3.98,528.82000000000005,454.79,52.88]
["26009","Michigan","Antrim","Soybeans","AntrimSoybeansAll","All",37,37,34.4,35.6,43.36,null,36.53,9.57,349.59,300.64999999999998,34.96]
["26009","Michigan","Antrim","Wheat","AntrimWheatAll","All",52,52.21,53.1,48,54.95,null,52.44,5.5,288.42,248.04,28.84]
["26011","Michigan","Arenac","Corn","ArenacCornAll","All",175.67999999999998,174.92,142.30000000000001,152.66,192.54,null,167.75,3.98,667.65,574.17999999999995,66.77]
["26011","Michigan","Arenac","Soybeans","ArenacSoybeansAll","All",44.29,48.74,34.18,43.12,51.089999999999996,null,45.38,9.57,434.29,373.49,43.43]
["26011","Michigan","Arenac","Wheat","ArenacWheatAll","All",70.41,79.510000000000005,59.8,64.25,81.08,null,71.39,5.5,392.65,337.68,39.270000000000003]
["26013","Michigan","Baraga","Corn","BaragaCornAll","All",84,111,84,140.19999999999999,110.84,null,101.95,3.98,405.76,348.95,40.58]
["26015","Michigan","Barry","Corn","BarryCornIrrigated","Irrigated",205.67000000000002,192.86999999999998,180.10999999999999,213.11,221.97,null,203.88,3.98,811.44,697.84,81.14]
["26015","Michigan","Barry","Corn","BarryCornNonirrigated","Nonirrigated",174.37,150.64000000000001,141.24,164.37,179.36,null,163.13,3.98,649.26,558.36,64.930000000000007]
["26015","Michigan","Barry","Soybeans","BarrySoybeansIrrigated","Irrigated",59.42,62.29,48.14,58.910000000000004,58.92,null,59.08,9.57,565.4,486.24,56.54]
["26015","Michigan","Barry","Soybeans","BarrySoybeansNonirrigated","Nonirrigated",46.52,49.12,49.199999999999996,45.14,50.550000000000004,null,48.28,9.57,462.04,397.35,46.2]
["26015","Michigan","Barry","Wheat","BarryWheatAll","All",68,78.5,60.65,73.91,70.429999999999993,null,70.78,5.5,389.29,334.79,38.93]
["26017","Michigan","Bay","Corn","BayCornIrrigated","Irrigated",190,205.41000000000003,181.66,195.41000000000003,209.45,null,196.94,3.98,783.82,674.09,78.38]
["26017","Michigan","Bay","Corn","BayCornNonirrigated","Nonirrigated",179.37,193.44,165.65,168.13000000000002,203.92999999999998,null,180.31,3.98,717.63,617.16,71.760000000000005]
["26017","Michigan","Bay","Soybeans","BaySoybeansIrrigated","Irrigated",42.9,54.67,51.89,62.830000000000005,58.69,null,55.08,9.57,527.12,453.32,52.71]
["26017","Michigan","Bay","Soybeans","BaySoybeansNonirrigated","Nonirrigated",50.9,60.199999999999996,39.630000000000003,52.660000000000004,56.91,null,53.49,9.57,511.9,440.23,51.19]
["26017","Michigan","Bay","Wheat","BayWheatAll","All",85.83,85.87,77.180000000000007,81.180000000000007,83.93,null,83.65,5.5,460.08,395.67,46.01]
["26019","Michigan","Benzie","Corn","BenzieCornAll","All",135.26,117.95,97.23,110.37,157.9,null,121.19,3.98,482.34,414.81,48.23]
["26019","Michigan","Benzie","Wheat","BenzieWheatAll","All",54.32,76,53.1,45.04,47.98,null,51.8,5.5,284.89999999999998,245.01,28.49]
["26021","Michigan","Berrien","Corn","BerrienCornIrrigated","Irrigated",242.81,215.38,195.32999999999998,210.48000000000002,219.84,null,215.23,3.98,856.62,736.69,85.66]
["26021","Michigan","Berrien","Corn","BerrienCornNonirrigated","Nonirrigated",183.76999999999998,172.69,152.96,161.75,183.7,null,172.71,3.98,687.39,591.16,68.739999999999995]
["26021","Michigan","Berrien","Soybeans","BerrienSoybeansIrrigated","Irrigated",57.86,68.77,55.7,66.259999999999991,62.97,null,62.36,9.57,596.79,513.24,59.68]
["26021","Michigan","Berrien","Soybeans","BerrienSoybeansNonirrigated","Nonirrigated",43.949999999999996,53.629999999999995,40.92,44.370000000000005,51.78,null,46.7,9.57,446.92,384.35,44.69]
["26021","Michigan","Berrien","Wheat","BerrienWheatAll","All",70.44,77.12,72.099999999999994,65.430000000000007,69.900000000000006,null,70.81,5.5,389.46,334.94,38.950000000000003]
["26023","Michigan","Branch","Corn","BranchCornIrrigated","Irrigated",204.46,192.68,198.91,203.94,181.26000000000002,null,198.51,3.98,790.07,679.46,79.010000000000005]
["26023","Michigan","Branch","Corn","BranchCornNonirrigated","Nonirrigated",166.38000000000002,159.22,157.83000000000001,157.01,165.95000000000002,null,161,3.98,640.78,551.07000000000005,64.08]
["26023","Michigan","Branch","Soybeans","BranchSoybeansIrrigated","Irrigated",54.04,60.46,56.28,59.449999999999996,61.33,null,58.73,9.57,562.04999999999995,483.36,56.21]
["26023","Michigan","Branch","Soybeans","BranchSoybeansNonirrigated","Nonirrigated",41.84,48.410000000000004,45.02,46.33,51.03,null,46.59,9.57,445.87,383.45,44.59]
["26023","Michigan","Branch","Wheat","BranchWheatAll","All",80.95,65.88,72.150000000000006,67.429999999999993,75.28,null,71.62,5.5,393.91,338.76,39.39]
["26025","Michigan","Calhoun","Corn","CalhounCornIrrigated","Irrigated",200.6,191,161.75,186.29,194.64,null,190.64,3.98,758.75,652.53,75.88]
["26025","Michigan","Calhoun","Corn","CalhounCornNonirrigated","Nonirrigated",145.6,149.11000000000001,136.16000000000003,135.41999999999999,166.86,null,143.62,3.98,571.61,491.58,57.16]
["26025","Michigan","Calhoun","Soybeans","CalhounSoybeansIrrigated","Irrigated",55.36,65.31,51.57,59.33,60.67,null,58.45,9.57,559.37,481.06,55.94]
["26025","Michigan","Calhoun","Soybeans","CalhounSoybeansNonirrigated","Nonirrigated",36,45.24,37.83,41.230000000000004,47.4,null,41.43,9.57,396.49,340.98,39.65]
["26025","Michigan","Calhoun","Wheat","CalhounWheatAll","All",70.959999999999994,66.13,64.72,55.37,55.46,null,62.1,5.5,341.55,293.73,34.159999999999997]
["26027","Michigan","Cass","Corn","CassCornIrrigated","Irrigated",224.01,162.44999999999999,192.01,210.82,208.36,null,203.73,3.98,810.85,697.33,81.09]
["26027","Michigan","Cass","Corn","CassCornNonirrigated","Nonirrigated",163.49,153.69999999999999,136.25,139.70000000000002,160.4,null,151.27000000000001,3.98,602.04999999999995,517.76,60.21]
["26027","Michigan","Cass","Soybeans","CassSoybeansIrrigated","Irrigated",59.72,52.35,62.440000000000005,64.930000000000007,65.64,null,62.36,9.57,596.79,513.24,59.68]
["26027","Michigan","Cass","Soybeans","CassSoybeansNonirrigated","Nonirrigated",44.03,51.2,43.44,40.74,48.88,null,45.45,9.57,434.96,374.07,43.5]
["26027","Michigan","Cass","Wheat","CassWheatAll","All",68.27000000000001,64.95,63.21,67.81,55.12,null,65.319999999999993,5.5,359.26,308.95999999999998,35.93]
["26029","Michigan","Charlevoix","Corn","CharlevoixCornAll","All",122.88,118.4,122.02,145.44,152,null,130.11000000000001,3.98,517.84,445.34,51.78]
["26029","Michigan","Charlevoix","Soybeans","CharlevoixSoybeansAll","All",40.799999999999997,40.799999999999997,40.799999999999997,40.799999999999997,45.8,null,40.799999999999997,9.57,390.46,335.8,39.049999999999997]
["26029","Michigan","Charlevoix","Wheat","CharlevoixWheatAll","All",55.2,40,55.2,55.2,55.2,null,55.2,5.5,303.60000000000002,261.10000000000002,30.36]
["26031","Michigan","Cheboygan","Corn","CheboyganCornAll","All",131,117,110.3,129.9,144.49,null,125.97,3.98,501.36,431.17,50.14]
["26031","Michigan","Cheboygan","Soybeans","CheboyganSoybeansAll","All",40.799999999999997,40.799999999999997,40.799999999999997,40.799999999999997,42,null,40.799999999999997,9.57,390.46,335.8,39.049999999999997]
["26031","Michigan","Cheboygan","Wheat","CheboyganWheatAll","All",52,47,52,52,52,null,52,5.5,286,245.96,28.6]
["26033","Michigan","Chippewa","Corn","ChippewaCornAll","All",84,111,93.6,182.7,110.84,null,105.15,3.98,418.5,359.91,41.85]
["26033","Michigan","Chippewa","Soybeans","ChippewaSoybeansAll","All",37,37,1131.1099999999999,40.1,33.200000000000003,null,38.03,9.57,363.95,313,36.4]
["26033","Michigan","Chippewa","Wheat","ChippewaWheatAll","All",52,40,53.1,50.4,61.66,null,51.83,5.5,285.07,245.16,28.51]
["26035","Michigan","Clare","Corn","ClareCornAll","All",138.21,144.89000000000001,113.08000000000001,164.64000000000001,169.35000000000002,null,149.25,3.98,594.02,510.86,59.4]
["26035","Michigan","Clare","Soybeans","ClareSoybeansAll","All",34.130000000000003,33.950000000000003,26.43,30.79,30.01,null,31.58,9.57,302.22000000000003,259.91000000000003,30.22]
["26035","Michigan","Clare","Wheat","ClareWheatAll","All",47.8,65.209999999999994,50.72,55,69.05,null,56.98,5.5,313.39,269.52,31.34]
["26037","Michigan","Clinton","Corn",{"$f":"C69&D69&F69","v":"ClintonCornIrrigated"},"Irrigated",196.23000000000002,205.65,199.96,202.54,227.16,null,202.72,3.98,806.83,693.87,80.680000000000007]
["26037","Michigan","Clinton","Corn","ClintonCornNonirrigated","Nonirrigated",158.06,149.46,153.87,158.28,188.61,null,156.74,3.98,623.83000000000004,536.49,62.38]
["26037","Michigan","Clinton","Soybeans","ClintonSoybeansIrrigated","Irrigated",53.13,49.3,48.1,49.1,59.5,null,50.51,9.57,483.38,415.71,48.34]
["26037","Michigan","Clinton","Soybeans","ClintonSoybeansNonirrigated","Nonirrigated",43.35,43.9,41.1,49.1,53.31,null,45.45,9.57,434.96,374.07,43.5]
["26037","Michigan","Clinton","Wheat","ClintonWheatAll","All",78.55,93.56,75.150000000000006,78.66,82.36,null,79.86,5.5,439.23,377.74,43.92]
["26041","Michigan","Delta","Corn","DeltaCornAll","All",61.98,159.56,61.559999999999995,189.43,97.490000000000009,null,106.34,3.98,423.23,363.98,42.32]
["26041","Michigan","Delta","Soybeans","DeltaSoybeansAll","All",37,37,34.4,40.1,33.200000000000003,null,36.130000000000003,9.57,345.76,297.35000000000002,34.58]
["26041","Michigan","Delta","Wheat","DeltaWheatAll","All",52,40,53.1,50.4,61.66,null,51.83,5.5,285.07,245.16,28.51]
["26043","Michigan","Dickinson","Corn","DickinsonCornAll","All",80.84,157.62,61.6,180.08,104.96,null,114.47,3.98,455.59,391.81,45.56]
["26045","Michigan","Eaton","Corn","EatonCornAll","All",186.83,163.37,142.08000000000001,161.4,176.76,null,167.18,3.98,665.38,572.23,66.540000000000006]
["26045","Michigan","Eaton","Soybeans","EatonSoybeansIrrigated","Irrigated",54.37,64.69,48.18,54.47,55.3,null,54.71,9.57,523.57000000000005,450.27,52.36]
["26045","Michigan","Eaton","Soybeans","EatonSoybeansNonirrigated","Nonirrigated",45.589999999999996,51.800000000000004,37.46,50.28,53.33,null,49.22,9.57,471.04,405.09,47.1]
["26045","Michigan","Eaton","Wheat","EatonWheatAll","All",77.5,78.86,62.730000000000004,74.75,73.64,null,75.3,5.5,414.15,356.17,41.42]
["26047","Michigan","Emmet","Corn","EmmetCornAll","All",125.34,115.45,84.36,131.57,137.61000000000001,null,124.12,3.98,494,424.84,49.4]
["26047","Michigan","Emmet","Soybeans","EmmetSoybeansAll","All",40.799999999999997,40.799999999999997,40.799999999999997,40.799999999999997,40.799999999999997,null,40.799999999999997,9.57,390.46,335.8,39.049999999999997]
["26047","Michigan","Emmet","Wheat","EmmetWheatAll","All",55.2,40,55.2,55.2,55.2,null,55.2,5.5,303.60000000000002,261.10000000000002,30.36]
["26049","Michigan","Genesee","Corn","GeneseeCornAll","All",178.39000000000001,170.26000000000002,145.29,155.16999999999999,175.20000000000002,null,166.88,3.98,664.18,571.19000000000005,66.42]
["26049","Michigan","Genesee","Soybeans","GeneseeSoybeansAll","All",42.769999999999996,49.5,38.769999999999996,46.15,48.690000000000005,null,45.87,9.57,438.98,377.52,43.9]
["26049","Michigan","Genesee","Wheat","GeneseeWheatAll","All",72.98,79.58,65.900000000000006,62.42,79.09,null,72.66,5.5,399.63,343.68,39.96]
["26051","Michigan","Gladwin","Corn","GladwinCornAll","All",154.34,175.27,139.16999999999999,156.94,186.22,null,162.18,3.98,645.48,555.11,64.55]
["26051","Michigan","Gladwin","Soybeans","GladwinSoybeansAll","All",41.26,43.16,33.64,41.949999999999996,47.69,null,42.12,9.57,403.09,346.66,40.31]
["26051","Michigan","Gladwin","Wheat","GladwinWheatAll","All",62.94,77.210000000000008,59.36,58.72,77.180000000000007,null,66.489999999999995,5.5,365.7,314.5,36.57]
["26055","Michigan","Grand Traverse","Corn","Grand TraverseCornAll","All",133.76,89.15,105.97999999999999,106.96,153.16999999999999,null,115.57,3.98,459.97,395.57,46]
["26055","Michigan","Grand Traverse","Soybeans","Grand TraverseSoybeansAll","All",34.869999999999997,27.75,34.4,35.9,40.92,null,35.06,9.57,335.52,288.55,33.549999999999997]
["26055","Michigan","Grand Traverse","Wheat","Grand TraverseWheatAll","All",56.199999999999996,39.11,47.12,45.19,48.72,null,47.01,5.5,258.56,222.36,25.86]
["26057","Michigan","Gratiot","Corn","GratiotCornIrrigated","Irrigated",186.67999999999998,196.85000000000002,185.20000000000002,201.59,199.22,null,194.25,3.98,773.12,664.88,77.31]
["26057","Michigan","Gratiot","Corn","GratiotCornNonirrigated","Nonirrigated",164.63,174.91,152.5,170.51,180.49,null,170.02,3.98,676.68,581.94000000000005,67.67]
["26057","Michigan","Gratiot","Soybeans","GratiotSoybeansIrrigated","Irrigated",51.49,57.440000000000005,47.8,51.12,55,null,52.54,9.57,502.81,432.42,50.28]
["26057","Michigan","Gratiot","Soybeans","GratiotSoybeansNonirrigated","Nonirrigated",45.65,55.13,41.44,52.239999999999995,51.739999999999995,null,49.88,9.57,477.35,410.52,47.74]
["26057","Michigan","Gratiot","Wheat","GratiotWheatAll","All",80.44,93.37,70.72,69.5,85.67,null,78.94,5.5,434.17,373.39,43.42]
["26059","Michigan","Hillsdale","Corn","HillsdaleCornIrrigated","Irrigated",203.81,187.67,198.37,213.54999999999998,191.79999999999998,null,197.99,3.98,788,677.68,78.8]
["26059","Michigan","Hillsdale","Corn","HillsdaleCornNonirrigated","Nonirrigated",172.04,164.3,163.38999999999999,154.85,181.33,null,166.58,3.98,662.99,570.16999999999996,66.3]
["26059","Michigan","Hillsdale","Soybeans","HillsdaleSoybeansIrrigated","Irrigated",52.32,57.19,55.35,58.71,56.629999999999995,null,56.39,9.57,539.65,464.1,53.97]
["26059","Michigan","Hillsdale","Soybeans","HillsdaleSoybeansNonirrigated","Nonirrigated",45.839999999999996,48.78,44.43,48.980000000000004,49.87,null,47.87,9.57,458.12,393.98,45.81]
["26059","Michigan","Hillsdale","Wheat","HillsdaleWheatAll","All",86.4,75.760000000000005,60.96,65.259999999999991,76.42,null,72.48,5.5,398.64,342.83,39.86]
["26061","Michigan","Houghton","Corn","HoughtonCornAll","All",58.4,111,58.49,138.6,110.84,null,93.44,3.98,371.89,319.83,37.19]
["26063","Michigan","Huron","Corn","HuronCornIrrigated","Irrigated",208.45,207.21,206.79000000000002,217.66,216.67,null,210.78,3.98,838.9,721.45,83.89]
["26063","Michigan","Huron","Corn","HuronCornNonirrigated","Nonirrigated",205.28,178.93,179.42000000000002,199.05999999999997,221.56,null,194.59,3.98,774.47,666.04,77.45]
["26063","Michigan","Huron","Soybeans","HuronSoybeansIrrigated","Irrigated",50.92,59.550000000000004,46.76,61.17,55.67,null,55.38,9.57,529.99,455.79,53]
["26063","Michigan","Huron","Soybeans","HuronSoybeansNonirrigated","Nonirrigated",57.26,49.75,47.65,52,57.55,null,53,9.57,507.21,436.2,50.72]
["26063","Michigan","Huron","Wheat","HuronWheatAll","All",100.48,87.36,93.31,95.94,89.38,null,92.88,5.5,510.84,439.32,51.08]
["26065","Michigan","Ingham","Corn","InghamCornAll","All",172.86,159.79,160.87,162.88,196.32999999999998,null,165.54,3.98,658.85,566.61,65.89]
["26065","Michigan","Ingham","Soybeans","InghamSoybeansIrrigated","Irrigated",42.39,50.16,48.300000000000004,49.949999999999996,59.97,null,49.47,9.57,473.43,407.15,47.34]
["26065","Michigan","Ingham","Soybeans","InghamSoybeansNonirrigated","Nonirrigated",50.839999999999996,54.48,42,50.089999999999996,50.81,null,50.58,9.57,484.05,416.28,48.41]
["26065","Michigan","Ingham","Wheat","InghamWheatAll","All",76.03,85.36,73.81,75.83,78.5,null,76.790000000000006,5.5,422.35,363.22,42.24]
["26067","Michigan","Ionia","Corn","IoniaCornIrrigated","Irrigated",209.64,218.7,195.29,219.61,237.82000000000002,null,215.98,3.98,859.6,739.26,85.96]
["26067","Michigan","Ionia","Corn","IoniaCornNonirrigated","Nonirrigated",175.60999999999999,172.12,162.9,162.35000000000002,195.29,null,170.21,3.98,677.44,582.6,67.739999999999995]
["26067","Michigan","Ionia","Soybeans","IoniaSoybeansIrrigated","Irrigated",60.06,62.160000000000004,61.01,65.09,67.38000000000001,null,62.75,9.57,600.52,516.45000000000005,60.05]
["26067","Michigan","Ionia","Soybeans","IoniaSoybeansNonirrigated","Nonirrigated",47.16,56.7,48.44,48.2,60.74,null,51.11,9.57,489.12,420.64,48.91]
["26067","Michigan","Ionia","Wheat","IoniaWheatAll","All",81.47,88.76,72.599999999999994,72.209999999999994,85.03,null,79.7,5.5,438.35,376.98,43.84]
["26069","Michigan","Iosco","Corn","IoscoCornAll","All",173.96,163.72999999999999,142.26999999999998,153.25,166.78,null,161.25,3.98,641.78,551.92999999999995,64.180000000000007]
["26069","Michigan","Iosco","Soybeans","IoscoSoybeansAll","All",38.94,47.72,32.72,33.01,41.25,null,37.729999999999997,9.57,361.08,310.52999999999997,36.11]
["26069","Michigan","Iosco","Wheat","IoscoWheatAll","All",77.289999999999992,63.32,57.72,56.769999999999996,83.35,null,66.11,5.5,363.61,312.7,36.36]
["26071","Michigan","Iron","Corn","IronCornAll","All",84,111,84,154.83000000000001,110.84,null,101.95,3.98,405.76,348.95,40.58]
["26071","Michigan","Iron","Wheat","IronWheatAll","All",53.6,40,53.1,50.4,61.66,null,52.37,5.5,288.04000000000002,247.71,28.8]
["26073","Michigan","Isabella","Corn","IsabellaCornIrrigated","Irrigated",183.39,188.31,173.48999999999998,176.62,189.68,null,182.77,3.98,727.42,625.58000000000004,72.739999999999995]
["26073","Michigan","Isabella","Corn","IsabellaCornNonirrigated","Nonirrigated",165.05,154.57999999999998,145.91,134.26,186.05,null,155.18,3.98,617.62,531.15,61.76]
["26073","Michigan","Isabella","Soybeans","IsabellaSoybeansIrrigated","Irrigated",48.11,50.27,44.28,52.330000000000005,54.96,null,50.24,9.57,480.8,413.49,48.08]
["26073","Michigan","Isabella","Soybeans","IsabellaSoybeansNonirrigated","Nonirrigated",41.989999999999995,43.24,36.76,39.520000000000003,48.26,null,41.58,9.57,397.92,342.21,39.79]
["26073","Michigan","Isabella","Wheat","IsabellaWheatAll","All",77.849999999999994,82.51,61.21,59.96,88.02,null,73.86,5.5,406.23,349.36,40.619999999999997]
["26075","Michigan","Jackson","Corn","JacksonCornIrrigated","Irrigated",231.79,210.79999999999998,206,217.79,193.04999999999998,null,211.53,3.98,841.89,724.03,84.19]
["26075","Michigan","Jackson","Corn","JacksonCornNonirrigated","Nonirrigated",134.13,137.18,157.44,137.75,166.76000000000002,null,144.12,3.98,573.6,493.3,57.36]
["26075","Michigan","Jackson","Soybeans","JacksonSoybeansIrrigated","Irrigated",59.69,58.05,59.290000000000006,55.37,58.28,null,58.54,9.57,560.23,481.8,56.02]
["26075","Michigan","Jackson","Soybeans","JacksonSoybeansNonirrigated","Nonirrigated",35.21,43.35,44.010000000000005,40.130000000000003,48.629999999999995,null,42.5,9.57,406.73,349.79,40.67]
["26075","Michigan","Jackson","Wheat",{"$f":"C133&D133&F133","v":"JacksonWheatAll"},"All",77.73,65.08,70.31,70.22,59.14,null,68.540000000000006,5.5,376.97,324.19,37.700000000000003]
["26077","Michigan","Kalamazoo","Corn","KalamazooCornIrrigated","Irrigated",220.53,161.55000000000001,193.97,217.06,221.97,null,210.52,3.98,837.87,720.57,83.79]
["26077","Michigan","Kalamazoo","Corn","KalamazooCornNonirrigated","Nonirrigated",151.81,153.4,143.89999999999998,140.77000000000001,171.77,null,149.69999999999999,3.98,595.80999999999995,512.4,59.58]
["26077","Michigan","Kalamazoo","Soybeans","KalamazooSoybeansIrrigated","Irrigated",57.7,69.23,59.370000000000005,67.17,65.540000000000006,null,64.03,9.57,612.77,526.98,61.28]
["26077","Michigan","Kalamazoo","Soybeans","KalamazooSoybeansNonirrigated","Nonirrigated",39.309999999999995,48.22,42.809999999999995,38.480000000000004,50.49,null,43.45,9.57,415.82,357.61,41.58]
["26077","Michigan","Kalamazoo","Wheat","KalamazooWheatAll","All",73.84,68.97,63.89,68.539999999999992,55.04,null,67.13,5.5,369.22,317.52999999999997,36.92]
["26079","Michigan","Kalkaska","Corn","KalkaskaCornAll","All",129,111,62.4,104.2,120.23,null,111.81,3.98,445,382.7,44.5]
["26079","Michigan","Kalkaska","Soybeans","KalkaskaSoybeansAll","All",37,37,34.4,35.200000000000003,43.36,null,36.4,9.57,348.35,299.58,34.840000000000003]
["26079","Michigan","Kalkaska","Wheat","KalkaskaWheatAll","All",52,71.56,53.1,48.63,61.92,null,55.67,5.5,306.19,263.32,30.62]
["26081","Michigan","Kent","Corn","KentCornIrrigated","Irrigated",205.72,170.59,181.60999999999999,199.97,201.72,null,194.43,3.98,773.83,665.49,77.38]
["26081","Michigan","Kent","Corn","KentCornNonirrigated","Nonirrigated",158.54000000000002,151.22,151.37,169.26999999999998,186.03,null,159.72999999999999,3.98,635.73,546.73,63.57]
["26081","Michigan","Kent","Soybeans","KentSoybeansIrrigated","Irrigated",48.54,66.62,47.56,60.150000000000006,60.38,null,56.36,9.57,539.37,463.86,53.94]
["26081","Michigan","Kent","Soybeans","KentSoybeansNonirrigated","Nonirrigated",43.61,46.720000000000006,45.26,47.67,53.19,null,46.55,9.57,445.48,383.11,44.55]
["26081","Michigan","Kent","Wheat","KentWheatAll","All",61.82,78.320000000000007,69.22,55.93,70.59,null,67.209999999999994,5.5,369.66,317.91000000000003,36.97]
["26085","Michigan","Lake","Corn","LakeCornAll","All",140,78.17,138.51,154.4,157.86000000000001,null,144.30000000000001,3.98,574.30999999999995,493.91,57.43]
["26085","Michigan","Lake","Wheat","LakeWheatAll","All",65,66,51.6,52.97,66.97,null,61.32,5.5,337.26,290.04000000000002,33.729999999999997]
["26087","Michigan","Lapeer","Corn","LapeerCornAll","All",194.26,184.31,151.59,177.54999999999998,189.34,null,183.73,3.98,731.25,628.88,73.13]
["26087","Michigan","Lapeer","Soybeans","LapeerSoybeansAll","All",42.699999999999996,47.669999999999995,36.1,49.78,47.82,null,46.06,9.57,440.79,379.08,44.08]
["26087","Michigan","Lapeer","Wheat","LapeerWheatAll","All",77.84,81.67,59.65,68.08,80.150000000000006,null,75.36,5.5,414.48,356.45,41.45]
["26089","Michigan","Leelanau","Corn","LeelanauCornAll","All",118.07000000000001,100.33999999999999,107.78,133.52000000000001,150.25,null,119.79,3.98,476.76,410.01,47.68]
["26089","Michigan","Leelanau","Soybeans","LeelanauSoybeansAll","All",45.13,40.799999999999997,40.799999999999997,40.799999999999997,40.92,null,40.840000000000003,9.57,390.84,336.12,39.08]
["26089","Michigan","Leelanau","Wheat","LeelanauWheatAll","All",52,40,53.1,44.08,47.98,null,48.02,5.5,264.11,227.13,26.41]
["26091","Michigan","Lenawee","Corn","LenaweeCornIrrigated","Irrigated",232.36,211.03,216.26000000000002,215.93,210.42,null,214.41,3.98,853.35,733.88,85.34]
["26091","Michigan","Lenawee","Corn","LenaweeCornNonirrigated","Nonirrigated",189.24,167.71,176.10999999999999,169.38,193.3,null,178.24,3.98,709.4,610.08000000000004,70.94]
["26091","Michigan","Lenawee","Soybeans","LenaweeSoybeansIrrigated","Irrigated",58.120000000000005,62,68.55,73.02000000000001,66.17,null,65.569999999999993,9.57,627.5,539.65,62.75]
["26091","Michigan","Lenawee","Soybeans","LenaweeSoybeansNonirrigated","Nonirrigated",51.910000000000004,54.220000000000006,51.92,50.309999999999995,54.68,null,52.68,9.57,504.15,433.57,50.42]
["26091","Michigan","Lenawee","Wheat","LenaweeWheatAll","All",89.79,82.79,63.8,72.61,92.97,null,81.73,5.5,449.52,386.59,44.95]
["26093","Michigan","Livingston","Corn","LivingstonCornAll","All",167.78,139.72,168.57000000000002,170.27999999999997,180.42999999999998,null,168.88,3.98,672.14,578.04,67.209999999999994]
["26093","Michigan","Livingston","Soybeans","LivingstonSoybeansAll","All",41.61,48.330000000000005,47.13,47.05,51.01,null,47.5,9.57,454.58,390.94,45.46]
["26093","Michigan","Livingston","Wheat","LivingstonWheatAll","All",81.42,73.959999999999994,58.03,72.83,67.19,null,71.33,5.5,392.32,337.4,39.229999999999997]
["26095","Michigan","Luce","Corn","LuceCornAll","All",61.6,111,61.6,182.4,110.84,null,94.48,3.98,376.03,323.39,37.6]
["26095","Michigan","Luce","Soybeans","LuceSoybeansAll","All",37,37,34.4,40.1,33.200000000000003,null,36.130000000000003,9.57,345.76,297.35000000000002,34.58]
["26095","Michigan","Luce","Wheat","LuceWheatAll","All",53.6,40,53.1,50.4,61.66,null,52.37,5.5,288.04000000000002,247.71,28.8]
["26097","Michigan","Mackinac","Corn","MackinacCornAll","All",61.6,111,61.6,182.9,110.84,null,94.48,3.98,376.03,323.39,37.6]
["26097","Michigan","Mackinac","Wheat","MackinacWheatAll","All",52,40,53.1,50.4,61.66,null,51.83,5.5,285.07,245.16,28.51]
["26099","Michigan","Macomb","Corn","MacombCornAll","All",190.48,190.42000000000002,160.03,169.91000000000003,178.74,null,179.69,3.98,715.17,615.04999999999995,71.52]
["26099","Michigan","Macomb","Soybeans","MacombSoybeansAll","All",43.96,47.559999999999995,37.51,42.199999999999996,41.519999999999996,null,42.56,9.57,407.3,350.28,40.729999999999997]
["26099","Michigan","Macomb","Wheat","MacombWheatAll","All",71.16,74.180000000000007,67.260000000000005,68.66,68.3,null,69.37,5.5,381.54,328.12,38.15]
["26101","Michigan","Manistee","Corn","ManisteeCornAll","All",127.48,148.52000000000001,108.60000000000001,120.05,155.07000000000002,null,132.02000000000001,3.98,525.44000000000005,451.88,52.54]
["26101","Michigan","Manistee","Soybeans","ManisteeSoybeansAll","All",37,36.700000000000003,34.4,37.6,48.45,null,37.1,9.57,355.05,305.33999999999997,35.51]
["26101","Michigan","Manistee","Wheat","ManisteeWheatAll","All",52,40,53.1,46,63.48,null,50.37,5.5,277.04000000000002,238.25,27.7]
["26103","Michigan","Marquette","Corn","MarquetteCornAll","All",58.4,111,58.49,184,110.84,null,93.44,3.98,371.89,319.83,37.19]
["26103","Michigan","Marquette","Wheat","MarquetteWheatAll","All",54.32,48.06,53.1,50.4,61.66,null,52.61,5.5,289.36,248.85,28.94]
["26105","Michigan","Mason","Corn","MasonCornIrrigated","Irrigated",207.66,186.01999999999998,178.25,198.83,207.63,null,197.49,3.98,786.01,675.97,78.599999999999994]
["26105","Michigan","Mason","Corn","MasonCornNonirrigated","Nonirrigated",178.77,139.85,141.48000000000002,161.97,171.74,null,158.4,3.98,630.42999999999995,542.16999999999996,63.04]
["26105","Michigan","Mason","Soybeans","MasonSoybeansAll","All",49.45,47.559999999999995,43.21,48.7,56.99,null,48.57,9.57,464.81,399.74,46.48]
["26105","Michigan","Mason","Wheat","MasonWheatAll","All",59.86,58.48,60.83,54.370000000000005,79.91,null,59.72,5.5,328.46,282.48,32.85]
["26107","Michigan","Mecosta","Corn","MecostaCornIrrigated","Irrigated",196.77,161.75,171.67,187.59,203.04,null,185.34,3.98,737.65,634.38,73.77]
["26107","Michigan","Mecosta","Corn","MecostaCornNonirrigated","Nonirrigated",134.12,123,119.68,96.8,131.26,null,124.65,3.98,496.11,426.65,49.61]
["26107","Michigan","Mecosta","Soybeans","MecostaSoybeansIrrigated","Irrigated",55.54,54.02,34.4,56.39,59.08,null,55.32,9.57,529.41,455.29,52.94]
["26107","Michigan","Mecosta","Soybeans","MecostaSoybeansNonirrigated","Nonirrigated",33.32,26.47,23.2,30.08,36.42,null,29.96,9.57,286.72000000000003,246.58,28.67]
["26107","Michigan","Mecosta","Wheat","MecostaWheatAll","All",62.47,60.199999999999996,51.45,50.13,68.790000000000006,null,58.04,5.5,319.22000000000003,274.52999999999997,31.92]
["26109","Michigan","Menominee","Corn","MenomineeCornAll","All",68.2,153.99,66,192.59,134.54,null,118.91,3.98,473.26,407,47.33]
["26109","Michigan","Menominee","Soybeans","MenomineeSoybeansAll","All",24.18,37.72,17.600000000000001,38.25,33.200000000000003,null,31.7,9.57,303.37,260.89999999999998,30.34]
["26109","Michigan","Menominee","Wheat","MenomineeWheatAll","All",53.6,40,53.6,53.6,61.66,null,53.6,5.5,294.8,253.53,29.48]
["26111","Michigan","Midland","Corn","MidlandCornIrrigated","Irrigated",183.42,195.51999999999998,187.52,180.70000000000002,181.82999999999998,null,184.26,3.98,733.35,630.67999999999995,73.34]
["26111","Michigan","Midland","Corn","MidlandCornNonirrigated","Nonirrigated",168.02999999999997,172.60000000000002,153.19,165.20000000000002,178.55,null,168.61,3.98,671.07,577.12,67.11]
["26111","Michigan","Midland","Soybeans","MidlandSoybeansAll","All",43.050000000000004,47.48,39.68,45.1,49.45,null,45.21,9.57,432.66,372.09,43.27]
["26111","Michigan","Midland","Wheat","MidlandWheatAll","All",72.69,91.73,66.2,65.45,71.180000000000007,null,70.02,5.5,385.11,331.19,38.51]
["26113","Michigan","Missaukee","Corn","MissaukeeCornIrrigated","Irrigated",200.94,197.53,185.44,214.82999999999998,231.57,null,204.43,3.98,813.63,699.72,81.36]
["26113","Michigan","Missaukee","Corn","MissaukeeCornNonirrigated","Nonirrigated",157.36999999999998,126.34,148.44,151.47,204.7,null,152.43,3.98,606.66999999999996,521.74,60.67]
["26113","Michigan","Missaukee","Soybeans","MissaukeeSoybeansAll","All",37,37,34.4,35.4,35.47,null,35.96,9.57,344.14,295.95999999999998,34.409999999999997]
["26113","Michigan","Missaukee","Wheat","MissaukeeWheatAll","All",54.94,56.84,55.06,51.37,65.58,null,55.61,5.5,305.86,263.04000000000002,30.59]
["26115","Michigan","Monroe","Corn","MonroeCornIrrigated","Irrigated",229.4,179.23,225.03,225.56,218.93,null,223.17,3.98,888.22,763.87,88.82]
["26115","Michigan","Monroe","Corn",{"$f":"C197&D197&F197","v":"MonroeCornNonirrigated"},"Nonirrigated",202.6,180.64000000000001,189.31,149.51,205.82,null,190.85,3.98,759.58,653.24,75.959999999999994]
["26115","Michigan","Monroe","Soybeans","MonroeSoybeansAll","All",52.41,49.28,50.97,44.51,53.6,null,50.89,9.57,487.02,418.84,48.7]
["26115","Michigan","Monroe","Wheat","MonroeWheatAll","All",89.74,82.59,63.8,70.88,92.57,null,81.069999999999993,5.5,445.89,383.47,44.59]
["26117","Michigan","Montcalm","Corn","MontcalmCornIrrigated","Irrigated",195.12,201.03,184.85000000000002,196.87,201.41,null,197.67,3.98,786.73,676.59,78.67]
["26117","Michigan","Montcalm","Corn","MontcalmCornNonirrigated","Nonirrigated",141.79999999999998,138.97,129.28,134.04000000000002,168.22,null,138.27000000000001,3.98,550.30999999999995,473.27,55.03]
["26117","Michigan","Montcalm","Soybeans","MontcalmSoybeansIrrigated","Irrigated",52.47,56.13,52.84,56.870000000000005,60.27,null,55.28,9.57,529.03,454.97,52.9]
["26117","Michigan","Montcalm","Soybeans","MontcalmSoybeansNonirrigated","Nonirrigated",35.6,42.089999999999996,36.85,45.18,47.5,null,41.37,9.57,395.91,340.48,39.590000000000003]
["26117","Michigan","Montcalm","Wheat","MontcalmWheatIrrigated","Irrigated",75.78,74.010000000000005,75.47,54.95,63.64,null,71.040000000000006,5.5,390.72,336.02,39.07]
["26117","Michigan","Montcalm","Wheat","MontcalmWheatNonirrigated","Nonirrigated",67.33,74.67,63.34,61.459999999999994,69.05,null,66.569999999999993,5.5,366.14,314.88,36.61]
["26119","Michigan","Montmorency","Corn","MontmorencyCornAll","All",150.02000000000001,89.149999999999991,121.68,144.60999999999999,170.09,null,138.77000000000001,3.98,552.29999999999995,474.98,55.23]
["26119","Michigan","Montmorency","Soybeans","MontmorencySoybeansAll","All",41.79,37,30.57,44.9,48.29,null,41.23,9.57,394.57,339.33,39.46]
["26119","Michigan","Montmorency","Wheat","MontmorencyWheatAll","All",61.16,50.05,49.72,53.75,54.29,null,52.7,5.5,289.85000000000002,249.27,28.99]
["26121","Michigan","Muskegon","Corn","MuskegonCornIrrigated","Irrigated",174.42999999999998,140.75,125.73,164.54999999999998,206.85999999999999,null,159.91,3.98,636.44000000000005,547.34,63.64]
["26121","Michigan","Muskegon","Corn","MuskegonCornNonirrigated","Nonirrigated",146.47999999999999,130.71,113.15,153.22,185.45,null,143.47,3.98,571.01,491.07,57.1]
["26121","Michigan","Muskegon","Soybeans","MuskegonSoybeansAll","All",48.71,47.400000000000006,30.240000000000002,41.67,53.65,null,45.93,9.57,439.55,378.01,43.96]
["26121","Michigan","Muskegon","Wheat","MuskegonWheatAll","All",64.59,58.24,51.31,40.46,68.92,null,58.05,5.5,319.27999999999997,274.58,31.93]
["26123","Michigan","Newaygo","Corn","NewaygoCornIrrigated","Irrigated",191.67,181.20000000000002,160.70000000000002,185.12,194.89,null,186,3.98,740.28,636.64,74.03]
["26123","Michigan","Newaygo","Corn","NewaygoCornNonirrigated","Nonirrigated",139.69,104.84,127.64,159.53,180.85,null,142.29,3.98,566.30999999999995,487.03,56.63]
["26123","Michigan","Newaygo","Soybeans","NewaygoSoybeansAll","All",36.19,35.369999999999997,42.440000000000005,40.82,52.83,null,39.82,9.57,381.08,327.73,38.11]
["26123","Michigan","Newaygo","Wheat","NewaygoWheatAll","All",71.88,68.819999999999993,49.33,57.47,65.180000000000007,null,63.82,5.5,351.01,301.87,35.1]
["26125","Michigan","Oakland","Corn","OaklandCornAll","All",153.26999999999998,127.55,129.16999999999999,135.68,176.39999999999998,null,139.37,3.98,554.69000000000005,477.03,55.47]
["26125","Michigan","Oakland","Soybeans","OaklandSoybeansAll","All",34.370000000000005,32.17,32.49,34.19,40.51,null,33.68,9.57,322.32,277.2,32.229999999999997]
["26125","Michigan","Oakland","Wheat","OaklandWheatAll","All",68.14,75,58.54,67.33,65.64,null,67.040000000000006,5.5,368.72,317.10000000000002,36.869999999999997]
["26127","Michigan","Oceana","Corn","OceanaCornIrrigated","Irrigated",173.51,150.03,145.16999999999999,176.43,185.9,null,166.66,3.98,663.31,570.45000000000005,66.33]
["26127","Michigan","Oceana","Corn","OceanaCornNonirrigated","Nonirrigated",146.85,105.32,117.83,126.76,161.63,null,130.47999999999999,3.98,519.30999999999995,446.61,51.93]
["26127","Michigan","Oceana","Soybeans","OceanaSoybeansIrrigated","Irrigated",48.46,36.369999999999997,41.94,54.129999999999995,48.58,null,46.33,9.57,443.38,381.31,44.34]
["26127","Michigan","Oceana","Soybeans","OceanaSoybeansNonirrigated","Nonirrigated",40.549999999999997,33.480000000000004,28.8,39.1,44,null,37.71,9.57,360.88,310.36,36.090000000000003]
["26127","Michigan","Oceana","Wheat","OceanaWheatAll","All",77,68.5,55.2,50.14,68.349999999999994,null,64.02,5.5,352.11,302.81,35.21]
["26129","Michigan","Ogemaw","Corn","OgemawCornAll","All",160.11999999999998,171.93,152.27000000000001,152.68,196.02999999999997,null,161.58000000000001,3.98,643.09,553.05999999999995,64.31]
["26129","Michigan","Ogemaw","Soybeans","OgemawSoybeansAll","All",43.66,40.06,35,33.25,46.87,null,39.57,9.57,378.68,325.66000000000003,37.869999999999997]
["26129","Michigan","Ogemaw","Wheat","OgemawWheatAll","All",63.7,64.55,63.8,63.05,74.53,null,64.02,5.5,352.11,302.81,35.21]
["26131","Michigan","Ontonagon","Corn","OntonagonCornAll","All",58.4,111,58.49,141.9,110.84,null,93.44,3.98,371.89,319.83,37.19]
["26131","Michigan","Ontonagon","Wheat","OntonagonWheatAll","All",52,40,53.1,50.4,61.66,null,51.83,5.5,285.07,245.16,28.51]
["26133","Michigan","Osceola","Corn","OsceolaCornAll","All",166.85,120.49,142.85999999999999,162.84,201.24,null,157.52000000000001,3.98,626.92999999999995,539.16,62.69]
["26133","Michigan","Osceola","Soybeans","OsceolaSoybeansAll","All",33.47,29.81,24,32.92,42.86,null,32.07,9.57,306.91000000000003,263.94,30.69]
["26133","Michigan","Osceola","Wheat","OsceolaWheatAll","All",69,57.92,53.71,64.400000000000006,68.39,null,63.57,5.5,349.64,300.69,34.96]
["26135","Michigan","Oscoda","Corn","OscodaCornAll","All",131,117,110.3,147.5,188.78,null,131.83000000000001,3.98,524.67999999999995,451.22,52.47]
["26137","Michigan","Otsego","Corn","OtsegoCornAll","All",140.49,100.88,133.31,151.43,144.73000000000002,null,139.51,3.98,555.25,477.52,55.53]
["26137","Michigan","Otsego","Soybeans","OtsegoSoybeansAll","All",27.5,37,33.020000000000003,44.9,45.8,null,38.31,9.57,366.63,315.3,36.659999999999997]
["26137","Michigan","Otsego","Wheat","OtsegoWheatAll","All",45.53,60,47.28,51.92,61.92,null,53.07,5.5,291.89,251.03,29.19]
["26139","Michigan","Ottawa","Corn","OttawaCornIrrigated","Irrigated",193.4,192.84,171.57,200.45,210.64000000000001,null,195.56,3.98,778.33,669.36,77.83]
["26139","Michigan","Ottawa","Corn","OttawaCornNonirrigated","Nonirrigated",172.94,145.97999999999999,142.5,140.76,186.65,null,153.81,3.98,612.16,526.46,61.22]
["26139","Michigan","Ottawa","Soybeans","OttawaSoybeansIrrigated","Irrigated",53.599999999999994,50.82,55.910000000000004,46.4,56.33,null,53.44,9.57,511.42,439.82,51.14]
["26139","Michigan","Ottawa","Soybeans","OttawaSoybeansNonirrigated","Nonirrigated",49.66,46.23,43.48,45.65,51.139999999999993,null,47.18,9.57,451.51,388.3,45.15]
["26139","Michigan","Ottawa","Wheat","OttawaWheatAll","All",59.480000000000004,77.740000000000009,59.95,58.82,80.459999999999994,null,65.72,5.5,361.46,310.86,36.15]
["26141","Michigan","Presque Isle","Corn","Presque IsleCornAll","All",134.13,93.789999999999992,92.690000000000012,121.76,154.88000000000002,null,116.56,3.98,463.91,398.96,46.39]
["26141","Michigan","Presque Isle","Soybeans","Presque IsleSoybeansAll","All",37,20.8,20.8,43.92,31.92,null,29.91,9.57,286.24,246.17,28.62]
["26141","Michigan","Presque Isle","Wheat","Presque IsleWheatAll","All",58.88,45.6,49.92,51.839999999999996,55.6,null,52.45,5.5,288.48,248.09,28.85]
["26143","Michigan","Roscommon","Corn","RoscommonCornAll","All",131,117,127.65,132.87,188.78,null,130.51,3.98,519.42999999999995,446.71,51.94]
["26145","Michigan","Saginaw","Corn","SaginawCornAll","All",177.97000000000003,189.44,154.72,164.78,175.66,null,172.8,3.98,687.74,591.46,68.77]
["26145","Michigan","Saginaw","Soybeans","SaginawSoybeansIrrigated","Irrigated",57.010000000000005,68.36,44.04,63.28,58.07,null,59.45,9.57,568.94000000000005,489.29,56.89]
["26145","Michigan","Saginaw","Soybeans","SaginawSoybeansNonirrigated","Nonirrigated",47.49,55.629999999999995,41.86,51.61,50.56,null,49.89,9.57,477.45,410.61,47.75]
["26145","Michigan","Saginaw","Wheat","SaginawWheatAll","All",80.319999999999993,90.65,76.53,71.92,83.66,null,80.17,5.5,440.94,379.21,44.09]
["26151","Michigan","Sanilac","Corn","SanilacCornAll","All",205.75,192.48,181.39000000000001,199.29000000000002,220.5,null,199.17,3.98,792.7,681.72,79.27]
["26151","Michigan","Sanilac","Soybeans","SanilacSoybeansAll","All",50.31,56.349999999999994,42.269999999999996,56.34,55.360000000000007,null,54,9.57,516.78,444.43,51.68]
["26151","Michigan","Sanilac","Wheat","SanilacWheatAll","All",92.4,94.02,78.03,92.26,91.25,null,91.97,5.5,505.84,435.02,50.58]
["26153","Michigan","Schoolcraft","Corn","SchoolcraftCornAll","All",61.6,111,61.6,182.9,110.84,null,94.48,3.98,376.03,323.39,37.6]
["26153","Michigan","Schoolcraft","Wheat","SchoolcraftWheatAll","All",53.6,40,53.6,53.6,61.66,null,53.6,5.5,294.8,253.53,29.48]
["26155","Michigan","Shiawassee","Corn","ShiawasseeCornAll","All",165.59,160.91999999999999,159.34,176.13,176.62,null,167.55,3.98,666.85,573.49,66.69]
["26155","Michigan","Shiawassee","Soybeans","ShiawasseeSoybeansIrrigated","Irrigated",40.340000000000003,52.230000000000004,42.66,49.79,59.53,null,48.23,9.57,461.56,396.94,46.16]
["26155","Michigan","Shiawassee","Soybeans","ShiawasseeSoybeansNonirrigated","Nonirrigated",42.480000000000004,49.86,36.659999999999997,52.97,53.21,null,48.44,9.57,463.57,398.67,46.36]
["26155","Michigan","Shiawassee","Wheat","ShiawasseeWheatAll","All",71.31,91.87,64.569999999999993,74.56,80.319999999999993,null,75.400000000000006,5.5,414.7,356.64,41.47]
["26147","Michigan","St. Clair","Corn","St. ClairCornAll","All",178.18,188.82,160.55999999999997,176.05,167.95000000000002,null,174.06,3.98,692.76,595.77,69.28]
["26147","Michigan","St. Clair","Soybeans","St. ClairSoybeansAll","All",40.92,48.099999999999994,34.090000000000003,48.879999999999995,39.369999999999997,null,42.8,9.57,409.6,352.26,40.96]
["26147","Michigan","St. Clair","Wheat",{"$f":"C261&D261&F261","v":"St. ClairWheatAll"},"All",71.47,85.17,56.6,72.53,78.52,null,74.17,5.5,407.94,350.83,40.79]
["26149","Michigan","St. Joseph","Corn","St. JosephCornIrrigated","Irrigated",151.1,150.25,151.6,189.75,198.88,null,164.15,3.98,653.32000000000005,561.86,65.33]
["26149","Michigan","St. Joseph","Corn","St. JosephCornNonirrigated","Nonirrigated",107.72,158.6,127.18,123.46,163.35000000000002,null,136.41,3.98,542.91,466.9,54.29]
["26149","Michigan","St. Joseph","Soybeans","St. JosephSoybeansIrrigated","Irrigated",51.44,55.6,48.18,56.02,60.31,null,54.35,9.57,520.13,447.31,52.01]
["26149","Michigan","St. Joseph","Soybeans","St. JosephSoybeansNonirrigated","Nonirrigated",33.65,49.3,42.74,33.39,43.02,null,39.799999999999997,9.57,380.89,327.57,38.090000000000003]
["26149","Michigan","St. Joseph","Wheat","St. JosephWheatAll","All",87.710000000000008,63.2,66.820000000000007,70.45,63.1,null,66.819999999999993,5.5,367.51,316.06,36.75]
["26157","Michigan","Tuscola","Corn","TuscolaCornIrrigated","Irrigated",193.22,218.46,186.85999999999999,198.85,226.06,null,203.51,3.98,809.97,696.57,81]
["26157","Michigan","Tuscola","Corn","TuscolaCornNonirrigated","Nonirrigated",182.25,180.55,172.38,179.86,210.68,null,180.89,3.98,719.94,619.15,71.989999999999995]
["26157","Michigan","Tuscola","Soybeans","TuscolaSoybeansIrrigated","Irrigated",44.12,66.53,57.45,55.49,59.21,null,57.38,9.57,549.13,472.25,54.91]
["26157","Michigan","Tuscola","Soybeans","TuscolaSoybeansNonirrigated","Nonirrigated",48.489999999999995,58,43.84,52.21,57.18,null,52.63,9.57,503.67,433.16,50.37]
["26157","Michigan","Tuscola","Wheat","TuscolaWheatAll","All",91.15,87.09,80.55,84.62,83.3,null,85,5.5,467.5,402.05,46.75]
["26159","Michigan","Van Buren","Corn","Van BurenCornIrrigated","Irrigated",213.5,215.55,198.11999999999998,196.91,192.23,null,202.84,3.98,807.3,694.28,80.73]
["26159","Michigan","Van Buren","Corn","Van BurenCornNonirrigated","Nonirrigated",166.57,149.55000000000001,128.44999999999999,130.47,151.08000000000001,null,143.69999999999999,3.98,571.92999999999995,491.86,57.19]
["26159","Michigan","Van Buren","Soybeans","Van BurenSoybeansIrrigated","Irrigated",53.28,62.879999999999995,54.38,60.96,61.56,null,58.97,9.57,564.34,485.33,56.43]
["26159","Michigan","Van Buren","Soybeans","Van BurenSoybeansNonirrigated","Nonirrigated",40.57,42.29,34.989999999999995,41.58,39.57,null,40.57,9.57,388.25,333.9,38.83]
["26159","Michigan","Van Buren","Wheat","Van BurenWheatAll","All",69.3,64.75,63.050000000000004,66.710000000000008,42.7,null,64.84,5.5,356.62,306.69,35.659999999999997]
["26161","Michigan","Washtenaw","Corn","WashtenawCornIrrigated","Irrigated",229.9,217.81,225.41,178.44,224.52,null,222.58,3.98,885.87,761.85,88.59]
["26161","Michigan","Washtenaw","Corn","WashtenawCornNonirrigated","Nonirrigated",158.84,140.28,157.49,151.41,178.34,null,155.91,3.98,620.52,533.65,62.05]
["26161","Michigan","Washtenaw","Soybeans","WashtenawSoybeansIrrigated","Irrigated",67.510000000000005,64.62,56.3,54.370000000000005,65.930000000000007,null,62.28,9.57,596.02,512.58000000000004,59.6]
["26161","Michigan","Washtenaw","Soybeans","WashtenawSoybeansNonirrigated","Nonirrigated",40.580000000000005,43.53,46.3,41.47,47.25,null,43.77,9.57,418.88,360.24,41.89]
["26161","Michigan","Washtenaw","Wheat","WashtenawWheatAll","All",83.54,71.989999999999995,62.94,66.099999999999994,73.16,null,70.42,5.5,387.31,333.09,38.729999999999997]
["26163","Michigan","Wayne","Corn","WayneCornAll","All",144.68,123.07000000000001,135.12,97.95,115.61,null,124.6,3.98,495.91,426.48,49.59]
["26163","Michigan","Wayne","Soybeans","WayneSoybeansAll","All",27.720000000000002,36.520000000000003,42.300000000000004,35.229999999999997,40.75,null,37.5,9.57,358.88,308.64,35.89]
["26163","Michigan","Wayne","Wheat","WayneWheatAll","All",77,75,52,67.319999999999993,68.03,null,70.12,5.5,385.66,331.67,38.57]
["26165","Michigan","Wexford","Corn","WexfordCornIrrigated","Irrigated",190.14,115.95,132.35999999999999,182.17,196.87,null,168.22,3.98,669.52,575.79,66.95]
["26165","Michigan","Wexford","Corn","WexfordCornNonirrigated","Nonirrigated",163.41999999999999,158.94999999999999,124.73,126.27,160.54,null,148.59,3.98,591.39,508.6,59.14]
["26165","Michigan","Wexford","Soybeans","WexfordSoybeansAll","All",37,37,34.4,37.799999999999997,40.92,null,37.270000000000003,9.57,356.67,306.74,35.67]
["26165","Michigan","Wexford","Wheat","WexfordWheatAll","All",52,40,53.1,51.1,58.17,null,52.07,5.5,286.39,246.3,28.64]